{"text_format":"1","workbook":"xlsx","n_sheets":38,"sheets":["Home","Data","Heat load","Room","Wall","Heat up","Ventil","T01","T02","T03","T04","T05","T06","T07","T08","T09","T10","T11","T12","T13","T14","T15","T16","T17","T18","T19","T20","Tab NA1","Tab NA6","Tab NA7","Tab NA8","Radiators","Floor Syst","Floor Heating","Tab F1","Langage","GA_cookies","Versions"],"not_rendered":{"charts":0,"images":10,"macros":1,"external_links":0,"defined_names":30,"comments":23,"pivot_tables":0},"unopened":[],"bounds":{"document_bytes":16777216,"sheet_cells":100000,"rows_first":2000,"rows_last":500,"rows_between":2000,"halvings":0,"cell_chars":16384,"cell_head_chars":4096},"cells_cut":0,"cells_raw":0,"read":"whole","date_system":"1900"}

{"sheet":"Home","index":0,"n_rows":31,"n_cols":5,"rows_kept":31,"cut":false,"hidden":false,"merged":[[4,1,4,7],[25,1,25,7],[9,1,9,7],[27,1,27,7],[28,1,28,7],[11,1,11,7],[12,1,12,7],[13,1,13,7]]}
[]
[]
[]
[]
[null,"Berekening van de ontwerpwarmtebelasting van gebouwen"]
[null,null,null,null,"NBN EN 12831-1 ANB:2020 - Bijlage NB"]
[]
[null,null,null,null,"Ontwikkeld in het kader van het Belgische project \"KMO - normenantenne\""]
[]
[null,"Bezoek onze website : www.buildwise.be"]
[]
[null,"Buildwise kan niet verantwoordelijk gesteld worden voor de ingevoerde  "]
[null,"gegevens, noch voor het verkeerde gebruik van de software"]
[null,"of de verkeerde resultaten die eruit zouden voortkomen."]
[]
[]
[]
[]
[]
[]
[null,null,null,null,"Calcul des déperditions calorifiques de base des bâtiments"]
[null,null,null,null,"NBN EN 12831-1 ANB:2020 - Annexe NB"]
[]
[null,null,null,null,"Développé dans le cadre du projet belge \"PME - antenne normes\""]
[]
[null,"Visitez notre site web : www.buildwise.be"]
[]
[null,"Buildwise ne peut être tenu responsable des données introduites, de la"]
[null,"mauvaise utilisation du programme ou des erreurs qui en résulteraient."]
[]
[null,null,null,null,"Versie - Version 3.5 (2022)"]

{"sheet":"Data","index":1,"n_rows":32,"n_cols":7,"rows_kept":32,"cut":false,"hidden":false,"merged":[[3,1,3,7],[11,1,11,7],[19,1,19,7],[26,1,26,7],[14,2,14,7],[15,2,15,7],[16,2,16,7],[17,2,17,7],[21,2,21,7],[22,2,22,7],[24,2,24,7],[30,2,30,7],[31,2,31,7],[6,1,6,7],[7,1,7,7],[13,2,13,4],[28,2,28,7],[29,2,29,7],[23,2,23,7]]}
[]
[null,null,null,"Français",null,null,{"$f":"Langage!A69","v":"Nouveau calcul"}]
[]
[null,{"$f":"Langage!A64","v":"Données administratives"}]
[]
[]
[null,{"$f":"Langage!A67","v":"Calcul de la charge thermique nominale"}]
[null,{"$f":"Langage!A68","v":"NBN EN 12831-1 ANB:2020 - Annexe NB"}]
[]
[]
[]
[null,{"$f":"Langage!A63","v":"Références"}]
[]
[null,{"$f":"Langage!A57","v":"Dossier"},null,null,null,null,{"$f":"Langage!A62","v":"Date"}]
[null,{"$f":"Langage!A58","v":"Nom"}]
[null,{"$f":"Langage!A59","v":"Adresse"}]
[null,{"$f":"Langage!A60","v":"Commune"}]
[null,{"$f":"Langage!A61","v":"Commentaire"}]
[]
[null,{"$f":"Langage!A65","v":"Bâtiment"}]
[]
[null,{"$f":"Langage!A59","v":"Adresse"}]
[null,{"$f":"Langage!A60","v":"Commune"}]
[null,{"$f":"Langage!A18","v":"Entité de bâtiment"}]
[null,{"$f":"Langage!A61","v":"Commentaire"}]
[]
[null,{"$f":"Langage!A66","v":"Installateur"}]
[]
[null,{"$f":"Langage!A58","v":"Nom"}]
[null,{"$f":"Langage!A59","v":"Adresse"}]
[null,{"$f":"Langage!A60","v":"Commune"}]
[null,{"$f":"Langage!A61","v":"Commentaire"}]

{"sheet":"Heat load","index":2,"n_rows":36,"n_cols":20,"rows_kept":36,"cut":false,"hidden":false,"merged":[[32,7,33,7],[30,3,30,4],[29,6,30,6],[29,5,30,5],[3,1,3,7],[29,7,30,7]]}
[]
[]
[]
[null,{"$f":"Langage!A52","v":"Charge thermique nominale"}]
[]
[null,null,{"$f":"Langage!A24","v":"Espace"},{"$f":"Langage!A54","v":"Perte thermique par transmission"},{"$f":"Langage!A55","v":"Perte thermique par renouvellement d'air"},{"$f":"Langage!A56","v":"Puissance supplémentaire de préchauffage"},{"$f":"Langage!A53","v":"Charge thermique nominale"}]
[null,null,null,"FT,i   W","FV,i   W","FRH,i   W","FHL,i   W","FHL,i   W/m²"]
[]
[null,{"$f":"Room!B17","v":1},{"$f":"IF(Room!C17=\"\",\"\",Room!C17)","v":""},{"$f":"IF('T01'!H6=\"\",\"\",'T01'!H6)","v":""},{"$f":"IF(Ventil!F$36=\"\",\"\",Ventil!F$36)","v":""},{"$f":"IF('Heat up'!F8=\"\",\"\",'Heat up'!F8)","v":""},{"$f":"IF(OR(D9=\"\",E9=\"\",F9=\"\"),\"\",D9+E9+F9)","v":""},{"$f":"IF(T9=\"\",\"\",T9)","v":""},null,null,null,null,null,null,null,null,null,null,{"$f":"IF(Room!E17=\"\",\"\",Room!E17)","v":""},{"$f":"IF(OR(S9=\"\",G9=\"\",G9<0),\"\",G9/S9)","v":""}]
[null,{"$f":"Room!B18","v":2},{"$f":"IF(Room!C18=\"\",\"\",Room!C18)","v":""},{"$f":"IF('T02'!H6=\"\",\"\",'T02'!H6)","v":""},{"$f":"IF(Ventil!G$36=\"\",\"\",Ventil!G$36)","v":""},{"$f":"IF('Heat up'!F9=\"\",\"\",'Heat up'!F9)","v":""},{"$f":"IF(OR(D10=\"\",E10=\"\",F10=\"\"),\"\",D10+E10+F10)","v":""},{"$f":"IF(T10=\"\",\"\",T10)","v":""},null,null,null,null,null,null,null,null,null,null,{"$f":"IF(Room!E18=\"\",\"\",Room!E18)","v":""},{"$f":"IF(OR(S10=\"\",G10=\"\",G10<0),\"\",G10/S10)","v":""}]
[null,{"$f":"Room!B19","v":3},{"$f":"IF(Room!C19=\"\",\"\",Room!C19)","v":""},{"$f":"IF('T03'!H6=\"\",\"\",'T03'!H6)","v":""},{"$f":"IF(Ventil!H$36=\"\",\"\",Ventil!H$36)","v":""},{"$f":"IF('Heat up'!F10=\"\",\"\",'Heat up'!F10)","v":""},"","",null,null,null,null,null,null,null,null,null,null,{"$f":"IF(Room!E19=\"\",\"\",Room!E19)","v":""},""]
[null,{"$f":"Room!B20","v":4},{"$f":"IF(Room!C20=\"\",\"\",Room!C20)","v":""},{"$f":"IF('T04'!H6=\"\",\"\",'T04'!H6)","v":""},{"$f":"IF(Ventil!I$36=\"\",\"\",Ventil!I$36)","v":""},{"$f":"IF('Heat up'!F11=\"\",\"\",'Heat up'!F11)","v":""},"","",null,null,null,null,null,null,null,null,null,null,{"$f":"IF(Room!E20=\"\",\"\",Room!E20)","v":""},""]
[null,{"$f":"Room!B21","v":5},{"$f":"IF(Room!C21=\"\",\"\",Room!C21)","v":""},{"$f":"IF('T05'!H6=\"\",\"\",'T05'!H6)","v":""},{"$f":"IF(Ventil!J$36=\"\",\"\",Ventil!J$36)","v":""},{"$f":"IF('Heat up'!F12=\"\",\"\",'Heat up'!F12)","v":""},"","",null,null,null,null,null,null,null,null,null,null,{"$f":"IF(Room!E21=\"\",\"\",Room!E21)","v":""},""]
[null,{"$f":"Room!B22","v":6},{"$f":"IF(Room!C22=\"\",\"\",Room!C22)","v":""},{"$f":"IF('T06'!H6=\"\",\"\",'T06'!H6)","v":""},{"$f":"IF(Ventil!K$36=\"\",\"\",Ventil!K$36)","v":""},{"$f":"IF('Heat up'!F13=\"\",\"\",'Heat up'!F13)","v":""},"","",null,null,null,null,null,null,null,null,null,null,{"$f":"IF(Room!E22=\"\",\"\",Room!E22)","v":""},""]
[null,{"$f":"Room!B23","v":7},{"$f":"IF(Room!C23=\"\",\"\",Room!C23)","v":""},{"$f":"IF('T07'!H6=\"\",\"\",'T07'!H6)","v":""},{"$f":"IF(Ventil!L$36=\"\",\"\",Ventil!L$36)","v":""},{"$f":"IF('Heat up'!F14=\"\",\"\",'Heat up'!F14)","v":""},"","",null,null,null,null,null,null,null,null,null,null,{"$f":"IF(Room!E23=\"\",\"\",Room!E23)","v":""},""]
[null,{"$f":"Room!B24","v":8},{"$f":"IF(Room!C24=\"\",\"\",Room!C24)","v":""},{"$f":"IF('T08'!H6=\"\",\"\",'T08'!H6)","v":""},{"$f":"IF(Ventil!M$36=\"\",\"\",Ventil!M$36)","v":""},{"$f":"IF('Heat up'!F15=\"\",\"\",'Heat up'!F15)","v":""},"","",null,null,null,null,null,null,null,null,null,null,{"$f":"IF(Room!E24=\"\",\"\",Room!E24)","v":""},""]
[null,{"$f":"Room!B25","v":9},{"$f":"IF(Room!C25=\"\",\"\",Room!C25)","v":""},{"$f":"IF('T09'!H6=\"\",\"\",'T09'!H6)","v":""},{"$f":"IF(Ventil!N$36=\"\",\"\",Ventil!N$36)","v":""},{"$f":"IF('Heat up'!F16=\"\",\"\",'Heat up'!F16)","v":""},"","",null,null,null,null,null,null,null,null,null,null,{"$f":"IF(Room!E25=\"\",\"\",Room!E25)","v":""},""]
[null,{"$f":"Room!B26","v":10},{"$f":"IF(Room!C26=\"\",\"\",Room!C26)","v":""},{"$f":"IF('T10'!H6=\"\",\"\",'T10'!H6)","v":""},{"$f":"IF(Ventil!O$36=\"\",\"\",Ventil!O$36)","v":""},{"$f":"IF('Heat up'!F17=\"\",\"\",'Heat up'!F17)","v":""},"","",null,null,null,null,null,null,null,null,null,null,{"$f":"IF(Room!E26=\"\",\"\",Room!E26)","v":""},""]
[null,{"$f":"Room!B27","v":11},{"$f":"IF(Room!C27=\"\",\"\",Room!C27)","v":""},{"$f":"IF('T11'!H6=\"\",\"\",'T11'!H6)","v":""},{"$f":"IF(Ventil!P$36=\"\",\"\",Ventil!P$36)","v":""},{"$f":"IF('Heat up'!F18=\"\",\"\",'Heat up'!F18)","v":""},"","",null,null,null,null,null,null,null,null,null,null,{"$f":"IF(Room!E27=\"\",\"\",Room!E27)","v":""},""]
[null,{"$f":"Room!B28","v":12},{"$f":"IF(Room!C28=\"\",\"\",Room!C28)","v":""},{"$f":"IF('T12'!H6=\"\",\"\",'T12'!H6)","v":""},{"$f":"IF(Ventil!Q$36=\"\",\"\",Ventil!Q$36)","v":""},{"$f":"IF('Heat up'!F19=\"\",\"\",'Heat up'!F19)","v":""},"","",null,null,null,null,null,null,null,null,null,null,{"$f":"IF(Room!E28=\"\",\"\",Room!E28)","v":""},""]
[null,{"$f":"Room!B29","v":13},{"$f":"IF(Room!C29=\"\",\"\",Room!C29)","v":""},{"$f":"IF('T13'!H6=\"\",\"\",'T13'!H6)","v":""},{"$f":"IF(Ventil!R$36=\"\",\"\",Ventil!R$36)","v":""},{"$f":"IF('Heat up'!F20=\"\",\"\",'Heat up'!F20)","v":""},"","",null,null,null,null,null,null,null,null,null,null,{"$f":"IF(Room!E29=\"\",\"\",Room!E29)","v":""},""]
[null,{"$f":"Room!B30","v":14},{"$f":"IF(Room!C30=\"\",\"\",Room!C30)","v":""},{"$f":"IF('T14'!H6=\"\",\"\",'T14'!H6)","v":""},{"$f":"IF(Ventil!S$36=\"\",\"\",Ventil!S$36)","v":""},{"$f":"IF('Heat up'!F21=\"\",\"\",'Heat up'!F21)","v":""},"","",null,null,null,null,null,null,null,null,null,null,{"$f":"IF(Room!E30=\"\",\"\",Room!E30)","v":""},""]
[null,{"$f":"Room!B31","v":15},{"$f":"IF(Room!C31=\"\",\"\",Room!C31)","v":""},{"$f":"IF('T15'!H6=\"\",\"\",'T15'!H6)","v":""},{"$f":"IF(Ventil!T$36=\"\",\"\",Ventil!T$36)","v":""},{"$f":"IF('Heat up'!F22=\"\",\"\",'Heat up'!F22)","v":""},"","",null,null,null,null,null,null,null,null,null,null,{"$f":"IF(Room!E31=\"\",\"\",Room!E31)","v":""},""]
[null,{"$f":"Room!B32","v":16},{"$f":"IF(Room!C32=\"\",\"\",Room!C32)","v":""},{"$f":"IF('T16'!H6=\"\",\"\",'T16'!H6)","v":""},{"$f":"IF(Ventil!U$36=\"\",\"\",Ventil!U$36)","v":""},{"$f":"IF('Heat up'!F23=\"\",\"\",'Heat up'!F23)","v":""},"","",null,null,null,null,null,null,null,null,null,null,{"$f":"IF(Room!E32=\"\",\"\",Room!E32)","v":""},""]
[null,{"$f":"Room!B33","v":17},{"$f":"IF(Room!C33=\"\",\"\",Room!C33)","v":""},{"$f":"IF('T17'!H6=\"\",\"\",'T17'!H6)","v":""},{"$f":"IF(Ventil!V$36=\"\",\"\",Ventil!V$36)","v":""},{"$f":"IF('Heat up'!F24=\"\",\"\",'Heat up'!F24)","v":""},"","",null,null,null,null,null,null,null,null,null,null,{"$f":"IF(Room!E33=\"\",\"\",Room!E33)","v":""},""]
[null,{"$f":"Room!B34","v":18},{"$f":"IF(Room!C34=\"\",\"\",Room!C34)","v":""},{"$f":"IF('T18'!H6=\"\",\"\",'T18'!H6)","v":""},{"$f":"IF(Ventil!W$36=\"\",\"\",Ventil!W$36)","v":""},{"$f":"IF('Heat up'!F25=\"\",\"\",'Heat up'!F25)","v":""},"","",null,null,null,null,null,null,null,null,null,null,{"$f":"IF(Room!E34=\"\",\"\",Room!E34)","v":""},""]
[null,{"$f":"Room!B35","v":19},{"$f":"IF(Room!C35=\"\",\"\",Room!C35)","v":""},{"$f":"IF('T19'!H6=\"\",\"\",'T19'!H6)","v":""},{"$f":"IF(Ventil!X$36=\"\",\"\",Ventil!X$36)","v":""},{"$f":"IF('Heat up'!F26=\"\",\"\",'Heat up'!F26)","v":""},"","",null,null,null,null,null,null,null,null,null,null,{"$f":"IF(Room!E35=\"\",\"\",Room!E35)","v":""},""]
[null,{"$f":"Room!B36","v":20},{"$f":"IF(Room!C36=\"\",\"\",Room!C36)","v":""},{"$f":"IF('T20'!H6=\"\",\"\",'T20'!H6)","v":""},{"$f":"IF(Ventil!Y$36=\"\",\"\",Ventil!Y$36)","v":""},{"$f":"IF('Heat up'!F27=\"\",\"\",'Heat up'!F27)","v":""},"","",null,null,null,null,null,null,null,null,null,null,{"$f":"IF(Room!E36=\"\",\"\",Room!E36)","v":""},""]
[]
[null,null,{"$f":"Langage!A14","v":"Total"},{"$f":"IF(D9=\"\",\"\",SUM(D9:D28))","v":""},{"$f":"IF(E9=\"\",\"\",SUM(E9:E28))","v":""},{"$f":"IF(F9=\"\",\"\",SUM(F9:F28))","v":""},{"$f":"IF(G9=\"\",\"\",SUM(D30:F30))","v":""}]
[null,null,null,{"$f":"IF(D30=\"\",\"\",D30+E30)","v":""}]
[]
[null,null,{"$f":"IF(Room!O39>0,Langage!A120,\"\")","v":""},null,null,null,{"$f":"IF('Floor Heating'!AC78=\"\",\"\",'Floor Heating'!AC78)","v":0}]
[null,null,{"$f":"IF(Room!P39>0,Langage!A121,\"\")","v":""}]
[]
[null,null,null,null,null,{"$f":"IF(AND(C33=\"\",C34=\"\"),\"\",Langage!A14)","v":""},{"$f":"IF(AND(C33=\"\",C34=\"\"),\"\",G30+G33+G34)","v":""}]

{"sheet":"Room","index":3,"n_rows":604,"n_cols":37,"rows_kept":604,"cut":false,"hidden":false,"merged":[[72,1,72,9],[57,1,57,9],[3,1,3,5],[13,3,14,3],[13,4,14,4],[13,5,14,5],[7,8,7,9],[8,8,8,9],[9,8,9,9],[13,8,14,9],[13,7,14,7],[13,2,14,2],[13,16,14,16],[11,1,11,4],[11,5,11,9],[5,1,5,9],[48,1,48,9],[13,6,14,6]]}
[]
[]
[]
[null,{"$f":"Langage!A5","v":"Données relatives aux espaces"}]
[]
[null,{"$f":"Langage!A6","v":"Données climatiques"},null,null,null,null,null,null,null,null,null,{"$f":"Langage!A77","v":"Rechercher une commune"},null,null,null,null,null,null,null,null,null,null,null,null,null,"Ceci reprend les valeurs dans les les autres onglets de façon à pouvoir les utiliser dans le présent onglet."]
[]
[null,{"$f":"Langage!A7","v":"Température extérieure de base"},null,null,"qe   °C",{"$f":"IF(U9=\"\",\"\",W9)","v":""},null,null,{"$f":"Langage!A44","v":"Commune"},null,null,{"$f":"Langage!A43","v":"Code postal"},null,null,null,null,null,null,null,null,{"$f":"IF(M8=\"\",\"\",VLOOKUP(M8,'Tab NA1'!I4:M605,1,TRUE))","v":""},{"$f":"IF(M8=\"\",\"\",VLOOKUP(M8,'Tab NA1'!I4:M605,2,TRUE))","v":""}]
[null,{"$f":"Langage!A73","v":"Temp. min. moy. mois le plus froid"},null,null,"qmin  °C",{"$f":"IF(U9=\"\",\"\",X9)","v":""},null,null,null,null,null,{"$f":"Langage!A44","v":"Commune"},{"$f":"IF(V8=\"\",\"\",V8)","v":""},null,null,null,null,null,null,null,{"$f":"IF(I9=\"\",\"\",VLOOKUP(I9,'Tab NA1'!C4:G605,5,FALSE))","v":""},{"$f":"IF(I9=\"\",\"\",VLOOKUP(I9,'Tab NA1'!C4:G605,1,FALSE))","v":""},{"$f":"IF(I9=\"\",\"\",VLOOKUP(I9,'Tab NA1'!C4:G605,2,FALSE))","v":""},{"$f":"IF(I9=\"\",\"\",VLOOKUP(I9,'Tab NA1'!C4:G605,3,FALSE))","v":""},{"$f":"IF(I9=\"\",\"\",VLOOKUP(I9,'Tab NA1'!C4:G605,4,FALSE))","v":""},{"$f":"'Tab NA1'!C4","v":"Aalst"},{"$f":"'Tab NA6'!B3","v":"RH"},{"$f":"'Tab NA6'!H3","v":"Radiateurs"},null,null,{"$f":"'Tab NA7'!B5","v":"RE"},{"$f":"'Tab NA7'!C5","v":6},{"$f":"'Tab NA7'!B12","v":0},{"$f":"'Tab NA7'!C12","v":0}]
[null,{"$f":"Langage!A8","v":"Température moyenne annuelle"},null,null,"qe,m  °C",{"$f":"IF(U9=\"\",\"\",Y9)","v":""},null,null,{"$f":"IF(U9=\"\",\"\",U9)","v":""},null,null,null,null,null,null,null,null,null,null,null,null,null,null,null,null,{"$f":"'Tab NA1'!C5","v":"Aalter"},{"$f":"'Tab NA6'!B4","v":"FH"},{"$f":"'Tab NA6'!H4","v":"Chauffage par le sol"},null,null,{"$f":"'Tab NA7'!B6","v":"NR"},{"$f":"'Tab NA7'!C6","v":6},{"$f":"'Tab NA7'!B13","v":0},{"$f":"'Tab NA7'!C13","v":0}]
[null,null,null,null,null,null,null,null,null,null,null,null,null,null,null,null,null,null,null,null,null,null,null,null,null,{"$f":"'Tab NA1'!C6","v":"Aarschot"},{"$f":"'Tab NA6'!B5","v":"WH"},{"$f":"'Tab NA6'!H5","v":"Chauffage par les murs"},null,null,null,null,{"$f":"'Tab NA7'!B14","v":0},{"$f":"'Tab NA7'!C14","v":0}]
[null,{"$f":"Langage!A9","v":"Espaces chauffés"},null,null,null,null,null,null,null,null,null,null,null,null,null,null,null,null,null,null,null,null,null,null,null,{"$f":"'Tab NA1'!C7","v":"Aartselaar"},{"$f":"'Tab NA6'!B6","v":"AS"},{"$f":"'Tab NA6'!H6","v":"Air sans déstratification"}]
[null,null,null,null,null,null,null,null,null,null,null,null,null,null,null,null,null,null,null,null,null,null,null,null,null,{"$f":"'Tab NA1'!C8","v":"Affligem"},{"$f":"'Tab NA6'!B7","v":"AD"},{"$f":"'Tab NA6'!H7","v":"Air avec déstratification"}]
[null,null,{"$f":"Langage!A10","v":"Nom de l'espace"},{"$f":"Langage!A11","v":"Température   int. de base"},{"$f":"Langage!A12","v":"Aire nette de plancher"},{"$f":"Langage!A13","v":"Volume    intérieur"},{"$f":"Langage!A47","v":"Temps de préchauffage"},{"$f":"Langage!A91","v":"Type d'espace"},{"$f":"Langage!A80","v":"Système d'émission de chaleur"},null,null,null,null,null,"Chauffage","Chauffage",{"$f":"Langage!A107","v":"Hauteur moyenne"},null,null,null,null,null,null,null,null,{"$f":"'Tab NA1'!C9","v":"Aiseau-Presles"},{"$f":"'Tab NA6'!B8","v":"CP"},{"$f":"'Tab NA6'!H8","v":"Panneaux radiants au plafond"}]
[null,null,null,null,null,null,null,null,null,null,null,null,null,null,"par le sol","par le mur",null,null,null,null,"Air","Renouvelement d'air","Facteur de relance",null,null,{"$f":"'Tab NA1'!C10","v":"Alken"},{"$f":"'Tab NA6'!B9","v":"LR"},{"$f":"'Tab NA6'!H9","v":"Radiants à infrarouge"},null,null,null,null,null,null,null,null,"Options préchauffage"]
[null,null,null,"qint,i   °C","Ai   m²","Vi   m³","h",null,null,null,null,null,null,null,null,null,"hi   m",null,"Dqrad  °C","Gq,air,i  °C/m","q*int,i   °C","h-1",null,null,null,{"$f":"'Tab NA1'!C11","v":"Alveringem"},{"$f":"'Tab NA6'!B10","v":"RT"},{"$f":"'Tab NA6'!H10","v":"Tubes radiants"},null,null,null,null,null,null,null,null,"-"]
[null,1,null,null,null,null,null,null,null,{"$f":"IF(I17=\"\",\"\",VLOOKUP(I17,AA$9:AB$17,2,FALSE))","v":""},null,{"$f":"AA9","v":"RH"},{"$f":"AB9","v":"Radiateurs"},null,{"$f":"IF(I17=\"FH\",TRUE,FALSE)","v":false},{"$f":"IF(I17=\"WH\",TRUE,FALSE)","v":false},{"$f":"IF(OR(E17=\"\",F17=\"\"),\"\",F17/E17)","v":""},null,{"$f":"IF(I17=\"\",\"\",VLOOKUP(I17,'Tab NA6'!B$3:D$11,3,FALSE))","v":""},{"$f":"IF(I17=\"\",\"\",VLOOKUP(I17,'Tab NA6'!B$3:D$11,2,FALSE))","v":""},{"$f":"IF(Q17=\"\",\"\",IF(Q17<=4,D17,D17+T17*(Q17/2-1)-S17))","v":""},{"$f":"IF(H17=\"\",\"\",VLOOKUP(H17,'Tab NA8'!B$5:C$6,2,FALSE))","v":""},{"$f":"IF(OR(G17=\"\",G17=\"-\"),\"\",G17)","v":""},{"$f":"INDEX('Tab F1'!B$4:I$51,MATCH(1,('Tab F1'!E$4:E$59=W$41)*('Tab F1'!C$4:C$59=W$42)*('Tab F1'!B$11:B$59=W17),0),5)","v":{"$error":"#N/A"}},null,{"$f":"'Tab NA1'!C12","v":"Amay"},{"$f":"'Tab NA6'!B11","v":"NS"},{"$f":"'Tab NA6'!H11","v":"Pas de chauffage"},null,null,null,null,null,null,null,null,0.5]
[null,2,null,null,null,null,null,null,null,"",null,{"$f":"AA10","v":"FH"},"Chauffage par le sol",null,false,false,"",null,{"$f":"IF(I18=\"\",\"\",VLOOKUP(I18,'Tab NA6'!B$3:D$11,3,FALSE))","v":""},{"$f":"IF(I18=\"\",\"\",VLOOKUP(I18,'Tab NA6'!B$3:D$11,2,FALSE))","v":""},"",{"$f":"IF(H18=\"\",\"\",VLOOKUP(H18,'Tab NA8'!B$5:C$6,2,FALSE))","v":""},{"$f":"IF(OR(G18=\"\",G18=\"-\"),\"\",G18)","v":""},{"$f":"INDEX('Tab F1'!B$4:I$51,MATCH(1,('Tab F1'!E$4:E$59=W$41)*('Tab F1'!C$4:C$59=W$42)*('Tab F1'!B$11:B$59=W18),0),5)","v":{"$error":"#N/A"}},null,{"$f":"'Tab NA1'!C13","v":"Amel"},null,null,null,null,null,null,null,null,null,null,1]
[null,3,null,null,null,null,null,null,null,"",null,"WH","Chauffage par les murs",null,false,false,"",null,{"$f":"IF(I19=\"\",\"\",VLOOKUP(I19,'Tab NA6'!B$3:D$11,3,FALSE))","v":""},{"$f":"IF(I19=\"\",\"\",VLOOKUP(I19,'Tab NA6'!B$3:D$11,2,FALSE))","v":""},"",{"$f":"IF(H19=\"\",\"\",VLOOKUP(H19,'Tab NA8'!B$5:C$6,2,FALSE))","v":""},"",{"$f":"INDEX('Tab F1'!B$4:I$51,MATCH(1,('Tab F1'!E$4:E$59=W$41)*('Tab F1'!C$4:C$59=W$42)*('Tab F1'!B$11:B$59=W19),0),5)","v":{"$error":"#N/A"}},null,{"$f":"'Tab NA1'!C14","v":"Andenne"},null,null,null,null,null,null,null,null,null,null,2]
[null,4,null,null,null,null,null,null,null,"",null,"AS","Air sans déstratification",null,false,false,"",null,{"$f":"IF(I20=\"\",\"\",VLOOKUP(I20,'Tab NA6'!B$3:D$11,3,FALSE))","v":""},{"$f":"IF(I20=\"\",\"\",VLOOKUP(I20,'Tab NA6'!B$3:D$11,2,FALSE))","v":""},"",{"$f":"IF(H20=\"\",\"\",VLOOKUP(H20,'Tab NA8'!B$5:C$6,2,FALSE))","v":""},"",{"$f":"INDEX('Tab F1'!B$4:I$51,MATCH(1,('Tab F1'!E$4:E$59=W$41)*('Tab F1'!C$4:C$59=W$42)*('Tab F1'!B$11:B$59=W20),0),5)","v":{"$error":"#N/A"}},null,{"$f":"'Tab NA1'!C15","v":"Anderlecht"},null,null,null,null,null,null,null,null,null,null,3]
[null,5,null,null,null,null,null,null,null,"",null,"AD","Air avec déstratification",null,false,false,"",null,{"$f":"IF(I21=\"\",\"\",VLOOKUP(I21,'Tab NA6'!B$3:D$11,3,FALSE))","v":""},{"$f":"IF(I21=\"\",\"\",VLOOKUP(I21,'Tab NA6'!B$3:D$11,2,FALSE))","v":""},"",{"$f":"IF(H21=\"\",\"\",VLOOKUP(H21,'Tab NA8'!B$5:C$6,2,FALSE))","v":""},"",{"$f":"INDEX('Tab F1'!B$4:I$51,MATCH(1,('Tab F1'!E$4:E$59=W$41)*('Tab F1'!C$4:C$59=W$42)*('Tab F1'!B$11:B$59=W21),0),5)","v":{"$error":"#N/A"}},null,{"$f":"'Tab NA1'!C16","v":"Anderlues"},null,null,null,null,null,null,null,null,null,null,4]
[null,6,null,null,null,null,null,null,null,"",null,"CP","Panneaux radiants au plafond",null,false,false,"",null,{"$f":"IF(I22=\"\",\"\",VLOOKUP(I22,'Tab NA6'!B$3:D$11,3,FALSE))","v":""},{"$f":"IF(I22=\"\",\"\",VLOOKUP(I22,'Tab NA6'!B$3:D$11,2,FALSE))","v":""},"",{"$f":"IF(H22=\"\",\"\",VLOOKUP(H22,'Tab NA8'!B$5:C$6,2,FALSE))","v":""},"",{"$f":"INDEX('Tab F1'!B$4:I$51,MATCH(1,('Tab F1'!E$4:E$59=W$41)*('Tab F1'!C$4:C$59=W$42)*('Tab F1'!B$11:B$59=W22),0),5)","v":{"$error":"#N/A"}},null,{"$f":"'Tab NA1'!C17","v":"Anhée"},null,null,null,null,null,null,null,null,null,null,6]
[null,7,null,null,null,null,null,null,null,"",null,"LR","Radiants à infrarouge",null,false,false,"",null,{"$f":"IF(I23=\"\",\"\",VLOOKUP(I23,'Tab NA6'!B$3:D$11,3,FALSE))","v":""},{"$f":"IF(I23=\"\",\"\",VLOOKUP(I23,'Tab NA6'!B$3:D$11,2,FALSE))","v":""},"",{"$f":"IF(H23=\"\",\"\",VLOOKUP(H23,'Tab NA8'!B$5:C$6,2,FALSE))","v":""},"",{"$f":"INDEX('Tab F1'!B$4:I$51,MATCH(1,('Tab F1'!E$4:E$59=W$41)*('Tab F1'!C$4:C$59=W$42)*('Tab F1'!B$11:B$59=W23),0),5)","v":{"$error":"#N/A"}},null,{"$f":"'Tab NA1'!C18","v":"Ans"},null,null,null,null,null,null,null,null,null,null,12]
[null,8,null,null,null,null,null,null,null,"",null,"RT","Tubes radiants",null,false,false,"",null,{"$f":"IF(I24=\"\",\"\",VLOOKUP(I24,'Tab NA6'!B$3:D$11,3,FALSE))","v":""},{"$f":"IF(I24=\"\",\"\",VLOOKUP(I24,'Tab NA6'!B$3:D$11,2,FALSE))","v":""},"",{"$f":"IF(H24=\"\",\"\",VLOOKUP(H24,'Tab NA8'!B$5:C$6,2,FALSE))","v":""},"",{"$f":"INDEX('Tab F1'!B$4:I$51,MATCH(1,('Tab F1'!E$4:E$59=W$41)*('Tab F1'!C$4:C$59=W$42)*('Tab F1'!B$11:B$59=W24),0),5)","v":{"$error":"#N/A"}},null,{"$f":"'Tab NA1'!C19","v":"Anthisnes"}]
[null,9,null,null,null,null,null,null,null,"",null,"NS","Pas de chauffage",null,false,false,"",null,{"$f":"IF(I25=\"\",\"\",VLOOKUP(I25,'Tab NA6'!B$3:D$11,3,FALSE))","v":""},{"$f":"IF(I25=\"\",\"\",VLOOKUP(I25,'Tab NA6'!B$3:D$11,2,FALSE))","v":""},"",{"$f":"IF(H25=\"\",\"\",VLOOKUP(H25,'Tab NA8'!B$5:C$6,2,FALSE))","v":""},"",{"$f":"INDEX('Tab F1'!B$4:I$51,MATCH(1,('Tab F1'!E$4:E$59=W$41)*('Tab F1'!C$4:C$59=W$42)*('Tab F1'!B$11:B$59=W25),0),5)","v":{"$error":"#N/A"}},null,{"$f":"'Tab NA1'!C20","v":"Antoing"}]
[null,10,null,null,null,null,null,null,null,"",null,null,null,null,false,false,"",null,{"$f":"IF(I26=\"\",\"\",VLOOKUP(I26,'Tab NA6'!B$3:D$11,3,FALSE))","v":""},{"$f":"IF(I26=\"\",\"\",VLOOKUP(I26,'Tab NA6'!B$3:D$11,2,FALSE))","v":""},"",{"$f":"IF(H26=\"\",\"\",VLOOKUP(H26,'Tab NA8'!B$5:C$6,2,FALSE))","v":""},"",{"$f":"INDEX('Tab F1'!B$4:I$51,MATCH(1,('Tab F1'!E$4:E$59=W$41)*('Tab F1'!C$4:C$59=W$42)*('Tab F1'!B$11:B$59=W26),0),5)","v":{"$error":"#N/A"}},null,{"$f":"'Tab NA1'!C21","v":"Antwerpen"}]
[null,11,null,null,null,null,null,null,null,"",null,{"$f":"AE9","v":"RE"},{"$f":"Langage!A72","v":"Résidentiel"},null,false,false,"",null,{"$f":"IF(I27=\"\",\"\",VLOOKUP(I27,'Tab NA6'!B$3:D$11,3,FALSE))","v":""},{"$f":"IF(I27=\"\",\"\",VLOOKUP(I27,'Tab NA6'!B$3:D$11,2,FALSE))","v":""},"",{"$f":"IF(H27=\"\",\"\",VLOOKUP(H27,'Tab NA8'!B$5:C$6,2,FALSE))","v":""},"",{"$f":"INDEX('Tab F1'!B$4:I$51,MATCH(1,('Tab F1'!E$4:E$59=W$41)*('Tab F1'!C$4:C$59=W$42)*('Tab F1'!B$11:B$59=W27),0),5)","v":{"$error":"#N/A"}},null,{"$f":"'Tab NA1'!C22","v":"Anzegem"}]
[null,12,null,null,null,null,null,null,null,"",null,{"$f":"AE10","v":"NR"},{"$f":"Langage!A71","v":"Non résidentiel"},null,false,false,"",null,{"$f":"IF(I28=\"\",\"\",VLOOKUP(I28,'Tab NA6'!B$3:D$11,3,FALSE))","v":""},{"$f":"IF(I28=\"\",\"\",VLOOKUP(I28,'Tab NA6'!B$3:D$11,2,FALSE))","v":""},"",{"$f":"IF(H28=\"\",\"\",VLOOKUP(H28,'Tab NA8'!B$5:C$6,2,FALSE))","v":""},"",{"$f":"INDEX('Tab F1'!B$4:I$51,MATCH(1,('Tab F1'!E$4:E$59=W$41)*('Tab F1'!C$4:C$59=W$42)*('Tab F1'!B$11:B$59=W28),0),5)","v":{"$error":"#N/A"}},null,{"$f":"'Tab NA1'!C23","v":"Ardooie"}]
[null,13,null,null,null,null,null,null,null,"",null,null,null,null,false,false,"",null,{"$f":"IF(I29=\"\",\"\",VLOOKUP(I29,'Tab NA6'!B$3:D$11,3,FALSE))","v":""},{"$f":"IF(I29=\"\",\"\",VLOOKUP(I29,'Tab NA6'!B$3:D$11,2,FALSE))","v":""},"",{"$f":"IF(H29=\"\",\"\",VLOOKUP(H29,'Tab NA8'!B$5:C$6,2,FALSE))","v":""},"",{"$f":"INDEX('Tab F1'!B$4:I$51,MATCH(1,('Tab F1'!E$4:E$59=W$41)*('Tab F1'!C$4:C$59=W$42)*('Tab F1'!B$11:B$59=W29),0),5)","v":{"$error":"#N/A"}},null,{"$f":"'Tab NA1'!C24","v":"Arendonk"}]
[null,14,null,null,null,null,null,null,null,"",null,null,null,null,false,false,"",null,{"$f":"IF(I30=\"\",\"\",VLOOKUP(I30,'Tab NA6'!B$3:D$11,3,FALSE))","v":""},{"$f":"IF(I30=\"\",\"\",VLOOKUP(I30,'Tab NA6'!B$3:D$11,2,FALSE))","v":""},"",{"$f":"IF(H30=\"\",\"\",VLOOKUP(H30,'Tab NA8'!B$5:C$6,2,FALSE))","v":""},"",{"$f":"INDEX('Tab F1'!B$4:I$51,MATCH(1,('Tab F1'!E$4:E$59=W$41)*('Tab F1'!C$4:C$59=W$42)*('Tab F1'!B$11:B$59=W30),0),5)","v":{"$error":"#N/A"}},null,{"$f":"'Tab NA1'!C25","v":"Arlon"}]
[null,15,null,null,null,null,null,null,null,"",null,null,null,null,false,false,"",null,{"$f":"IF(I31=\"\",\"\",VLOOKUP(I31,'Tab NA6'!B$3:D$11,3,FALSE))","v":""},{"$f":"IF(I31=\"\",\"\",VLOOKUP(I31,'Tab NA6'!B$3:D$11,2,FALSE))","v":""},"",{"$f":"IF(H31=\"\",\"\",VLOOKUP(H31,'Tab NA8'!B$5:C$6,2,FALSE))","v":""},"",{"$f":"INDEX('Tab F1'!B$4:I$51,MATCH(1,('Tab F1'!E$4:E$59=W$41)*('Tab F1'!C$4:C$59=W$42)*('Tab F1'!B$11:B$59=W31),0),5)","v":{"$error":"#N/A"}},null,{"$f":"'Tab NA1'!C26","v":"As"}]
[null,16,null,null,null,null,null,null,null,"",null,null,null,null,false,false,"",null,{"$f":"IF(I32=\"\",\"\",VLOOKUP(I32,'Tab NA6'!B$3:D$11,3,FALSE))","v":""},{"$f":"IF(I32=\"\",\"\",VLOOKUP(I32,'Tab NA6'!B$3:D$11,2,FALSE))","v":""},"",{"$f":"IF(H32=\"\",\"\",VLOOKUP(H32,'Tab NA8'!B$5:C$6,2,FALSE))","v":""},"",{"$f":"INDEX('Tab F1'!B$4:I$51,MATCH(1,('Tab F1'!E$4:E$59=W$41)*('Tab F1'!C$4:C$59=W$42)*('Tab F1'!B$11:B$59=W32),0),5)","v":{"$error":"#N/A"}},null,{"$f":"'Tab NA1'!C27","v":"Asse"}]
[null,17,null,null,null,null,null,null,null,"",null,null,null,null,false,false,"",null,{"$f":"IF(I33=\"\",\"\",VLOOKUP(I33,'Tab NA6'!B$3:D$11,3,FALSE))","v":""},{"$f":"IF(I33=\"\",\"\",VLOOKUP(I33,'Tab NA6'!B$3:D$11,2,FALSE))","v":""},"",{"$f":"IF(H33=\"\",\"\",VLOOKUP(H33,'Tab NA8'!B$5:C$6,2,FALSE))","v":""},"",{"$f":"INDEX('Tab F1'!B$4:I$51,MATCH(1,('Tab F1'!E$4:E$59=W$41)*('Tab F1'!C$4:C$59=W$42)*('Tab F1'!B$11:B$59=W33),0),5)","v":{"$error":"#N/A"}},null,{"$f":"'Tab NA1'!C28","v":"Assenede"}]
[null,18,null,null,null,null,null,null,null,"",null,null,null,null,false,false,"",null,{"$f":"IF(I34=\"\",\"\",VLOOKUP(I34,'Tab NA6'!B$3:D$11,3,FALSE))","v":""},{"$f":"IF(I34=\"\",\"\",VLOOKUP(I34,'Tab NA6'!B$3:D$11,2,FALSE))","v":""},"",{"$f":"IF(H34=\"\",\"\",VLOOKUP(H34,'Tab NA8'!B$5:C$6,2,FALSE))","v":""},"",{"$f":"INDEX('Tab F1'!B$4:I$51,MATCH(1,('Tab F1'!E$4:E$59=W$41)*('Tab F1'!C$4:C$59=W$42)*('Tab F1'!B$11:B$59=W34),0),5)","v":{"$error":"#N/A"}},null,{"$f":"'Tab NA1'!C29","v":"Assesse"}]
[null,19,null,null,null,null,null,null,null,"",null,null,null,null,false,false,"",null,{"$f":"IF(I35=\"\",\"\",VLOOKUP(I35,'Tab NA6'!B$3:D$11,3,FALSE))","v":""},{"$f":"IF(I35=\"\",\"\",VLOOKUP(I35,'Tab NA6'!B$3:D$11,2,FALSE))","v":""},"",{"$f":"IF(H35=\"\",\"\",VLOOKUP(H35,'Tab NA8'!B$5:C$6,2,FALSE))","v":""},"",{"$f":"INDEX('Tab F1'!B$4:I$51,MATCH(1,('Tab F1'!E$4:E$59=W$41)*('Tab F1'!C$4:C$59=W$42)*('Tab F1'!B$11:B$59=W35),0),5)","v":{"$error":"#N/A"}},null,{"$f":"'Tab NA1'!C30","v":"Ath"}]
[null,20,null,null,null,null,null,null,null,"",null,null,null,null,false,false,"",null,{"$f":"IF(I36=\"\",\"\",VLOOKUP(I36,'Tab NA6'!B$3:D$11,3,FALSE))","v":""},{"$f":"IF(I36=\"\",\"\",VLOOKUP(I36,'Tab NA6'!B$3:D$11,2,FALSE))","v":""},"",{"$f":"IF(H36=\"\",\"\",VLOOKUP(H36,'Tab NA8'!B$5:C$6,2,FALSE))","v":""},"",{"$f":"INDEX('Tab F1'!B$4:I$51,MATCH(1,('Tab F1'!E$4:E$59=W$41)*('Tab F1'!C$4:C$59=W$42)*('Tab F1'!B$11:B$59=W36),0),5)","v":{"$error":"#N/A"}},null,{"$f":"'Tab NA1'!C31","v":"Attert"}]
[null,null,null,{"$f":"Langage!A14","v":"Total"},{"$f":"SUM(E17:E36)","v":0},{"$f":"SUM(F17:F36)","v":0},null,null,null,null,null,null,null,null,null,null,null,null,null,null,null,null,null,null,null,{"$f":"'Tab NA1'!C32","v":"Aubange"}]
[null,null,null,null,null,null,null,null,null,null,null,null,null,null,null,null,null,null,null,null,null,null,null,null,null,{"$f":"'Tab NA1'!C33","v":"Aubel"}]
[null,{"$f":"Langage!A76","v":"Extérieur"},null,null,null,null,null,null,null,null,null,null,null,null,{"$f":"COUNTIF(O17:O36,TRUE)","v":0},{"$f":"COUNTIF(P17:P36,TRUE)","v":0},null,null,null,null,null,null,null,null,null,{"$f":"'Tab NA1'!C34","v":"Auderghem"}]
[null,null,null,null,null,null,null,null,null,null,null,null,null,null,null,null,null,null,null,null,null,null,null,null,null,{"$f":"'Tab NA1'!C35","v":"Avelgem"}]
[null,null,{"$f":"Langage!A10","v":"Nom de l'espace"},"qe   °C",null,null,null,null,null,null,null,null,null,null,null,null,null,null,null,null,null,null,{"$f":"IF(C71=\"\",\"\",C71)","v":""},null,null,{"$f":"'Tab NA1'!C36","v":"Awans"}]
[null,1,null,{"$f":"IF(F8=\"\",\"\",F8)","v":""},null,null,null,null,null,null,null,null,null,null,null,null,null,null,null,null,null,null,{"$f":"IF(D71=\"\",\"\",D71)","v":""},null,null,{"$f":"'Tab NA1'!C37","v":"Aywaille"}]
[null,null,null,null,null,null,null,null,null,null,null,null,null,null,null,null,null,null,null,null,null,null,null,null,null,{"$f":"'Tab NA1'!C38","v":"Baarle-Hertog"}]
[null,{"$f":"Langage!A70","v":"Sol"},null,null,null,null,null,null,null,null,null,null,null,null,null,null,null,null,null,null,null,null,null,null,null,{"$f":"'Tab NA1'!C39","v":"Baelen"}]
[null,null,null,null,null,null,null,null,null,null,null,null,null,null,null,null,null,null,null,null,null,null,null,null,null,{"$f":"'Tab NA1'!C40","v":"Balen"}]
[null,null,null,"qg   °C","fqann","fGW",null,null,null,null,null,null,null,null,null,null,null,null,null,null,null,null,null,null,null,{"$f":"'Tab NA1'!C41","v":"Bassenge"}]
[null,1,null,{"$f":"IF(F10=\"\",\"\",F10)","v":""},1.45,1.1499999999999999,null,null,null,null,null,null,null,null,null,null,null,null,null,null,{"$f":"IF(J47=\"\",\"\",I47*2/J47)","v":""},null,null,null,null,{"$f":"'Tab NA1'!C42","v":"Bastogne"}]
[null,null,null,null,null,null,null,null,null,null,null,null,null,null,null,null,null,null,null,null,null,null,null,null,null,{"$f":"'Tab NA1'!C43","v":"Beaumont"}]
[null,{"$f":"Langage!A17","v":"Entités de bâtiment adjacentes"},null,null,null,null,null,null,null,null,null,null,null,null,null,null,null,null,null,null,null,null,null,null,null,{"$f":"'Tab NA1'!C44","v":"Beauraing"}]
[null,null,null,null,null,null,null,null,null,null,null,null,null,null,null,null,null,null,null,null,null,null,null,null,null,{"$f":"'Tab NA1'!C45","v":"Beauvechain"}]
[null,null,{"$f":"Langage!A10","v":"Nom de l'espace"},"qu  °C",null,null,null,null,null,null,null,null,null,null,null,null,null,null,null,null,null,null,null,null,null,{"$f":"'Tab NA1'!C46","v":"Beernem"}]
[null,1,null,null,null,null,null,null,null,null,null,null,null,null,null,null,null,null,null,null,null,null,null,null,null,{"$f":"'Tab NA1'!C47","v":"Beerse"}]
[null,2,null,null,null,null,null,null,null,null,null,null,null,null,null,null,null,null,null,null,null,null,null,null,null,{"$f":"'Tab NA1'!C48","v":"Beersel"}]
[null,3,null,null,null,null,null,null,null,null,null,null,null,null,null,null,null,null,null,null,null,null,null,null,null,{"$f":"'Tab NA1'!C49","v":"Begijnendijk"}]
[null,4,null,null,null,null,null,null,null,null,null,null,null,null,null,null,null,null,null,null,null,null,null,null,null,{"$f":"'Tab NA1'!C50","v":"Bekkevoort"}]
[null,5,null,null,null,null,null,null,null,null,null,null,null,null,null,null,null,null,null,null,null,null,null,null,null,{"$f":"'Tab NA1'!C51","v":"Beloeil"}]
[null,null,null,null,null,null,null,null,null,null,null,null,null,null,null,null,null,null,null,null,null,null,null,null,null,{"$f":"'Tab NA1'!C52","v":"Berchem-Sainte-Agathe"}]
[null,{"$f":"Langage!A16","v":"Espaces non chauffés / Bâtiments voisins"},null,null,null,null,null,null,null,null,null,null,null,null,null,null,null,null,null,null,null,null,null,null,null,{"$f":"'Tab NA1'!C53","v":"Beringen"}]
[null,null,null,null,null,null,null,null,null,null,null,null,null,null,null,null,null,null,null,null,null,null,null,null,null,{"$f":"'Tab NA1'!C54","v":"Berlaar"}]
[null,null,{"$f":"Langage!A10","v":"Nom de l'espace"},"qae   °C",null,null,null,null,null,null,null,null,null,null,null,null,null,null,null,null,null,null,null,null,null,{"$f":"'Tab NA1'!C55","v":"Berlare"}]
[null,1,null,null,null,null,null,null,null,null,null,null,null,null,null,null,null,null,null,null,null,null,null,null,null,{"$f":"'Tab NA1'!C56","v":"Berloz"}]
[null,2,null,null,null,null,null,null,null,null,null,null,null,null,null,null,null,null,null,null,null,null,null,null,null,{"$f":"'Tab NA1'!C57","v":"Bernissart"}]
[null,3,null,null,null,null,null,null,null,null,null,null,null,null,null,null,null,null,null,null,null,null,null,null,null,{"$f":"'Tab NA1'!C58","v":"Bertem"}]
[null,4,null,null,null,null,null,null,null,null,null,null,null,null,null,null,null,null,null,null,null,null,null,null,null,{"$f":"'Tab NA1'!C59","v":"Bertogne"}]
[null,5,null,null,null,null,null,null,null,null,null,null,null,null,null,null,null,null,null,null,null,null,null,null,null,{"$f":"'Tab NA1'!C60","v":"Bertrix"}]
[null,null,null,null,null,null,null,null,null,null,null,null,null,null,null,null,null,null,null,null,null,null,null,null,null,{"$f":"'Tab NA1'!C67","v":"Binche"}]
[null,{"$f":"Langage!A45","v":"Surpuissance de relance"},null,null,null,null,null,null,null,null,null,null,null,null,null,null,null,null,null,null,null,null,null,null,null,{"$f":"'Tab NA1'!C68","v":"Blankenberge"}]
[null,null,null,null,null,null,null,null,null,null,null,null,null,null,null,null,null,null,null,null,null,null,null,null,null,{"$f":"'Tab NA1'!C69","v":"Blegny"}]
[null,null,{"$f":"Langage!A49","v":"Capacité thermique"},{"$f":"Langage!A78","v":"Période d'abaissement"},null,null,null,null,null,null,null,null,null,null,null,null,null,null,null,null,null,null,null,null,null,{"$f":"'Tab NA1'!C70","v":"Bocholt"}]
[null,null,null,"h",null,null,null,null,null,null,null,"L",{"$f":"Langage!A50","v":"Capacité basse"},null,null,null,null,null,null,null,null,null,null,null,null,{"$f":"'Tab NA1'!C71","v":"Boechout"}]
[null,null,null,null,null,{"$f":"IF(C71=\"\",\"\",VLOOKUP(C71,L70:M71,2,FALSE))","v":""},null,null,null,null,null,"H",{"$f":"Langage!A51","v":"Capacité moyenne/élevée"},null,null,null,null,null,null,null,null,null,null,null,null,{"$f":"'Tab NA1'!C72","v":"Bonheiden"}]
[null,null,null,null,null,null,null,null,null,null,null,null,null,null,null,null,null,null,null,null,null,null,null,null,null,{"$f":"'Tab NA1'!C73","v":"Boom"}]
[null,{"$f":"Langage!A92","v":"Etanchéité à l'air"},null,null,null,null,null,null,null,null,null,null,null,null,null,null,"Possibilités",null,null,null,null,null,null,null,null,{"$f":"'Tab NA1'!C62","v":"Beveren"}]
[null,null,null,null,null,null,null,null,null,null,null,null,null,null,null,null,null,null,null,null,null,null,null,null,null,{"$f":"'Tab NA1'!C63","v":"Beyne-Heusay"}]
[null,null,{"$f":"Langage!A94","v":"Type de valeur"},{"$f":"Langage!A93","v":"Débit de fuite"},null,{"$f":"IF(C77=\"\",\"\",VLOOKUP(C77,L75:P80,2,FALSE))","v":""},null,{"$f":"IF(C77=\"\",\"\",VLOOKUP(C77,L75:P80,4,FALSE))","v":""},null,null,null,"q50M",{"$f":"Langage!A100","v":"Débit mesuré"},"m³/h"," "," ",{"$f":"IF(F77=\"\",\"\",F77)","v":""},null,null,null,null,null,null,null,null,{"$f":"'Tab NA1'!C64","v":"Bierbeek"}]
[null,null,null,"q50  m³/h",null,{"$f":"IF(C77=\"\",\"\",VLOOKUP(C77,L75:P80,3,FALSE))","v":""},null,{"$f":"IF(C77=\"\",\"\",VLOOKUP(C77,L75:P80,5,FALSE))","v":""},null,null,null,"n50M",{"$f":"Langage!A101","v":"n50 mesuré"},"1/h",{"$f":"Langage!A105","v":"Volume"},"m³",{"$f":"IF(OR(F77=\"\",H77=\"\"),\"\",F77*H77)","v":""},null,null,null,null,null,null,null,null,{"$f":"'Tab NA1'!C65","v":"Bièvre"}]
[null,null,null,{"$f":"IF(C77=\"\",\"\",VLOOKUP(C77,L75:Q80,6,FALSE))","v":""},null,null,null,null,null,null,null,"v50M",{"$f":"Langage!A102","v":"v50 mesuré"},"m³/h.m²",{"$f":"Langage!A106","v":"Aire"},"m²",{"$f":"IF(OR(F77=\"\",H77=\"\"),\"\",F77*H77)","v":""},null,null,null,null,null,null,null,null,{"$f":"'Tab NA1'!C66","v":"Bilzen"}]
[null,null,null,null,null,null,null,null,null,null,null,"n50E",{"$f":"Langage!A103","v":"n50 estimé"},"1/h",{"$f":"Langage!A105","v":"Volume"},"m³",{"$f":"IF(OR(F77=\"\",H77=\"\"),\"\",F77*H77)","v":""},null,null,null,null,null,null,null,null,{"$f":"'Tab NA1'!C79","v":"Boussu"}]
[null,null,null,null,null,null,null,null,null,null,null,"v50E",{"$f":"Langage!A104","v":"v50 estimé"},"m³/h.m²",{"$f":"Langage!A106","v":"Aire"},"m²",{"$f":"IF(OR(F77=\"\",H77=\"\"),\"\",F77*H77)","v":""},null,null,null,null,null,null,null,null,{"$f":"'Tab NA1'!C80","v":"Boutersem"}]
[null,null,null,null,null,null,null,null,null,null,null,"DV",{"$f":"Langage!A99","v":"Valeur par défaut"}," "," "," ",{"$f":"IF(F37=\"\",\"\",'Tab NA7'!C5*F37)","v":0},null,null,null,null,null,null,null,null,{"$f":"'Tab NA1'!C81","v":"Braine-l'Alleud"}]
[null,null,null,null,null,null,null,null,null,null,null,null,null,null,null,null,null,null,null,null,null,null,null,null,null,{"$f":"'Tab NA1'!C82","v":"Braine-le-Château"}]
[null,null,null,null,null,null,null,null,null,null,null,null,null,null,null,null,null,null,null,null,null,null,null,null,null,{"$f":"'Tab NA1'!C83","v":"Braine-le-Comte"}]
[null,null,null,null,null,null,null,null,null,null,null,null,null," "," "," ",{"$f":"IF(F45=\"\",\"\",'Tab NA7'!C13*F45)","v":""},null,null,null,null,null,null,null,null,{"$f":"'Tab NA1'!C84","v":"Braives"}]
[null,null,null,null,null,null,null,null,null,null,null,null,null,null,null,null,null,null,null,null,null,null,null,null,null,{"$f":"'Tab NA1'!C85","v":"Brakel"}]
[null,null,null,null,null,null,null,null,null,null,null,null,null,null,null,null,null,null,null,null,null,null,null,null,null,{"$f":"'Tab NA1'!C86","v":"Brasschaat"}]
[null,null,null,null,null,null,null,null,null,null,null,null,null,null,null,null,null,null,null,null,null,null,null,null,null,{"$f":"'Tab NA1'!C87","v":"Brecht"}]
[null,null,null,null,null,null,null,null,null,null,null,null,null,null,null,null,null,null,null,null,null,null,null,null,null,{"$f":"'Tab NA1'!C88","v":"Bredene"}]
[null,null,null,null,null,null,null,null,null,null,null,null,null,null,null,null,null,null,null,null,null,null,null,null,null,{"$f":"'Tab NA1'!C89","v":"Bree"}]
[null,null,null,null,null,null,null,null,null,null,null,null,null,null,null,null,null,null,null,null,null,null,null,null,null,{"$f":"'Tab NA1'!C90","v":"Brugelette"}]
[null,null,null,null,null,null,null,null,null,null,null,null,null,null,null,null,null,null,null,null,null,null,null,null,null,{"$f":"'Tab NA1'!C91","v":"Brugge (beh./sauf Zeebrugge)"}]
[null,null,null,null,null,null,null,null,null,null,null,null,null,null,null,null,null,null,null,null,null,null,null,null,null,{"$f":"'Tab NA1'!C92","v":"Brunehaut"}]
[null,null,null,null,null,null,null,null,null,null,null,null,null,null,null,null,null,null,null,null,null,null,null,null,null,{"$f":"'Tab NA1'!C93","v":"Bruxelles / Brussel"}]
[null,null,null,null,null,null,null,null,null,null,null,null,null,null,null,null,null,null,null,null,null,null,null,null,null,{"$f":"'Tab NA1'!C94","v":"Buggenhout"}]
[null,null,null,null,null,null,null,null,null,null,null,null,null,null,null,null,null,null,null,null,null,null,null,null,null,{"$f":"'Tab NA1'!C95","v":"Büllingen"}]
[null,null,null,null,null,null,null,null,null,null,null,null,null,null,null,null,null,null,null,null,null,null,null,null,null,{"$f":"'Tab NA1'!C96","v":"Burdinne"}]
[null,null,null,null,null,null,null,null,null,null,null,null,null,null,null,null,null,null,null,null,null,null,null,null,null,{"$f":"'Tab NA1'!C97","v":"Burg-Reuland"}]
[null,null,null,null,null,null,null,null,null,null,null,null,null,null,null,null,null,null,null,null,null,null,null,null,null,{"$f":"'Tab NA1'!C98","v":"Bütgenbach"}]
[null,null,null,null,null,null,null,null,null,null,null,null,null,null,null,null,null,null,null,null,null,null,null,null,null,{"$f":"'Tab NA1'!C99","v":"Celles"}]
[null,null,null,null,null,null,null,null,null,null,null,null,null,null,null,null,null,null,null,null,null,null,null,null,null,{"$f":"'Tab NA1'!C100","v":"Cerfontaine"}]
[null,null,null,null,null,null,null,null,null,null,null,null,null,null,null,null,null,null,null,null,null,null,null,null,null,{"$f":"'Tab NA1'!C101","v":"Chapelle-lez-Herlaimont"}]
[null,null,null,null,null,null,null,null,null,null,null,null,null,null,null,null,null,null,null,null,null,null,null,null,null,{"$f":"'Tab NA1'!C102","v":"Charleroi"}]
[null,null,null,null,null,null,null,null,null,null,null,null,null,null,null,null,null,null,null,null,null,null,null,null,null,{"$f":"'Tab NA1'!C103","v":"Chastre"}]
[null,null,null,null,null,null,null,null,null,null,null,null,null,null,null,null,null,null,null,null,null,null,null,null,null,{"$f":"'Tab NA1'!C104","v":"Châtelet"}]
[null,null,null,null,null,null,null,null,null,null,null,null,null,null,null,null,null,null,null,null,null,null,null,null,null,{"$f":"'Tab NA1'!C105","v":"Chaudfontaine"}]
[null,null,null,null,null,null,null,null,null,null,null,null,null,null,null,null,null,null,null,null,null,null,null,null,null,{"$f":"'Tab NA1'!C106","v":"Chaumont-Gistoux"}]
[null,null,null,null,null,null,null,null,null,null,null,null,null,null,null,null,null,null,null,null,null,null,null,null,null,{"$f":"'Tab NA1'!C107","v":"Chièvres"}]
[null,null,null,null,null,null,null,null,null,null,null,null,null,null,null,null,null,null,null,null,null,null,null,null,null,{"$f":"'Tab NA1'!C108","v":"Chimay"}]
[null,null,null,null,null,null,null,null,null,null,null,null,null,null,null,null,null,null,null,null,null,null,null,null,null,{"$f":"'Tab NA1'!C109","v":"Chiny"}]
[null,null,null,null,null,null,null,null,null,null,null,null,null,null,null,null,null,null,null,null,null,null,null,null,null,{"$f":"'Tab NA1'!C110","v":"Ciney"}]
[null,null,null,null,null,null,null,null,null,null,null,null,null,null,null,null,null,null,null,null,null,null,null,null,null,{"$f":"'Tab NA1'!C111","v":"Clavier"}]
[null,null,null,null,null,null,null,null,null,null,null,null,null,null,null,null,null,null,null,null,null,null,null,null,null,{"$f":"'Tab NA1'!C112","v":"Colfontaine"}]
[null,null,null,null,null,null,null,null,null,null,null,null,null,null,null,null,null,null,null,null,null,null,null,null,null,{"$f":"'Tab NA1'!C113","v":"Comblain-au-Pont"}]
[null,null,null,null,null,null,null,null,null,null,null,null,null,null,null,null,null,null,null,null,null,null,null,null,null,{"$f":"'Tab NA1'!C114","v":"Comines-Warneton"}]
[null,null,null,null,null,null,null,null,null,null,null,null,null,null,null,null,null,null,null,null,null,null,null,null,null,{"$f":"'Tab NA1'!C115","v":"Courcelles"}]
[null,null,null,null,null,null,null,null,null,null,null,null,null,null,null,null,null,null,null,null,null,null,null,null,null,{"$f":"'Tab NA1'!C116","v":"Court-Saint-Etienne"}]
[null,null,null,null,null,null,null,null,null,null,null,null,null,null,null,null,null,null,null,null,null,null,null,null,null,{"$f":"'Tab NA1'!C117","v":"Couvin"}]
[null,null,null,null,null,null,null,null,null,null,null,null,null,null,null,null,null,null,null,null,null,null,null,null,null,{"$f":"'Tab NA1'!C118","v":"Crisnée"}]
[null,null,null,null,null,null,null,null,null,null,null,null,null,null,null,null,null,null,null,null,null,null,null,null,null,{"$f":"'Tab NA1'!C119","v":"Dalhem"}]
[null,null,null,null,null,null,null,null,null,null,null,null,null,null,null,null,null,null,null,null,null,null,null,null,null,{"$f":"'Tab NA1'!C120","v":"Damme"}]
[null,null,null,null,null,null,null,null,null,null,null,null,null,null,null,null,null,null,null,null,null,null,null,null,null,{"$f":"'Tab NA1'!C121","v":"Daverdisse"}]
[null,null,null,null,null,null,null,null,null,null,null,null,null,null,null,null,null,null,null,null,null,null,null,null,null,{"$f":"'Tab NA1'!C122","v":"De Haan"}]
[null,null,null,null,null,null,null,null,null,null,null,null,null,null,null,null,null,null,null,null,null,null,null,null,null,{"$f":"'Tab NA1'!C123","v":"De Panne"}]
[null,null,null,null,null,null,null,null,null,null,null,null,null,null,null,null,null,null,null,null,null,null,null,null,null,{"$f":"'Tab NA1'!C124","v":"De Pinte"}]
[null,null,null,null,null,null,null,null,null,null,null,null,null,null,null,null,null,null,null,null,null,null,null,null,null,{"$f":"'Tab NA1'!C125","v":"Deerlijk"}]
[null,null,null,null,null,null,null,null,null,null,null,null,null,null,null,null,null,null,null,null,null,null,null,null,null,{"$f":"'Tab NA1'!C126","v":"Deinze"}]
[null,null,null,null,null,null,null,null,null,null,null,null,null,null,null,null,null,null,null,null,null,null,null,null,null,{"$f":"'Tab NA1'!C127","v":"Denderleeuw"}]
[null,null,null,null,null,null,null,null,null,null,null,null,null,null,null,null,null,null,null,null,null,null,null,null,null,{"$f":"'Tab NA1'!C128","v":"Dendermonde"}]
[null,null,null,null,null,null,null,null,null,null,null,null,null,null,null,null,null,null,null,null,null,null,null,null,null,{"$f":"'Tab NA1'!C129","v":"Dentergem"}]
[null,null,null,null,null,null,null,null,null,null,null,null,null,null,null,null,null,null,null,null,null,null,null,null,null,{"$f":"'Tab NA1'!C130","v":"Dessel"}]
[null,null,null,null,null,null,null,null,null,null,null,null,null,null,null,null,null,null,null,null,null,null,null,null,null,{"$f":"'Tab NA1'!C131","v":"Destelbergen"}]
[null,null,null,null,null,null,null,null,null,null,null,null,null,null,null,null,null,null,null,null,null,null,null,null,null,{"$f":"'Tab NA1'!C132","v":"Diepenbeek"}]
[null,null,null,null,null,null,null,null,null,null,null,null,null,null,null,null,null,null,null,null,null,null,null,null,null,{"$f":"'Tab NA1'!C133","v":"Diest"}]
[null,null,null,null,null,null,null,null,null,null,null,null,null,null,null,null,null,null,null,null,null,null,null,null,null,{"$f":"'Tab NA1'!C134","v":"Diksmuide"}]
[null,null,null,null,null,null,null,null,null,null,null,null,null,null,null,null,null,null,null,null,null,null,null,null,null,{"$f":"'Tab NA1'!C135","v":"Dilbeek"}]
[null,null,null,null,null,null,null,null,null,null,null,null,null,null,null,null,null,null,null,null,null,null,null,null,null,{"$f":"'Tab NA1'!C136","v":"Dilsen-Stokkem"}]
[null,null,null,null,null,null,null,null,null,null,null,null,null,null,null,null,null,null,null,null,null,null,null,null,null,{"$f":"'Tab NA1'!C137","v":"Dinant"}]
[null,null,null,null,null,null,null,null,null,null,null,null,null,null,null,null,null,null,null,null,null,null,null,null,null,{"$f":"'Tab NA1'!C138","v":"Dison"}]
[null,null,null,null,null,null,null,null,null,null,null,null,null,null,null,null,null,null,null,null,null,null,null,null,null,{"$f":"'Tab NA1'!C139","v":"Doische"}]
[null,null,null,null,null,null,null,null,null,null,null,null,null,null,null,null,null,null,null,null,null,null,null,null,null,{"$f":"'Tab NA1'!C140","v":"Donceel"}]
[null,null,null,null,null,null,null,null,null,null,null,null,null,null,null,null,null,null,null,null,null,null,null,null,null,{"$f":"'Tab NA1'!C141","v":"Dour"}]
[null,null,null,null,null,null,null,null,null,null,null,null,null,null,null,null,null,null,null,null,null,null,null,null,null,{"$f":"'Tab NA1'!C142","v":"Drogenbos"}]
[null,null,null,null,null,null,null,null,null,null,null,null,null,null,null,null,null,null,null,null,null,null,null,null,null,{"$f":"'Tab NA1'!C143","v":"Duffel"}]
[null,null,null,null,null,null,null,null,null,null,null,null,null,null,null,null,null,null,null,null,null,null,null,null,null,{"$f":"'Tab NA1'!C144","v":"Durbuy"}]
[null,null,null,null,null,null,null,null,null,null,null,null,null,null,null,null,null,null,null,null,null,null,null,null,null,{"$f":"'Tab NA1'!C145","v":"Ecaussinnes"}]
[null,null,null,null,null,null,null,null,null,null,null,null,null,null,null,null,null,null,null,null,null,null,null,null,null,{"$f":"'Tab NA1'!C146","v":"Edegem"}]
[null,null,null,null,null,null,null,null,null,null,null,null,null,null,null,null,null,null,null,null,null,null,null,null,null,{"$f":"'Tab NA1'!C147","v":"Eeklo"}]
[null,null,null,null,null,null,null,null,null,null,null,null,null,null,null,null,null,null,null,null,null,null,null,null,null,{"$f":"'Tab NA1'!C148","v":"Eghezée"}]
[null,null,null,null,null,null,null,null,null,null,null,null,null,null,null,null,null,null,null,null,null,null,null,null,null,{"$f":"'Tab NA1'!C149","v":"Ellezelles"}]
[null,null,null,null,null,null,null,null,null,null,null,null,null,null,null,null,null,null,null,null,null,null,null,null,null,{"$f":"'Tab NA1'!C150","v":"Elsene"}]
[null,null,null,null,null,null,null,null,null,null,null,null,null,null,null,null,null,null,null,null,null,null,null,null,null,{"$f":"'Tab NA1'!C151","v":"Enghien"}]
[null,null,null,null,null,null,null,null,null,null,null,null,null,null,null,null,null,null,null,null,null,null,null,null,null,{"$f":"'Tab NA1'!C152","v":"Engis"}]
[null,null,null,null,null,null,null,null,null,null,null,null,null,null,null,null,null,null,null,null,null,null,null,null,null,{"$f":"'Tab NA1'!C153","v":"Erezée"}]
[null,null,null,null,null,null,null,null,null,null,null,null,null,null,null,null,null,null,null,null,null,null,null,null,null,{"$f":"'Tab NA1'!C154","v":"Erpe-Mere"}]
[null,null,null,null,null,null,null,null,null,null,null,null,null,null,null,null,null,null,null,null,null,null,null,null,null,{"$f":"'Tab NA1'!C155","v":"Erquelinnes"}]
[null,null,null,null,null,null,null,null,null,null,null,null,null,null,null,null,null,null,null,null,null,null,null,null,null,{"$f":"'Tab NA1'!C156","v":"Esneux"}]
[null,null,null,null,null,null,null,null,null,null,null,null,null,null,null,null,null,null,null,null,null,null,null,null,null,{"$f":"'Tab NA1'!C157","v":"Essen"}]
[null,null,null,null,null,null,null,null,null,null,null,null,null,null,null,null,null,null,null,null,null,null,null,null,null,{"$f":"'Tab NA1'!C158","v":"Estaimpuis"}]
[null,null,null,null,null,null,null,null,null,null,null,null,null,null,null,null,null,null,null,null,null,null,null,null,null,{"$f":"'Tab NA1'!C159","v":"Estinnes"}]
[null,null,null,null,null,null,null,null,null,null,null,null,null,null,null,null,null,null,null,null,null,null,null,null,null,{"$f":"'Tab NA1'!C160","v":"Etalle"}]
[null,null,null,null,null,null,null,null,null,null,null,null,null,null,null,null,null,null,null,null,null,null,null,null,null,{"$f":"'Tab NA1'!C161","v":"Etterbeek"}]
[null,null,null,null,null,null,null,null,null,null,null,null,null,null,null,null,null,null,null,null,null,null,null,null,null,{"$f":"'Tab NA1'!C162","v":"Eupen"}]
[null,null,null,null,null,null,null,null,null,null,null,null,null,null,null,null,null,null,null,null,null,null,null,null,null,{"$f":"'Tab NA1'!C163","v":"Evere"}]
[null,null,null,null,null,null,null,null,null,null,null,null,null,null,null,null,null,null,null,null,null,null,null,null,null,{"$f":"'Tab NA1'!C164","v":"Evergem"}]
[null,null,null,null,null,null,null,null,null,null,null,null,null,null,null,null,null,null,null,null,null,null,null,null,null,{"$f":"'Tab NA1'!C165","v":"Faimes"}]
[null,null,null,null,null,null,null,null,null,null,null,null,null,null,null,null,null,null,null,null,null,null,null,null,null,{"$f":"'Tab NA1'!C166","v":"Farciennes"}]
[null,null,null,null,null,null,null,null,null,null,null,null,null,null,null,null,null,null,null,null,null,null,null,null,null,{"$f":"'Tab NA1'!C167","v":"Fauvillers"}]
[null,null,null,null,null,null,null,null,null,null,null,null,null,null,null,null,null,null,null,null,null,null,null,null,null,{"$f":"'Tab NA1'!C168","v":"Fernelmont"}]
[null,null,null,null,null,null,null,null,null,null,null,null,null,null,null,null,null,null,null,null,null,null,null,null,null,{"$f":"'Tab NA1'!C169","v":"Ferrières"}]
[null,null,null,null,null,null,null,null,null,null,null,null,null,null,null,null,null,null,null,null,null,null,null,null,null,{"$f":"'Tab NA1'!C170","v":"Fexhe-le-Haut-Clocher"}]
[null,null,null,null,null,null,null,null,null,null,null,null,null,null,null,null,null,null,null,null,null,null,null,null,null,{"$f":"'Tab NA1'!C171","v":"Flémalle"}]
[null,null,null,null,null,null,null,null,null,null,null,null,null,null,null,null,null,null,null,null,null,null,null,null,null,{"$f":"'Tab NA1'!C172","v":"Fléron"}]
[null,null,null,null,null,null,null,null,null,null,null,null,null,null,null,null,null,null,null,null,null,null,null,null,null,{"$f":"'Tab NA1'!C173","v":"Fleurus"}]
[null,null,null,null,null,null,null,null,null,null,null,null,null,null,null,null,null,null,null,null,null,null,null,null,null,{"$f":"'Tab NA1'!C174","v":"Flobecq"}]
[null,null,null,null,null,null,null,null,null,null,null,null,null,null,null,null,null,null,null,null,null,null,null,null,null,{"$f":"'Tab NA1'!C175","v":"Floreffe"}]
[null,null,null,null,null,null,null,null,null,null,null,null,null,null,null,null,null,null,null,null,null,null,null,null,null,{"$f":"'Tab NA1'!C176","v":"Florennes"}]
[null,null,null,null,null,null,null,null,null,null,null,null,null,null,null,null,null,null,null,null,null,null,null,null,null,{"$f":"'Tab NA1'!C177","v":"Florenville"}]
[null,null,null,null,null,null,null,null,null,null,null,null,null,null,null,null,null,null,null,null,null,null,null,null,null,{"$f":"'Tab NA1'!C178","v":"Fontaine-l'Evêque"}]
[null,null,null,null,null,null,null,null,null,null,null,null,null,null,null,null,null,null,null,null,null,null,null,null,null,{"$f":"'Tab NA1'!C179","v":"Forest"}]
[null,null,null,null,null,null,null,null,null,null,null,null,null,null,null,null,null,null,null,null,null,null,null,null,null,{"$f":"'Tab NA1'!C180","v":"Fosses-la-Ville"}]
[null,null,null,null,null,null,null,null,null,null,null,null,null,null,null,null,null,null,null,null,null,null,null,null,null,{"$f":"'Tab NA1'!C181","v":"Frameries"}]
[null,null,null,null,null,null,null,null,null,null,null,null,null,null,null,null,null,null,null,null,null,null,null,null,null,{"$f":"'Tab NA1'!C182","v":"Frasnes-lez-Anvaing"}]
[null,null,null,null,null,null,null,null,null,null,null,null,null,null,null,null,null,null,null,null,null,null,null,null,null,{"$f":"'Tab NA1'!C183","v":"Froidchapelle"}]
[null,null,null,null,null,null,null,null,null,null,null,null,null,null,null,null,null,null,null,null,null,null,null,null,null,{"$f":"'Tab NA1'!C184","v":"Galmaarden"}]
[null,null,null,null,null,null,null,null,null,null,null,null,null,null,null,null,null,null,null,null,null,null,null,null,null,{"$f":"'Tab NA1'!C185","v":"Ganshoren"}]
[null,null,null,null,null,null,null,null,null,null,null,null,null,null,null,null,null,null,null,null,null,null,null,null,null,{"$f":"'Tab NA1'!C186","v":"Gavere"}]
[null,null,null,null,null,null,null,null,null,null,null,null,null,null,null,null,null,null,null,null,null,null,null,null,null,{"$f":"'Tab NA1'!C187","v":"Gedinne"}]
[null,null,null,null,null,null,null,null,null,null,null,null,null,null,null,null,null,null,null,null,null,null,null,null,null,{"$f":"'Tab NA1'!C188","v":"Geel"}]
[null,null,null,null,null,null,null,null,null,null,null,null,null,null,null,null,null,null,null,null,null,null,null,null,null,{"$f":"'Tab NA1'!C189","v":"Geer"}]
[null,null,null,null,null,null,null,null,null,null,null,null,null,null,null,null,null,null,null,null,null,null,null,null,null,{"$f":"'Tab NA1'!C190","v":"Geetbets"}]
[null,null,null,null,null,null,null,null,null,null,null,null,null,null,null,null,null,null,null,null,null,null,null,null,null,{"$f":"'Tab NA1'!C191","v":"Gembloux"}]
[null,null,null,null,null,null,null,null,null,null,null,null,null,null,null,null,null,null,null,null,null,null,null,null,null,{"$f":"'Tab NA1'!C192","v":"Genappe"}]
[null,null,null,null,null,null,null,null,null,null,null,null,null,null,null,null,null,null,null,null,null,null,null,null,null,{"$f":"'Tab NA1'!C193","v":"Genk"}]
[null,null,null,null,null,null,null,null,null,null,null,null,null,null,null,null,null,null,null,null,null,null,null,null,null,{"$f":"'Tab NA1'!C194","v":"Gent"}]
[null,null,null,null,null,null,null,null,null,null,null,null,null,null,null,null,null,null,null,null,null,null,null,null,null,{"$f":"'Tab NA1'!C195","v":"Geraardsbergen"}]
[null,null,null,null,null,null,null,null,null,null,null,null,null,null,null,null,null,null,null,null,null,null,null,null,null,{"$f":"'Tab NA1'!C196","v":"Gerpinnes"}]
[null,null,null,null,null,null,null,null,null,null,null,null,null,null,null,null,null,null,null,null,null,null,null,null,null,{"$f":"'Tab NA1'!C197","v":"Gesves"}]
[null,null,null,null,null,null,null,null,null,null,null,null,null,null,null,null,null,null,null,null,null,null,null,null,null,{"$f":"'Tab NA1'!C198","v":"Gingelom"}]
[null,null,null,null,null,null,null,null,null,null,null,null,null,null,null,null,null,null,null,null,null,null,null,null,null,{"$f":"'Tab NA1'!C199","v":"Gistel"}]
[null,null,null,null,null,null,null,null,null,null,null,null,null,null,null,null,null,null,null,null,null,null,null,null,null,{"$f":"'Tab NA1'!C200","v":"Glabbeek"}]
[null,null,null,null,null,null,null,null,null,null,null,null,null,null,null,null,null,null,null,null,null,null,null,null,null,{"$f":"'Tab NA1'!C201","v":"Gooik"}]
[null,null,null,null,null,null,null,null,null,null,null,null,null,null,null,null,null,null,null,null,null,null,null,null,null,{"$f":"'Tab NA1'!C202","v":"Gouvy"}]
[null,null,null,null,null,null,null,null,null,null,null,null,null,null,null,null,null,null,null,null,null,null,null,null,null,{"$f":"'Tab NA1'!C203","v":"Grâce-Hollogne"}]
[null,null,null,null,null,null,null,null,null,null,null,null,null,null,null,null,null,null,null,null,null,null,null,null,null,{"$f":"'Tab NA1'!C204","v":"Grez-Doiceau"}]
[null,null,null,null,null,null,null,null,null,null,null,null,null,null,null,null,null,null,null,null,null,null,null,null,null,{"$f":"'Tab NA1'!C205","v":"Grimbergen"}]
[null,null,null,null,null,null,null,null,null,null,null,null,null,null,null,null,null,null,null,null,null,null,null,null,null,{"$f":"'Tab NA1'!C206","v":"Grobbendonk"}]
[null,null,null,null,null,null,null,null,null,null,null,null,null,null,null,null,null,null,null,null,null,null,null,null,null,{"$f":"'Tab NA1'!C207","v":"Haacht"}]
[null,null,null,null,null,null,null,null,null,null,null,null,null,null,null,null,null,null,null,null,null,null,null,null,null,{"$f":"'Tab NA1'!C208","v":"Haaltert"}]
[null,null,null,null,null,null,null,null,null,null,null,null,null,null,null,null,null,null,null,null,null,null,null,null,null,{"$f":"'Tab NA1'!C209","v":"Habay"}]
[null,null,null,null,null,null,null,null,null,null,null,null,null,null,null,null,null,null,null,null,null,null,null,null,null,{"$f":"'Tab NA1'!C210","v":"Halen"}]
[null,null,null,null,null,null,null,null,null,null,null,null,null,null,null,null,null,null,null,null,null,null,null,null,null,{"$f":"'Tab NA1'!C211","v":"Halle"}]
[null,null,null,null,null,null,null,null,null,null,null,null,null,null,null,null,null,null,null,null,null,null,null,null,null,{"$f":"'Tab NA1'!C212","v":"Ham"}]
[null,null,null,null,null,null,null,null,null,null,null,null,null,null,null,null,null,null,null,null,null,null,null,null,null,{"$f":"'Tab NA1'!C213","v":"Hamme"}]
[null,null,null,null,null,null,null,null,null,null,null,null,null,null,null,null,null,null,null,null,null,null,null,null,null,{"$f":"'Tab NA1'!C214","v":"Hamoir"}]
[null,null,null,null,null,null,null,null,null,null,null,null,null,null,null,null,null,null,null,null,null,null,null,null,null,{"$f":"'Tab NA1'!C215","v":"Hamois"}]
[null,null,null,null,null,null,null,null,null,null,null,null,null,null,null,null,null,null,null,null,null,null,null,null,null,{"$f":"'Tab NA1'!C216","v":"Hamont-Achel"}]
[null,null,null,null,null,null,null,null,null,null,null,null,null,null,null,null,null,null,null,null,null,null,null,null,null,{"$f":"'Tab NA1'!C217","v":"Ham-sur-Heure-Nalinnes"}]
[null,null,null,null,null,null,null,null,null,null,null,null,null,null,null,null,null,null,null,null,null,null,null,null,null,{"$f":"'Tab NA1'!C218","v":"Hannut"}]
[null,null,null,null,null,null,null,null,null,null,null,null,null,null,null,null,null,null,null,null,null,null,null,null,null,{"$f":"'Tab NA1'!C219","v":"Harelbeke"}]
[null,null,null,null,null,null,null,null,null,null,null,null,null,null,null,null,null,null,null,null,null,null,null,null,null,{"$f":"'Tab NA1'!C220","v":"Hasselt"}]
[null,null,null,null,null,null,null,null,null,null,null,null,null,null,null,null,null,null,null,null,null,null,null,null,null,{"$f":"'Tab NA1'!C221","v":"Hastière"}]
[null,null,null,null,null,null,null,null,null,null,null,null,null,null,null,null,null,null,null,null,null,null,null,null,null,{"$f":"'Tab NA1'!C222","v":"Havelange"}]
[null,null,null,null,null,null,null,null,null,null,null,null,null,null,null,null,null,null,null,null,null,null,null,null,null,{"$f":"'Tab NA1'!C223","v":"Hechtel-Eksel"}]
[null,null,null,null,null,null,null,null,null,null,null,null,null,null,null,null,null,null,null,null,null,null,null,null,null,{"$f":"'Tab NA1'!C224","v":"Heers"}]
[null,null,null,null,null,null,null,null,null,null,null,null,null,null,null,null,null,null,null,null,null,null,null,null,null,{"$f":"'Tab NA1'!C225","v":"Heist-op-den-Berg"}]
[null,null,null,null,null,null,null,null,null,null,null,null,null,null,null,null,null,null,null,null,null,null,null,null,null,{"$f":"'Tab NA1'!C226","v":"Hélécine"}]
[null,null,null,null,null,null,null,null,null,null,null,null,null,null,null,null,null,null,null,null,null,null,null,null,null,{"$f":"'Tab NA1'!C227","v":"Hemiksem"}]
[null,null,null,null,null,null,null,null,null,null,null,null,null,null,null,null,null,null,null,null,null,null,null,null,null,{"$f":"'Tab NA1'!C228","v":"Hensies"}]
[null,null,null,null,null,null,null,null,null,null,null,null,null,null,null,null,null,null,null,null,null,null,null,null,null,{"$f":"'Tab NA1'!C229","v":"Herbeumont"}]
[null,null,null,null,null,null,null,null,null,null,null,null,null,null,null,null,null,null,null,null,null,null,null,null,null,{"$f":"'Tab NA1'!C230","v":"Herent"}]
[null,null,null,null,null,null,null,null,null,null,null,null,null,null,null,null,null,null,null,null,null,null,null,null,null,{"$f":"'Tab NA1'!C231","v":"Herentals"}]
[null,null,null,null,null,null,null,null,null,null,null,null,null,null,null,null,null,null,null,null,null,null,null,null,null,{"$f":"'Tab NA1'!C232","v":"Herenthout"}]
[null,null,null,null,null,null,null,null,null,null,null,null,null,null,null,null,null,null,null,null,null,null,null,null,null,{"$f":"'Tab NA1'!C233","v":"Herk-de-Stad"}]
[null,null,null,null,null,null,null,null,null,null,null,null,null,null,null,null,null,null,null,null,null,null,null,null,null,{"$f":"'Tab NA1'!C234","v":"Herne"}]
[null,null,null,null,null,null,null,null,null,null,null,null,null,null,null,null,null,null,null,null,null,null,null,null,null,{"$f":"'Tab NA1'!C235","v":"Héron"}]
[null,null,null,null,null,null,null,null,null,null,null,null,null,null,null,null,null,null,null,null,null,null,null,null,null,{"$f":"'Tab NA1'!C236","v":"Herselt"}]
[null,null,null,null,null,null,null,null,null,null,null,null,null,null,null,null,null,null,null,null,null,null,null,null,null,{"$f":"'Tab NA1'!C237","v":"Herstal"}]
[null,null,null,null,null,null,null,null,null,null,null,null,null,null,null,null,null,null,null,null,null,null,null,null,null,{"$f":"'Tab NA1'!C238","v":"Herstappe"}]
[null,null,null,null,null,null,null,null,null,null,null,null,null,null,null,null,null,null,null,null,null,null,null,null,null,{"$f":"'Tab NA1'!C239","v":"Herve"}]
[null,null,null,null,null,null,null,null,null,null,null,null,null,null,null,null,null,null,null,null,null,null,null,null,null,{"$f":"'Tab NA1'!C240","v":"Herzele"}]
[null,null,null,null,null,null,null,null,null,null,null,null,null,null,null,null,null,null,null,null,null,null,null,null,null,{"$f":"'Tab NA1'!C241","v":"Heusden-Zolder"}]
[null,null,null,null,null,null,null,null,null,null,null,null,null,null,null,null,null,null,null,null,null,null,null,null,null,{"$f":"'Tab NA1'!C242","v":"Heuvelland"}]
[null,null,null,null,null,null,null,null,null,null,null,null,null,null,null,null,null,null,null,null,null,null,null,null,null,{"$f":"'Tab NA1'!C243","v":"Hoegaarden"}]
[null,null,null,null,null,null,null,null,null,null,null,null,null,null,null,null,null,null,null,null,null,null,null,null,null,{"$f":"'Tab NA1'!C244","v":"Hoeilaart"}]
[null,null,null,null,null,null,null,null,null,null,null,null,null,null,null,null,null,null,null,null,null,null,null,null,null,{"$f":"'Tab NA1'!C245","v":"Hoeselt"}]
[null,null,null,null,null,null,null,null,null,null,null,null,null,null,null,null,null,null,null,null,null,null,null,null,null,{"$f":"'Tab NA1'!C246","v":"Holsbeek"}]
[null,null,null,null,null,null,null,null,null,null,null,null,null,null,null,null,null,null,null,null,null,null,null,null,null,{"$f":"'Tab NA1'!C247","v":"Honnelles"}]
[null,null,null,null,null,null,null,null,null,null,null,null,null,null,null,null,null,null,null,null,null,null,null,null,null,{"$f":"'Tab NA1'!C248","v":"Hooglede"}]
[null,null,null,null,null,null,null,null,null,null,null,null,null,null,null,null,null,null,null,null,null,null,null,null,null,{"$f":"'Tab NA1'!C249","v":"Hoogstraten"}]
[null,null,null,null,null,null,null,null,null,null,null,null,null,null,null,null,null,null,null,null,null,null,null,null,null,{"$f":"'Tab NA1'!C250","v":"Horebeke"}]
[null,null,null,null,null,null,null,null,null,null,null,null,null,null,null,null,null,null,null,null,null,null,null,null,null,{"$f":"'Tab NA1'!C251","v":"Hotton"}]
[null,null,null,null,null,null,null,null,null,null,null,null,null,null,null,null,null,null,null,null,null,null,null,null,null,{"$f":"'Tab NA1'!C252","v":"Houffalize"}]
[null,null,null,null,null,null,null,null,null,null,null,null,null,null,null,null,null,null,null,null,null,null,null,null,null,{"$f":"'Tab NA1'!C253","v":"Houthalen-Helchteren"}]
[null,null,null,null,null,null,null,null,null,null,null,null,null,null,null,null,null,null,null,null,null,null,null,null,null,{"$f":"'Tab NA1'!C254","v":"Houthulst"}]
[null,null,null,null,null,null,null,null,null,null,null,null,null,null,null,null,null,null,null,null,null,null,null,null,null,{"$f":"'Tab NA1'!C255","v":"Houyet"}]
[null,null,null,null,null,null,null,null,null,null,null,null,null,null,null,null,null,null,null,null,null,null,null,null,null,{"$f":"'Tab NA1'!C256","v":"Hove"}]
[null,null,null,null,null,null,null,null,null,null,null,null,null,null,null,null,null,null,null,null,null,null,null,null,null,{"$f":"'Tab NA1'!C257","v":"Huldenberg"}]
[null,null,null,null,null,null,null,null,null,null,null,null,null,null,null,null,null,null,null,null,null,null,null,null,null,{"$f":"'Tab NA1'!C258","v":"Hulshout"}]
[null,null,null,null,null,null,null,null,null,null,null,null,null,null,null,null,null,null,null,null,null,null,null,null,null,{"$f":"'Tab NA1'!C259","v":"Huy"}]
[null,null,null,null,null,null,null,null,null,null,null,null,null,null,null,null,null,null,null,null,null,null,null,null,null,{"$f":"'Tab NA1'!C260","v":"Ichtegem"}]
[null,null,null,null,null,null,null,null,null,null,null,null,null,null,null,null,null,null,null,null,null,null,null,null,null,{"$f":"'Tab NA1'!C261","v":"Ieper"}]
[null,null,null,null,null,null,null,null,null,null,null,null,null,null,null,null,null,null,null,null,null,null,null,null,null,{"$f":"'Tab NA1'!C262","v":"Incourt"}]
[null,null,null,null,null,null,null,null,null,null,null,null,null,null,null,null,null,null,null,null,null,null,null,null,null,{"$f":"'Tab NA1'!C263","v":"Ingelmunster"}]
[null,null,null,null,null,null,null,null,null,null,null,null,null,null,null,null,null,null,null,null,null,null,null,null,null,{"$f":"'Tab NA1'!C264","v":"Ittre"}]
[null,null,null,null,null,null,null,null,null,null,null,null,null,null,null,null,null,null,null,null,null,null,null,null,null,{"$f":"'Tab NA1'!C265","v":"Ixelles"}]
[null,null,null,null,null,null,null,null,null,null,null,null,null,null,null,null,null,null,null,null,null,null,null,null,null,{"$f":"'Tab NA1'!C266","v":"Izegem"}]
[null,null,null,null,null,null,null,null,null,null,null,null,null,null,null,null,null,null,null,null,null,null,null,null,null,{"$f":"'Tab NA1'!C267","v":"Jabbeke"}]
[null,null,null,null,null,null,null,null,null,null,null,null,null,null,null,null,null,null,null,null,null,null,null,null,null,{"$f":"'Tab NA1'!C268","v":"Jalhay"}]
[null,null,null,null,null,null,null,null,null,null,null,null,null,null,null,null,null,null,null,null,null,null,null,null,null,{"$f":"'Tab NA1'!C269","v":"Jemeppe-sur-Sambre"}]
[null,null,null,null,null,null,null,null,null,null,null,null,null,null,null,null,null,null,null,null,null,null,null,null,null,{"$f":"'Tab NA1'!C270","v":"Jette"}]
[null,null,null,null,null,null,null,null,null,null,null,null,null,null,null,null,null,null,null,null,null,null,null,null,null,{"$f":"'Tab NA1'!C271","v":"Jodoigne"}]
[null,null,null,null,null,null,null,null,null,null,null,null,null,null,null,null,null,null,null,null,null,null,null,null,null,{"$f":"'Tab NA1'!C272","v":"Juprelle"}]
[null,null,null,null,null,null,null,null,null,null,null,null,null,null,null,null,null,null,null,null,null,null,null,null,null,{"$f":"'Tab NA1'!C273","v":"Jurbise"}]
[null,null,null,null,null,null,null,null,null,null,null,null,null,null,null,null,null,null,null,null,null,null,null,null,null,{"$f":"'Tab NA1'!C274","v":"Kalmthout"}]
[null,null,null,null,null,null,null,null,null,null,null,null,null,null,null,null,null,null,null,null,null,null,null,null,null,{"$f":"'Tab NA1'!C275","v":"Kampenhout"}]
[null,null,null,null,null,null,null,null,null,null,null,null,null,null,null,null,null,null,null,null,null,null,null,null,null,{"$f":"'Tab NA1'!C276","v":"Kapellen"}]
[null,null,null,null,null,null,null,null,null,null,null,null,null,null,null,null,null,null,null,null,null,null,null,null,null,{"$f":"'Tab NA1'!C277","v":"Kapelle-op-den-Bos"}]
[null,null,null,null,null,null,null,null,null,null,null,null,null,null,null,null,null,null,null,null,null,null,null,null,null,{"$f":"'Tab NA1'!C278","v":"Kaprijke"}]
[null,null,null,null,null,null,null,null,null,null,null,null,null,null,null,null,null,null,null,null,null,null,null,null,null,{"$f":"'Tab NA1'!C279","v":"Kasterlee"}]
[null,null,null,null,null,null,null,null,null,null,null,null,null,null,null,null,null,null,null,null,null,null,null,null,null,{"$f":"'Tab NA1'!C280","v":"Keerbergen"}]
[null,null,null,null,null,null,null,null,null,null,null,null,null,null,null,null,null,null,null,null,null,null,null,null,null,{"$f":"'Tab NA1'!C281","v":"Kelmis"}]
[null,null,null,null,null,null,null,null,null,null,null,null,null,null,null,null,null,null,null,null,null,null,null,null,null,{"$f":"'Tab NA1'!C282","v":"Kinrooi"}]
[null,null,null,null,null,null,null,null,null,null,null,null,null,null,null,null,null,null,null,null,null,null,null,null,null,{"$f":"'Tab NA1'!C283","v":"Kluisbergen"}]
[null,null,null,null,null,null,null,null,null,null,null,null,null,null,null,null,null,null,null,null,null,null,null,null,null,{"$f":"'Tab NA1'!C284","v":"Knesselare"}]
[null,null,null,null,null,null,null,null,null,null,null,null,null,null,null,null,null,null,null,null,null,null,null,null,null,{"$f":"'Tab NA1'!C285","v":"Knokke-Heist"}]
[null,null,null,null,null,null,null,null,null,null,null,null,null,null,null,null,null,null,null,null,null,null,null,null,null,{"$f":"'Tab NA1'!C286","v":"Koekelare"}]
[null,null,null,null,null,null,null,null,null,null,null,null,null,null,null,null,null,null,null,null,null,null,null,null,null,{"$f":"'Tab NA1'!C287","v":"Koekelberg"}]
[null,null,null,null,null,null,null,null,null,null,null,null,null,null,null,null,null,null,null,null,null,null,null,null,null,{"$f":"'Tab NA1'!C288","v":"Koksijde"}]
[null,null,null,null,null,null,null,null,null,null,null,null,null,null,null,null,null,null,null,null,null,null,null,null,null,{"$f":"'Tab NA1'!C289","v":"Kontich"}]
[null,null,null,null,null,null,null,null,null,null,null,null,null,null,null,null,null,null,null,null,null,null,null,null,null,{"$f":"'Tab NA1'!C290","v":"Kortemark"}]
[null,null,null,null,null,null,null,null,null,null,null,null,null,null,null,null,null,null,null,null,null,null,null,null,null,{"$f":"'Tab NA1'!C291","v":"Kortenaken"}]
[null,null,null,null,null,null,null,null,null,null,null,null,null,null,null,null,null,null,null,null,null,null,null,null,null,{"$f":"'Tab NA1'!C292","v":"Kortenberg"}]
[null,null,null,null,null,null,null,null,null,null,null,null,null,null,null,null,null,null,null,null,null,null,null,null,null,{"$f":"'Tab NA1'!C293","v":"Kortessem"}]
[null,null,null,null,null,null,null,null,null,null,null,null,null,null,null,null,null,null,null,null,null,null,null,null,null,{"$f":"'Tab NA1'!C294","v":"Kortrijk"}]
[null,null,null,null,null,null,null,null,null,null,null,null,null,null,null,null,null,null,null,null,null,null,null,null,null,{"$f":"'Tab NA1'!C295","v":"Kraainem"}]
[null,null,null,null,null,null,null,null,null,null,null,null,null,null,null,null,null,null,null,null,null,null,null,null,null,{"$f":"'Tab NA1'!C296","v":"Kruibeke"}]
[null,null,null,null,null,null,null,null,null,null,null,null,null,null,null,null,null,null,null,null,null,null,null,null,null,{"$f":"'Tab NA1'!C297","v":"Kruishoutem"}]
[null,null,null,null,null,null,null,null,null,null,null,null,null,null,null,null,null,null,null,null,null,null,null,null,null,{"$f":"'Tab NA1'!C298","v":"Kuurne"}]
[null,null,null,null,null,null,null,null,null,null,null,null,null,null,null,null,null,null,null,null,null,null,null,null,null,{"$f":"'Tab NA1'!C299","v":"La Bruyère"}]
[null,null,null,null,null,null,null,null,null,null,null,null,null,null,null,null,null,null,null,null,null,null,null,null,null,{"$f":"'Tab NA1'!C300","v":"La Hulpe"}]
[null,null,null,null,null,null,null,null,null,null,null,null,null,null,null,null,null,null,null,null,null,null,null,null,null,{"$f":"'Tab NA1'!C301","v":"La Louvière"}]
[null,null,null,null,null,null,null,null,null,null,null,null,null,null,null,null,null,null,null,null,null,null,null,null,null,{"$f":"'Tab NA1'!C302","v":"La Roche-en-Ardenne"}]
[null,null,null,null,null,null,null,null,null,null,null,null,null,null,null,null,null,null,null,null,null,null,null,null,null,{"$f":"'Tab NA1'!C303","v":"Laakdal"}]
[null,null,null,null,null,null,null,null,null,null,null,null,null,null,null,null,null,null,null,null,null,null,null,null,null,{"$f":"'Tab NA1'!C304","v":"Laarne"}]
[null,null,null,null,null,null,null,null,null,null,null,null,null,null,null,null,null,null,null,null,null,null,null,null,null,{"$f":"'Tab NA1'!C305","v":"Lanaken"}]
[null,null,null,null,null,null,null,null,null,null,null,null,null,null,null,null,null,null,null,null,null,null,null,null,null,{"$f":"'Tab NA1'!C306","v":"Landen"}]
[null,null,null,null,null,null,null,null,null,null,null,null,null,null,null,null,null,null,null,null,null,null,null,null,null,{"$f":"'Tab NA1'!C307","v":"Langemark-Poelkapelle"}]
[null,null,null,null,null,null,null,null,null,null,null,null,null,null,null,null,null,null,null,null,null,null,null,null,null,{"$f":"'Tab NA1'!C308","v":"Lasne"}]
[null,null,null,null,null,null,null,null,null,null,null,null,null,null,null,null,null,null,null,null,null,null,null,null,null,{"$f":"'Tab NA1'!C309","v":"Le Roeulx"}]
[null,null,null,null,null,null,null,null,null,null,null,null,null,null,null,null,null,null,null,null,null,null,null,null,null,{"$f":"'Tab NA1'!C310","v":"Lebbeke"}]
[null,null,null,null,null,null,null,null,null,null,null,null,null,null,null,null,null,null,null,null,null,null,null,null,null,{"$f":"'Tab NA1'!C311","v":"Lede"}]
[null,null,null,null,null,null,null,null,null,null,null,null,null,null,null,null,null,null,null,null,null,null,null,null,null,{"$f":"'Tab NA1'!C312","v":"Ledegem"}]
[null,null,null,null,null,null,null,null,null,null,null,null,null,null,null,null,null,null,null,null,null,null,null,null,null,{"$f":"'Tab NA1'!C313","v":"Léglise"}]
[null,null,null,null,null,null,null,null,null,null,null,null,null,null,null,null,null,null,null,null,null,null,null,null,null,{"$f":"'Tab NA1'!C314","v":"Lendelede"}]
[null,null,null,null,null,null,null,null,null,null,null,null,null,null,null,null,null,null,null,null,null,null,null,null,null,{"$f":"'Tab NA1'!C315","v":"Lennik"}]
[null,null,null,null,null,null,null,null,null,null,null,null,null,null,null,null,null,null,null,null,null,null,null,null,null,{"$f":"'Tab NA1'!C316","v":"Lens"}]
[null,null,null,null,null,null,null,null,null,null,null,null,null,null,null,null,null,null,null,null,null,null,null,null,null,{"$f":"'Tab NA1'!C317","v":"Leopoldsburg"}]
[null,null,null,null,null,null,null,null,null,null,null,null,null,null,null,null,null,null,null,null,null,null,null,null,null,{"$f":"'Tab NA1'!C318","v":"Les Bons Villers"}]
[null,null,null,null,null,null,null,null,null,null,null,null,null,null,null,null,null,null,null,null,null,null,null,null,null,{"$f":"'Tab NA1'!C319","v":"Lessines"}]
[null,null,null,null,null,null,null,null,null,null,null,null,null,null,null,null,null,null,null,null,null,null,null,null,null,{"$f":"'Tab NA1'!C320","v":"Leuven"}]
[null,null,null,null,null,null,null,null,null,null,null,null,null,null,null,null,null,null,null,null,null,null,null,null,null,{"$f":"'Tab NA1'!C321","v":"Leuze-en-Hainaut"}]
[null,null,null,null,null,null,null,null,null,null,null,null,null,null,null,null,null,null,null,null,null,null,null,null,null,{"$f":"'Tab NA1'!C322","v":"Libin"}]
[null,null,null,null,null,null,null,null,null,null,null,null,null,null,null,null,null,null,null,null,null,null,null,null,null,{"$f":"'Tab NA1'!C323","v":"Libramont-Chevigny"}]
[null,null,null,null,null,null,null,null,null,null,null,null,null,null,null,null,null,null,null,null,null,null,null,null,null,{"$f":"'Tab NA1'!C324","v":"Lichtervelde"}]
[null,null,null,null,null,null,null,null,null,null,null,null,null,null,null,null,null,null,null,null,null,null,null,null,null,{"$f":"'Tab NA1'!C325","v":"Liedekerke"}]
[null,null,null,null,null,null,null,null,null,null,null,null,null,null,null,null,null,null,null,null,null,null,null,null,null,{"$f":"'Tab NA1'!C326","v":"Liège"}]
[null,null,null,null,null,null,null,null,null,null,null,null,null,null,null,null,null,null,null,null,null,null,null,null,null,{"$f":"'Tab NA1'!C327","v":"Lier"}]
[null,null,null,null,null,null,null,null,null,null,null,null,null,null,null,null,null,null,null,null,null,null,null,null,null,{"$f":"'Tab NA1'!C328","v":"Lierde"}]
[null,null,null,null,null,null,null,null,null,null,null,null,null,null,null,null,null,null,null,null,null,null,null,null,null,{"$f":"'Tab NA1'!C329","v":"Lierneux"}]
[null,null,null,null,null,null,null,null,null,null,null,null,null,null,null,null,null,null,null,null,null,null,null,null,null,{"$f":"'Tab NA1'!C330","v":"Lille"}]
[null,null,null,null,null,null,null,null,null,null,null,null,null,null,null,null,null,null,null,null,null,null,null,null,null,{"$f":"'Tab NA1'!C331","v":"Limbourg"}]
[null,null,null,null,null,null,null,null,null,null,null,null,null,null,null,null,null,null,null,null,null,null,null,null,null,{"$f":"'Tab NA1'!C332","v":"Lincent"}]
[null,null,null,null,null,null,null,null,null,null,null,null,null,null,null,null,null,null,null,null,null,null,null,null,null,{"$f":"'Tab NA1'!C333","v":"Linkebeek"}]
[null,null,null,null,null,null,null,null,null,null,null,null,null,null,null,null,null,null,null,null,null,null,null,null,null,{"$f":"'Tab NA1'!C334","v":"Lint"}]
[null,null,null,null,null,null,null,null,null,null,null,null,null,null,null,null,null,null,null,null,null,null,null,null,null,{"$f":"'Tab NA1'!C335","v":"Linter"}]
[null,null,null,null,null,null,null,null,null,null,null,null,null,null,null,null,null,null,null,null,null,null,null,null,null,{"$f":"'Tab NA1'!C336","v":"Lobbes"}]
[null,null,null,null,null,null,null,null,null,null,null,null,null,null,null,null,null,null,null,null,null,null,null,null,null,{"$f":"'Tab NA1'!C337","v":"Lochristi"}]
[null,null,null,null,null,null,null,null,null,null,null,null,null,null,null,null,null,null,null,null,null,null,null,null,null,{"$f":"'Tab NA1'!C338","v":"Lokeren"}]
[null,null,null,null,null,null,null,null,null,null,null,null,null,null,null,null,null,null,null,null,null,null,null,null,null,{"$f":"'Tab NA1'!C339","v":"Lommel"}]
[null,null,null,null,null,null,null,null,null,null,null,null,null,null,null,null,null,null,null,null,null,null,null,null,null,{"$f":"'Tab NA1'!C340","v":"Londerzeel"}]
[null,null,null,null,null,null,null,null,null,null,null,null,null,null,null,null,null,null,null,null,null,null,null,null,null,{"$f":"'Tab NA1'!C341","v":"Lontzen"}]
[null,null,null,null,null,null,null,null,null,null,null,null,null,null,null,null,null,null,null,null,null,null,null,null,null,{"$f":"'Tab NA1'!C342","v":"Lo-Reninge"}]
[null,null,null,null,null,null,null,null,null,null,null,null,null,null,null,null,null,null,null,null,null,null,null,null,null,{"$f":"'Tab NA1'!C343","v":"Lovendegem"}]
[null,null,null,null,null,null,null,null,null,null,null,null,null,null,null,null,null,null,null,null,null,null,null,null,null,{"$f":"'Tab NA1'!C344","v":"Lubbeek"}]
[null,null,null,null,null,null,null,null,null,null,null,null,null,null,null,null,null,null,null,null,null,null,null,null,null,{"$f":"'Tab NA1'!C345","v":"Lummen"}]
[null,null,null,null,null,null,null,null,null,null,null,null,null,null,null,null,null,null,null,null,null,null,null,null,null,{"$f":"'Tab NA1'!C346","v":"Maarkedal"}]
[null,null,null,null,null,null,null,null,null,null,null,null,null,null,null,null,null,null,null,null,null,null,null,null,null,{"$f":"'Tab NA1'!C347","v":"Maaseik"}]
[null,null,null,null,null,null,null,null,null,null,null,null,null,null,null,null,null,null,null,null,null,null,null,null,null,{"$f":"'Tab NA1'!C348","v":"Maasmechelen"}]
[null,null,null,null,null,null,null,null,null,null,null,null,null,null,null,null,null,null,null,null,null,null,null,null,null,{"$f":"'Tab NA1'!C349","v":"Machelen"}]
[null,null,null,null,null,null,null,null,null,null,null,null,null,null,null,null,null,null,null,null,null,null,null,null,null,{"$f":"'Tab NA1'!C350","v":"Maldegem"}]
[null,null,null,null,null,null,null,null,null,null,null,null,null,null,null,null,null,null,null,null,null,null,null,null,null,{"$f":"'Tab NA1'!C351","v":"Malle"}]
[null,null,null,null,null,null,null,null,null,null,null,null,null,null,null,null,null,null,null,null,null,null,null,null,null,{"$f":"'Tab NA1'!C352","v":"Malmedy"}]
[null,null,null,null,null,null,null,null,null,null,null,null,null,null,null,null,null,null,null,null,null,null,null,null,null,{"$f":"'Tab NA1'!C353","v":"Manage"}]
[null,null,null,null,null,null,null,null,null,null,null,null,null,null,null,null,null,null,null,null,null,null,null,null,null,{"$f":"'Tab NA1'!C354","v":"Manhay"}]
[null,null,null,null,null,null,null,null,null,null,null,null,null,null,null,null,null,null,null,null,null,null,null,null,null,{"$f":"'Tab NA1'!C355","v":"Marche-en-Famenne"}]
[null,null,null,null,null,null,null,null,null,null,null,null,null,null,null,null,null,null,null,null,null,null,null,null,null,{"$f":"'Tab NA1'!C356","v":"Marchin"}]
[null,null,null,null,null,null,null,null,null,null,null,null,null,null,null,null,null,null,null,null,null,null,null,null,null,{"$f":"'Tab NA1'!C357","v":"Martelange"}]
[null,null,null,null,null,null,null,null,null,null,null,null,null,null,null,null,null,null,null,null,null,null,null,null,null,{"$f":"'Tab NA1'!C358","v":"Mechelen"}]
[null,null,null,null,null,null,null,null,null,null,null,null,null,null,null,null,null,null,null,null,null,null,null,null,null,{"$f":"'Tab NA1'!C359","v":"Meerhout"}]
[null,null,null,null,null,null,null,null,null,null,null,null,null,null,null,null,null,null,null,null,null,null,null,null,null,{"$f":"'Tab NA1'!C360","v":"Meeuwen-Gruitrode"}]
[null,null,null,null,null,null,null,null,null,null,null,null,null,null,null,null,null,null,null,null,null,null,null,null,null,{"$f":"'Tab NA1'!C361","v":"Meise"}]
[null,null,null,null,null,null,null,null,null,null,null,null,null,null,null,null,null,null,null,null,null,null,null,null,null,{"$f":"'Tab NA1'!C362","v":"Meix-devant-Virton"}]
[null,null,null,null,null,null,null,null,null,null,null,null,null,null,null,null,null,null,null,null,null,null,null,null,null,{"$f":"'Tab NA1'!C363","v":"Melle"}]
[null,null,null,null,null,null,null,null,null,null,null,null,null,null,null,null,null,null,null,null,null,null,null,null,null,{"$f":"'Tab NA1'!C364","v":"Menen"}]
[null,null,null,null,null,null,null,null,null,null,null,null,null,null,null,null,null,null,null,null,null,null,null,null,null,{"$f":"'Tab NA1'!C365","v":"Merbes-le-Château"}]
[null,null,null,null,null,null,null,null,null,null,null,null,null,null,null,null,null,null,null,null,null,null,null,null,null,{"$f":"'Tab NA1'!C366","v":"Merchtem"}]
[null,null,null,null,null,null,null,null,null,null,null,null,null,null,null,null,null,null,null,null,null,null,null,null,null,{"$f":"'Tab NA1'!C367","v":"Merelbeke"}]
[null,null,null,null,null,null,null,null,null,null,null,null,null,null,null,null,null,null,null,null,null,null,null,null,null,{"$f":"'Tab NA1'!C368","v":"Merksplas"}]
[null,null,null,null,null,null,null,null,null,null,null,null,null,null,null,null,null,null,null,null,null,null,null,null,null,{"$f":"'Tab NA1'!C369","v":"Mesen"}]
[null,null,null,null,null,null,null,null,null,null,null,null,null,null,null,null,null,null,null,null,null,null,null,null,null,{"$f":"'Tab NA1'!C370","v":"Messancy"}]
[null,null,null,null,null,null,null,null,null,null,null,null,null,null,null,null,null,null,null,null,null,null,null,null,null,{"$f":"'Tab NA1'!C371","v":"Mettet"}]
[null,null,null,null,null,null,null,null,null,null,null,null,null,null,null,null,null,null,null,null,null,null,null,null,null,{"$f":"'Tab NA1'!C372","v":"Meulebeke"}]
[null,null,null,null,null,null,null,null,null,null,null,null,null,null,null,null,null,null,null,null,null,null,null,null,null,{"$f":"'Tab NA1'!C373","v":"Middelkerke"}]
[null,null,null,null,null,null,null,null,null,null,null,null,null,null,null,null,null,null,null,null,null,null,null,null,null,{"$f":"'Tab NA1'!C374","v":"Modave"}]
[null,null,null,null,null,null,null,null,null,null,null,null,null,null,null,null,null,null,null,null,null,null,null,null,null,{"$f":"'Tab NA1'!C375","v":"Moerbeke"}]
[null,null,null,null,null,null,null,null,null,null,null,null,null,null,null,null,null,null,null,null,null,null,null,null,null,{"$f":"'Tab NA1'!C376","v":"Mol"}]
[null,null,null,null,null,null,null,null,null,null,null,null,null,null,null,null,null,null,null,null,null,null,null,null,null,{"$f":"'Tab NA1'!C377","v":"Molenbeek-Saint-Jean"}]
[null,null,null,null,null,null,null,null,null,null,null,null,null,null,null,null,null,null,null,null,null,null,null,null,null,{"$f":"'Tab NA1'!C378","v":"Momignies"}]
[null,null,null,null,null,null,null,null,null,null,null,null,null,null,null,null,null,null,null,null,null,null,null,null,null,{"$f":"'Tab NA1'!C379","v":"Mons"}]
[null,null,null,null,null,null,null,null,null,null,null,null,null,null,null,null,null,null,null,null,null,null,null,null,null,{"$f":"'Tab NA1'!C380","v":"Mont-de-l'Enclus"}]
[null,null,null,null,null,null,null,null,null,null,null,null,null,null,null,null,null,null,null,null,null,null,null,null,null,{"$f":"'Tab NA1'!C381","v":"Montigny-le-Tilleul"}]
[null,null,null,null,null,null,null,null,null,null,null,null,null,null,null,null,null,null,null,null,null,null,null,null,null,{"$f":"'Tab NA1'!C382","v":"Mont-Saint-Guibert"}]
[null,null,null,null,null,null,null,null,null,null,null,null,null,null,null,null,null,null,null,null,null,null,null,null,null,{"$f":"'Tab NA1'!C383","v":"Moorslede"}]
[null,null,null,null,null,null,null,null,null,null,null,null,null,null,null,null,null,null,null,null,null,null,null,null,null,{"$f":"'Tab NA1'!C384","v":"Morlanwelz"}]
[null,null,null,null,null,null,null,null,null,null,null,null,null,null,null,null,null,null,null,null,null,null,null,null,null,{"$f":"'Tab NA1'!C385","v":"Mortsel"}]
[null,null,null,null,null,null,null,null,null,null,null,null,null,null,null,null,null,null,null,null,null,null,null,null,null,{"$f":"'Tab NA1'!C386","v":"Mouscron"}]
[null,null,null,null,null,null,null,null,null,null,null,null,null,null,null,null,null,null,null,null,null,null,null,null,null,{"$f":"'Tab NA1'!C387","v":"Musson"}]
[null,null,null,null,null,null,null,null,null,null,null,null,null,null,null,null,null,null,null,null,null,null,null,null,null,{"$f":"'Tab NA1'!C388","v":"Namur"}]
[null,null,null,null,null,null,null,null,null,null,null,null,null,null,null,null,null,null,null,null,null,null,null,null,null,{"$f":"'Tab NA1'!C389","v":"Nandrin"}]
[null,null,null,null,null,null,null,null,null,null,null,null,null,null,null,null,null,null,null,null,null,null,null,null,null,{"$f":"'Tab NA1'!C390","v":"Nassogne"}]
[null,null,null,null,null,null,null,null,null,null,null,null,null,null,null,null,null,null,null,null,null,null,null,null,null,{"$f":"'Tab NA1'!C391","v":"Nazareth"}]
[null,null,null,null,null,null,null,null,null,null,null,null,null,null,null,null,null,null,null,null,null,null,null,null,null,{"$f":"'Tab NA1'!C392","v":"Neerpelt"}]
[null,null,null,null,null,null,null,null,null,null,null,null,null,null,null,null,null,null,null,null,null,null,null,null,null,{"$f":"'Tab NA1'!C393","v":"Neufchâteau"}]
[null,null,null,null,null,null,null,null,null,null,null,null,null,null,null,null,null,null,null,null,null,null,null,null,null,{"$f":"'Tab NA1'!C394","v":"Neupré"}]
[null,null,null,null,null,null,null,null,null,null,null,null,null,null,null,null,null,null,null,null,null,null,null,null,null,{"$f":"'Tab NA1'!C395","v":"Nevele"}]
[null,null,null,null,null,null,null,null,null,null,null,null,null,null,null,null,null,null,null,null,null,null,null,null,null,{"$f":"'Tab NA1'!C396","v":"Niel"}]
[null,null,null,null,null,null,null,null,null,null,null,null,null,null,null,null,null,null,null,null,null,null,null,null,null,{"$f":"'Tab NA1'!C397","v":"Nieuwerkerken"}]
[null,null,null,null,null,null,null,null,null,null,null,null,null,null,null,null,null,null,null,null,null,null,null,null,null,{"$f":"'Tab NA1'!C398","v":"Nieuwpoort"}]
[null,null,null,null,null,null,null,null,null,null,null,null,null,null,null,null,null,null,null,null,null,null,null,null,null,{"$f":"'Tab NA1'!C399","v":"Nijlen"}]
[null,null,null,null,null,null,null,null,null,null,null,null,null,null,null,null,null,null,null,null,null,null,null,null,null,{"$f":"'Tab NA1'!C400","v":"Ninove"}]
[null,null,null,null,null,null,null,null,null,null,null,null,null,null,null,null,null,null,null,null,null,null,null,null,null,{"$f":"'Tab NA1'!C401","v":"Nivelles"}]
[null,null,null,null,null,null,null,null,null,null,null,null,null,null,null,null,null,null,null,null,null,null,null,null,null,{"$f":"'Tab NA1'!C402","v":"Ohey"}]
[null,null,null,null,null,null,null,null,null,null,null,null,null,null,null,null,null,null,null,null,null,null,null,null,null,{"$f":"'Tab NA1'!C403","v":"Olen"}]
[null,null,null,null,null,null,null,null,null,null,null,null,null,null,null,null,null,null,null,null,null,null,null,null,null,{"$f":"'Tab NA1'!C404","v":"Olne"}]
[null,null,null,null,null,null,null,null,null,null,null,null,null,null,null,null,null,null,null,null,null,null,null,null,null,{"$f":"'Tab NA1'!C405","v":"Onhaye"}]
[null,null,null,null,null,null,null,null,null,null,null,null,null,null,null,null,null,null,null,null,null,null,null,null,null,{"$f":"'Tab NA1'!C406","v":"Oostende"}]
[null,null,null,null,null,null,null,null,null,null,null,null,null,null,null,null,null,null,null,null,null,null,null,null,null,{"$f":"'Tab NA1'!C407","v":"Oosterzele"}]
[null,null,null,null,null,null,null,null,null,null,null,null,null,null,null,null,null,null,null,null,null,null,null,null,null,{"$f":"'Tab NA1'!C408","v":"Oostkamp"}]
[null,null,null,null,null,null,null,null,null,null,null,null,null,null,null,null,null,null,null,null,null,null,null,null,null,{"$f":"'Tab NA1'!C409","v":"Oostrozebeke"}]
[null,null,null,null,null,null,null,null,null,null,null,null,null,null,null,null,null,null,null,null,null,null,null,null,null,{"$f":"'Tab NA1'!C410","v":"Opglabbeek"}]
[null,null,null,null,null,null,null,null,null,null,null,null,null,null,null,null,null,null,null,null,null,null,null,null,null,{"$f":"'Tab NA1'!C411","v":"Opwijk"}]
[null,null,null,null,null,null,null,null,null,null,null,null,null,null,null,null,null,null,null,null,null,null,null,null,null,{"$f":"'Tab NA1'!C412","v":"Oreye"}]
[null,null,null,null,null,null,null,null,null,null,null,null,null,null,null,null,null,null,null,null,null,null,null,null,null,{"$f":"'Tab NA1'!C413","v":"Orp-Jauche"}]
[null,null,null,null,null,null,null,null,null,null,null,null,null,null,null,null,null,null,null,null,null,null,null,null,null,{"$f":"'Tab NA1'!C414","v":"Ottignies-Louvain-la-Neuve"}]
[null,null,null,null,null,null,null,null,null,null,null,null,null,null,null,null,null,null,null,null,null,null,null,null,null,{"$f":"'Tab NA1'!C415","v":"Oudenaarde"}]
[null,null,null,null,null,null,null,null,null,null,null,null,null,null,null,null,null,null,null,null,null,null,null,null,null,{"$f":"'Tab NA1'!C416","v":"Oudenburg"}]
[null,null,null,null,null,null,null,null,null,null,null,null,null,null,null,null,null,null,null,null,null,null,null,null,null,{"$f":"'Tab NA1'!C417","v":"Oudergem"}]
[null,null,null,null,null,null,null,null,null,null,null,null,null,null,null,null,null,null,null,null,null,null,null,null,null,{"$f":"'Tab NA1'!C418","v":"Oud-Heverlee"}]
[null,null,null,null,null,null,null,null,null,null,null,null,null,null,null,null,null,null,null,null,null,null,null,null,null,{"$f":"'Tab NA1'!C419","v":"Oud-Turnhout"}]
[null,null,null,null,null,null,null,null,null,null,null,null,null,null,null,null,null,null,null,null,null,null,null,null,null,{"$f":"'Tab NA1'!C420","v":"Ouffet"}]
[null,null,null,null,null,null,null,null,null,null,null,null,null,null,null,null,null,null,null,null,null,null,null,null,null,{"$f":"'Tab NA1'!C421","v":"Oupeye"}]
[null,null,null,null,null,null,null,null,null,null,null,null,null,null,null,null,null,null,null,null,null,null,null,null,null,{"$f":"'Tab NA1'!C422","v":"Overijse"}]
[null,null,null,null,null,null,null,null,null,null,null,null,null,null,null,null,null,null,null,null,null,null,null,null,null,{"$f":"'Tab NA1'!C423","v":"Overpelt"}]
[null,null,null,null,null,null,null,null,null,null,null,null,null,null,null,null,null,null,null,null,null,null,null,null,null,{"$f":"'Tab NA1'!C424","v":"Paliseul"}]
[null,null,null,null,null,null,null,null,null,null,null,null,null,null,null,null,null,null,null,null,null,null,null,null,null,{"$f":"'Tab NA1'!C425","v":"Pecq"}]
[null,null,null,null,null,null,null,null,null,null,null,null,null,null,null,null,null,null,null,null,null,null,null,null,null,{"$f":"'Tab NA1'!C426","v":"Peer"}]
[null,null,null,null,null,null,null,null,null,null,null,null,null,null,null,null,null,null,null,null,null,null,null,null,null,{"$f":"'Tab NA1'!C427","v":"Pepingen"}]
[null,null,null,null,null,null,null,null,null,null,null,null,null,null,null,null,null,null,null,null,null,null,null,null,null,{"$f":"'Tab NA1'!C428","v":"Pepinster"}]
[null,null,null,null,null,null,null,null,null,null,null,null,null,null,null,null,null,null,null,null,null,null,null,null,null,{"$f":"'Tab NA1'!C429","v":"Peruwelz"}]
[null,null,null,null,null,null,null,null,null,null,null,null,null,null,null,null,null,null,null,null,null,null,null,null,null,{"$f":"'Tab NA1'!C430","v":"Perwez"}]
[null,null,null,null,null,null,null,null,null,null,null,null,null,null,null,null,null,null,null,null,null,null,null,null,null,{"$f":"'Tab NA1'!C431","v":"Philippeville"}]
[null,null,null,null,null,null,null,null,null,null,null,null,null,null,null,null,null,null,null,null,null,null,null,null,null,{"$f":"'Tab NA1'!C432","v":"Pittem"}]
[null,null,null,null,null,null,null,null,null,null,null,null,null,null,null,null,null,null,null,null,null,null,null,null,null,{"$f":"'Tab NA1'!C433","v":"Plombières"}]
[null,null,null,null,null,null,null,null,null,null,null,null,null,null,null,null,null,null,null,null,null,null,null,null,null,{"$f":"'Tab NA1'!C434","v":"Pont-à-Celles"}]
[null,null,null,null,null,null,null,null,null,null,null,null,null,null,null,null,null,null,null,null,null,null,null,null,null,{"$f":"'Tab NA1'!C435","v":"Poperinge"}]
[null,null,null,null,null,null,null,null,null,null,null,null,null,null,null,null,null,null,null,null,null,null,null,null,null,{"$f":"'Tab NA1'!C436","v":"Profondeville"}]
[null,null,null,null,null,null,null,null,null,null,null,null,null,null,null,null,null,null,null,null,null,null,null,null,null,{"$f":"'Tab NA1'!C437","v":"Putte"}]
[null,null,null,null,null,null,null,null,null,null,null,null,null,null,null,null,null,null,null,null,null,null,null,null,null,{"$f":"'Tab NA1'!C438","v":"Puurs"}]
[null,null,null,null,null,null,null,null,null,null,null,null,null,null,null,null,null,null,null,null,null,null,null,null,null,{"$f":"'Tab NA1'!C439","v":"Quaregnon"}]
[null,null,null,null,null,null,null,null,null,null,null,null,null,null,null,null,null,null,null,null,null,null,null,null,null,{"$f":"'Tab NA1'!C440","v":"Quévy"}]
[null,null,null,null,null,null,null,null,null,null,null,null,null,null,null,null,null,null,null,null,null,null,null,null,null,{"$f":"'Tab NA1'!C441","v":"Quiévrain"}]
[null,null,null,null,null,null,null,null,null,null,null,null,null,null,null,null,null,null,null,null,null,null,null,null,null,{"$f":"'Tab NA1'!C442","v":"Raeren"}]
[null,null,null,null,null,null,null,null,null,null,null,null,null,null,null,null,null,null,null,null,null,null,null,null,null,{"$f":"'Tab NA1'!C443","v":"Ramillies"}]
[null,null,null,null,null,null,null,null,null,null,null,null,null,null,null,null,null,null,null,null,null,null,null,null,null,{"$f":"'Tab NA1'!C444","v":"Ranst"}]
[null,null,null,null,null,null,null,null,null,null,null,null,null,null,null,null,null,null,null,null,null,null,null,null,null,{"$f":"'Tab NA1'!C445","v":"Ravels"}]
[null,null,null,null,null,null,null,null,null,null,null,null,null,null,null,null,null,null,null,null,null,null,null,null,null,{"$f":"'Tab NA1'!C446","v":"Rebecq"}]
[null,null,null,null,null,null,null,null,null,null,null,null,null,null,null,null,null,null,null,null,null,null,null,null,null,{"$f":"'Tab NA1'!C447","v":"Remicourt"}]
[null,null,null,null,null,null,null,null,null,null,null,null,null,null,null,null,null,null,null,null,null,null,null,null,null,{"$f":"'Tab NA1'!C448","v":"Rendeux"}]
[null,null,null,null,null,null,null,null,null,null,null,null,null,null,null,null,null,null,null,null,null,null,null,null,null,{"$f":"'Tab NA1'!C449","v":"Retie"}]
[null,null,null,null,null,null,null,null,null,null,null,null,null,null,null,null,null,null,null,null,null,null,null,null,null,{"$f":"'Tab NA1'!C450","v":"Riemst"}]
[null,null,null,null,null,null,null,null,null,null,null,null,null,null,null,null,null,null,null,null,null,null,null,null,null,{"$f":"'Tab NA1'!C451","v":"Rijkevorsel"}]
[null,null,null,null,null,null,null,null,null,null,null,null,null,null,null,null,null,null,null,null,null,null,null,null,null,{"$f":"'Tab NA1'!C452","v":"Rixensart"}]
[null,null,null,null,null,null,null,null,null,null,null,null,null,null,null,null,null,null,null,null,null,null,null,null,null,{"$f":"'Tab NA1'!C453","v":"Rochefort"}]
[null,null,null,null,null,null,null,null,null,null,null,null,null,null,null,null,null,null,null,null,null,null,null,null,null,{"$f":"'Tab NA1'!C454","v":"Roeselare"}]
[null,null,null,null,null,null,null,null,null,null,null,null,null,null,null,null,null,null,null,null,null,null,null,null,null,{"$f":"'Tab NA1'!C455","v":"Ronse"}]
[null,null,null,null,null,null,null,null,null,null,null,null,null,null,null,null,null,null,null,null,null,null,null,null,null,{"$f":"'Tab NA1'!C456","v":"Roosdaal"}]
[null,null,null,null,null,null,null,null,null,null,null,null,null,null,null,null,null,null,null,null,null,null,null,null,null,{"$f":"'Tab NA1'!C457","v":"Rotselaar"}]
[null,null,null,null,null,null,null,null,null,null,null,null,null,null,null,null,null,null,null,null,null,null,null,null,null,{"$f":"'Tab NA1'!C458","v":"Rouvroy"}]
[null,null,null,null,null,null,null,null,null,null,null,null,null,null,null,null,null,null,null,null,null,null,null,null,null,{"$f":"'Tab NA1'!C459","v":"Ruiselede"}]
[null,null,null,null,null,null,null,null,null,null,null,null,null,null,null,null,null,null,null,null,null,null,null,null,null,{"$f":"'Tab NA1'!C460","v":"Rumes"}]
[null,null,null,null,null,null,null,null,null,null,null,null,null,null,null,null,null,null,null,null,null,null,null,null,null,{"$f":"'Tab NA1'!C461","v":"Rumst"}]
[null,null,null,null,null,null,null,null,null,null,null,null,null,null,null,null,null,null,null,null,null,null,null,null,null,{"$f":"'Tab NA1'!C462","v":"Sainte-Ode"}]
[null,null,null,null,null,null,null,null,null,null,null,null,null,null,null,null,null,null,null,null,null,null,null,null,null,{"$f":"'Tab NA1'!C463","v":"Saint-Georges-sur-Meuse"}]
[null,null,null,null,null,null,null,null,null,null,null,null,null,null,null,null,null,null,null,null,null,null,null,null,null,{"$f":"'Tab NA1'!C464","v":"Saint-Ghislain"}]
[null,null,null,null,null,null,null,null,null,null,null,null,null,null,null,null,null,null,null,null,null,null,null,null,null,{"$f":"'Tab NA1'!C465","v":"Saint-Gilles"}]
[null,null,null,null,null,null,null,null,null,null,null,null,null,null,null,null,null,null,null,null,null,null,null,null,null,{"$f":"'Tab NA1'!C466","v":"Saint-Hubert"}]
[null,null,null,null,null,null,null,null,null,null,null,null,null,null,null,null,null,null,null,null,null,null,null,null,null,{"$f":"'Tab NA1'!C467","v":"Saint-Josse-ten-Noode"}]
[null,null,null,null,null,null,null,null,null,null,null,null,null,null,null,null,null,null,null,null,null,null,null,null,null,{"$f":"'Tab NA1'!C468","v":"Saint-Léger"}]
[null,null,null,null,null,null,null,null,null,null,null,null,null,null,null,null,null,null,null,null,null,null,null,null,null,{"$f":"'Tab NA1'!C469","v":"Saint-Nicolas"}]
[null,null,null,null,null,null,null,null,null,null,null,null,null,null,null,null,null,null,null,null,null,null,null,null,null,{"$f":"'Tab NA1'!C470","v":"Sambreville"}]
[null,null,null,null,null,null,null,null,null,null,null,null,null,null,null,null,null,null,null,null,null,null,null,null,null,{"$f":"'Tab NA1'!C471","v":"Sankt Vith"}]
[null,null,null,null,null,null,null,null,null,null,null,null,null,null,null,null,null,null,null,null,null,null,null,null,null,{"$f":"'Tab NA1'!C472","v":"Schaarbeek"}]
[null,null,null,null,null,null,null,null,null,null,null,null,null,null,null,null,null,null,null,null,null,null,null,null,null,{"$f":"'Tab NA1'!C473","v":"Schaerbeek"}]
[null,null,null,null,null,null,null,null,null,null,null,null,null,null,null,null,null,null,null,null,null,null,null,null,null,{"$f":"'Tab NA1'!C474","v":"Schelle"}]
[null,null,null,null,null,null,null,null,null,null,null,null,null,null,null,null,null,null,null,null,null,null,null,null,null,{"$f":"'Tab NA1'!C475","v":"Scherpenheuvel-Zichem"}]
[null,null,null,null,null,null,null,null,null,null,null,null,null,null,null,null,null,null,null,null,null,null,null,null,null,{"$f":"'Tab NA1'!C476","v":"Schilde"}]
[null,null,null,null,null,null,null,null,null,null,null,null,null,null,null,null,null,null,null,null,null,null,null,null,null,{"$f":"'Tab NA1'!C477","v":"Schoten"}]
[null,null,null,null,null,null,null,null,null,null,null,null,null,null,null,null,null,null,null,null,null,null,null,null,null,{"$f":"'Tab NA1'!C478","v":"Seneffe"}]
[null,null,null,null,null,null,null,null,null,null,null,null,null,null,null,null,null,null,null,null,null,null,null,null,null,{"$f":"'Tab NA1'!C479","v":"Seraing"}]
[null,null,null,null,null,null,null,null,null,null,null,null,null,null,null,null,null,null,null,null,null,null,null,null,null,{"$f":"'Tab NA1'!C480","v":"Silly"}]
[null,null,null,null,null,null,null,null,null,null,null,null,null,null,null,null,null,null,null,null,null,null,null,null,null,{"$f":"'Tab NA1'!C481","v":"Sint-Agatha-Berchem"}]
[null,null,null,null,null,null,null,null,null,null,null,null,null,null,null,null,null,null,null,null,null,null,null,null,null,{"$f":"'Tab NA1'!C482","v":"Sint-Amands"}]
[null,null,null,null,null,null,null,null,null,null,null,null,null,null,null,null,null,null,null,null,null,null,null,null,null,{"$f":"'Tab NA1'!C483","v":"Sint-Genesius-Rode"}]
[null,null,null,null,null,null,null,null,null,null,null,null,null,null,null,null,null,null,null,null,null,null,null,null,null,{"$f":"'Tab NA1'!C484","v":"Sint-Gillis"}]
[null,null,null,null,null,null,null,null,null,null,null,null,null,null,null,null,null,null,null,null,null,null,null,null,null,{"$f":"'Tab NA1'!C485","v":"Sint-Gillis-Waas"}]
[null,null,null,null,null,null,null,null,null,null,null,null,null,null,null,null,null,null,null,null,null,null,null,null,null,{"$f":"'Tab NA1'!C486","v":"Sint-Jans-Molenbeek"}]
[null,null,null,null,null,null,null,null,null,null,null,null,null,null,null,null,null,null,null,null,null,null,null,null,null,{"$f":"'Tab NA1'!C487","v":"Sint-Joost-ten-Node"}]
[null,null,null,null,null,null,null,null,null,null,null,null,null,null,null,null,null,null,null,null,null,null,null,null,null,{"$f":"'Tab NA1'!C488","v":"Sint-Katelijne-Waver"}]
[null,null,null,null,null,null,null,null,null,null,null,null,null,null,null,null,null,null,null,null,null,null,null,null,null,{"$f":"'Tab NA1'!C489","v":"Sint-Lambrechts-Woluwe"}]
[null,null,null,null,null,null,null,null,null,null,null,null,null,null,null,null,null,null,null,null,null,null,null,null,null,{"$f":"'Tab NA1'!C490","v":"Sint-Laureins"}]
[null,null,null,null,null,null,null,null,null,null,null,null,null,null,null,null,null,null,null,null,null,null,null,null,null,{"$f":"'Tab NA1'!C491","v":"Sint-Lievens-Houtem"}]
[null,null,null,null,null,null,null,null,null,null,null,null,null,null,null,null,null,null,null,null,null,null,null,null,null,{"$f":"'Tab NA1'!C492","v":"Sint-Martens-Latem"}]
[null,null,null,null,null,null,null,null,null,null,null,null,null,null,null,null,null,null,null,null,null,null,null,null,null,{"$f":"'Tab NA1'!C493","v":"Sint-Niklaas"}]
[null,null,null,null,null,null,null,null,null,null,null,null,null,null,null,null,null,null,null,null,null,null,null,null,null,{"$f":"'Tab NA1'!C494","v":"Sint-Pieters-Leeuw"}]
[null,null,null,null,null,null,null,null,null,null,null,null,null,null,null,null,null,null,null,null,null,null,null,null,null,{"$f":"'Tab NA1'!C495","v":"Sint-Pieters-Woluwe"}]
[null,null,null,null,null,null,null,null,null,null,null,null,null,null,null,null,null,null,null,null,null,null,null,null,null,{"$f":"'Tab NA1'!C496","v":"Sint-Truiden"}]
[null,null,null,null,null,null,null,null,null,null,null,null,null,null,null,null,null,null,null,null,null,null,null,null,null,{"$f":"'Tab NA1'!C497","v":"Sivry-Rance"}]
[null,null,null,null,null,null,null,null,null,null,null,null,null,null,null,null,null,null,null,null,null,null,null,null,null,{"$f":"'Tab NA1'!C498","v":"Soignies"}]
[null,null,null,null,null,null,null,null,null,null,null,null,null,null,null,null,null,null,null,null,null,null,null,null,null,{"$f":"'Tab NA1'!C499","v":"Sombreffe"}]
[null,null,null,null,null,null,null,null,null,null,null,null,null,null,null,null,null,null,null,null,null,null,null,null,null,{"$f":"'Tab NA1'!C500","v":"Somme-Leuze"}]
[null,null,null,null,null,null,null,null,null,null,null,null,null,null,null,null,null,null,null,null,null,null,null,null,null,{"$f":"'Tab NA1'!C501","v":"Soumagne"}]
[null,null,null,null,null,null,null,null,null,null,null,null,null,null,null,null,null,null,null,null,null,null,null,null,null,{"$f":"'Tab NA1'!C502","v":"Spa"}]
[null,null,null,null,null,null,null,null,null,null,null,null,null,null,null,null,null,null,null,null,null,null,null,null,null,{"$f":"'Tab NA1'!C503","v":"Spiere-Helkijn"}]
[null,null,null,null,null,null,null,null,null,null,null,null,null,null,null,null,null,null,null,null,null,null,null,null,null,{"$f":"'Tab NA1'!C504","v":"Sprimont"}]
[null,null,null,null,null,null,null,null,null,null,null,null,null,null,null,null,null,null,null,null,null,null,null,null,null,{"$f":"'Tab NA1'!C505","v":"Stabroek"}]
[null,null,null,null,null,null,null,null,null,null,null,null,null,null,null,null,null,null,null,null,null,null,null,null,null,{"$f":"'Tab NA1'!C506","v":"Staden"}]
[null,null,null,null,null,null,null,null,null,null,null,null,null,null,null,null,null,null,null,null,null,null,null,null,null,{"$f":"'Tab NA1'!C507","v":"Stavelot"}]
[null,null,null,null,null,null,null,null,null,null,null,null,null,null,null,null,null,null,null,null,null,null,null,null,null,{"$f":"'Tab NA1'!C508","v":"Steenokkerzeel"}]
[null,null,null,null,null,null,null,null,null,null,null,null,null,null,null,null,null,null,null,null,null,null,null,null,null,{"$f":"'Tab NA1'!C509","v":"Stekene"}]
[null,null,null,null,null,null,null,null,null,null,null,null,null,null,null,null,null,null,null,null,null,null,null,null,null,{"$f":"'Tab NA1'!C510","v":"Stoumont"}]
[null,null,null,null,null,null,null,null,null,null,null,null,null,null,null,null,null,null,null,null,null,null,null,null,null,{"$f":"'Tab NA1'!C511","v":"Tellin"}]
[null,null,null,null,null,null,null,null,null,null,null,null,null,null,null,null,null,null,null,null,null,null,null,null,null,{"$f":"'Tab NA1'!C512","v":"Temse"}]
[null,null,null,null,null,null,null,null,null,null,null,null,null,null,null,null,null,null,null,null,null,null,null,null,null,{"$f":"'Tab NA1'!C513","v":"Tenneville"}]
[null,null,null,null,null,null,null,null,null,null,null,null,null,null,null,null,null,null,null,null,null,null,null,null,null,{"$f":"'Tab NA1'!C514","v":"Ternat"}]
[null,null,null,null,null,null,null,null,null,null,null,null,null,null,null,null,null,null,null,null,null,null,null,null,null,{"$f":"'Tab NA1'!C515","v":"Tervuren"}]
[null,null,null,null,null,null,null,null,null,null,null,null,null,null,null,null,null,null,null,null,null,null,null,null,null,{"$f":"'Tab NA1'!C516","v":"Tessenderlo"}]
[null,null,null,null,null,null,null,null,null,null,null,null,null,null,null,null,null,null,null,null,null,null,null,null,null,{"$f":"'Tab NA1'!C517","v":"Theux"}]
[null,null,null,null,null,null,null,null,null,null,null,null,null,null,null,null,null,null,null,null,null,null,null,null,null,{"$f":"'Tab NA1'!C518","v":"Thimister-Clermont"}]
[null,null,null,null,null,null,null,null,null,null,null,null,null,null,null,null,null,null,null,null,null,null,null,null,null,{"$f":"'Tab NA1'!C519","v":"Thuin"}]
[null,null,null,null,null,null,null,null,null,null,null,null,null,null,null,null,null,null,null,null,null,null,null,null,null,{"$f":"'Tab NA1'!C520","v":"Tielt"}]
[null,null,null,null,null,null,null,null,null,null,null,null,null,null,null,null,null,null,null,null,null,null,null,null,null,{"$f":"'Tab NA1'!C521","v":"Tielt-Winge"}]
[null,null,null,null,null,null,null,null,null,null,null,null,null,null,null,null,null,null,null,null,null,null,null,null,null,{"$f":"'Tab NA1'!C522","v":"Tienen"}]
[null,null,null,null,null,null,null,null,null,null,null,null,null,null,null,null,null,null,null,null,null,null,null,null,null,{"$f":"'Tab NA1'!C523","v":"Tinlot"}]
[null,null,null,null,null,null,null,null,null,null,null,null,null,null,null,null,null,null,null,null,null,null,null,null,null,{"$f":"'Tab NA1'!C524","v":"Tintigny"}]
[null,null,null,null,null,null,null,null,null,null,null,null,null,null,null,null,null,null,null,null,null,null,null,null,null,{"$f":"'Tab NA1'!C525","v":"Tongeren"}]
[null,null,null,null,null,null,null,null,null,null,null,null,null,null,null,null,null,null,null,null,null,null,null,null,null,{"$f":"'Tab NA1'!C526","v":"Torhout"}]
[null,null,null,null,null,null,null,null,null,null,null,null,null,null,null,null,null,null,null,null,null,null,null,null,null,{"$f":"'Tab NA1'!C527","v":"Tournai"}]
[null,null,null,null,null,null,null,null,null,null,null,null,null,null,null,null,null,null,null,null,null,null,null,null,null,{"$f":"'Tab NA1'!C528","v":"Tremelo"}]
[null,null,null,null,null,null,null,null,null,null,null,null,null,null,null,null,null,null,null,null,null,null,null,null,null,{"$f":"'Tab NA1'!C529","v":"Trois-Ponts"}]
[null,null,null,null,null,null,null,null,null,null,null,null,null,null,null,null,null,null,null,null,null,null,null,null,null,{"$f":"'Tab NA1'!C530","v":"Trooz"}]
[null,null,null,null,null,null,null,null,null,null,null,null,null,null,null,null,null,null,null,null,null,null,null,null,null,{"$f":"'Tab NA1'!C531","v":"Tubize"}]
[null,null,null,null,null,null,null,null,null,null,null,null,null,null,null,null,null,null,null,null,null,null,null,null,null,{"$f":"'Tab NA1'!C532","v":"Turnhout"}]
[null,null,null,null,null,null,null,null,null,null,null,null,null,null,null,null,null,null,null,null,null,null,null,null,null,{"$f":"'Tab NA1'!C533","v":"Uccle"}]
[null,null,null,null,null,null,null,null,null,null,null,null,null,null,null,null,null,null,null,null,null,null,null,null,null,{"$f":"'Tab NA1'!C534","v":"Ukkel"}]
[null,null,null,null,null,null,null,null,null,null,null,null,null,null,null,null,null,null,null,null,null,null,null,null,null,{"$f":"'Tab NA1'!C535","v":"Vaux-sur-Sûre"}]
[null,null,null,null,null,null,null,null,null,null,null,null,null,null,null,null,null,null,null,null,null,null,null,null,null,{"$f":"'Tab NA1'!C536","v":"Verlaine"}]
[null,null,null,null,null,null,null,null,null,null,null,null,null,null,null,null,null,null,null,null,null,null,null,null,null,{"$f":"'Tab NA1'!C537","v":"Verviers"}]
[null,null,null,null,null,null,null,null,null,null,null,null,null,null,null,null,null,null,null,null,null,null,null,null,null,{"$f":"'Tab NA1'!C538","v":"Veurne"}]
[null,null,null,null,null,null,null,null,null,null,null,null,null,null,null,null,null,null,null,null,null,null,null,null,null,{"$f":"'Tab NA1'!C539","v":"Vielsalm"}]
[null,null,null,null,null,null,null,null,null,null,null,null,null,null,null,null,null,null,null,null,null,null,null,null,null,{"$f":"'Tab NA1'!C540","v":"Villers-la-Ville"}]
[null,null,null,null,null,null,null,null,null,null,null,null,null,null,null,null,null,null,null,null,null,null,null,null,null,{"$f":"'Tab NA1'!C541","v":"Villers-le-Bouillet"}]
[null,null,null,null,null,null,null,null,null,null,null,null,null,null,null,null,null,null,null,null,null,null,null,null,null,{"$f":"'Tab NA1'!C542","v":"Vilvoorde"}]
[null,null,null,null,null,null,null,null,null,null,null,null,null,null,null,null,null,null,null,null,null,null,null,null,null,{"$f":"'Tab NA1'!C543","v":"Viroinval"}]
[null,null,null,null,null,null,null,null,null,null,null,null,null,null,null,null,null,null,null,null,null,null,null,null,null,{"$f":"'Tab NA1'!C544","v":"Virton"}]
[null,null,null,null,null,null,null,null,null,null,null,null,null,null,null,null,null,null,null,null,null,null,null,null,null,{"$f":"'Tab NA1'!C545","v":"Visé"}]
[null,null,null,null,null,null,null,null,null,null,null,null,null,null,null,null,null,null,null,null,null,null,null,null,null,{"$f":"'Tab NA1'!C546","v":"Vleteren"}]
[null,null,null,null,null,null,null,null,null,null,null,null,null,null,null,null,null,null,null,null,null,null,null,null,null,{"$f":"'Tab NA1'!C547","v":"Voeren"}]
[null,null,null,null,null,null,null,null,null,null,null,null,null,null,null,null,null,null,null,null,null,null,null,null,null,{"$f":"'Tab NA1'!C548","v":"Vorselaar"}]
[null,null,null,null,null,null,null,null,null,null,null,null,null,null,null,null,null,null,null,null,null,null,null,null,null,{"$f":"'Tab NA1'!C549","v":"Vorst"}]
[null,null,null,null,null,null,null,null,null,null,null,null,null,null,null,null,null,null,null,null,null,null,null,null,null,{"$f":"'Tab NA1'!C550","v":"Vosselaar"}]
[null,null,null,null,null,null,null,null,null,null,null,null,null,null,null,null,null,null,null,null,null,null,null,null,null,{"$f":"'Tab NA1'!C551","v":"Vresse-sur-Semois"}]
[null,null,null,null,null,null,null,null,null,null,null,null,null,null,null,null,null,null,null,null,null,null,null,null,null,{"$f":"'Tab NA1'!C552","v":"Waarschoot"}]
[null,null,null,null,null,null,null,null,null,null,null,null,null,null,null,null,null,null,null,null,null,null,null,null,null,{"$f":"'Tab NA1'!C553","v":"Waasmunster"}]
[null,null,null,null,null,null,null,null,null,null,null,null,null,null,null,null,null,null,null,null,null,null,null,null,null,{"$f":"'Tab NA1'!C554","v":"Wachtebeke"}]
[null,null,null,null,null,null,null,null,null,null,null,null,null,null,null,null,null,null,null,null,null,null,null,null,null,{"$f":"'Tab NA1'!C555","v":"Waimes"}]
[null,null,null,null,null,null,null,null,null,null,null,null,null,null,null,null,null,null,null,null,null,null,null,null,null,{"$f":"'Tab NA1'!C556","v":"Walcourt"}]
[null,null,null,null,null,null,null,null,null,null,null,null,null,null,null,null,null,null,null,null,null,null,null,null,null,{"$f":"'Tab NA1'!C557","v":"Walhain"}]
[null,null,null,null,null,null,null,null,null,null,null,null,null,null,null,null,null,null,null,null,null,null,null,null,null,{"$f":"'Tab NA1'!C558","v":"Wanze"}]
[null,null,null,null,null,null,null,null,null,null,null,null,null,null,null,null,null,null,null,null,null,null,null,null,null,{"$f":"'Tab NA1'!C559","v":"Waregem"}]
[null,null,null,null,null,null,null,null,null,null,null,null,null,null,null,null,null,null,null,null,null,null,null,null,null,{"$f":"'Tab NA1'!C560","v":"Waremme"}]
[null,null,null,null,null,null,null,null,null,null,null,null,null,null,null,null,null,null,null,null,null,null,null,null,null,{"$f":"'Tab NA1'!C561","v":"Wasseiges"}]
[null,null,null,null,null,null,null,null,null,null,null,null,null,null,null,null,null,null,null,null,null,null,null,null,null,{"$f":"'Tab NA1'!C562","v":"Waterloo"}]
[null,null,null,null,null,null,null,null,null,null,null,null,null,null,null,null,null,null,null,null,null,null,null,null,null,{"$f":"'Tab NA1'!C563","v":"Watermaal-Bosvoorde"}]
[null,null,null,null,null,null,null,null,null,null,null,null,null,null,null,null,null,null,null,null,null,null,null,null,null,{"$f":"'Tab NA1'!C564","v":"Watermael-Boitsfort"}]
[null,null,null,null,null,null,null,null,null,null,null,null,null,null,null,null,null,null,null,null,null,null,null,null,null,{"$f":"'Tab NA1'!C565","v":"Wavre"}]
[null,null,null,null,null,null,null,null,null,null,null,null,null,null,null,null,null,null,null,null,null,null,null,null,null,{"$f":"'Tab NA1'!C566","v":"Welkenraedt"}]
[null,null,null,null,null,null,null,null,null,null,null,null,null,null,null,null,null,null,null,null,null,null,null,null,null,{"$f":"'Tab NA1'!C567","v":"Wellen"}]
[null,null,null,null,null,null,null,null,null,null,null,null,null,null,null,null,null,null,null,null,null,null,null,null,null,{"$f":"'Tab NA1'!C568","v":"Wellin"}]
[null,null,null,null,null,null,null,null,null,null,null,null,null,null,null,null,null,null,null,null,null,null,null,null,null,{"$f":"'Tab NA1'!C569","v":"Wemmel"}]
[null,null,null,null,null,null,null,null,null,null,null,null,null,null,null,null,null,null,null,null,null,null,null,null,null,{"$f":"'Tab NA1'!C570","v":"Wervik"}]
[null,null,null,null,null,null,null,null,null,null,null,null,null,null,null,null,null,null,null,null,null,null,null,null,null,{"$f":"'Tab NA1'!C571","v":"Westerlo"}]
[null,null,null,null,null,null,null,null,null,null,null,null,null,null,null,null,null,null,null,null,null,null,null,null,null,{"$f":"'Tab NA1'!C572","v":"Wetteren"}]
[null,null,null,null,null,null,null,null,null,null,null,null,null,null,null,null,null,null,null,null,null,null,null,null,null,{"$f":"'Tab NA1'!C573","v":"Wevelgem"}]
[null,null,null,null,null,null,null,null,null,null,null,null,null,null,null,null,null,null,null,null,null,null,null,null,null,{"$f":"'Tab NA1'!C574","v":"Wezembeek-Oppem"}]
[null,null,null,null,null,null,null,null,null,null,null,null,null,null,null,null,null,null,null,null,null,null,null,null,null,{"$f":"'Tab NA1'!C575","v":"Wichelen"}]
[null,null,null,null,null,null,null,null,null,null,null,null,null,null,null,null,null,null,null,null,null,null,null,null,null,{"$f":"'Tab NA1'!C576","v":"Wielsbeke"}]
[null,null,null,null,null,null,null,null,null,null,null,null,null,null,null,null,null,null,null,null,null,null,null,null,null,{"$f":"'Tab NA1'!C577","v":"Wijnegem"}]
[null,null,null,null,null,null,null,null,null,null,null,null,null,null,null,null,null,null,null,null,null,null,null,null,null,{"$f":"'Tab NA1'!C578","v":"Willebroek"}]
[null,null,null,null,null,null,null,null,null,null,null,null,null,null,null,null,null,null,null,null,null,null,null,null,null,{"$f":"'Tab NA1'!C579","v":"Wingene"}]
[null,null,null,null,null,null,null,null,null,null,null,null,null,null,null,null,null,null,null,null,null,null,null,null,null,{"$f":"'Tab NA1'!C580","v":"Woluwé-Saint-Lambert"}]
[null,null,null,null,null,null,null,null,null,null,null,null,null,null,null,null,null,null,null,null,null,null,null,null,null,{"$f":"'Tab NA1'!C581","v":"Woluwe-Saint-Pierre"}]
[null,null,null,null,null,null,null,null,null,null,null,null,null,null,null,null,null,null,null,null,null,null,null,null,null,{"$f":"'Tab NA1'!C582","v":"Wommelgem"}]
[null,null,null,null,null,null,null,null,null,null,null,null,null,null,null,null,null,null,null,null,null,null,null,null,null,{"$f":"'Tab NA1'!C583","v":"Wortegem-Petegem"}]
[null,null,null,null,null,null,null,null,null,null,null,null,null,null,null,null,null,null,null,null,null,null,null,null,null,{"$f":"'Tab NA1'!C584","v":"Wuustwezel"}]
[null,null,null,null,null,null,null,null,null,null,null,null,null,null,null,null,null,null,null,null,null,null,null,null,null,{"$f":"'Tab NA1'!C585","v":"Yvoir"}]
[null,null,null,null,null,null,null,null,null,null,null,null,null,null,null,null,null,null,null,null,null,null,null,null,null,{"$f":"'Tab NA1'!C586","v":"Zandhoven"}]
[null,null,null,null,null,null,null,null,null,null,null,null,null,null,null,null,null,null,null,null,null,null,null,null,null,{"$f":"'Tab NA1'!C587","v":"Zaventem"}]
[null,null,null,null,null,null,null,null,null,null,null,null,null,null,null,null,null,null,null,null,null,null,null,null,null,{"$f":"'Tab NA1'!C588","v":"Zedelgem"}]
[null,null,null,null,null,null,null,null,null,null,null,null,null,null,null,null,null,null,null,null,null,null,null,null,null,{"$f":"'Tab NA1'!C589","v":"Zeebrugge"}]
[null,null,null,null,null,null,null,null,null,null,null,null,null,null,null,null,null,null,null,null,null,null,null,null,null,{"$f":"'Tab NA1'!C590","v":"Zele"}]
[null,null,null,null,null,null,null,null,null,null,null,null,null,null,null,null,null,null,null,null,null,null,null,null,null,{"$f":"'Tab NA1'!C591","v":"Zelzate"}]
[null,null,null,null,null,null,null,null,null,null,null,null,null,null,null,null,null,null,null,null,null,null,null,null,null,{"$f":"'Tab NA1'!C592","v":"Zemst"}]
[null,null,null,null,null,null,null,null,null,null,null,null,null,null,null,null,null,null,null,null,null,null,null,null,null,{"$f":"'Tab NA1'!C593","v":"Zingem"}]
[null,null,null,null,null,null,null,null,null,null,null,null,null,null,null,null,null,null,null,null,null,null,null,null,null,{"$f":"'Tab NA1'!C594","v":"Zoersel"}]
[null,null,null,null,null,null,null,null,null,null,null,null,null,null,null,null,null,null,null,null,null,null,null,null,null,{"$f":"'Tab NA1'!C595","v":"Zomergem"}]
[null,null,null,null,null,null,null,null,null,null,null,null,null,null,null,null,null,null,null,null,null,null,null,null,null,{"$f":"'Tab NA1'!C596","v":"Zonhoven"}]
[null,null,null,null,null,null,null,null,null,null,null,null,null,null,null,null,null,null,null,null,null,null,null,null,null,{"$f":"'Tab NA1'!C597","v":"Zonnebeke"}]
[null,null,null,null,null,null,null,null,null,null,null,null,null,null,null,null,null,null,null,null,null,null,null,null,null,{"$f":"'Tab NA1'!C598","v":"Zottegem"}]
[null,null,null,null,null,null,null,null,null,null,null,null,null,null,null,null,null,null,null,null,null,null,null,null,null,{"$f":"'Tab NA1'!C599","v":"Zoutleeuw"}]
[null,null,null,null,null,null,null,null,null,null,null,null,null,null,null,null,null,null,null,null,null,null,null,null,null,{"$f":"'Tab NA1'!C600","v":"Zuienkerke"}]
[null,null,null,null,null,null,null,null,null,null,null,null,null,null,null,null,null,null,null,null,null,null,null,null,null,{"$f":"'Tab NA1'!C601","v":"Zulte"}]
[null,null,null,null,null,null,null,null,null,null,null,null,null,null,null,null,null,null,null,null,null,null,null,null,null,{"$f":"'Tab NA1'!C602","v":"Zutendaal"}]
[null,null,null,null,null,null,null,null,null,null,null,null,null,null,null,null,null,null,null,null,null,null,null,null,null,{"$f":"'Tab NA1'!C603","v":"Zwalm"}]
[null,null,null,null,null,null,null,null,null,null,null,null,null,null,null,null,null,null,null,null,null,null,null,null,null,{"$f":"'Tab NA1'!C604","v":"Zwevegem"}]
[null,null,null,null,null,null,null,null,null,null,null,null,null,null,null,null,null,null,null,null,null,null,null,null,null,{"$f":"'Tab NA1'!C605","v":"Zwijndrecht"}]

{"sheet":"Wall","index":4,"n_rows":28,"n_cols":18,"rows_kept":28,"cut":false,"hidden":false,"merged":[[3,1,3,5],[5,3,6,3],[5,5,6,5],[5,4,6,4]]}
[]
[]
[]
[null,{"$f":"Langage!A19","v":"Données relatives aux parois"}]
[]
[null,null,{"$f":"Langage!A22","v":"Description"},{"$f":"Langage!A23","v":"Coefficient de transmission thermique"},{"$f":"Langage!A21","v":"Ponts thermiques"},{"$f":"Langage!A90","v":"Surface chauffante"}]
[]
[null,null,null,"Uk   W/m².K","DUTB   W/m².K",null,null,null,null,null,null,null,null,null,null,null,null,"DUTB   W/m².K"]
[null,1,null,null,null,null,{"$f":"IF(OR(F9=\"\",F9=\"-\"),\"\",VLOOKUP(F9,I$9:J$10,2,FALSE))","v":""},null,{"$f":"'Tab NA6'!B4","v":"FH"},{"$f":"'Tab NA6'!H4","v":"Chauffage par le sol"},null,null,null,null,{"$f":"IF(F9=\"FH\",TRUE,FALSE)","v":false},{"$f":"IF(F9=\"WH\",TRUE,FALSE)","v":false},null,0]
[null,2,null,null,null,null,{"$f":"IF(OR(F10=\"\",F10=\"-\"),\"\",VLOOKUP(F10,I$9:J$10,2,FALSE))","v":""},null,{"$f":"'Tab NA6'!B5","v":"WH"},{"$f":"'Tab NA6'!H5","v":"Chauffage par les murs"},null,null,null,null,{"$f":"IF(F10=\"FH\",TRUE,FALSE)","v":false},{"$f":"IF(F10=\"WH\",TRUE,FALSE)","v":false},null,0.02]
[null,3,null,null,null,null,"",null,null,null,null,null,null,null,false,false,null,0.05]
[null,4,null,null,null,null,"",null,null,null,null,null,null,null,false,false,null,0.1]
[null,5,null,null,null,null,"",null,null,null,null,null,null,null,false,false,null,0.15]
[null,6,null,null,null,null,"",null,null,null,null,null,null,null,false,false]
[null,7,null,null,null,null,"",null,null,null,null,null,null,null,false,false]
[null,8,null,null,null,null,"",null,null,null,null,null,null,null,false,false]
[null,9,null,null,null,null,"",null,null,null,null,null,null,null,false,false]
[null,10,null,null,null,null,"",null,null,null,null,null,null,null,false,false]
[null,11,null,null,null,null,"",null,null,null,null,null,null,null,false,false]
[null,12,null,null,null,null,"",null,null,null,null,null,null,null,false,false]
[null,13,null,null,null,null,"",null,null,null,null,null,null,null,false,false]
[null,14,null,null,null,null,"",null,null,null,null,null,null,null,false,false]
[null,15,null,null,null,null,"",null,null,null,null,null,null,null,false,false]
[null,16,null,null,null,null,"",null,null,null,null,null,null,null,false,false]
[null,17,null,null,null,null,"",null,null,null,null,null,null,null,false,false]
[null,18,null,null,null,null,"",null,null,null,null,null,null,null,false,false]
[null,19,null,null,null,null,"",null,null,null,null,null,null,null,false,false]
[null,20,null,null,null,null,"",null,null,null,null,null,null,null,false,false]

{"sheet":"Heat up","index":5,"n_rows":31,"n_cols":6,"rows_kept":31,"cut":false,"hidden":false,"merged":[[3,1,3,5]]}
[]
[]
[]
[null,{"$f":"Langage!A45","v":"Surpuissance de relance"}]
[]
[null,null,{"$f":"Langage!A24","v":"Espace"},{"$f":"Langage!A46","v":"Facteur de relance"},{"$f":"Langage!A12","v":"Aire nette de plancher"},{"$f":"Langage!A45","v":"Surpuissance de relance"}]
[null,null,null,"jhu   W/m²","Ai   m²","FRH,i   W"]
[null,1,{"$f":"IF(Room!C17=\"\",\"\",Room!C17)","v":""},{"$f":"IF(OR(C8=\"\",ISNA(Room!X17)),\"\",Room!X17)","v":""},{"$f":"IF(Room!E17=\"\",\"\",Room!E17)","v":""},{"$f":"IF(AND(D8=\"\",E8=\"\"),\"\",IF(D8=\"\",0,D8*E8))","v":""}]
[null,2,{"$f":"IF(Room!C18=\"\",\"\",Room!C18)","v":""},{"$f":"IF(OR(C9=\"\",ISNA(Room!X18)),\"\",Room!X18)","v":""},{"$f":"IF(Room!E18=\"\",\"\",Room!E18)","v":""},{"$f":"IF(AND(D9=\"\",E9=\"\"),\"\",IF(D9=\"\",0,D9*E9))","v":""}]
[null,3,{"$f":"IF(Room!C19=\"\",\"\",Room!C19)","v":""},{"$f":"IF(OR(C10=\"\",ISNA(Room!X19)),\"\",Room!X19)","v":""},{"$f":"IF(Room!E19=\"\",\"\",Room!E19)","v":""},""]
[null,4,{"$f":"IF(Room!C20=\"\",\"\",Room!C20)","v":""},{"$f":"IF(OR(C11=\"\",ISNA(Room!X20)),\"\",Room!X20)","v":""},{"$f":"IF(Room!E20=\"\",\"\",Room!E20)","v":""},""]
[null,5,{"$f":"IF(Room!C21=\"\",\"\",Room!C21)","v":""},{"$f":"IF(OR(C12=\"\",ISNA(Room!X21)),\"\",Room!X21)","v":""},{"$f":"IF(Room!E21=\"\",\"\",Room!E21)","v":""},""]
[null,6,{"$f":"IF(Room!C22=\"\",\"\",Room!C22)","v":""},{"$f":"IF(OR(C13=\"\",ISNA(Room!X22)),\"\",Room!X22)","v":""},{"$f":"IF(Room!E22=\"\",\"\",Room!E22)","v":""},""]
[null,7,{"$f":"IF(Room!C23=\"\",\"\",Room!C23)","v":""},{"$f":"IF(OR(C14=\"\",ISNA(Room!X23)),\"\",Room!X23)","v":""},{"$f":"IF(Room!E23=\"\",\"\",Room!E23)","v":""},""]
[null,8,{"$f":"IF(Room!C24=\"\",\"\",Room!C24)","v":""},{"$f":"IF(OR(C15=\"\",ISNA(Room!X24)),\"\",Room!X24)","v":""},{"$f":"IF(Room!E24=\"\",\"\",Room!E24)","v":""},""]
[null,9,{"$f":"IF(Room!C25=\"\",\"\",Room!C25)","v":""},{"$f":"IF(OR(C16=\"\",ISNA(Room!X25)),\"\",Room!X25)","v":""},{"$f":"IF(Room!E25=\"\",\"\",Room!E25)","v":""},""]
[null,10,{"$f":"IF(Room!C26=\"\",\"\",Room!C26)","v":""},{"$f":"IF(OR(C17=\"\",ISNA(Room!X26)),\"\",Room!X26)","v":""},{"$f":"IF(Room!E26=\"\",\"\",Room!E26)","v":""},""]
[null,11,{"$f":"IF(Room!C27=\"\",\"\",Room!C27)","v":""},{"$f":"IF(OR(C18=\"\",ISNA(Room!X27)),\"\",Room!X27)","v":""},{"$f":"IF(Room!E27=\"\",\"\",Room!E27)","v":""},""]
[null,12,{"$f":"IF(Room!C28=\"\",\"\",Room!C28)","v":""},{"$f":"IF(OR(C19=\"\",ISNA(Room!X28)),\"\",Room!X28)","v":""},{"$f":"IF(Room!E28=\"\",\"\",Room!E28)","v":""},""]
[null,13,{"$f":"IF(Room!C29=\"\",\"\",Room!C29)","v":""},{"$f":"IF(OR(C20=\"\",ISNA(Room!X29)),\"\",Room!X29)","v":""},{"$f":"IF(Room!E29=\"\",\"\",Room!E29)","v":""},""]
[null,14,{"$f":"IF(Room!C30=\"\",\"\",Room!C30)","v":""},{"$f":"IF(OR(C21=\"\",ISNA(Room!X30)),\"\",Room!X30)","v":""},{"$f":"IF(Room!E30=\"\",\"\",Room!E30)","v":""},""]
[null,15,{"$f":"IF(Room!C31=\"\",\"\",Room!C31)","v":""},{"$f":"IF(OR(C22=\"\",ISNA(Room!X31)),\"\",Room!X31)","v":""},{"$f":"IF(Room!E31=\"\",\"\",Room!E31)","v":""},""]
[null,16,{"$f":"IF(Room!C32=\"\",\"\",Room!C32)","v":""},{"$f":"IF(OR(C23=\"\",ISNA(Room!X32)),\"\",Room!X32)","v":""},{"$f":"IF(Room!E32=\"\",\"\",Room!E32)","v":""},""]
[null,17,{"$f":"IF(Room!C33=\"\",\"\",Room!C33)","v":""},{"$f":"IF(OR(C24=\"\",ISNA(Room!X33)),\"\",Room!X33)","v":""},{"$f":"IF(Room!E33=\"\",\"\",Room!E33)","v":""},""]
[null,18,{"$f":"IF(Room!C34=\"\",\"\",Room!C34)","v":""},{"$f":"IF(OR(C25=\"\",ISNA(Room!X34)),\"\",Room!X34)","v":""},{"$f":"IF(Room!E34=\"\",\"\",Room!E34)","v":""},""]
[null,19,{"$f":"IF(Room!C35=\"\",\"\",Room!C35)","v":""},{"$f":"IF(OR(C26=\"\",ISNA(Room!X35)),\"\",Room!X35)","v":""},{"$f":"IF(Room!E35=\"\",\"\",Room!E35)","v":""},""]
[null,20,{"$f":"IF(Room!C36=\"\",\"\",Room!C36)","v":""},{"$f":"IF(OR(C27=\"\",ISNA(Room!X36)),\"\",Room!X36)","v":""},{"$f":"IF(Room!E36=\"\",\"\",Room!E36)","v":""},""]
[]
[null,null,null,null,{"$f":"Langage!A14","v":"Total"},{"$f":"IF(F8=\"\",\"\",SUM(F8:F27))","v":""}]
[]
[null,null,{"$f":"Langage!A79","v":"N.B.: Portes et fenêtres fermées pendant l'abaissement"}]

{"sheet":"Ventil","index":6,"n_rows":43,"n_cols":70,"rows_kept":43,"cut":false,"hidden":false,"merged":[[7,1,7,2],[8,1,8,2],[9,1,9,2],[13,1,13,2],[14,1,14,2],[28,1,28,2],[30,1,30,2],[35,1,35,2],[18,1,18,2],[34,1,34,2],[19,1,19,2],[20,1,20,2],[29,1,29,2],[25,1,25,2],[26,1,26,2],[24,1,24,2],[27,1,27,2]]}
[]
[]
[]
[null,{"$f":"Langage!A55","v":"Perte thermique par renouvellement d'air"}]
[]
[null,null,null,null,null,{"$f":"IF(Room!C17=\"\",\"\",Room!C17)","v":""},{"$f":"IF(Room!C18=\"\",\"\",Room!C18)","v":""},{"$f":"IF(Room!C19=\"\",\"\",Room!C19)","v":""},{"$f":"IF(Room!C20=\"\",\"\",Room!C20)","v":""},{"$f":"IF(Room!C21=\"\",\"\",Room!C21)","v":""},{"$f":"IF(Room!C22=\"\",\"\",Room!C22)","v":""},{"$f":"IF(Room!C23=\"\",\"\",Room!C23)","v":""},{"$f":"IF(Room!C24=\"\",\"\",Room!C24)","v":""},{"$f":"IF(Room!C25=\"\",\"\",Room!C25)","v":""},{"$f":"IF(Room!C26=\"\",\"\",Room!C26)","v":""},{"$f":"IF(Room!C27=\"\",\"\",Room!C27)","v":""},{"$f":"IF(Room!C28=\"\",\"\",Room!C28)","v":""},{"$f":"IF(Room!C29=\"\",\"\",Room!C29)","v":""},{"$f":"IF(Room!C30=\"\",\"\",Room!C30)","v":""},{"$f":"IF(Room!C31=\"\",\"\",Room!C31)","v":""},{"$f":"IF(Room!C32=\"\",\"\",Room!C32)","v":""},{"$f":"IF(Room!C33=\"\",\"\",Room!C33)","v":""},{"$f":"IF(Room!C34=\"\",\"\",Room!C34)","v":""},{"$f":"IF(Room!C35=\"\",\"\",Room!C35)","v":""},{"$f":"IF(Room!C36=\"\",\"\",Room!C36)","v":""},{"$f":"Langage!A14","v":"Total"}]
[]
[null,{"$f":"Langage!A25","v":"Volume intérieur"},null,"Vi","m³",{"$f":"IF(F6=\"\",\"\",Room!F17)","v":""},{"$f":"IF(G6=\"\",\"\",Room!F18)","v":""},{"$f":"IF(H6=\"\",\"\",Room!F19)","v":""},{"$f":"IF(I6=\"\",\"\",Room!F20)","v":""},{"$f":"IF(J6=\"\",\"\",Room!F21)","v":""},{"$f":"IF(K6=\"\",\"\",Room!F22)","v":""},{"$f":"IF(L6=\"\",\"\",Room!F23)","v":""},{"$f":"IF(M6=\"\",\"\",Room!F24)","v":""},{"$f":"IF(N6=\"\",\"\",Room!F25)","v":""},{"$f":"IF(O6=\"\",\"\",Room!F26)","v":""},{"$f":"IF(P6=\"\",\"\",Room!F27)","v":""},{"$f":"IF(Q6=\"\",\"\",Room!F28)","v":""},{"$f":"IF(R6=\"\",\"\",Room!F29)","v":""},{"$f":"IF(S6=\"\",\"\",Room!F30)","v":""},{"$f":"IF(T6=\"\",\"\",Room!F31)","v":""},{"$f":"IF(U6=\"\",\"\",Room!F32)","v":""},{"$f":"IF(V6=\"\",\"\",Room!F33)","v":""},{"$f":"IF(W6=\"\",\"\",Room!F34)","v":""},{"$f":"IF(X6=\"\",\"\",Room!F35)","v":""},{"$f":"IF(Y6=\"\",\"\",Room!F36)","v":""},{"$f":"IF(F8=\"\",\"\",SUM(F8:Y8))","v":""}]
[null,{"$f":"Langage!A26","v":"Température extérieure"},null,"qe","°C",{"$f":"IF(OR(Room!$F8=\"\",F6=\"\"),\"\",Room!$F8)","v":""},{"$f":"IF(OR(Room!$F8=\"\",G6=\"\"),\"\",Room!$F8)","v":""},{"$f":"IF(OR(Room!$F8=\"\",H6=\"\"),\"\",Room!$F8)","v":""},{"$f":"IF(OR(Room!$F8=\"\",I6=\"\"),\"\",Room!$F8)","v":""},{"$f":"IF(OR(Room!$F8=\"\",J6=\"\"),\"\",Room!$F8)","v":""},{"$f":"IF(OR(Room!$F8=\"\",K6=\"\"),\"\",Room!$F8)","v":""},{"$f":"IF(OR(Room!$F8=\"\",L6=\"\"),\"\",Room!$F8)","v":""},{"$f":"IF(OR(Room!$F8=\"\",M6=\"\"),\"\",Room!$F8)","v":""},{"$f":"IF(OR(Room!$F8=\"\",N6=\"\"),\"\",Room!$F8)","v":""},{"$f":"IF(OR(Room!$F8=\"\",O6=\"\"),\"\",Room!$F8)","v":""},{"$f":"IF(OR(Room!$F8=\"\",P6=\"\"),\"\",Room!$F8)","v":""},{"$f":"IF(OR(Room!$F8=\"\",Q6=\"\"),\"\",Room!$F8)","v":""},{"$f":"IF(OR(Room!$F8=\"\",R6=\"\"),\"\",Room!$F8)","v":""},{"$f":"IF(OR(Room!$F8=\"\",S6=\"\"),\"\",Room!$F8)","v":""},{"$f":"IF(OR(Room!$F8=\"\",T6=\"\"),\"\",Room!$F8)","v":""},{"$f":"IF(OR(Room!$F8=\"\",U6=\"\"),\"\",Room!$F8)","v":""},{"$f":"IF(OR(Room!$F8=\"\",V6=\"\"),\"\",Room!$F8)","v":""},{"$f":"IF(OR(Room!$F8=\"\",W6=\"\"),\"\",Room!$F8)","v":""},{"$f":"IF(OR(Room!$F8=\"\",X6=\"\"),\"\",Room!$F8)","v":""},{"$f":"IF(OR(Room!$F8=\"\",Y6=\"\"),\"\",Room!$F8)","v":""}]
[null,{"$f":"Langage!A75","v":"Température air intérieur"},null,"q*int,i","°C",{"$f":"IF(F6=\"\",\"\",Room!U17)","v":""},{"$f":"IF(G6=\"\",\"\",Room!U18)","v":""},{"$f":"IF(H6=\"\",\"\",Room!U19)","v":""},{"$f":"IF(I6=\"\",\"\",Room!U20)","v":""},{"$f":"IF(J6=\"\",\"\",Room!U21)","v":""},{"$f":"IF(K6=\"\",\"\",Room!U22)","v":""},{"$f":"IF(L6=\"\",\"\",Room!U23)","v":""},{"$f":"IF(M6=\"\",\"\",Room!U24)","v":""},{"$f":"IF(N6=\"\",\"\",Room!U25)","v":""},{"$f":"IF(O6=\"\",\"\",Room!U26)","v":""},{"$f":"IF(P6=\"\",\"\",Room!U27)","v":""},{"$f":"IF(Q6=\"\",\"\",Room!U28)","v":""},{"$f":"IF(R6=\"\",\"\",Room!U29)","v":""},{"$f":"IF(S6=\"\",\"\",Room!U30)","v":""},{"$f":"IF(T6=\"\",\"\",Room!U31)","v":""},{"$f":"IF(U6=\"\",\"\",Room!U32)","v":""},{"$f":"IF(V6=\"\",\"\",Room!U33)","v":""},{"$f":"IF(W6=\"\",\"\",Room!U34)","v":""},{"$f":"IF(X6=\"\",\"\",Room!U35)","v":""},{"$f":"IF(Y6=\"\",\"\",Room!U36)","v":""}]
[]
[null,{"$f":"Langage!A27","v":"Ventilation de base minimale"}]
[]
[null,{"$f":"Langage!A28","v":"Taux minimal de renouvellement"},null,"nmin,i","h-1",{"$f":"IF(Room!V17=\"\",\"\",Room!V17)","v":""},{"$f":"IF(Room!V18=\"\",\"\",Room!V18)","v":""},{"$f":"IF(Room!V19=\"\",\"\",Room!V19)","v":""},{"$f":"IF(Room!V20=\"\",\"\",Room!V20)","v":""},{"$f":"IF(Room!V21=\"\",\"\",Room!V21)","v":""},{"$f":"IF(Room!V22=\"\",\"\",Room!V22)","v":""},{"$f":"IF(Room!V23=\"\",\"\",Room!V23)","v":""},{"$f":"IF(Room!V24=\"\",\"\",Room!V24)","v":""},{"$f":"IF(Room!V25=\"\",\"\",Room!V25)","v":""},{"$f":"IF(Room!V26=\"\",\"\",Room!V26)","v":""},{"$f":"IF(Room!V27=\"\",\"\",Room!V27)","v":""},{"$f":"IF(Room!V28=\"\",\"\",Room!V28)","v":""},{"$f":"IF(Room!V29=\"\",\"\",Room!V29)","v":""},{"$f":"IF(Room!V30=\"\",\"\",Room!V30)","v":""},{"$f":"IF(Room!V31=\"\",\"\",Room!V31)","v":""},{"$f":"IF(Room!V32=\"\",\"\",Room!V32)","v":""},{"$f":"IF(Room!V33=\"\",\"\",Room!V33)","v":""},{"$f":"IF(Room!V34=\"\",\"\",Room!V34)","v":""},{"$f":"IF(Room!V35=\"\",\"\",Room!V35)","v":""},{"$f":"IF(Room!V36=\"\",\"\",Room!V36)","v":""}]
[null,{"$f":"Langage!A29","v":"Débit d'air minimal"},null,"qv,min,i","m³/h",{"$f":"IF(OR(F8=\"\",F14=\"\"),\"\",F8*F14)","v":""},{"$f":"IF(OR(G8=\"\",G14=\"\"),\"\",G8*G14)","v":""},"","","","","","","","","","","","","","","","","",""]
[]
[null,{"$f":"Langage!A30","v":"Infiltration d'air"}]
[]
[null,{"$f":"Langage!A31","v":"Débit de fuite à 50 Pa"},null,"q50","m³/h",{"$f":"IF(OR(Room!$D77=\"\",F6=\"\"),\"\",Room!$D77/$Z8*F8)","v":""},{"$f":"IF(OR(Room!$D77=\"\",G6=\"\"),\"\",Room!$D77/$Z8*G8)","v":""},{"$f":"IF(OR(Room!$D77=\"\",H6=\"\"),\"\",Room!$D77/$Z8*H8)","v":""},{"$f":"IF(OR(Room!$D77=\"\",I6=\"\"),\"\",Room!$D77/$Z8*I8)","v":""},{"$f":"IF(OR(Room!$D77=\"\",J6=\"\"),\"\",Room!$D77/$Z8*J8)","v":""},{"$f":"IF(OR(Room!$D77=\"\",K6=\"\"),\"\",Room!$D77/$Z8*K8)","v":""},{"$f":"IF(OR(Room!$D77=\"\",L6=\"\"),\"\",Room!$D77/$Z8*L8)","v":""},{"$f":"IF(OR(Room!$D77=\"\",M6=\"\"),\"\",Room!$D77/$Z8*M8)","v":""},{"$f":"IF(OR(Room!$D77=\"\",N6=\"\"),\"\",Room!$D77/$Z8*N8)","v":""},{"$f":"IF(OR(Room!$D77=\"\",O6=\"\"),\"\",Room!$D77/$Z8*O8)","v":""},{"$f":"IF(OR(Room!$D77=\"\",P6=\"\"),\"\",Room!$D77/$Z8*P8)","v":""},{"$f":"IF(OR(Room!$D77=\"\",Q6=\"\"),\"\",Room!$D77/$Z8*Q8)","v":""},{"$f":"IF(OR(Room!$D77=\"\",R6=\"\"),\"\",Room!$D77/$Z8*R8)","v":""},{"$f":"IF(OR(Room!$D77=\"\",S6=\"\"),\"\",Room!$D77/$Z8*S8)","v":""},{"$f":"IF(OR(Room!$D77=\"\",T6=\"\"),\"\",Room!$D77/$Z8*T8)","v":""},{"$f":"IF(OR(Room!$D77=\"\",U6=\"\"),\"\",Room!$D77/$Z8*U8)","v":""},{"$f":"IF(OR(Room!$D77=\"\",V6=\"\"),\"\",Room!$D77/$Z8*V8)","v":""},{"$f":"IF(OR(Room!$D77=\"\",W6=\"\"),\"\",Room!$D77/$Z8*W8)","v":""},{"$f":"IF(OR(Room!$D77=\"\",X6=\"\"),\"\",Room!$D77/$Z8*X8)","v":""},{"$f":"IF(OR(Room!$D77=\"\",Y6=\"\"),\"\",Room!$D77/$Z8*Y8)","v":""},{"$f":"IF(F19=\"\",\"\",SUM(F19:Y19))","v":""}]
[null,{"$f":"Langage!A32","v":"Coefficient de débit volumique"},null,"fqv","-",{"$f":"IF(F6=\"\",\"\",0.1)","v":""},{"$f":"IF(G6=\"\",\"\",0.1)","v":""},"","","","","","","","","","","","",{"$f":"IF(T6=\"\",\"\",0.1)","v":""},"","","","",""]
[null,{"$f":"Langage!A33","v":"Débit d'infiltration"},null,"qv,leak","m³/h",{"$f":"IF(OR(F19=\"\",F20=\"\"),\"\",F19*F20)","v":""},{"$f":"IF(OR(G19=\"\",G20=\"\"),\"\",G19*G20)","v":""},"","","","","","","","","","","","","","","","","",""]
[]
[null,{"$f":"Langage!A34","v":"Système de ventilation"}]
[]
[null,{"$f":"Langage!A74","v":"Air fourni (naturel)"},null,"qv,ATD","m³/h",null,null,null,null,null,null,null,null,null,null,null,null,null,null,null,null,null,null,null,null,{"$f":"SUM(F25:Y25)","v":0}]
[null,{"$f":"Langage!A36","v":"Air fourni (mécanique)"},null,"qv,sup","m³/h",null,null,null,null,null,null,null,null,null,null,null,null,null,null,null,null,null,null,null,null,{"$f":"SUM(F26:Y26)","v":0}]
[null,{"$f":"Langage!A37","v":"Température air fourni (méc.)"},null,"qrec,r","°C"]
[null,{"$f":"Langage!A38","v":"Air transféré"},null,"qv,transfer","m³/h"]
[null,{"$f":"Langage!A39","v":"Température air transféré"},null,"qint","°C"]
[null,{"$f":"Langage!A35","v":"Air extrait"},null,"qv,ext","m³/h",null,null,null,null,null,null,null,null,null,null,null,null,null,null,null,null,null,null,null,null,{"$f":"SUM(F30:Y30)","v":0}]
[null,{"$f":"Langage!A40","v":"Débit d'air par infiltration supp."},null,"qv,inf-add","m³/h",{"$f":"IF(F8=\"\",\"\",MAX(0,0.5*($Z30-$Z26-$Z25)*F8/$Z8))","v":""},{"$f":"IF(G8=\"\",\"\",MAX(0,0.5*($Z30-$Z26-$Z25)*G8/$Z8))","v":""},"","","","","","","","","","","","","","","","","",""]
[]
[null,{"$f":"Langage!A55","v":"Perte thermique par renouvellement d'air"}]
[]
[null,{"$f":"Langage!A41","v":"Débit d'air total"},null,"qv,i","m³/h",{"$f":"IF(F15=\"\",\"\",(F26+F25+F28+F21+F31)+MAX(0,F15-(F26+F25+F28+F21+F31)))","v":""},"","","","","","","","","","","","","","","","","","",""]
[null,{"$f":"Langage!A42","v":"Perte thermique"},null,"FV,i","W",{"$f":"IF(F15=\"\",\"\",0.34*(F26*(F10-F27)+F25*(F10-F9)+F28*(F10-F29)+F21*(F10-F9)+F31*(F10-F9))+0.34*(F10-F9)*MAX(0,F15-(F26+F25+F28+F21+F31)))","v":""},"","","","","","","","","","","","","","","","","","","",{"$f":"IF(F36=\"\",\"\",SUM(F36:Y36))","v":""}]
[]
[null,{"$f":"Langage!A37","v":"Température air fourni (méc.)"}]
[null,null,null,null,null,null,null,null,null,null,null,null,null,null,null,null,null,null,null,null,null,null,null,null,null,null,null,null,null,null,null,null,null,null,null,null,null,null,null,null,null,null,null,null,null,{"$f":"IF(F37=\"\",\"\",F37)","v":""},null,null,null,null,{"$f":"IF(F37=\"\",\"\",F37)","v":""},"","","","","","","","","","","","","","","","","","",""]
[null,{"$f":"Langage!A95","v":"Rendement de l'échangeur de chaleur"},null,null,"%",null,null,null,null,null,null,null,null,null,null,null,null,null,null,null,null,null,null,null,null,null,null,null,null,null,null,null,null,null,null,null,null,null,null,null,null,null,null,null,null,null,null,null,null,null,{"$f":"IF(AY38=\"\",\"\",AY38*AY39)","v":""},{"$f":"IF(AZ38=\"\",\"\",AZ38*AZ39)","v":""},"","","","","","","","","","","","","","","","","",""]
[null,{"$f":"Langage!A96","v":"Température air repris"},null,{"$f":"IF(AY41=\"\",\"\",CONCATENATE(INT(AY41),\" ?\"))","v":""},"°C",null,null,null,null,null,null,null,null,{"$f":"IF(OR(Room!$F8=\"\",Z26=0),\"\",Room!$F8)","v":""},"°C",null,null,null,null,null,null,null,null,null,null,null,null,null,null,{"$f":"IF(OR(F30=\"\",F10=\"\"),0,F30*F10)","v":0},0,0,0,0,0,0,0,0,0,0,0,0,0,0,0,0,0,0,0,{"$f":"SUM(AD41:AW41)","v":0},{"$f":"IF(Z30=0,\"\",AX41/Z30)","v":""}]
[null,null,null,null,null,null,null,null,null,null,null,null,null,null,null,null,null,null,null,null,null,null,null,null,null,null,null,null,null,null,null,null,null,null,null,null,null,null,null,null,null,null,null,null,null,null,null,null,null,null,{"$f":"IF(AY40<0,0,AY40)","v":""},{"$f":"IF(AZ40<0,0,AZ40)","v":""},"","","","","","","","","","","","","","","","","",""]
[null,{"$f":"Langage!A37","v":"Température air fourni (méc.)"},null,null,"°C",{"$f":"IF(OR(F40=\"\",F41=\"\",N41=\"\"),\"\",N41+F40/100*(F41-N41))","v":""},null,null,null,null,null,null,null,{"$f":"IF(OR(F40=\"\",F41=\"\",N41=\"\"),\"\",F41-F40/100*(F41-N41))","v":""},"°C"]

{"sheet":"T01","index":7,"n_rows":45,"n_cols":43,"rows_kept":45,"cut":false,"hidden":false,"merged":[[3,1,3,7],[7,1,7,7]]}
[]
[]
[]
[null,{"$f":"Langage!A54","v":"Perte thermique par transmission"}]
[]
[null,{"$f":"IF(S10=\"\",\"\",S10)","v":""},{"$f":"IF(S11=\"\",\"\",S11)","v":""},"°C",null,null,"FT,i   W",{"$f":"IF(C6=\"\",\"\",SUM(H12:H41))","v":""},null,null,null,null,null,"FT,i   W",null,{"$f":"IF(C6=\"\",\"\",SUM(P12:P40))","v":""},null,"Ceci reprend les valeurs dans les les autres onglets de façon à pouvoir les utiliser dans le présent onglet.",null,null,null,null,null,null,null,null,null,null,null,null,null,null,null,null,null,null,null,null,null,null,"Ceci recrée des listes sans vides pour les menus déroulants"]
[]
[null,null,null,null,null,null,null,null,null,null,null,null,null,null,null,null,null,"N° onglet",1,"Valeur à changer dans toutes les feuilles T",null,null,null,null,{"$f":"16+S8","v":17}]
[]
[null,null,null,"Ak","hm,k","Uk","DT","FT,i,k",null,"Tout","Tin","fqann","fGW","Chff sol","Chff mur","FT,i,k",null,"Espace",{"$f":"IF(INDIRECT(\"Room!C\"&Y8)=\"\",\"\",CONCATENATE(INDIRECT(\"Room!B\"&Y8),\". \",INDIRECT(\"Room!C\"&Y8)))","v":""},null,null,null,null,null,null,null,"Parois","U","DUTB","Chff sol","Chff mur","Utot",null,null,"Espaces",null,null,null,null,null,null,"Parois","Espace"]
[null,{"$f":"Langage!A20","v":"Parois"},{"$f":"Langage!A24","v":"Espace"},"m²","m","W/m².K","°C","W",null,null,null,null,null,null,"W",null,null,"qint   °C",{"$f":"IF(INDIRECT(\"Room!D\"&Y8)=\"\",\"\",INDIRECT(\"Room!D\"&Y8))","v":""},null,null,null,null,null,null,{"$f":"IF(AA11=\"\",\"\",MAX(Z$10:Z10)+1)","v":""},{"$f":"IF(Wall!C9=\"\",\"\",Wall!C9)","v":""},{"$f":"IF(Wall!D9=\"\",\"\",Wall!D9)","v":""},{"$f":"IF(Wall!E9=\"\",\"\",Wall!E9)","v":""},{"$f":"IF(Wall!O9=\"\",\"\",Wall!O9)","v":false},{"$f":"IF(Wall!P9=\"\",\"\",Wall!P9)","v":false},{"$f":"IF(AB11=\"\",\"\",(IF(AC11=\"\",AB11,AB11+AC11)))","v":""},{"$f":"IF(Wall!D34=\"\",\"\",Wall!D34)","v":""},{"$f":"IF(AI11=\"\",\"\",MAX(AH$10:AH10)+1)","v":""},{"$f":"IF(Room!C42=\"\",\"\",Room!C42)","v":""},{"$f":"IF(Room!D42=\"\",\"\",Room!D42)","v":""},null,null,null,null,1,{"$f":"IF(AO11>Z$45,\"\",VLOOKUP(AO11,Z11:AA30,2,FALSE))","v":""},{"$f":"IF(AO11>AH$45,\"\",VLOOKUP(AO11,AH11:AI42,2,FALSE))","v":""}]
[null,null,null,null,null,{"$f":"IF(B12=\"\",\"\",VLOOKUP(B12,AA$11:AF$30,6,FALSE))","v":""},{"$f":"IF(OR(K12=\"\",J12=\"\"),\"\",K12-J12)","v":""},{"$f":"IF(P12=\"\",\"\",P12)","v":""},null,{"$f":"IF(C12=\"\",\"\",VLOOKUP(C12,AI$11:AJ$42,2,FALSE))","v":""},{"$f":"IF(B12=\"\",\"\",IF(S$15<4,C$6,IF(E12=\"\",\"\",C$6+S$14*(E12-1))))","v":""},{"$f":"IF(C12=\"\",\"\",IF(VLOOKUP(C12,AI$11:AL$42,3,FALSE)=\"\",\"\",VLOOKUP(C12,AI$11:AL$42,3,FALSE)))","v":""},{"$f":"IF(C12=\"\",\"\",IF(VLOOKUP(C12,AI$11:AL$42,4,FALSE)=\"\",\"\",VLOOKUP(C12,AI$11:AL$42,4,FALSE)))","v":""},{"$f":"IF(B12=\"\",\"\",VLOOKUP(B12,AA$11:AF$30,4,FALSE))","v":""},{"$f":"IF(B12=\"\",\"\",VLOOKUP(B12,AA$11:AF$30,5,FALSE))","v":""},{"$f":"IF(OR(N12=TRUE,O12=TRUE),\"///\",IF(OR(D12=\"\",F12=\"\",G12=\"\"),\"\",IF(OR(L12=\"\",M12=\"\"),D12*F12*G12,D12*F12*G12*L12*M12)))","v":""},null,"qe   °C",{"$f":"IF(Room!F8=\"\",\"\",Room!F8)","v":""},null,null,null,null,null,null,{"$f":"IF(AA12=\"\",\"\",MAX(Z$10:Z11)+1)","v":""},{"$f":"IF(Wall!C10=\"\",\"\",Wall!C10)","v":""},{"$f":"IF(Wall!D10=\"\",\"\",Wall!D10)","v":""},{"$f":"IF(Wall!E10=\"\",\"\",Wall!E10)","v":""},{"$f":"IF(Wall!O10=\"\",\"\",Wall!O10)","v":false},{"$f":"IF(Wall!P10=\"\",\"\",Wall!P10)","v":false},{"$f":"IF(AB12=\"\",\"\",(IF(AC12=\"\",AB12,AB12+AC12)))","v":""},{"$f":"IF(Wall!D35=\"\",\"\",Wall!D35)","v":""},{"$f":"IF(AI12=\"\",\"\",MAX(AH$10:AH11)+1)","v":""},{"$f":"IF(Room!C47=\"\",\"\",Room!C47)","v":""},{"$f":"IF(Room!D47=\"\",\"\",Room!D47)","v":""},{"$f":"IF(Room!E47=\"\",\"\",Room!E47)","v":1.45},{"$f":"IF(Room!F47=\"\",\"\",Room!F47)","v":1.1499999999999999},null,null,2,{"$f":"IF(AO12>Z$45,\"\",VLOOKUP(AO12,Z12:AA31,2,FALSE))","v":""},{"$f":"IF(AO12>AH$45,\"\",VLOOKUP(AO12,AH12:AI43,2,FALSE))","v":""}]
[null,null,null,null,null,{"$f":"IF(B13=\"\",\"\",VLOOKUP(B13,AA$11:AF$30,6,FALSE))","v":""},"",{"$f":"IF(P13=\"\",\"\",P13)","v":""},null,"",{"$f":"IF(B13=\"\",\"\",IF(S$15<4,C$6,IF(E13=\"\",\"\",C$6+S$14*(E13-1))))","v":""},"","","",{"$f":"IF(B13=\"\",\"\",VLOOKUP(B13,AA$11:AF$30,5,FALSE))","v":""},{"$f":"IF(OR(N13=TRUE,O13=TRUE),\"///\",IF(OR(D13=\"\",F13=\"\",G13=\"\"),\"\",IF(OR(L13=\"\",M13=\"\"),D13*F13*G13,D13*F13*G13*L13*M13)))","v":""},null,"qm,e   °C",{"$f":"IF(Room!F9=\"\",\"\",Room!F9)","v":""},null,null,null,null,null,null,{"$f":"IF(AA13=\"\",\"\",MAX(Z$10:Z12)+1)","v":""},{"$f":"IF(Wall!C11=\"\",\"\",Wall!C11)","v":""},{"$f":"IF(Wall!D11=\"\",\"\",Wall!D11)","v":""},{"$f":"IF(Wall!E11=\"\",\"\",Wall!E11)","v":""},{"$f":"IF(Wall!O11=\"\",\"\",Wall!O11)","v":false},{"$f":"IF(Wall!P11=\"\",\"\",Wall!P11)","v":false},"",{"$f":"IF(Wall!D36=\"\",\"\",Wall!D36)","v":""},{"$f":"IF(AI13=\"\",\"\",MAX(AH$10:AH12)+1)","v":""},{"$f":"IF(Room!C52=\"\",\"\",Room!C52)","v":""},{"$f":"IF(Room!D52=\"\",\"\",Room!D52)","v":""},null,null,null,null,3,"",""]
[null,null,null,null,null,"","","",null,"","","","","","","",null,"Gq,air,i  °C/m",{"$f":"IF(INDIRECT(\"Room!T\"&Y8)=\"\",\"\",INDIRECT(\"Room!T\"&Y8))","v":""},null,null,null,null,null,null,{"$f":"IF(AA14=\"\",\"\",MAX(Z$10:Z13)+1)","v":""},{"$f":"IF(Wall!C12=\"\",\"\",Wall!C12)","v":""},{"$f":"IF(Wall!D12=\"\",\"\",Wall!D12)","v":""},{"$f":"IF(Wall!E12=\"\",\"\",Wall!E12)","v":""},{"$f":"IF(Wall!O12=\"\",\"\",Wall!O12)","v":false},{"$f":"IF(Wall!P12=\"\",\"\",Wall!P12)","v":false},"",{"$f":"IF(Wall!D37=\"\",\"\",Wall!D37)","v":""},{"$f":"IF(AI14=\"\",\"\",MAX(AH$10:AH13)+1)","v":""},{"$f":"IF(Room!C53=\"\",\"\",Room!C53)","v":""},{"$f":"IF(Room!D53=\"\",\"\",Room!D53)","v":""},null,null,null,null,4,"",""]
[null,null,null,null,null,"","","",null,"","","","","","","",null,"hi   m",{"$f":"IF(INDIRECT(\"Room!Q\"&Y8)=\"\",\"\",INDIRECT(\"Room!Q\"&Y8))","v":""},null,null,null,null,null,null,{"$f":"IF(AA15=\"\",\"\",MAX(Z$10:Z14)+1)","v":""},{"$f":"IF(Wall!C13=\"\",\"\",Wall!C13)","v":""},{"$f":"IF(Wall!D13=\"\",\"\",Wall!D13)","v":""},{"$f":"IF(Wall!E13=\"\",\"\",Wall!E13)","v":""},{"$f":"IF(Wall!O13=\"\",\"\",Wall!O13)","v":false},{"$f":"IF(Wall!P13=\"\",\"\",Wall!P13)","v":false},"",{"$f":"IF(Wall!D38=\"\",\"\",Wall!D38)","v":""},{"$f":"IF(AI15=\"\",\"\",MAX(AH$10:AH14)+1)","v":""},{"$f":"IF(Room!C54=\"\",\"\",Room!C54)","v":""},{"$f":"IF(Room!D54=\"\",\"\",Room!D54)","v":""},null,null,null,null,5,"",""]
[null,null,null,null,null,"","","",null,"","","","","","","",null,null,null,null,null,null,null,null,null,{"$f":"IF(AA16=\"\",\"\",MAX(Z$10:Z15)+1)","v":""},{"$f":"IF(Wall!C14=\"\",\"\",Wall!C14)","v":""},{"$f":"IF(Wall!D14=\"\",\"\",Wall!D14)","v":""},{"$f":"IF(Wall!E14=\"\",\"\",Wall!E14)","v":""},{"$f":"IF(Wall!O14=\"\",\"\",Wall!O14)","v":false},{"$f":"IF(Wall!P14=\"\",\"\",Wall!P14)","v":false},"",{"$f":"IF(Wall!D39=\"\",\"\",Wall!D39)","v":""},{"$f":"IF(AI16=\"\",\"\",MAX(AH$10:AH15)+1)","v":""},{"$f":"IF(Room!C55=\"\",\"\",Room!C55)","v":""},{"$f":"IF(Room!D55=\"\",\"\",Room!D55)","v":""},null,null,null,null,6,"",""]
[null,null,null,null,null,"","","",null,"","","","","","","",null,null,null,null,null,null,null,null,null,{"$f":"IF(AA17=\"\",\"\",MAX(Z$10:Z16)+1)","v":""},{"$f":"IF(Wall!C15=\"\",\"\",Wall!C15)","v":""},{"$f":"IF(Wall!D15=\"\",\"\",Wall!D15)","v":""},{"$f":"IF(Wall!E15=\"\",\"\",Wall!E15)","v":""},{"$f":"IF(Wall!O15=\"\",\"\",Wall!O15)","v":false},{"$f":"IF(Wall!P15=\"\",\"\",Wall!P15)","v":false},"",{"$f":"IF(Wall!D40=\"\",\"\",Wall!D40)","v":""},{"$f":"IF(AI17=\"\",\"\",MAX(AH$10:AH16)+1)","v":""},{"$f":"IF(Room!C56=\"\",\"\",Room!C56)","v":""},{"$f":"IF(Room!D56=\"\",\"\",Room!D56)","v":""},null,null,null,null,7,"",""]
[null,null,null,null,null,"",{"$f":"IF(OR(K18=\"\",J18=\"\"),\"\",K18-J18)","v":""},"",null,"","","","","","","",null,null,null,null,null,null,null,null,null,{"$f":"IF(AA18=\"\",\"\",MAX(Z$10:Z17)+1)","v":""},{"$f":"IF(Wall!C16=\"\",\"\",Wall!C16)","v":""},{"$f":"IF(Wall!D16=\"\",\"\",Wall!D16)","v":""},{"$f":"IF(Wall!E16=\"\",\"\",Wall!E16)","v":""},{"$f":"IF(Wall!O16=\"\",\"\",Wall!O16)","v":false},{"$f":"IF(Wall!P16=\"\",\"\",Wall!P16)","v":false},"",{"$f":"IF(Wall!D41=\"\",\"\",Wall!D41)","v":""},{"$f":"IF(AI18=\"\",\"\",MAX(AH$10:AH17)+1)","v":""},{"$f":"IF(Room!C61=\"\",\"\",Room!C61)","v":""},{"$f":"IF(Room!D61=\"\",\"\",Room!D61)","v":""},null,null,null,null,8,"",""]
[null,null,null,null,null,"","","",null,"","","","","","","",null,null,null,null,null,null,null,null,null,{"$f":"IF(AA19=\"\",\"\",MAX(Z$10:Z18)+1)","v":""},{"$f":"IF(Wall!C17=\"\",\"\",Wall!C17)","v":""},{"$f":"IF(Wall!D17=\"\",\"\",Wall!D17)","v":""},{"$f":"IF(Wall!E17=\"\",\"\",Wall!E17)","v":""},{"$f":"IF(Wall!O17=\"\",\"\",Wall!O17)","v":false},{"$f":"IF(Wall!P17=\"\",\"\",Wall!P17)","v":false},"",{"$f":"IF(Wall!D42=\"\",\"\",Wall!D42)","v":""},{"$f":"IF(AI19=\"\",\"\",MAX(AH$10:AH18)+1)","v":""},{"$f":"IF(Room!C62=\"\",\"\",Room!C62)","v":""},{"$f":"IF(Room!D62=\"\",\"\",Room!D62)","v":""},null,null,null,null,9,"",{"$f":"IF(AO19>AH$45,\"\",VLOOKUP(AO19,AH19:AI49,2,FALSE))","v":""}]
[null,null,null,null,null,"","","",null,"","","","","","","",null,null,null,null,null,null,null,null,null,{"$f":"IF(AA20=\"\",\"\",MAX(Z$10:Z19)+1)","v":""},{"$f":"IF(Wall!C18=\"\",\"\",Wall!C18)","v":""},{"$f":"IF(Wall!D18=\"\",\"\",Wall!D18)","v":""},{"$f":"IF(Wall!E18=\"\",\"\",Wall!E18)","v":""},{"$f":"IF(Wall!O18=\"\",\"\",Wall!O18)","v":false},{"$f":"IF(Wall!P18=\"\",\"\",Wall!P18)","v":false},"",{"$f":"IF(Wall!D43=\"\",\"\",Wall!D43)","v":""},{"$f":"IF(AI20=\"\",\"\",MAX(AH$10:AH19)+1)","v":""},{"$f":"IF(Room!C63=\"\",\"\",Room!C63)","v":""},{"$f":"IF(Room!D63=\"\",\"\",Room!D63)","v":""},null,null,null,null,10,"",{"$f":"IF(AO20>AH$45,\"\",VLOOKUP(AO20,AH20:AI49,2,FALSE))","v":""}]
[null,null,null,null,null,"","","",null,"","","","","","","",null,null,null,null,null,null,null,null,null,{"$f":"IF(AA21=\"\",\"\",MAX(Z$10:Z20)+1)","v":""},{"$f":"IF(Wall!C19=\"\",\"\",Wall!C19)","v":""},{"$f":"IF(Wall!D19=\"\",\"\",Wall!D19)","v":""},{"$f":"IF(Wall!E19=\"\",\"\",Wall!E19)","v":""},{"$f":"IF(Wall!O19=\"\",\"\",Wall!O19)","v":false},{"$f":"IF(Wall!P19=\"\",\"\",Wall!P19)","v":false},"",{"$f":"IF(Wall!D44=\"\",\"\",Wall!D44)","v":""},{"$f":"IF(AI21=\"\",\"\",MAX(AH$10:AH20)+1)","v":""},{"$f":"IF(Room!C64=\"\",\"\",Room!C64)","v":""},{"$f":"IF(Room!D64=\"\",\"\",Room!D64)","v":""},null,null,null,null,11,"",{"$f":"IF(AO21>AH$45,\"\",VLOOKUP(AO21,AH21:AI49,2,FALSE))","v":""}]
[null,null,null,null,null,"","","",null,"","","","","","","",null,null,null,null,null,null,null,null,null,{"$f":"IF(AA22=\"\",\"\",MAX(Z$10:Z21)+1)","v":""},{"$f":"IF(Wall!C20=\"\",\"\",Wall!C20)","v":""},{"$f":"IF(Wall!D20=\"\",\"\",Wall!D20)","v":""},{"$f":"IF(Wall!E20=\"\",\"\",Wall!E20)","v":""},{"$f":"IF(Wall!O20=\"\",\"\",Wall!O20)","v":false},{"$f":"IF(Wall!P20=\"\",\"\",Wall!P20)","v":false},"",{"$f":"IF(Wall!D45=\"\",\"\",Wall!D45)","v":""},{"$f":"IF(AI22=\"\",\"\",MAX(AH$10:AH21)+1)","v":""},{"$f":"IF(Room!C65=\"\",\"\",Room!C65)","v":""},{"$f":"IF(Room!D65=\"\",\"\",Room!D65)","v":""},null,null,null,null,12,"",{"$f":"IF(AO22>AH$45,\"\",VLOOKUP(AO22,AH22:AI49,2,FALSE))","v":""}]
[null,null,null,null,null,"","","",null,"","","","","","","",null,null,null,null,null,null,null,null,null,{"$f":"IF(AA23=\"\",\"\",MAX(Z$10:Z22)+1)","v":""},{"$f":"IF(Wall!C21=\"\",\"\",Wall!C21)","v":""},{"$f":"IF(Wall!D21=\"\",\"\",Wall!D21)","v":""},{"$f":"IF(Wall!E21=\"\",\"\",Wall!E21)","v":""},{"$f":"IF(Wall!O21=\"\",\"\",Wall!O21)","v":false},{"$f":"IF(Wall!P21=\"\",\"\",Wall!P21)","v":false},"",{"$f":"IF(Wall!D46=\"\",\"\",Wall!D46)","v":""},{"$f":"IF(AI23=\"\",\"\",MAX(AH$10:AH22)+1)","v":""},{"$f":"IF(Room!C17=\"\",\"\",Room!C17)","v":""},{"$f":"IF(Room!D17=\"\",\"\",Room!D17)","v":""},null,null,null,null,13,"",{"$f":"IF(AO23>AH$45,\"\",VLOOKUP(AO23,AH23:AI49,2,FALSE))","v":""}]
[null,null,null,null,null,"","","",null,"","","","","","","",null,null,null,null,null,null,null,null,null,{"$f":"IF(AA24=\"\",\"\",MAX(Z$10:Z23)+1)","v":""},{"$f":"IF(Wall!C22=\"\",\"\",Wall!C22)","v":""},{"$f":"IF(Wall!D22=\"\",\"\",Wall!D22)","v":""},{"$f":"IF(Wall!E22=\"\",\"\",Wall!E22)","v":""},{"$f":"IF(Wall!O22=\"\",\"\",Wall!O22)","v":false},{"$f":"IF(Wall!P22=\"\",\"\",Wall!P22)","v":false},"",{"$f":"IF(Wall!D47=\"\",\"\",Wall!D47)","v":""},{"$f":"IF(AI24=\"\",\"\",MAX(AH$10:AH23)+1)","v":""},{"$f":"IF(Room!C18=\"\",\"\",Room!C18)","v":""},{"$f":"IF(Room!D18=\"\",\"\",Room!D18)","v":""},null,null,null,null,14,"",{"$f":"IF(AO24>AH$45,\"\",VLOOKUP(AO24,AH24:AI49,2,FALSE))","v":""}]
[null,null,null,null,null,"","","",null,"","","","","","","",null,null,null,null,null,null,null,null,null,{"$f":"IF(AA25=\"\",\"\",MAX(Z$10:Z24)+1)","v":""},{"$f":"IF(Wall!C23=\"\",\"\",Wall!C23)","v":""},{"$f":"IF(Wall!D23=\"\",\"\",Wall!D23)","v":""},{"$f":"IF(Wall!E23=\"\",\"\",Wall!E23)","v":""},{"$f":"IF(Wall!O23=\"\",\"\",Wall!O23)","v":false},{"$f":"IF(Wall!P23=\"\",\"\",Wall!P23)","v":false},"",{"$f":"IF(Wall!D48=\"\",\"\",Wall!D48)","v":""},{"$f":"IF(AI25=\"\",\"\",MAX(AH$10:AH24)+1)","v":""},{"$f":"IF(Room!C19=\"\",\"\",Room!C19)","v":""},{"$f":"IF(Room!D19=\"\",\"\",Room!D19)","v":""},null,null,null,null,15,"",{"$f":"IF(AO25>AH$45,\"\",VLOOKUP(AO25,AH25:AI49,2,FALSE))","v":""}]
[null,null,null,null,null,"","","",null,"","","","","","","",null,null,null,null,null,null,null,null,null,{"$f":"IF(AA26=\"\",\"\",MAX(Z$10:Z25)+1)","v":""},{"$f":"IF(Wall!C24=\"\",\"\",Wall!C24)","v":""},{"$f":"IF(Wall!D24=\"\",\"\",Wall!D24)","v":""},{"$f":"IF(Wall!E24=\"\",\"\",Wall!E24)","v":""},{"$f":"IF(Wall!O24=\"\",\"\",Wall!O24)","v":false},{"$f":"IF(Wall!P24=\"\",\"\",Wall!P24)","v":false},"",{"$f":"IF(Wall!D49=\"\",\"\",Wall!D49)","v":""},{"$f":"IF(AI26=\"\",\"\",MAX(AH$10:AH25)+1)","v":""},{"$f":"IF(Room!C20=\"\",\"\",Room!C20)","v":""},{"$f":"IF(Room!D20=\"\",\"\",Room!D20)","v":""},null,null,null,null,16,"",{"$f":"IF(AO26>AH$45,\"\",VLOOKUP(AO26,AH26:AI49,2,FALSE))","v":""}]
[null,null,null,null,null,"","","",null,"","","","","","","",null,null,null,null,null,null,null,null,null,{"$f":"IF(AA27=\"\",\"\",MAX(Z$10:Z26)+1)","v":""},{"$f":"IF(Wall!C25=\"\",\"\",Wall!C25)","v":""},{"$f":"IF(Wall!D25=\"\",\"\",Wall!D25)","v":""},{"$f":"IF(Wall!E25=\"\",\"\",Wall!E25)","v":""},{"$f":"IF(Wall!O25=\"\",\"\",Wall!O25)","v":false},{"$f":"IF(Wall!P25=\"\",\"\",Wall!P25)","v":false},"",{"$f":"IF(Wall!D50=\"\",\"\",Wall!D50)","v":""},{"$f":"IF(AI27=\"\",\"\",MAX(AH$10:AH26)+1)","v":""},{"$f":"IF(Room!C21=\"\",\"\",Room!C21)","v":""},{"$f":"IF(Room!D21=\"\",\"\",Room!D21)","v":""},null,null,null,null,17,"",{"$f":"IF(AO27>AH$45,\"\",VLOOKUP(AO27,AH27:AI49,2,FALSE))","v":""}]
[null,null,null,null,null,"","","",null,"","","","","","","",null,null,null,null,null,null,null,null,null,{"$f":"IF(AA28=\"\",\"\",MAX(Z$10:Z27)+1)","v":""},{"$f":"IF(Wall!C26=\"\",\"\",Wall!C26)","v":""},{"$f":"IF(Wall!D26=\"\",\"\",Wall!D26)","v":""},{"$f":"IF(Wall!E26=\"\",\"\",Wall!E26)","v":""},{"$f":"IF(Wall!O26=\"\",\"\",Wall!O26)","v":false},{"$f":"IF(Wall!P26=\"\",\"\",Wall!P26)","v":false},"",{"$f":"IF(Wall!D51=\"\",\"\",Wall!D51)","v":""},{"$f":"IF(AI28=\"\",\"\",MAX(AH$10:AH27)+1)","v":""},{"$f":"IF(Room!C22=\"\",\"\",Room!C22)","v":""},{"$f":"IF(Room!D22=\"\",\"\",Room!D22)","v":""},null,null,null,null,18,"",""]
[null,null,null,null,null,"","","",null,"","","","","","","",null,null,null,null,null,null,null,null,null,{"$f":"IF(AA29=\"\",\"\",MAX(Z$10:Z28)+1)","v":""},{"$f":"IF(Wall!C27=\"\",\"\",Wall!C27)","v":""},{"$f":"IF(Wall!D27=\"\",\"\",Wall!D27)","v":""},{"$f":"IF(Wall!E27=\"\",\"\",Wall!E27)","v":""},{"$f":"IF(Wall!O27=\"\",\"\",Wall!O27)","v":false},{"$f":"IF(Wall!P27=\"\",\"\",Wall!P27)","v":false},"",{"$f":"IF(Wall!D52=\"\",\"\",Wall!D52)","v":""},{"$f":"IF(AI29=\"\",\"\",MAX(AH$10:AH28)+1)","v":""},{"$f":"IF(Room!C23=\"\",\"\",Room!C23)","v":""},{"$f":"IF(Room!D23=\"\",\"\",Room!D23)","v":""},null,null,null,null,19,"",""]
[null,null,null,null,null,"","","",null,"","","","","","","",null,null,null,null,null,null,null,null,null,{"$f":"IF(AA30=\"\",\"\",MAX(Z$10:Z29)+1)","v":""},{"$f":"IF(Wall!C28=\"\",\"\",Wall!C28)","v":""},{"$f":"IF(Wall!D28=\"\",\"\",Wall!D28)","v":""},{"$f":"IF(Wall!E28=\"\",\"\",Wall!E28)","v":""},{"$f":"IF(Wall!O28=\"\",\"\",Wall!O28)","v":false},{"$f":"IF(Wall!P28=\"\",\"\",Wall!P28)","v":false},"",{"$f":"IF(Wall!D53=\"\",\"\",Wall!D53)","v":""},{"$f":"IF(AI30=\"\",\"\",MAX(AH$10:AH29)+1)","v":""},{"$f":"IF(Room!C24=\"\",\"\",Room!C24)","v":""},{"$f":"IF(Room!D24=\"\",\"\",Room!D24)","v":""},null,null,null,null,20,"",""]
[null,null,null,null,null,"","","",null,"","","","","","","",null,null,null,null,null,null,null,null,null,null,null,null,null,null,null,null,null,{"$f":"IF(AI31=\"\",\"\",MAX(AH$10:AH30)+1)","v":""},{"$f":"IF(Room!C25=\"\",\"\",Room!C25)","v":""},{"$f":"IF(Room!D25=\"\",\"\",Room!D25)","v":""},null,null,null,null,21,{"$f":"IF(AO31>Z$45,\"\",VLOOKUP(AO31,Z31:AA49,2,FALSE))","v":""},""]
[null,null,null,null,null,"","","",null,"","","","","","","",null,null,null,null,null,null,null,null,null,null,null,null,null,null,null,null,null,{"$f":"IF(AI32=\"\",\"\",MAX(AH$10:AH31)+1)","v":""},{"$f":"IF(Room!C26=\"\",\"\",Room!C26)","v":""},{"$f":"IF(Room!D26=\"\",\"\",Room!D26)","v":""},null,null,null,null,22,{"$f":"IF(AO32>Z$45,\"\",VLOOKUP(AO32,Z32:AA49,2,FALSE))","v":""},""]
[null,null,null,null,null,"","","",null,"","","","","","","",null,null,null,null,null,null,null,null,null,null,null,null,null,null,null,null,null,{"$f":"IF(AI33=\"\",\"\",MAX(AH$10:AH32)+1)","v":""},{"$f":"IF(Room!C27=\"\",\"\",Room!C27)","v":""},{"$f":"IF(Room!D27=\"\",\"\",Room!D27)","v":""},null,null,null,null,23,{"$f":"IF(AO33>Z$45,\"\",VLOOKUP(AO33,Z33:AA49,2,FALSE))","v":""},""]
[null,null,null,null,null,"","","",null,"","","","","","","",null,null,null,null,null,null,null,null,null,null,null,null,null,null,null,null,null,{"$f":"IF(AI34=\"\",\"\",MAX(AH$10:AH33)+1)","v":""},{"$f":"IF(Room!C28=\"\",\"\",Room!C28)","v":""},{"$f":"IF(Room!D28=\"\",\"\",Room!D28)","v":""},null,null,null,null,24,{"$f":"IF(AO34>Z$45,\"\",VLOOKUP(AO34,Z34:AA49,2,FALSE))","v":""},""]
[null,null,null,null,null,"","","",null,"","","","","","","",null,null,null,null,null,null,null,null,null,null,null,null,null,null,null,null,null,{"$f":"IF(AI35=\"\",\"\",MAX(AH$10:AH34)+1)","v":""},{"$f":"IF(Room!C29=\"\",\"\",Room!C29)","v":""},{"$f":"IF(Room!D29=\"\",\"\",Room!D29)","v":""},null,null,null,null,25,{"$f":"IF(AO35>Z$45,\"\",VLOOKUP(AO35,Z35:AA49,2,FALSE))","v":""},""]
[null,null,null,null,null,"","","",null,"","","","","","","",null,null,null,null,null,null,null,null,null,null,null,null,null,null,null,null,null,{"$f":"IF(AI36=\"\",\"\",MAX(AH$10:AH35)+1)","v":""},{"$f":"IF(Room!C30=\"\",\"\",Room!C30)","v":""},{"$f":"IF(Room!D30=\"\",\"\",Room!D30)","v":""},null,null,null,null,26,{"$f":"IF(AO36>Z$45,\"\",VLOOKUP(AO36,Z36:AA49,2,FALSE))","v":""},""]
[null,null,null,null,null,"","","",null,"","","","","","","",null,null,null,null,null,null,null,null,null,null,null,null,null,null,null,null,null,{"$f":"IF(AI37=\"\",\"\",MAX(AH$10:AH36)+1)","v":""},{"$f":"IF(Room!C31=\"\",\"\",Room!C31)","v":""},{"$f":"IF(Room!D31=\"\",\"\",Room!D31)","v":""},null,null,null,null,27,{"$f":"IF(AO37>Z$45,\"\",VLOOKUP(AO37,Z37:AA49,2,FALSE))","v":""},""]
[null,null,null,null,null,"","","",null,"","","","","","","",null,null,null,null,null,null,null,null,null,null,null,null,null,null,null,null,null,{"$f":"IF(AI38=\"\",\"\",MAX(AH$10:AH37)+1)","v":""},{"$f":"IF(Room!C32=\"\",\"\",Room!C32)","v":""},{"$f":"IF(Room!D32=\"\",\"\",Room!D32)","v":""},null,null,null,null,28,{"$f":"IF(AO38>Z$45,\"\",VLOOKUP(AO38,Z38:AA49,2,FALSE))","v":""},""]
[null,null,null,null,null,"","","",null,"","","","","","","",null,null,null,null,null,null,null,null,null,null,null,null,null,null,null,null,null,{"$f":"IF(AI39=\"\",\"\",MAX(AH$10:AH38)+1)","v":""},{"$f":"IF(Room!C33=\"\",\"\",Room!C33)","v":""},{"$f":"IF(Room!D33=\"\",\"\",Room!D33)","v":""},null,null,null,null,29,{"$f":"IF(AO39>Z$45,\"\",VLOOKUP(AO39,Z39:AA49,2,FALSE))","v":""},""]
[null,null,null,null,null,"","","",null,"","","","","","","",null,null,null,null,null,null,null,null,null,null,null,null,null,null,null,null,null,{"$f":"IF(AI40=\"\",\"\",MAX(AH$10:AH39)+1)","v":""},{"$f":"IF(Room!C34=\"\",\"\",Room!C34)","v":""},{"$f":"IF(Room!D34=\"\",\"\",Room!D34)","v":""},null,null,null,null,30,{"$f":"IF(AO40>Z$45,\"\",VLOOKUP(AO40,Z40:AA50,2,FALSE))","v":""},""]
[null,null,null,null,null,"","","",null,"","","","","","","",null,null,null,null,null,null,null,null,null,null,null,null,null,null,null,null,null,{"$f":"IF(AI41=\"\",\"\",MAX(AH$10:AH40)+1)","v":""},{"$f":"IF(Room!C35=\"\",\"\",Room!C35)","v":""},{"$f":"IF(Room!D35=\"\",\"\",Room!D35)","v":""},null,null,null,null,31,{"$f":"IF(AO41>Z$45,\"\",VLOOKUP(AO41,Z41:AA51,2,FALSE))","v":""},""]
[null,null,null,null,null,null,null,null,null,null,null,null,null,null,null,null,null,null,null,null,null,null,null,null,null,null,null,null,null,null,null,null,null,{"$f":"IF(AI42=\"\",\"\",MAX(AH$10:AH41)+1)","v":""},{"$f":"IF(Room!C36=\"\",\"\",Room!C36)","v":""},{"$f":"IF(Room!D36=\"\",\"\",Room!D36)","v":""},null,null,null,null,32,{"$f":"IF(AO42>Z$45,\"\",VLOOKUP(AO42,Z42:AA52,2,FALSE))","v":""},""]
[]
[]
[null,null,null,null,null,null,null,null,null,null,null,null,null,null,null,null,null,null,null,null,null,null,null,null,"Max",{"$f":"MAX(Z11:Z30)","v":0},null,null,null,null,null,null,"Max",{"$f":"MAX(AH11:AH42)","v":0}]

{"sheet":"T02","index":8,"n_rows":45,"n_cols":43,"rows_kept":45,"cut":false,"hidden":false,"merged":[[3,1,3,7],[7,1,7,7]]}
[]
[]
[]
[null,{"$f":"Langage!A54","v":"Perte thermique par transmission"}]
[]
[null,{"$f":"IF(S10=\"\",\"\",S10)","v":""},{"$f":"IF(S11=\"\",\"\",S11)","v":""},"°C",null,null,"FT,i   W",{"$f":"IF(C6=\"\",\"\",SUM(H12:H41))","v":""},null,null,null,null,null,"FT,i   W",null,{"$f":"IF(C6=\"\",\"\",SUM(P12:P40))","v":""},null,"Ceci reprend les valeurs dans les les autres onglets de façon à pouvoir les utiliser dans le présent onglet.",null,null,null,null,null,null,null,null,null,null,null,null,null,null,null,null,null,null,null,null,null,null,"Ceci recrée des listes sans vides pour les menus déroulants"]
[]
[null,null,null,null,null,null,null,null,null,null,null,null,null,null,null,null,null,"N° onglet",2,"Valeur à changer dans toutes les feuilles T",null,null,null,null,{"$f":"16+S8","v":18}]
[]
[null,null,null,"Ak","hm,k","Uk","DT","FT,i,k",null,"Tout","Tin","fqann","fGW","Chff sol","Chff mur","FT,i,k",null,"Espace",{"$f":"IF(INDIRECT(\"Room!C\"&Y8)=\"\",\"\",CONCATENATE(INDIRECT(\"Room!B\"&Y8),\". \",INDIRECT(\"Room!C\"&Y8)))","v":""},null,null,null,null,null,null,null,"Parois","U","DUTB","Chff sol","Chff mur","Utot",null,null,"Espaces",null,null,null,null,null,null,"Parois","Espace"]
[null,{"$f":"Langage!A20","v":"Parois"},{"$f":"Langage!A24","v":"Espace"},"m²","m","W/m².K","°C","W",null,null,null,null,null,null,"W",null,null,"qint   °C",{"$f":"IF(INDIRECT(\"Room!D\"&Y8)=\"\",\"\",INDIRECT(\"Room!D\"&Y8))","v":""},null,null,null,null,null,null,{"$f":"IF(AA11=\"\",\"\",MAX(Z$10:Z10)+1)","v":""},{"$f":"IF(Wall!C9=\"\",\"\",Wall!C9)","v":""},{"$f":"IF(Wall!D9=\"\",\"\",Wall!D9)","v":""},{"$f":"IF(Wall!E9=\"\",\"\",Wall!E9)","v":""},{"$f":"IF(Wall!O9=\"\",\"\",Wall!O9)","v":false},{"$f":"IF(Wall!P9=\"\",\"\",Wall!P9)","v":false},{"$f":"IF(AB11=\"\",\"\",(IF(AC11=\"\",AB11,AB11+AC11)))","v":""},{"$f":"IF(Wall!D34=\"\",\"\",Wall!D34)","v":""},{"$f":"IF(AI11=\"\",\"\",MAX(AH$10:AH10)+1)","v":""},{"$f":"IF(Room!C42=\"\",\"\",Room!C42)","v":""},{"$f":"IF(Room!D42=\"\",\"\",Room!D42)","v":""},null,null,null,null,1,{"$f":"IF(AO11>Z$45,\"\",VLOOKUP(AO11,Z11:AA30,2,FALSE))","v":""},{"$f":"IF(AO11>AH$45,\"\",VLOOKUP(AO11,AH11:AI42,2,FALSE))","v":""}]
[null,null,null,null,null,{"$f":"IF(B12=\"\",\"\",VLOOKUP(B12,AA$11:AF$30,6,FALSE))","v":""},{"$f":"IF(OR(K12=\"\",J12=\"\"),\"\",K12-J12)","v":""},{"$f":"IF(P12=\"\",\"\",P12)","v":""},null,{"$f":"IF(C12=\"\",\"\",VLOOKUP(C12,AI$11:AJ$42,2,FALSE))","v":""},{"$f":"IF(B12=\"\",\"\",IF(S$15<4,C$6,IF(E12=\"\",\"\",C$6+S$14*(E12-1))))","v":""},{"$f":"IF(C12=\"\",\"\",IF(VLOOKUP(C12,AI$11:AL$42,3,FALSE)=\"\",\"\",VLOOKUP(C12,AI$11:AL$42,3,FALSE)))","v":""},{"$f":"IF(C12=\"\",\"\",IF(VLOOKUP(C12,AI$11:AL$42,4,FALSE)=\"\",\"\",VLOOKUP(C12,AI$11:AL$42,4,FALSE)))","v":""},{"$f":"IF(B12=\"\",\"\",VLOOKUP(B12,AA$11:AF$30,4,FALSE))","v":""},{"$f":"IF(B12=\"\",\"\",VLOOKUP(B12,AA$11:AF$30,5,FALSE))","v":""},{"$f":"IF(OR(N12=TRUE,O12=TRUE),\"///\",IF(OR(D12=\"\",F12=\"\",G12=\"\"),\"\",IF(OR(L12=\"\",M12=\"\"),D12*F12*G12,D12*F12*G12*L12*M12)))","v":""},null,"qe   °C",{"$f":"IF(Room!F8=\"\",\"\",Room!F8)","v":""},null,null,null,null,null,null,{"$f":"IF(AA12=\"\",\"\",MAX(Z$10:Z11)+1)","v":""},{"$f":"IF(Wall!C10=\"\",\"\",Wall!C10)","v":""},{"$f":"IF(Wall!D10=\"\",\"\",Wall!D10)","v":""},{"$f":"IF(Wall!E10=\"\",\"\",Wall!E10)","v":""},{"$f":"IF(Wall!O10=\"\",\"\",Wall!O10)","v":false},{"$f":"IF(Wall!P10=\"\",\"\",Wall!P10)","v":false},{"$f":"IF(AB12=\"\",\"\",(IF(AC12=\"\",AB12,AB12+AC12)))","v":""},{"$f":"IF(Wall!D35=\"\",\"\",Wall!D35)","v":""},{"$f":"IF(AI12=\"\",\"\",MAX(AH$10:AH11)+1)","v":""},{"$f":"IF(Room!C47=\"\",\"\",Room!C47)","v":""},{"$f":"IF(Room!D47=\"\",\"\",Room!D47)","v":""},{"$f":"IF(Room!E47=\"\",\"\",Room!E47)","v":1.45},{"$f":"IF(Room!F47=\"\",\"\",Room!F47)","v":1.1499999999999999},null,null,2,{"$f":"IF(AO12>Z$45,\"\",VLOOKUP(AO12,Z12:AA31,2,FALSE))","v":""},{"$f":"IF(AO12>AH$45,\"\",VLOOKUP(AO12,AH12:AI43,2,FALSE))","v":""}]
[null,null,null,null,null,{"$f":"IF(B13=\"\",\"\",VLOOKUP(B13,AA$11:AF$30,6,FALSE))","v":""},{"$f":"IF(OR(K13=\"\",J13=\"\"),\"\",K13-J13)","v":""},{"$f":"IF(P13=\"\",\"\",P13)","v":""},null,"",{"$f":"IF(B13=\"\",\"\",IF(S$15<4,C$6,IF(E13=\"\",\"\",C$6+S$14*(E13-1))))","v":""},"","","",{"$f":"IF(B13=\"\",\"\",VLOOKUP(B13,AA$11:AF$30,5,FALSE))","v":""},{"$f":"IF(OR(N13=TRUE,O13=TRUE),\"///\",IF(OR(D13=\"\",F13=\"\",G13=\"\"),\"\",IF(OR(L13=\"\",M13=\"\"),D13*F13*G13,D13*F13*G13*L13*M13)))","v":""},null,"qm,e   °C",{"$f":"IF(Room!F9=\"\",\"\",Room!F9)","v":""},null,null,null,null,null,null,{"$f":"IF(AA13=\"\",\"\",MAX(Z$10:Z12)+1)","v":""},{"$f":"IF(Wall!C11=\"\",\"\",Wall!C11)","v":""},{"$f":"IF(Wall!D11=\"\",\"\",Wall!D11)","v":""},{"$f":"IF(Wall!E11=\"\",\"\",Wall!E11)","v":""},{"$f":"IF(Wall!O11=\"\",\"\",Wall!O11)","v":false},{"$f":"IF(Wall!P11=\"\",\"\",Wall!P11)","v":false},"",{"$f":"IF(Wall!D36=\"\",\"\",Wall!D36)","v":""},{"$f":"IF(AI13=\"\",\"\",MAX(AH$10:AH12)+1)","v":""},{"$f":"IF(Room!C52=\"\",\"\",Room!C52)","v":""},{"$f":"IF(Room!D52=\"\",\"\",Room!D52)","v":""},null,null,null,null,3,"",""]
[null,null,null,null,null,"","","",null,"","","","","","","",null,"Gq,air,i  °C/m",{"$f":"IF(INDIRECT(\"Room!T\"&Y8)=\"\",\"\",INDIRECT(\"Room!T\"&Y8))","v":""},null,null,null,null,null,null,{"$f":"IF(AA14=\"\",\"\",MAX(Z$10:Z13)+1)","v":""},{"$f":"IF(Wall!C12=\"\",\"\",Wall!C12)","v":""},{"$f":"IF(Wall!D12=\"\",\"\",Wall!D12)","v":""},{"$f":"IF(Wall!E12=\"\",\"\",Wall!E12)","v":""},{"$f":"IF(Wall!O12=\"\",\"\",Wall!O12)","v":false},{"$f":"IF(Wall!P12=\"\",\"\",Wall!P12)","v":false},"",{"$f":"IF(Wall!D37=\"\",\"\",Wall!D37)","v":""},{"$f":"IF(AI14=\"\",\"\",MAX(AH$10:AH13)+1)","v":""},{"$f":"IF(Room!C53=\"\",\"\",Room!C53)","v":""},{"$f":"IF(Room!D53=\"\",\"\",Room!D53)","v":""},null,null,null,null,4,"",""]
[null,null,null,null,null,"","","",null,"","","","","","","",null,"hi   m",{"$f":"IF(INDIRECT(\"Room!Q\"&Y8)=\"\",\"\",INDIRECT(\"Room!Q\"&Y8))","v":""},null,null,null,null,null,null,{"$f":"IF(AA15=\"\",\"\",MAX(Z$10:Z14)+1)","v":""},{"$f":"IF(Wall!C13=\"\",\"\",Wall!C13)","v":""},{"$f":"IF(Wall!D13=\"\",\"\",Wall!D13)","v":""},{"$f":"IF(Wall!E13=\"\",\"\",Wall!E13)","v":""},{"$f":"IF(Wall!O13=\"\",\"\",Wall!O13)","v":false},{"$f":"IF(Wall!P13=\"\",\"\",Wall!P13)","v":false},"",{"$f":"IF(Wall!D38=\"\",\"\",Wall!D38)","v":""},{"$f":"IF(AI15=\"\",\"\",MAX(AH$10:AH14)+1)","v":""},{"$f":"IF(Room!C54=\"\",\"\",Room!C54)","v":""},{"$f":"IF(Room!D54=\"\",\"\",Room!D54)","v":""},null,null,null,null,5,"",""]
[null,null,null,null,null,"","","",null,"","","","","","","",null,null,null,null,null,null,null,null,null,{"$f":"IF(AA16=\"\",\"\",MAX(Z$10:Z15)+1)","v":""},{"$f":"IF(Wall!C14=\"\",\"\",Wall!C14)","v":""},{"$f":"IF(Wall!D14=\"\",\"\",Wall!D14)","v":""},{"$f":"IF(Wall!E14=\"\",\"\",Wall!E14)","v":""},{"$f":"IF(Wall!O14=\"\",\"\",Wall!O14)","v":false},{"$f":"IF(Wall!P14=\"\",\"\",Wall!P14)","v":false},"",{"$f":"IF(Wall!D39=\"\",\"\",Wall!D39)","v":""},{"$f":"IF(AI16=\"\",\"\",MAX(AH$10:AH15)+1)","v":""},{"$f":"IF(Room!C55=\"\",\"\",Room!C55)","v":""},{"$f":"IF(Room!D55=\"\",\"\",Room!D55)","v":""},null,null,null,null,6,"",""]
[null,null,null,null,null,"","","",null,"","","","","","","",null,null,null,null,null,null,null,null,null,{"$f":"IF(AA17=\"\",\"\",MAX(Z$10:Z16)+1)","v":""},{"$f":"IF(Wall!C15=\"\",\"\",Wall!C15)","v":""},{"$f":"IF(Wall!D15=\"\",\"\",Wall!D15)","v":""},{"$f":"IF(Wall!E15=\"\",\"\",Wall!E15)","v":""},{"$f":"IF(Wall!O15=\"\",\"\",Wall!O15)","v":false},{"$f":"IF(Wall!P15=\"\",\"\",Wall!P15)","v":false},"",{"$f":"IF(Wall!D40=\"\",\"\",Wall!D40)","v":""},{"$f":"IF(AI17=\"\",\"\",MAX(AH$10:AH16)+1)","v":""},{"$f":"IF(Room!C56=\"\",\"\",Room!C56)","v":""},{"$f":"IF(Room!D56=\"\",\"\",Room!D56)","v":""},null,null,null,null,7,"",""]
[null,null,null,null,null,"","","",null,"","","","","","","",null,null,null,null,null,null,null,null,null,{"$f":"IF(AA18=\"\",\"\",MAX(Z$10:Z17)+1)","v":""},{"$f":"IF(Wall!C16=\"\",\"\",Wall!C16)","v":""},{"$f":"IF(Wall!D16=\"\",\"\",Wall!D16)","v":""},{"$f":"IF(Wall!E16=\"\",\"\",Wall!E16)","v":""},{"$f":"IF(Wall!O16=\"\",\"\",Wall!O16)","v":false},{"$f":"IF(Wall!P16=\"\",\"\",Wall!P16)","v":false},"",{"$f":"IF(Wall!D41=\"\",\"\",Wall!D41)","v":""},{"$f":"IF(AI18=\"\",\"\",MAX(AH$10:AH17)+1)","v":""},{"$f":"IF(Room!C61=\"\",\"\",Room!C61)","v":""},{"$f":"IF(Room!D61=\"\",\"\",Room!D61)","v":""},null,null,null,null,8,"",""]
[null,null,null,null,null,"","","",null,"","","","","","","",null,null,null,null,null,null,null,null,null,{"$f":"IF(AA19=\"\",\"\",MAX(Z$10:Z18)+1)","v":""},{"$f":"IF(Wall!C17=\"\",\"\",Wall!C17)","v":""},{"$f":"IF(Wall!D17=\"\",\"\",Wall!D17)","v":""},{"$f":"IF(Wall!E17=\"\",\"\",Wall!E17)","v":""},{"$f":"IF(Wall!O17=\"\",\"\",Wall!O17)","v":false},{"$f":"IF(Wall!P17=\"\",\"\",Wall!P17)","v":false},"",{"$f":"IF(Wall!D42=\"\",\"\",Wall!D42)","v":""},{"$f":"IF(AI19=\"\",\"\",MAX(AH$10:AH18)+1)","v":""},{"$f":"IF(Room!C62=\"\",\"\",Room!C62)","v":""},{"$f":"IF(Room!D62=\"\",\"\",Room!D62)","v":""},null,null,null,null,9,"",{"$f":"IF(AO19>AH$45,\"\",VLOOKUP(AO19,AH19:AI49,2,FALSE))","v":""}]
[null,null,null,null,null,"","","",null,"","","","","","","",null,null,null,null,null,null,null,null,null,{"$f":"IF(AA20=\"\",\"\",MAX(Z$10:Z19)+1)","v":""},{"$f":"IF(Wall!C18=\"\",\"\",Wall!C18)","v":""},{"$f":"IF(Wall!D18=\"\",\"\",Wall!D18)","v":""},{"$f":"IF(Wall!E18=\"\",\"\",Wall!E18)","v":""},{"$f":"IF(Wall!O18=\"\",\"\",Wall!O18)","v":false},{"$f":"IF(Wall!P18=\"\",\"\",Wall!P18)","v":false},"",{"$f":"IF(Wall!D43=\"\",\"\",Wall!D43)","v":""},{"$f":"IF(AI20=\"\",\"\",MAX(AH$10:AH19)+1)","v":""},{"$f":"IF(Room!C63=\"\",\"\",Room!C63)","v":""},{"$f":"IF(Room!D63=\"\",\"\",Room!D63)","v":""},null,null,null,null,10,"",{"$f":"IF(AO20>AH$45,\"\",VLOOKUP(AO20,AH20:AI49,2,FALSE))","v":""}]
[null,null,null,null,null,"","","",null,"","","","","","","",null,null,null,null,null,null,null,null,null,{"$f":"IF(AA21=\"\",\"\",MAX(Z$10:Z20)+1)","v":""},{"$f":"IF(Wall!C19=\"\",\"\",Wall!C19)","v":""},{"$f":"IF(Wall!D19=\"\",\"\",Wall!D19)","v":""},{"$f":"IF(Wall!E19=\"\",\"\",Wall!E19)","v":""},{"$f":"IF(Wall!O19=\"\",\"\",Wall!O19)","v":false},{"$f":"IF(Wall!P19=\"\",\"\",Wall!P19)","v":false},"",{"$f":"IF(Wall!D44=\"\",\"\",Wall!D44)","v":""},{"$f":"IF(AI21=\"\",\"\",MAX(AH$10:AH20)+1)","v":""},{"$f":"IF(Room!C64=\"\",\"\",Room!C64)","v":""},{"$f":"IF(Room!D64=\"\",\"\",Room!D64)","v":""},null,null,null,null,11,"",{"$f":"IF(AO21>AH$45,\"\",VLOOKUP(AO21,AH21:AI49,2,FALSE))","v":""}]
[null,null,null,null,null,"","","",null,"","","","","","","",null,null,null,null,null,null,null,null,null,{"$f":"IF(AA22=\"\",\"\",MAX(Z$10:Z21)+1)","v":""},{"$f":"IF(Wall!C20=\"\",\"\",Wall!C20)","v":""},{"$f":"IF(Wall!D20=\"\",\"\",Wall!D20)","v":""},{"$f":"IF(Wall!E20=\"\",\"\",Wall!E20)","v":""},{"$f":"IF(Wall!O20=\"\",\"\",Wall!O20)","v":false},{"$f":"IF(Wall!P20=\"\",\"\",Wall!P20)","v":false},"",{"$f":"IF(Wall!D45=\"\",\"\",Wall!D45)","v":""},{"$f":"IF(AI22=\"\",\"\",MAX(AH$10:AH21)+1)","v":""},{"$f":"IF(Room!C65=\"\",\"\",Room!C65)","v":""},{"$f":"IF(Room!D65=\"\",\"\",Room!D65)","v":""},null,null,null,null,12,"",{"$f":"IF(AO22>AH$45,\"\",VLOOKUP(AO22,AH22:AI49,2,FALSE))","v":""}]
[null,null,null,null,null,"","","",null,"","","","","","","",null,null,null,null,null,null,null,null,null,{"$f":"IF(AA23=\"\",\"\",MAX(Z$10:Z22)+1)","v":""},{"$f":"IF(Wall!C21=\"\",\"\",Wall!C21)","v":""},{"$f":"IF(Wall!D21=\"\",\"\",Wall!D21)","v":""},{"$f":"IF(Wall!E21=\"\",\"\",Wall!E21)","v":""},{"$f":"IF(Wall!O21=\"\",\"\",Wall!O21)","v":false},{"$f":"IF(Wall!P21=\"\",\"\",Wall!P21)","v":false},"",{"$f":"IF(Wall!D46=\"\",\"\",Wall!D46)","v":""},{"$f":"IF(AI23=\"\",\"\",MAX(AH$10:AH22)+1)","v":""},{"$f":"IF(Room!C17=\"\",\"\",Room!C17)","v":""},{"$f":"IF(Room!D17=\"\",\"\",Room!D17)","v":""},null,null,null,null,13,"",{"$f":"IF(AO23>AH$45,\"\",VLOOKUP(AO23,AH23:AI49,2,FALSE))","v":""}]
[null,null,null,null,null,"","","",null,"","","","","","","",null,null,null,null,null,null,null,null,null,{"$f":"IF(AA24=\"\",\"\",MAX(Z$10:Z23)+1)","v":""},{"$f":"IF(Wall!C22=\"\",\"\",Wall!C22)","v":""},{"$f":"IF(Wall!D22=\"\",\"\",Wall!D22)","v":""},{"$f":"IF(Wall!E22=\"\",\"\",Wall!E22)","v":""},{"$f":"IF(Wall!O22=\"\",\"\",Wall!O22)","v":false},{"$f":"IF(Wall!P22=\"\",\"\",Wall!P22)","v":false},"",{"$f":"IF(Wall!D47=\"\",\"\",Wall!D47)","v":""},{"$f":"IF(AI24=\"\",\"\",MAX(AH$10:AH23)+1)","v":""},{"$f":"IF(Room!C18=\"\",\"\",Room!C18)","v":""},{"$f":"IF(Room!D18=\"\",\"\",Room!D18)","v":""},null,null,null,null,14,"",{"$f":"IF(AO24>AH$45,\"\",VLOOKUP(AO24,AH24:AI49,2,FALSE))","v":""}]
[null,null,null,null,null,"","","",null,"","","","","","","",null,null,null,null,null,null,null,null,null,{"$f":"IF(AA25=\"\",\"\",MAX(Z$10:Z24)+1)","v":""},{"$f":"IF(Wall!C23=\"\",\"\",Wall!C23)","v":""},{"$f":"IF(Wall!D23=\"\",\"\",Wall!D23)","v":""},{"$f":"IF(Wall!E23=\"\",\"\",Wall!E23)","v":""},{"$f":"IF(Wall!O23=\"\",\"\",Wall!O23)","v":false},{"$f":"IF(Wall!P23=\"\",\"\",Wall!P23)","v":false},"",{"$f":"IF(Wall!D48=\"\",\"\",Wall!D48)","v":""},{"$f":"IF(AI25=\"\",\"\",MAX(AH$10:AH24)+1)","v":""},{"$f":"IF(Room!C19=\"\",\"\",Room!C19)","v":""},{"$f":"IF(Room!D19=\"\",\"\",Room!D19)","v":""},null,null,null,null,15,"",{"$f":"IF(AO25>AH$45,\"\",VLOOKUP(AO25,AH25:AI49,2,FALSE))","v":""}]
[null,null,null,null,null,"","","",null,"","","","","","","",null,null,null,null,null,null,null,null,null,{"$f":"IF(AA26=\"\",\"\",MAX(Z$10:Z25)+1)","v":""},{"$f":"IF(Wall!C24=\"\",\"\",Wall!C24)","v":""},{"$f":"IF(Wall!D24=\"\",\"\",Wall!D24)","v":""},{"$f":"IF(Wall!E24=\"\",\"\",Wall!E24)","v":""},{"$f":"IF(Wall!O24=\"\",\"\",Wall!O24)","v":false},{"$f":"IF(Wall!P24=\"\",\"\",Wall!P24)","v":false},"",{"$f":"IF(Wall!D49=\"\",\"\",Wall!D49)","v":""},{"$f":"IF(AI26=\"\",\"\",MAX(AH$10:AH25)+1)","v":""},{"$f":"IF(Room!C20=\"\",\"\",Room!C20)","v":""},{"$f":"IF(Room!D20=\"\",\"\",Room!D20)","v":""},null,null,null,null,16,"",{"$f":"IF(AO26>AH$45,\"\",VLOOKUP(AO26,AH26:AI49,2,FALSE))","v":""}]
[null,null,null,null,null,"","","",null,"","","","","","","",null,null,null,null,null,null,null,null,null,{"$f":"IF(AA27=\"\",\"\",MAX(Z$10:Z26)+1)","v":""},{"$f":"IF(Wall!C25=\"\",\"\",Wall!C25)","v":""},{"$f":"IF(Wall!D25=\"\",\"\",Wall!D25)","v":""},{"$f":"IF(Wall!E25=\"\",\"\",Wall!E25)","v":""},{"$f":"IF(Wall!O25=\"\",\"\",Wall!O25)","v":false},{"$f":"IF(Wall!P25=\"\",\"\",Wall!P25)","v":false},"",{"$f":"IF(Wall!D50=\"\",\"\",Wall!D50)","v":""},{"$f":"IF(AI27=\"\",\"\",MAX(AH$10:AH26)+1)","v":""},{"$f":"IF(Room!C21=\"\",\"\",Room!C21)","v":""},{"$f":"IF(Room!D21=\"\",\"\",Room!D21)","v":""},null,null,null,null,17,"",{"$f":"IF(AO27>AH$45,\"\",VLOOKUP(AO27,AH27:AI49,2,FALSE))","v":""}]
[null,null,null,null,null,"","","",null,"","","","","","","",null,null,null,null,null,null,null,null,null,{"$f":"IF(AA28=\"\",\"\",MAX(Z$10:Z27)+1)","v":""},{"$f":"IF(Wall!C26=\"\",\"\",Wall!C26)","v":""},{"$f":"IF(Wall!D26=\"\",\"\",Wall!D26)","v":""},{"$f":"IF(Wall!E26=\"\",\"\",Wall!E26)","v":""},{"$f":"IF(Wall!O26=\"\",\"\",Wall!O26)","v":false},{"$f":"IF(Wall!P26=\"\",\"\",Wall!P26)","v":false},"",{"$f":"IF(Wall!D51=\"\",\"\",Wall!D51)","v":""},{"$f":"IF(AI28=\"\",\"\",MAX(AH$10:AH27)+1)","v":""},{"$f":"IF(Room!C22=\"\",\"\",Room!C22)","v":""},{"$f":"IF(Room!D22=\"\",\"\",Room!D22)","v":""},null,null,null,null,18,"",""]
[null,null,null,null,null,"","","",null,"","","","","","","",null,null,null,null,null,null,null,null,null,{"$f":"IF(AA29=\"\",\"\",MAX(Z$10:Z28)+1)","v":""},{"$f":"IF(Wall!C27=\"\",\"\",Wall!C27)","v":""},{"$f":"IF(Wall!D27=\"\",\"\",Wall!D27)","v":""},{"$f":"IF(Wall!E27=\"\",\"\",Wall!E27)","v":""},{"$f":"IF(Wall!O27=\"\",\"\",Wall!O27)","v":false},{"$f":"IF(Wall!P27=\"\",\"\",Wall!P27)","v":false},"",{"$f":"IF(Wall!D52=\"\",\"\",Wall!D52)","v":""},{"$f":"IF(AI29=\"\",\"\",MAX(AH$10:AH28)+1)","v":""},{"$f":"IF(Room!C23=\"\",\"\",Room!C23)","v":""},{"$f":"IF(Room!D23=\"\",\"\",Room!D23)","v":""},null,null,null,null,19,"",""]
[null,null,null,null,null,"","","",null,"","","","","","","",null,null,null,null,null,null,null,null,null,{"$f":"IF(AA30=\"\",\"\",MAX(Z$10:Z29)+1)","v":""},{"$f":"IF(Wall!C28=\"\",\"\",Wall!C28)","v":""},{"$f":"IF(Wall!D28=\"\",\"\",Wall!D28)","v":""},{"$f":"IF(Wall!E28=\"\",\"\",Wall!E28)","v":""},{"$f":"IF(Wall!O28=\"\",\"\",Wall!O28)","v":false},{"$f":"IF(Wall!P28=\"\",\"\",Wall!P28)","v":false},"",{"$f":"IF(Wall!D53=\"\",\"\",Wall!D53)","v":""},{"$f":"IF(AI30=\"\",\"\",MAX(AH$10:AH29)+1)","v":""},{"$f":"IF(Room!C24=\"\",\"\",Room!C24)","v":""},{"$f":"IF(Room!D24=\"\",\"\",Room!D24)","v":""},null,null,null,null,20,"",""]
[null,null,null,null,null,"","","",null,"","","","","","","",null,null,null,null,null,null,null,null,null,null,null,null,null,null,null,null,null,{"$f":"IF(AI31=\"\",\"\",MAX(AH$10:AH30)+1)","v":""},{"$f":"IF(Room!C25=\"\",\"\",Room!C25)","v":""},{"$f":"IF(Room!D25=\"\",\"\",Room!D25)","v":""},null,null,null,null,21,{"$f":"IF(AO31>Z$45,\"\",VLOOKUP(AO31,Z31:AA49,2,FALSE))","v":""},""]
[null,null,null,null,null,"","","",null,"","","","","","","",null,null,null,null,null,null,null,null,null,null,null,null,null,null,null,null,null,{"$f":"IF(AI32=\"\",\"\",MAX(AH$10:AH31)+1)","v":""},{"$f":"IF(Room!C26=\"\",\"\",Room!C26)","v":""},{"$f":"IF(Room!D26=\"\",\"\",Room!D26)","v":""},null,null,null,null,22,{"$f":"IF(AO32>Z$45,\"\",VLOOKUP(AO32,Z32:AA49,2,FALSE))","v":""},""]
[null,null,null,null,null,"","","",null,"","","","","","","",null,null,null,null,null,null,null,null,null,null,null,null,null,null,null,null,null,{"$f":"IF(AI33=\"\",\"\",MAX(AH$10:AH32)+1)","v":""},{"$f":"IF(Room!C27=\"\",\"\",Room!C27)","v":""},{"$f":"IF(Room!D27=\"\",\"\",Room!D27)","v":""},null,null,null,null,23,{"$f":"IF(AO33>Z$45,\"\",VLOOKUP(AO33,Z33:AA49,2,FALSE))","v":""},""]
[null,null,null,null,null,"","","",null,"","","","","","","",null,null,null,null,null,null,null,null,null,null,null,null,null,null,null,null,null,{"$f":"IF(AI34=\"\",\"\",MAX(AH$10:AH33)+1)","v":""},{"$f":"IF(Room!C28=\"\",\"\",Room!C28)","v":""},{"$f":"IF(Room!D28=\"\",\"\",Room!D28)","v":""},null,null,null,null,24,{"$f":"IF(AO34>Z$45,\"\",VLOOKUP(AO34,Z34:AA49,2,FALSE))","v":""},""]
[null,null,null,null,null,"","","",null,"","","","","","","",null,null,null,null,null,null,null,null,null,null,null,null,null,null,null,null,null,{"$f":"IF(AI35=\"\",\"\",MAX(AH$10:AH34)+1)","v":""},{"$f":"IF(Room!C29=\"\",\"\",Room!C29)","v":""},{"$f":"IF(Room!D29=\"\",\"\",Room!D29)","v":""},null,null,null,null,25,{"$f":"IF(AO35>Z$45,\"\",VLOOKUP(AO35,Z35:AA49,2,FALSE))","v":""},""]
[null,null,null,null,null,"","","",null,"","","","","","","",null,null,null,null,null,null,null,null,null,null,null,null,null,null,null,null,null,{"$f":"IF(AI36=\"\",\"\",MAX(AH$10:AH35)+1)","v":""},{"$f":"IF(Room!C30=\"\",\"\",Room!C30)","v":""},{"$f":"IF(Room!D30=\"\",\"\",Room!D30)","v":""},null,null,null,null,26,{"$f":"IF(AO36>Z$45,\"\",VLOOKUP(AO36,Z36:AA49,2,FALSE))","v":""},""]
[null,null,null,null,null,"","","",null,"","","","","","","",null,null,null,null,null,null,null,null,null,null,null,null,null,null,null,null,null,{"$f":"IF(AI37=\"\",\"\",MAX(AH$10:AH36)+1)","v":""},{"$f":"IF(Room!C31=\"\",\"\",Room!C31)","v":""},{"$f":"IF(Room!D31=\"\",\"\",Room!D31)","v":""},null,null,null,null,27,{"$f":"IF(AO37>Z$45,\"\",VLOOKUP(AO37,Z37:AA49,2,FALSE))","v":""},""]
[null,null,null,null,null,"","","",null,"","","","","","","",null,null,null,null,null,null,null,null,null,null,null,null,null,null,null,null,null,{"$f":"IF(AI38=\"\",\"\",MAX(AH$10:AH37)+1)","v":""},{"$f":"IF(Room!C32=\"\",\"\",Room!C32)","v":""},{"$f":"IF(Room!D32=\"\",\"\",Room!D32)","v":""},null,null,null,null,28,{"$f":"IF(AO38>Z$45,\"\",VLOOKUP(AO38,Z38:AA49,2,FALSE))","v":""},""]
[null,null,null,null,null,"","","",null,"","","","","","","",null,null,null,null,null,null,null,null,null,null,null,null,null,null,null,null,null,{"$f":"IF(AI39=\"\",\"\",MAX(AH$10:AH38)+1)","v":""},{"$f":"IF(Room!C33=\"\",\"\",Room!C33)","v":""},{"$f":"IF(Room!D33=\"\",\"\",Room!D33)","v":""},null,null,null,null,29,{"$f":"IF(AO39>Z$45,\"\",VLOOKUP(AO39,Z39:AA49,2,FALSE))","v":""},""]
[null,null,null,null,null,"","","",null,"","","","","","","",null,null,null,null,null,null,null,null,null,null,null,null,null,null,null,null,null,{"$f":"IF(AI40=\"\",\"\",MAX(AH$10:AH39)+1)","v":""},{"$f":"IF(Room!C34=\"\",\"\",Room!C34)","v":""},{"$f":"IF(Room!D34=\"\",\"\",Room!D34)","v":""},null,null,null,null,30,{"$f":"IF(AO40>Z$45,\"\",VLOOKUP(AO40,Z40:AA50,2,FALSE))","v":""},""]
[null,null,null,null,null,"","","",null,"","","","","","","",null,null,null,null,null,null,null,null,null,null,null,null,null,null,null,null,null,{"$f":"IF(AI41=\"\",\"\",MAX(AH$10:AH40)+1)","v":""},{"$f":"IF(Room!C35=\"\",\"\",Room!C35)","v":""},{"$f":"IF(Room!D35=\"\",\"\",Room!D35)","v":""},null,null,null,null,31,{"$f":"IF(AO41>Z$45,\"\",VLOOKUP(AO41,Z41:AA51,2,FALSE))","v":""},""]
[null,null,null,null,null,null,null,null,null,null,null,null,null,null,null,null,null,null,null,null,null,null,null,null,null,null,null,null,null,null,null,null,null,{"$f":"IF(AI42=\"\",\"\",MAX(AH$10:AH41)+1)","v":""},{"$f":"IF(Room!C36=\"\",\"\",Room!C36)","v":""},{"$f":"IF(Room!D36=\"\",\"\",Room!D36)","v":""},null,null,null,null,32,{"$f":"IF(AO42>Z$45,\"\",VLOOKUP(AO42,Z42:AA52,2,FALSE))","v":""},""]
[]
[]
[null,null,null,null,null,null,null,null,null,null,null,null,null,null,null,null,null,null,null,null,null,null,null,null,"Max",{"$f":"MAX(Z11:Z30)","v":0},null,null,null,null,null,null,"Max",{"$f":"MAX(AH11:AH42)","v":0}]

{"sheet":"T03","index":9,"n_rows":45,"n_cols":43,"rows_kept":45,"cut":false,"hidden":false,"merged":[[3,1,3,7],[7,1,7,7]]}
[]
[]
[]
[null,{"$f":"Langage!A54","v":"Perte thermique par transmission"}]
[]
[null,{"$f":"IF(S10=\"\",\"\",S10)","v":""},{"$f":"IF(S11=\"\",\"\",S11)","v":""},"°C",null,null,"FT,i   W",{"$f":"IF(C6=\"\",\"\",SUM(H12:H41))","v":""},null,null,null,null,null,"FT,i   W",null,{"$f":"IF(C6=\"\",\"\",SUM(P12:P40))","v":""},null,"Ceci reprend les valeurs dans les les autres onglets de façon à pouvoir les utiliser dans le présent onglet.",null,null,null,null,null,null,null,null,null,null,null,null,null,null,null,null,null,null,null,null,null,null,"Ceci recrée des listes sans vides pour les menus déroulants"]
[]
[null,null,null,null,null,null,null,null,null,null,null,null,null,null,null,null,null,"N° onglet",3,"Valeur à changer dans toutes les feuilles T",null,null,null,null,{"$f":"16+S8","v":19}]
[]
[null,null,null,"Ak","hm,k","Uk","DT","FT,i,k",null,"Tout","Tin","fqann","fGW","Chff sol","Chff mur","FT,i,k",null,"Espace",{"$f":"IF(INDIRECT(\"Room!C\"&Y8)=\"\",\"\",CONCATENATE(INDIRECT(\"Room!B\"&Y8),\". \",INDIRECT(\"Room!C\"&Y8)))","v":""},null,null,null,null,null,null,null,"Parois","U","DUTB","Chff sol","Chff mur","Utot",null,null,"Espaces",null,null,null,null,null,null,"Parois","Espace"]
[null,{"$f":"Langage!A20","v":"Parois"},{"$f":"Langage!A24","v":"Espace"},"m²","m","W/m².K","°C","W",null,null,null,null,null,null,"W",null,null,"qint   °C",{"$f":"IF(INDIRECT(\"Room!D\"&Y8)=\"\",\"\",INDIRECT(\"Room!D\"&Y8))","v":""},null,null,null,null,null,null,{"$f":"IF(AA11=\"\",\"\",MAX(Z$10:Z10)+1)","v":""},{"$f":"IF(Wall!C9=\"\",\"\",Wall!C9)","v":""},{"$f":"IF(Wall!D9=\"\",\"\",Wall!D9)","v":""},{"$f":"IF(Wall!E9=\"\",\"\",Wall!E9)","v":""},{"$f":"IF(Wall!O9=\"\",\"\",Wall!O9)","v":false},{"$f":"IF(Wall!P9=\"\",\"\",Wall!P9)","v":false},{"$f":"IF(AB11=\"\",\"\",(IF(AC11=\"\",AB11,AB11+AC11)))","v":""},{"$f":"IF(Wall!D34=\"\",\"\",Wall!D34)","v":""},{"$f":"IF(AI11=\"\",\"\",MAX(AH$10:AH10)+1)","v":""},{"$f":"IF(Room!C42=\"\",\"\",Room!C42)","v":""},{"$f":"IF(Room!D42=\"\",\"\",Room!D42)","v":""},null,null,null,null,1,{"$f":"IF(AO11>Z$45,\"\",VLOOKUP(AO11,Z11:AA30,2,FALSE))","v":""},{"$f":"IF(AO11>AH$45,\"\",VLOOKUP(AO11,AH11:AI42,2,FALSE))","v":""}]
[null,null,null,null,null,{"$f":"IF(B12=\"\",\"\",VLOOKUP(B12,AA$11:AF$30,6,FALSE))","v":""},{"$f":"IF(OR(K12=\"\",J12=\"\"),\"\",K12-J12)","v":""},{"$f":"IF(P12=\"\",\"\",P12)","v":""},null,{"$f":"IF(C12=\"\",\"\",VLOOKUP(C12,AI$11:AJ$42,2,FALSE))","v":""},{"$f":"IF(B12=\"\",\"\",IF(S$15<4,C$6,IF(E12=\"\",\"\",C$6+S$14*(E12-1))))","v":""},{"$f":"IF(C12=\"\",\"\",IF(VLOOKUP(C12,AI$11:AL$42,3,FALSE)=\"\",\"\",VLOOKUP(C12,AI$11:AL$42,3,FALSE)))","v":""},{"$f":"IF(C12=\"\",\"\",IF(VLOOKUP(C12,AI$11:AL$42,4,FALSE)=\"\",\"\",VLOOKUP(C12,AI$11:AL$42,4,FALSE)))","v":""},{"$f":"IF(B12=\"\",\"\",VLOOKUP(B12,AA$11:AF$30,4,FALSE))","v":""},{"$f":"IF(B12=\"\",\"\",VLOOKUP(B12,AA$11:AF$30,5,FALSE))","v":""},{"$f":"IF(OR(N12=TRUE,O12=TRUE),\"///\",IF(OR(D12=\"\",F12=\"\",G12=\"\"),\"\",IF(OR(L12=\"\",M12=\"\"),D12*F12*G12,D12*F12*G12*L12*M12)))","v":""},null,"qe   °C",{"$f":"IF(Room!F8=\"\",\"\",Room!F8)","v":""},null,null,null,null,null,null,{"$f":"IF(AA12=\"\",\"\",MAX(Z$10:Z11)+1)","v":""},{"$f":"IF(Wall!C10=\"\",\"\",Wall!C10)","v":""},{"$f":"IF(Wall!D10=\"\",\"\",Wall!D10)","v":""},{"$f":"IF(Wall!E10=\"\",\"\",Wall!E10)","v":""},{"$f":"IF(Wall!O10=\"\",\"\",Wall!O10)","v":false},{"$f":"IF(Wall!P10=\"\",\"\",Wall!P10)","v":false},{"$f":"IF(AB12=\"\",\"\",(IF(AC12=\"\",AB12,AB12+AC12)))","v":""},{"$f":"IF(Wall!D35=\"\",\"\",Wall!D35)","v":""},{"$f":"IF(AI12=\"\",\"\",MAX(AH$10:AH11)+1)","v":""},{"$f":"IF(Room!C47=\"\",\"\",Room!C47)","v":""},{"$f":"IF(Room!D47=\"\",\"\",Room!D47)","v":""},{"$f":"IF(Room!E47=\"\",\"\",Room!E47)","v":1.45},{"$f":"IF(Room!F47=\"\",\"\",Room!F47)","v":1.1499999999999999},null,null,2,{"$f":"IF(AO12>Z$45,\"\",VLOOKUP(AO12,Z12:AA31,2,FALSE))","v":""},{"$f":"IF(AO12>AH$45,\"\",VLOOKUP(AO12,AH12:AI43,2,FALSE))","v":""}]
[null,null,null,null,null,{"$f":"IF(B13=\"\",\"\",VLOOKUP(B13,AA$11:AF$30,6,FALSE))","v":""},{"$f":"IF(OR(K13=\"\",J13=\"\"),\"\",K13-J13)","v":""},{"$f":"IF(P13=\"\",\"\",P13)","v":""},null,"",{"$f":"IF(B13=\"\",\"\",IF(S$15<4,C$6,IF(E13=\"\",\"\",C$6+S$14*(E13-1))))","v":""},"","","",{"$f":"IF(B13=\"\",\"\",VLOOKUP(B13,AA$11:AF$30,5,FALSE))","v":""},{"$f":"IF(OR(N13=TRUE,O13=TRUE),\"///\",IF(OR(D13=\"\",F13=\"\",G13=\"\"),\"\",IF(OR(L13=\"\",M13=\"\"),D13*F13*G13,D13*F13*G13*L13*M13)))","v":""},null,"qm,e   °C",{"$f":"IF(Room!F9=\"\",\"\",Room!F9)","v":""},null,null,null,null,null,null,{"$f":"IF(AA13=\"\",\"\",MAX(Z$10:Z12)+1)","v":""},{"$f":"IF(Wall!C11=\"\",\"\",Wall!C11)","v":""},{"$f":"IF(Wall!D11=\"\",\"\",Wall!D11)","v":""},{"$f":"IF(Wall!E11=\"\",\"\",Wall!E11)","v":""},{"$f":"IF(Wall!O11=\"\",\"\",Wall!O11)","v":false},{"$f":"IF(Wall!P11=\"\",\"\",Wall!P11)","v":false},"",{"$f":"IF(Wall!D36=\"\",\"\",Wall!D36)","v":""},{"$f":"IF(AI13=\"\",\"\",MAX(AH$10:AH12)+1)","v":""},{"$f":"IF(Room!C52=\"\",\"\",Room!C52)","v":""},{"$f":"IF(Room!D52=\"\",\"\",Room!D52)","v":""},null,null,null,null,3,"",""]
[null,null,null,null,null,"","","",null,"","","","","","","",null,"Gq,air,i  °C/m",{"$f":"IF(INDIRECT(\"Room!T\"&Y8)=\"\",\"\",INDIRECT(\"Room!T\"&Y8))","v":""},null,null,null,null,null,null,{"$f":"IF(AA14=\"\",\"\",MAX(Z$10:Z13)+1)","v":""},{"$f":"IF(Wall!C12=\"\",\"\",Wall!C12)","v":""},{"$f":"IF(Wall!D12=\"\",\"\",Wall!D12)","v":""},{"$f":"IF(Wall!E12=\"\",\"\",Wall!E12)","v":""},{"$f":"IF(Wall!O12=\"\",\"\",Wall!O12)","v":false},{"$f":"IF(Wall!P12=\"\",\"\",Wall!P12)","v":false},"",{"$f":"IF(Wall!D37=\"\",\"\",Wall!D37)","v":""},{"$f":"IF(AI14=\"\",\"\",MAX(AH$10:AH13)+1)","v":""},{"$f":"IF(Room!C53=\"\",\"\",Room!C53)","v":""},{"$f":"IF(Room!D53=\"\",\"\",Room!D53)","v":""},null,null,null,null,4,"",""]
[null,null,null,null,null,"","","",null,"","","","","","","",null,"hi   m",{"$f":"IF(INDIRECT(\"Room!Q\"&Y8)=\"\",\"\",INDIRECT(\"Room!Q\"&Y8))","v":""},null,null,null,null,null,null,{"$f":"IF(AA15=\"\",\"\",MAX(Z$10:Z14)+1)","v":""},{"$f":"IF(Wall!C13=\"\",\"\",Wall!C13)","v":""},{"$f":"IF(Wall!D13=\"\",\"\",Wall!D13)","v":""},{"$f":"IF(Wall!E13=\"\",\"\",Wall!E13)","v":""},{"$f":"IF(Wall!O13=\"\",\"\",Wall!O13)","v":false},{"$f":"IF(Wall!P13=\"\",\"\",Wall!P13)","v":false},"",{"$f":"IF(Wall!D38=\"\",\"\",Wall!D38)","v":""},{"$f":"IF(AI15=\"\",\"\",MAX(AH$10:AH14)+1)","v":""},{"$f":"IF(Room!C54=\"\",\"\",Room!C54)","v":""},{"$f":"IF(Room!D54=\"\",\"\",Room!D54)","v":""},null,null,null,null,5,"",""]
[null,null,null,null,null,"","","",null,"","","","","","","",null,null,null,null,null,null,null,null,null,{"$f":"IF(AA16=\"\",\"\",MAX(Z$10:Z15)+1)","v":""},{"$f":"IF(Wall!C14=\"\",\"\",Wall!C14)","v":""},{"$f":"IF(Wall!D14=\"\",\"\",Wall!D14)","v":""},{"$f":"IF(Wall!E14=\"\",\"\",Wall!E14)","v":""},{"$f":"IF(Wall!O14=\"\",\"\",Wall!O14)","v":false},{"$f":"IF(Wall!P14=\"\",\"\",Wall!P14)","v":false},"",{"$f":"IF(Wall!D39=\"\",\"\",Wall!D39)","v":""},{"$f":"IF(AI16=\"\",\"\",MAX(AH$10:AH15)+1)","v":""},{"$f":"IF(Room!C55=\"\",\"\",Room!C55)","v":""},{"$f":"IF(Room!D55=\"\",\"\",Room!D55)","v":""},null,null,null,null,6,"",""]
[null,null,null,null,null,"","","",null,"","","","","","","",null,null,null,null,null,null,null,null,null,{"$f":"IF(AA17=\"\",\"\",MAX(Z$10:Z16)+1)","v":""},{"$f":"IF(Wall!C15=\"\",\"\",Wall!C15)","v":""},{"$f":"IF(Wall!D15=\"\",\"\",Wall!D15)","v":""},{"$f":"IF(Wall!E15=\"\",\"\",Wall!E15)","v":""},{"$f":"IF(Wall!O15=\"\",\"\",Wall!O15)","v":false},{"$f":"IF(Wall!P15=\"\",\"\",Wall!P15)","v":false},"",{"$f":"IF(Wall!D40=\"\",\"\",Wall!D40)","v":""},{"$f":"IF(AI17=\"\",\"\",MAX(AH$10:AH16)+1)","v":""},{"$f":"IF(Room!C56=\"\",\"\",Room!C56)","v":""},{"$f":"IF(Room!D56=\"\",\"\",Room!D56)","v":""},null,null,null,null,7,"",""]
[null,null,null,null,null,"","","",null,"","","","","","","",null,null,null,null,null,null,null,null,null,{"$f":"IF(AA18=\"\",\"\",MAX(Z$10:Z17)+1)","v":""},{"$f":"IF(Wall!C16=\"\",\"\",Wall!C16)","v":""},{"$f":"IF(Wall!D16=\"\",\"\",Wall!D16)","v":""},{"$f":"IF(Wall!E16=\"\",\"\",Wall!E16)","v":""},{"$f":"IF(Wall!O16=\"\",\"\",Wall!O16)","v":false},{"$f":"IF(Wall!P16=\"\",\"\",Wall!P16)","v":false},"",{"$f":"IF(Wall!D41=\"\",\"\",Wall!D41)","v":""},{"$f":"IF(AI18=\"\",\"\",MAX(AH$10:AH17)+1)","v":""},{"$f":"IF(Room!C61=\"\",\"\",Room!C61)","v":""},{"$f":"IF(Room!D61=\"\",\"\",Room!D61)","v":""},null,null,null,null,8,"",""]
[null,null,null,null,null,"","","",null,"","","","","","","",null,null,null,null,null,null,null,null,null,{"$f":"IF(AA19=\"\",\"\",MAX(Z$10:Z18)+1)","v":""},{"$f":"IF(Wall!C17=\"\",\"\",Wall!C17)","v":""},{"$f":"IF(Wall!D17=\"\",\"\",Wall!D17)","v":""},{"$f":"IF(Wall!E17=\"\",\"\",Wall!E17)","v":""},{"$f":"IF(Wall!O17=\"\",\"\",Wall!O17)","v":false},{"$f":"IF(Wall!P17=\"\",\"\",Wall!P17)","v":false},"",{"$f":"IF(Wall!D42=\"\",\"\",Wall!D42)","v":""},{"$f":"IF(AI19=\"\",\"\",MAX(AH$10:AH18)+1)","v":""},{"$f":"IF(Room!C62=\"\",\"\",Room!C62)","v":""},{"$f":"IF(Room!D62=\"\",\"\",Room!D62)","v":""},null,null,null,null,9,"",{"$f":"IF(AO19>AH$45,\"\",VLOOKUP(AO19,AH19:AI49,2,FALSE))","v":""}]
[null,null,null,null,null,"","","",null,"","","","","","","",null,null,null,null,null,null,null,null,null,{"$f":"IF(AA20=\"\",\"\",MAX(Z$10:Z19)+1)","v":""},{"$f":"IF(Wall!C18=\"\",\"\",Wall!C18)","v":""},{"$f":"IF(Wall!D18=\"\",\"\",Wall!D18)","v":""},{"$f":"IF(Wall!E18=\"\",\"\",Wall!E18)","v":""},{"$f":"IF(Wall!O18=\"\",\"\",Wall!O18)","v":false},{"$f":"IF(Wall!P18=\"\",\"\",Wall!P18)","v":false},"",{"$f":"IF(Wall!D43=\"\",\"\",Wall!D43)","v":""},{"$f":"IF(AI20=\"\",\"\",MAX(AH$10:AH19)+1)","v":""},{"$f":"IF(Room!C63=\"\",\"\",Room!C63)","v":""},{"$f":"IF(Room!D63=\"\",\"\",Room!D63)","v":""},null,null,null,null,10,"",{"$f":"IF(AO20>AH$45,\"\",VLOOKUP(AO20,AH20:AI49,2,FALSE))","v":""}]
[null,null,null,null,null,"","","",null,"","","","","","","",null,null,null,null,null,null,null,null,null,{"$f":"IF(AA21=\"\",\"\",MAX(Z$10:Z20)+1)","v":""},{"$f":"IF(Wall!C19=\"\",\"\",Wall!C19)","v":""},{"$f":"IF(Wall!D19=\"\",\"\",Wall!D19)","v":""},{"$f":"IF(Wall!E19=\"\",\"\",Wall!E19)","v":""},{"$f":"IF(Wall!O19=\"\",\"\",Wall!O19)","v":false},{"$f":"IF(Wall!P19=\"\",\"\",Wall!P19)","v":false},"",{"$f":"IF(Wall!D44=\"\",\"\",Wall!D44)","v":""},{"$f":"IF(AI21=\"\",\"\",MAX(AH$10:AH20)+1)","v":""},{"$f":"IF(Room!C64=\"\",\"\",Room!C64)","v":""},{"$f":"IF(Room!D64=\"\",\"\",Room!D64)","v":""},null,null,null,null,11,"",{"$f":"IF(AO21>AH$45,\"\",VLOOKUP(AO21,AH21:AI49,2,FALSE))","v":""}]
[null,null,null,null,null,"","","",null,"","","","","","","",null,null,null,null,null,null,null,null,null,{"$f":"IF(AA22=\"\",\"\",MAX(Z$10:Z21)+1)","v":""},{"$f":"IF(Wall!C20=\"\",\"\",Wall!C20)","v":""},{"$f":"IF(Wall!D20=\"\",\"\",Wall!D20)","v":""},{"$f":"IF(Wall!E20=\"\",\"\",Wall!E20)","v":""},{"$f":"IF(Wall!O20=\"\",\"\",Wall!O20)","v":false},{"$f":"IF(Wall!P20=\"\",\"\",Wall!P20)","v":false},"",{"$f":"IF(Wall!D45=\"\",\"\",Wall!D45)","v":""},{"$f":"IF(AI22=\"\",\"\",MAX(AH$10:AH21)+1)","v":""},{"$f":"IF(Room!C65=\"\",\"\",Room!C65)","v":""},{"$f":"IF(Room!D65=\"\",\"\",Room!D65)","v":""},null,null,null,null,12,"",{"$f":"IF(AO22>AH$45,\"\",VLOOKUP(AO22,AH22:AI49,2,FALSE))","v":""}]
[null,null,null,null,null,"","","",null,"","","","","","","",null,null,null,null,null,null,null,null,null,{"$f":"IF(AA23=\"\",\"\",MAX(Z$10:Z22)+1)","v":""},{"$f":"IF(Wall!C21=\"\",\"\",Wall!C21)","v":""},{"$f":"IF(Wall!D21=\"\",\"\",Wall!D21)","v":""},{"$f":"IF(Wall!E21=\"\",\"\",Wall!E21)","v":""},{"$f":"IF(Wall!O21=\"\",\"\",Wall!O21)","v":false},{"$f":"IF(Wall!P21=\"\",\"\",Wall!P21)","v":false},"",{"$f":"IF(Wall!D46=\"\",\"\",Wall!D46)","v":""},{"$f":"IF(AI23=\"\",\"\",MAX(AH$10:AH22)+1)","v":""},{"$f":"IF(Room!C17=\"\",\"\",Room!C17)","v":""},{"$f":"IF(Room!D17=\"\",\"\",Room!D17)","v":""},null,null,null,null,13,"",{"$f":"IF(AO23>AH$45,\"\",VLOOKUP(AO23,AH23:AI49,2,FALSE))","v":""}]
[null,null,null,null,null,"","","",null,"","","","","","","",null,null,null,null,null,null,null,null,null,{"$f":"IF(AA24=\"\",\"\",MAX(Z$10:Z23)+1)","v":""},{"$f":"IF(Wall!C22=\"\",\"\",Wall!C22)","v":""},{"$f":"IF(Wall!D22=\"\",\"\",Wall!D22)","v":""},{"$f":"IF(Wall!E22=\"\",\"\",Wall!E22)","v":""},{"$f":"IF(Wall!O22=\"\",\"\",Wall!O22)","v":false},{"$f":"IF(Wall!P22=\"\",\"\",Wall!P22)","v":false},"",{"$f":"IF(Wall!D47=\"\",\"\",Wall!D47)","v":""},{"$f":"IF(AI24=\"\",\"\",MAX(AH$10:AH23)+1)","v":""},{"$f":"IF(Room!C18=\"\",\"\",Room!C18)","v":""},{"$f":"IF(Room!D18=\"\",\"\",Room!D18)","v":""},null,null,null,null,14,"",{"$f":"IF(AO24>AH$45,\"\",VLOOKUP(AO24,AH24:AI49,2,FALSE))","v":""}]
[null,null,null,null,null,"","","",null,"","","","","","","",null,null,null,null,null,null,null,null,null,{"$f":"IF(AA25=\"\",\"\",MAX(Z$10:Z24)+1)","v":""},{"$f":"IF(Wall!C23=\"\",\"\",Wall!C23)","v":""},{"$f":"IF(Wall!D23=\"\",\"\",Wall!D23)","v":""},{"$f":"IF(Wall!E23=\"\",\"\",Wall!E23)","v":""},{"$f":"IF(Wall!O23=\"\",\"\",Wall!O23)","v":false},{"$f":"IF(Wall!P23=\"\",\"\",Wall!P23)","v":false},"",{"$f":"IF(Wall!D48=\"\",\"\",Wall!D48)","v":""},{"$f":"IF(AI25=\"\",\"\",MAX(AH$10:AH24)+1)","v":""},{"$f":"IF(Room!C19=\"\",\"\",Room!C19)","v":""},{"$f":"IF(Room!D19=\"\",\"\",Room!D19)","v":""},null,null,null,null,15,"",{"$f":"IF(AO25>AH$45,\"\",VLOOKUP(AO25,AH25:AI49,2,FALSE))","v":""}]
[null,null,null,null,null,"","","",null,"","","","","","","",null,null,null,null,null,null,null,null,null,{"$f":"IF(AA26=\"\",\"\",MAX(Z$10:Z25)+1)","v":""},{"$f":"IF(Wall!C24=\"\",\"\",Wall!C24)","v":""},{"$f":"IF(Wall!D24=\"\",\"\",Wall!D24)","v":""},{"$f":"IF(Wall!E24=\"\",\"\",Wall!E24)","v":""},{"$f":"IF(Wall!O24=\"\",\"\",Wall!O24)","v":false},{"$f":"IF(Wall!P24=\"\",\"\",Wall!P24)","v":false},"",{"$f":"IF(Wall!D49=\"\",\"\",Wall!D49)","v":""},{"$f":"IF(AI26=\"\",\"\",MAX(AH$10:AH25)+1)","v":""},{"$f":"IF(Room!C20=\"\",\"\",Room!C20)","v":""},{"$f":"IF(Room!D20=\"\",\"\",Room!D20)","v":""},null,null,null,null,16,"",{"$f":"IF(AO26>AH$45,\"\",VLOOKUP(AO26,AH26:AI49,2,FALSE))","v":""}]
[null,null,null,null,null,"","","",null,"","","","","","","",null,null,null,null,null,null,null,null,null,{"$f":"IF(AA27=\"\",\"\",MAX(Z$10:Z26)+1)","v":""},{"$f":"IF(Wall!C25=\"\",\"\",Wall!C25)","v":""},{"$f":"IF(Wall!D25=\"\",\"\",Wall!D25)","v":""},{"$f":"IF(Wall!E25=\"\",\"\",Wall!E25)","v":""},{"$f":"IF(Wall!O25=\"\",\"\",Wall!O25)","v":false},{"$f":"IF(Wall!P25=\"\",\"\",Wall!P25)","v":false},"",{"$f":"IF(Wall!D50=\"\",\"\",Wall!D50)","v":""},{"$f":"IF(AI27=\"\",\"\",MAX(AH$10:AH26)+1)","v":""},{"$f":"IF(Room!C21=\"\",\"\",Room!C21)","v":""},{"$f":"IF(Room!D21=\"\",\"\",Room!D21)","v":""},null,null,null,null,17,"",{"$f":"IF(AO27>AH$45,\"\",VLOOKUP(AO27,AH27:AI49,2,FALSE))","v":""}]
[null,null,null,null,null,"","","",null,"","","","","","","",null,null,null,null,null,null,null,null,null,{"$f":"IF(AA28=\"\",\"\",MAX(Z$10:Z27)+1)","v":""},{"$f":"IF(Wall!C26=\"\",\"\",Wall!C26)","v":""},{"$f":"IF(Wall!D26=\"\",\"\",Wall!D26)","v":""},{"$f":"IF(Wall!E26=\"\",\"\",Wall!E26)","v":""},{"$f":"IF(Wall!O26=\"\",\"\",Wall!O26)","v":false},{"$f":"IF(Wall!P26=\"\",\"\",Wall!P26)","v":false},"",{"$f":"IF(Wall!D51=\"\",\"\",Wall!D51)","v":""},{"$f":"IF(AI28=\"\",\"\",MAX(AH$10:AH27)+1)","v":""},{"$f":"IF(Room!C22=\"\",\"\",Room!C22)","v":""},{"$f":"IF(Room!D22=\"\",\"\",Room!D22)","v":""},null,null,null,null,18,"",""]
[null,null,null,null,null,"","","",null,"","","","","","","",null,null,null,null,null,null,null,null,null,{"$f":"IF(AA29=\"\",\"\",MAX(Z$10:Z28)+1)","v":""},{"$f":"IF(Wall!C27=\"\",\"\",Wall!C27)","v":""},{"$f":"IF(Wall!D27=\"\",\"\",Wall!D27)","v":""},{"$f":"IF(Wall!E27=\"\",\"\",Wall!E27)","v":""},{"$f":"IF(Wall!O27=\"\",\"\",Wall!O27)","v":false},{"$f":"IF(Wall!P27=\"\",\"\",Wall!P27)","v":false},"",{"$f":"IF(Wall!D52=\"\",\"\",Wall!D52)","v":""},{"$f":"IF(AI29=\"\",\"\",MAX(AH$10:AH28)+1)","v":""},{"$f":"IF(Room!C23=\"\",\"\",Room!C23)","v":""},{"$f":"IF(Room!D23=\"\",\"\",Room!D23)","v":""},null,null,null,null,19,"",""]
[null,null,null,null,null,"","","",null,"","","","","","","",null,null,null,null,null,null,null,null,null,{"$f":"IF(AA30=\"\",\"\",MAX(Z$10:Z29)+1)","v":""},{"$f":"IF(Wall!C28=\"\",\"\",Wall!C28)","v":""},{"$f":"IF(Wall!D28=\"\",\"\",Wall!D28)","v":""},{"$f":"IF(Wall!E28=\"\",\"\",Wall!E28)","v":""},{"$f":"IF(Wall!O28=\"\",\"\",Wall!O28)","v":false},{"$f":"IF(Wall!P28=\"\",\"\",Wall!P28)","v":false},"",{"$f":"IF(Wall!D53=\"\",\"\",Wall!D53)","v":""},{"$f":"IF(AI30=\"\",\"\",MAX(AH$10:AH29)+1)","v":""},{"$f":"IF(Room!C24=\"\",\"\",Room!C24)","v":""},{"$f":"IF(Room!D24=\"\",\"\",Room!D24)","v":""},null,null,null,null,20,"",""]
[null,null,null,null,null,"","","",null,"","","","","","","",null,null,null,null,null,null,null,null,null,null,null,null,null,null,null,null,null,{"$f":"IF(AI31=\"\",\"\",MAX(AH$10:AH30)+1)","v":""},{"$f":"IF(Room!C25=\"\",\"\",Room!C25)","v":""},{"$f":"IF(Room!D25=\"\",\"\",Room!D25)","v":""},null,null,null,null,21,{"$f":"IF(AO31>Z$45,\"\",VLOOKUP(AO31,Z31:AA49,2,FALSE))","v":""},""]
[null,null,null,null,null,"","","",null,"","","","","","","",null,null,null,null,null,null,null,null,null,null,null,null,null,null,null,null,null,{"$f":"IF(AI32=\"\",\"\",MAX(AH$10:AH31)+1)","v":""},{"$f":"IF(Room!C26=\"\",\"\",Room!C26)","v":""},{"$f":"IF(Room!D26=\"\",\"\",Room!D26)","v":""},null,null,null,null,22,{"$f":"IF(AO32>Z$45,\"\",VLOOKUP(AO32,Z32:AA49,2,FALSE))","v":""},""]
[null,null,null,null,null,"","","",null,"","","","","","","",null,null,null,null,null,null,null,null,null,null,null,null,null,null,null,null,null,{"$f":"IF(AI33=\"\",\"\",MAX(AH$10:AH32)+1)","v":""},{"$f":"IF(Room!C27=\"\",\"\",Room!C27)","v":""},{"$f":"IF(Room!D27=\"\",\"\",Room!D27)","v":""},null,null,null,null,23,{"$f":"IF(AO33>Z$45,\"\",VLOOKUP(AO33,Z33:AA49,2,FALSE))","v":""},""]
[null,null,null,null,null,"","","",null,"","","","","","","",null,null,null,null,null,null,null,null,null,null,null,null,null,null,null,null,null,{"$f":"IF(AI34=\"\",\"\",MAX(AH$10:AH33)+1)","v":""},{"$f":"IF(Room!C28=\"\",\"\",Room!C28)","v":""},{"$f":"IF(Room!D28=\"\",\"\",Room!D28)","v":""},null,null,null,null,24,{"$f":"IF(AO34>Z$45,\"\",VLOOKUP(AO34,Z34:AA49,2,FALSE))","v":""},""]
[null,null,null,null,null,"","","",null,"","","","","","","",null,null,null,null,null,null,null,null,null,null,null,null,null,null,null,null,null,{"$f":"IF(AI35=\"\",\"\",MAX(AH$10:AH34)+1)","v":""},{"$f":"IF(Room!C29=\"\",\"\",Room!C29)","v":""},{"$f":"IF(Room!D29=\"\",\"\",Room!D29)","v":""},null,null,null,null,25,{"$f":"IF(AO35>Z$45,\"\",VLOOKUP(AO35,Z35:AA49,2,FALSE))","v":""},""]
[null,null,null,null,null,"","","",null,"","","","","","","",null,null,null,null,null,null,null,null,null,null,null,null,null,null,null,null,null,{"$f":"IF(AI36=\"\",\"\",MAX(AH$10:AH35)+1)","v":""},{"$f":"IF(Room!C30=\"\",\"\",Room!C30)","v":""},{"$f":"IF(Room!D30=\"\",\"\",Room!D30)","v":""},null,null,null,null,26,{"$f":"IF(AO36>Z$45,\"\",VLOOKUP(AO36,Z36:AA49,2,FALSE))","v":""},""]
[null,null,null,null,null,"","","",null,"","","","","","","",null,null,null,null,null,null,null,null,null,null,null,null,null,null,null,null,null,{"$f":"IF(AI37=\"\",\"\",MAX(AH$10:AH36)+1)","v":""},{"$f":"IF(Room!C31=\"\",\"\",Room!C31)","v":""},{"$f":"IF(Room!D31=\"\",\"\",Room!D31)","v":""},null,null,null,null,27,{"$f":"IF(AO37>Z$45,\"\",VLOOKUP(AO37,Z37:AA49,2,FALSE))","v":""},""]
[null,null,null,null,null,"","","",null,"","","","","","","",null,null,null,null,null,null,null,null,null,null,null,null,null,null,null,null,null,{"$f":"IF(AI38=\"\",\"\",MAX(AH$10:AH37)+1)","v":""},{"$f":"IF(Room!C32=\"\",\"\",Room!C32)","v":""},{"$f":"IF(Room!D32=\"\",\"\",Room!D32)","v":""},null,null,null,null,28,{"$f":"IF(AO38>Z$45,\"\",VLOOKUP(AO38,Z38:AA49,2,FALSE))","v":""},""]
[null,null,null,null,null,"","","",null,"","","","","","","",null,null,null,null,null,null,null,null,null,null,null,null,null,null,null,null,null,{"$f":"IF(AI39=\"\",\"\",MAX(AH$10:AH38)+1)","v":""},{"$f":"IF(Room!C33=\"\",\"\",Room!C33)","v":""},{"$f":"IF(Room!D33=\"\",\"\",Room!D33)","v":""},null,null,null,null,29,{"$f":"IF(AO39>Z$45,\"\",VLOOKUP(AO39,Z39:AA49,2,FALSE))","v":""},""]
[null,null,null,null,null,"","","",null,"","","","","","","",null,null,null,null,null,null,null,null,null,null,null,null,null,null,null,null,null,{"$f":"IF(AI40=\"\",\"\",MAX(AH$10:AH39)+1)","v":""},{"$f":"IF(Room!C34=\"\",\"\",Room!C34)","v":""},{"$f":"IF(Room!D34=\"\",\"\",Room!D34)","v":""},null,null,null,null,30,{"$f":"IF(AO40>Z$45,\"\",VLOOKUP(AO40,Z40:AA50,2,FALSE))","v":""},""]
[null,null,null,null,null,"","","",null,"","","","","","","",null,null,null,null,null,null,null,null,null,null,null,null,null,null,null,null,null,{"$f":"IF(AI41=\"\",\"\",MAX(AH$10:AH40)+1)","v":""},{"$f":"IF(Room!C35=\"\",\"\",Room!C35)","v":""},{"$f":"IF(Room!D35=\"\",\"\",Room!D35)","v":""},null,null,null,null,31,{"$f":"IF(AO41>Z$45,\"\",VLOOKUP(AO41,Z41:AA51,2,FALSE))","v":""},""]
[null,null,null,null,null,null,null,null,null,null,null,null,null,null,null,null,null,null,null,null,null,null,null,null,null,null,null,null,null,null,null,null,null,{"$f":"IF(AI42=\"\",\"\",MAX(AH$10:AH41)+1)","v":""},{"$f":"IF(Room!C36=\"\",\"\",Room!C36)","v":""},{"$f":"IF(Room!D36=\"\",\"\",Room!D36)","v":""},null,null,null,null,32,{"$f":"IF(AO42>Z$45,\"\",VLOOKUP(AO42,Z42:AA52,2,FALSE))","v":""},""]
[]
[]
[null,null,null,null,null,null,null,null,null,null,null,null,null,null,null,null,null,null,null,null,null,null,null,null,"Max",{"$f":"MAX(Z11:Z30)","v":0},null,null,null,null,null,null,"Max",{"$f":"MAX(AH11:AH42)","v":0}]

{"sheet":"T04","index":10,"n_rows":45,"n_cols":43,"rows_kept":45,"cut":false,"hidden":false,"merged":[[3,1,3,7],[7,1,7,7]]}
[]
[]
[]
[null,{"$f":"Langage!A54","v":"Perte thermique par transmission"}]
[]
[null,{"$f":"IF(S10=\"\",\"\",S10)","v":""},{"$f":"IF(S11=\"\",\"\",S11)","v":""},"°C",null,null,"FT,i   W",{"$f":"IF(C6=\"\",\"\",SUM(H12:H41))","v":""},null,null,null,null,null,"FT,i   W",null,{"$f":"IF(C6=\"\",\"\",SUM(P12:P40))","v":""},null,"Ceci reprend les valeurs dans les les autres onglets de façon à pouvoir les utiliser dans le présent onglet.",null,null,null,null,null,null,null,null,null,null,null,null,null,null,null,null,null,null,null,null,null,null,"Ceci recrée des listes sans vides pour les menus déroulants"]
[]
[null,null,null,null,null,null,null,null,null,null,null,null,null,null,null,null,null,"N° onglet",4,"Valeur à changer dans toutes les feuilles T",null,null,null,null,{"$f":"16+S8","v":20}]
[]
[null,null,null,"Ak","hm,k","Uk","DT","FT,i,k",null,"Tout","Tin","fqann","fGW","Chff sol","Chff mur","FT,i,k",null,"Espace",{"$f":"IF(INDIRECT(\"Room!C\"&Y8)=\"\",\"\",CONCATENATE(INDIRECT(\"Room!B\"&Y8),\". \",INDIRECT(\"Room!C\"&Y8)))","v":""},null,null,null,null,null,null,null,"Parois","U","DUTB","Chff sol","Chff mur","Utot",null,null,"Espaces",null,null,null,null,null,null,"Parois","Espace"]
[null,{"$f":"Langage!A20","v":"Parois"},{"$f":"Langage!A24","v":"Espace"},"m²","m","W/m².K","°C","W",null,null,null,null,null,null,"W",null,null,"qint   °C",{"$f":"IF(INDIRECT(\"Room!D\"&Y8)=\"\",\"\",INDIRECT(\"Room!D\"&Y8))","v":""},null,null,null,null,null,null,{"$f":"IF(AA11=\"\",\"\",MAX(Z$10:Z10)+1)","v":""},{"$f":"IF(Wall!C9=\"\",\"\",Wall!C9)","v":""},{"$f":"IF(Wall!D9=\"\",\"\",Wall!D9)","v":""},{"$f":"IF(Wall!E9=\"\",\"\",Wall!E9)","v":""},{"$f":"IF(Wall!O9=\"\",\"\",Wall!O9)","v":false},{"$f":"IF(Wall!P9=\"\",\"\",Wall!P9)","v":false},{"$f":"IF(AB11=\"\",\"\",(IF(AC11=\"\",AB11,AB11+AC11)))","v":""},{"$f":"IF(Wall!D34=\"\",\"\",Wall!D34)","v":""},{"$f":"IF(AI11=\"\",\"\",MAX(AH$10:AH10)+1)","v":""},{"$f":"IF(Room!C42=\"\",\"\",Room!C42)","v":""},{"$f":"IF(Room!D42=\"\",\"\",Room!D42)","v":""},null,null,null,null,1,{"$f":"IF(AO11>Z$45,\"\",VLOOKUP(AO11,Z11:AA30,2,FALSE))","v":""},{"$f":"IF(AO11>AH$45,\"\",VLOOKUP(AO11,AH11:AI42,2,FALSE))","v":""}]
[null,null,null,null,null,{"$f":"IF(B12=\"\",\"\",VLOOKUP(B12,AA$11:AF$30,6,FALSE))","v":""},{"$f":"IF(OR(K12=\"\",J12=\"\"),\"\",K12-J12)","v":""},{"$f":"IF(P12=\"\",\"\",P12)","v":""},null,{"$f":"IF(C12=\"\",\"\",VLOOKUP(C12,AI$11:AJ$42,2,FALSE))","v":""},{"$f":"IF(B12=\"\",\"\",IF(S$15<4,C$6,IF(E12=\"\",\"\",C$6+S$14*(E12-1))))","v":""},{"$f":"IF(C12=\"\",\"\",IF(VLOOKUP(C12,AI$11:AL$42,3,FALSE)=\"\",\"\",VLOOKUP(C12,AI$11:AL$42,3,FALSE)))","v":""},{"$f":"IF(C12=\"\",\"\",IF(VLOOKUP(C12,AI$11:AL$42,4,FALSE)=\"\",\"\",VLOOKUP(C12,AI$11:AL$42,4,FALSE)))","v":""},{"$f":"IF(B12=\"\",\"\",VLOOKUP(B12,AA$11:AF$30,4,FALSE))","v":""},{"$f":"IF(B12=\"\",\"\",VLOOKUP(B12,AA$11:AF$30,5,FALSE))","v":""},{"$f":"IF(OR(N12=TRUE,O12=TRUE),\"///\",IF(OR(D12=\"\",F12=\"\",G12=\"\"),\"\",IF(OR(L12=\"\",M12=\"\"),D12*F12*G12,D12*F12*G12*L12*M12)))","v":""},null,"qe   °C",{"$f":"IF(Room!F8=\"\",\"\",Room!F8)","v":""},null,null,null,null,null,null,{"$f":"IF(AA12=\"\",\"\",MAX(Z$10:Z11)+1)","v":""},{"$f":"IF(Wall!C10=\"\",\"\",Wall!C10)","v":""},{"$f":"IF(Wall!D10=\"\",\"\",Wall!D10)","v":""},{"$f":"IF(Wall!E10=\"\",\"\",Wall!E10)","v":""},{"$f":"IF(Wall!O10=\"\",\"\",Wall!O10)","v":false},{"$f":"IF(Wall!P10=\"\",\"\",Wall!P10)","v":false},{"$f":"IF(AB12=\"\",\"\",(IF(AC12=\"\",AB12,AB12+AC12)))","v":""},{"$f":"IF(Wall!D35=\"\",\"\",Wall!D35)","v":""},{"$f":"IF(AI12=\"\",\"\",MAX(AH$10:AH11)+1)","v":""},{"$f":"IF(Room!C47=\"\",\"\",Room!C47)","v":""},{"$f":"IF(Room!D47=\"\",\"\",Room!D47)","v":""},{"$f":"IF(Room!E47=\"\",\"\",Room!E47)","v":1.45},{"$f":"IF(Room!F47=\"\",\"\",Room!F47)","v":1.1499999999999999},null,null,2,{"$f":"IF(AO12>Z$45,\"\",VLOOKUP(AO12,Z12:AA31,2,FALSE))","v":""},{"$f":"IF(AO12>AH$45,\"\",VLOOKUP(AO12,AH12:AI43,2,FALSE))","v":""}]
[null,null,null,null,null,{"$f":"IF(B13=\"\",\"\",VLOOKUP(B13,AA$11:AF$30,6,FALSE))","v":""},{"$f":"IF(OR(K13=\"\",J13=\"\"),\"\",K13-J13)","v":""},{"$f":"IF(P13=\"\",\"\",P13)","v":""},null,"",{"$f":"IF(B13=\"\",\"\",IF(S$15<4,C$6,IF(E13=\"\",\"\",C$6+S$14*(E13-1))))","v":""},"","","",{"$f":"IF(B13=\"\",\"\",VLOOKUP(B13,AA$11:AF$30,5,FALSE))","v":""},{"$f":"IF(OR(N13=TRUE,O13=TRUE),\"///\",IF(OR(D13=\"\",F13=\"\",G13=\"\"),\"\",IF(OR(L13=\"\",M13=\"\"),D13*F13*G13,D13*F13*G13*L13*M13)))","v":""},null,"qm,e   °C",{"$f":"IF(Room!F9=\"\",\"\",Room!F9)","v":""},null,null,null,null,null,null,{"$f":"IF(AA13=\"\",\"\",MAX(Z$10:Z12)+1)","v":""},{"$f":"IF(Wall!C11=\"\",\"\",Wall!C11)","v":""},{"$f":"IF(Wall!D11=\"\",\"\",Wall!D11)","v":""},{"$f":"IF(Wall!E11=\"\",\"\",Wall!E11)","v":""},{"$f":"IF(Wall!O11=\"\",\"\",Wall!O11)","v":false},{"$f":"IF(Wall!P11=\"\",\"\",Wall!P11)","v":false},"",{"$f":"IF(Wall!D36=\"\",\"\",Wall!D36)","v":""},{"$f":"IF(AI13=\"\",\"\",MAX(AH$10:AH12)+1)","v":""},{"$f":"IF(Room!C52=\"\",\"\",Room!C52)","v":""},{"$f":"IF(Room!D52=\"\",\"\",Room!D52)","v":""},null,null,null,null,3,"",""]
[null,null,null,null,null,"","","",null,"","","","","","","",null,"Gq,air,i  °C/m",{"$f":"IF(INDIRECT(\"Room!T\"&Y8)=\"\",\"\",INDIRECT(\"Room!T\"&Y8))","v":""},null,null,null,null,null,null,{"$f":"IF(AA14=\"\",\"\",MAX(Z$10:Z13)+1)","v":""},{"$f":"IF(Wall!C12=\"\",\"\",Wall!C12)","v":""},{"$f":"IF(Wall!D12=\"\",\"\",Wall!D12)","v":""},{"$f":"IF(Wall!E12=\"\",\"\",Wall!E12)","v":""},{"$f":"IF(Wall!O12=\"\",\"\",Wall!O12)","v":false},{"$f":"IF(Wall!P12=\"\",\"\",Wall!P12)","v":false},"",{"$f":"IF(Wall!D37=\"\",\"\",Wall!D37)","v":""},{"$f":"IF(AI14=\"\",\"\",MAX(AH$10:AH13)+1)","v":""},{"$f":"IF(Room!C53=\"\",\"\",Room!C53)","v":""},{"$f":"IF(Room!D53=\"\",\"\",Room!D53)","v":""},null,null,null,null,4,"",""]
[null,null,null,null,null,"","","",null,"","","","","","","",null,"hi   m",{"$f":"IF(INDIRECT(\"Room!Q\"&Y8)=\"\",\"\",INDIRECT(\"Room!Q\"&Y8))","v":""},null,null,null,null,null,null,{"$f":"IF(AA15=\"\",\"\",MAX(Z$10:Z14)+1)","v":""},{"$f":"IF(Wall!C13=\"\",\"\",Wall!C13)","v":""},{"$f":"IF(Wall!D13=\"\",\"\",Wall!D13)","v":""},{"$f":"IF(Wall!E13=\"\",\"\",Wall!E13)","v":""},{"$f":"IF(Wall!O13=\"\",\"\",Wall!O13)","v":false},{"$f":"IF(Wall!P13=\"\",\"\",Wall!P13)","v":false},"",{"$f":"IF(Wall!D38=\"\",\"\",Wall!D38)","v":""},{"$f":"IF(AI15=\"\",\"\",MAX(AH$10:AH14)+1)","v":""},{"$f":"IF(Room!C54=\"\",\"\",Room!C54)","v":""},{"$f":"IF(Room!D54=\"\",\"\",Room!D54)","v":""},null,null,null,null,5,"",""]
[null,null,null,null,null,"","","",null,"","","","","","","",null,null,null,null,null,null,null,null,null,{"$f":"IF(AA16=\"\",\"\",MAX(Z$10:Z15)+1)","v":""},{"$f":"IF(Wall!C14=\"\",\"\",Wall!C14)","v":""},{"$f":"IF(Wall!D14=\"\",\"\",Wall!D14)","v":""},{"$f":"IF(Wall!E14=\"\",\"\",Wall!E14)","v":""},{"$f":"IF(Wall!O14=\"\",\"\",Wall!O14)","v":false},{"$f":"IF(Wall!P14=\"\",\"\",Wall!P14)","v":false},"",{"$f":"IF(Wall!D39=\"\",\"\",Wall!D39)","v":""},{"$f":"IF(AI16=\"\",\"\",MAX(AH$10:AH15)+1)","v":""},{"$f":"IF(Room!C55=\"\",\"\",Room!C55)","v":""},{"$f":"IF(Room!D55=\"\",\"\",Room!D55)","v":""},null,null,null,null,6,"",""]
[null,null,null,null,null,"","","",null,"","","","","","","",null,null,null,null,null,null,null,null,null,{"$f":"IF(AA17=\"\",\"\",MAX(Z$10:Z16)+1)","v":""},{"$f":"IF(Wall!C15=\"\",\"\",Wall!C15)","v":""},{"$f":"IF(Wall!D15=\"\",\"\",Wall!D15)","v":""},{"$f":"IF(Wall!E15=\"\",\"\",Wall!E15)","v":""},{"$f":"IF(Wall!O15=\"\",\"\",Wall!O15)","v":false},{"$f":"IF(Wall!P15=\"\",\"\",Wall!P15)","v":false},"",{"$f":"IF(Wall!D40=\"\",\"\",Wall!D40)","v":""},{"$f":"IF(AI17=\"\",\"\",MAX(AH$10:AH16)+1)","v":""},{"$f":"IF(Room!C56=\"\",\"\",Room!C56)","v":""},{"$f":"IF(Room!D56=\"\",\"\",Room!D56)","v":""},null,null,null,null,7,"",""]
[null,null,null,null,null,"","","",null,"","","","","","","",null,null,null,null,null,null,null,null,null,{"$f":"IF(AA18=\"\",\"\",MAX(Z$10:Z17)+1)","v":""},{"$f":"IF(Wall!C16=\"\",\"\",Wall!C16)","v":""},{"$f":"IF(Wall!D16=\"\",\"\",Wall!D16)","v":""},{"$f":"IF(Wall!E16=\"\",\"\",Wall!E16)","v":""},{"$f":"IF(Wall!O16=\"\",\"\",Wall!O16)","v":false},{"$f":"IF(Wall!P16=\"\",\"\",Wall!P16)","v":false},"",{"$f":"IF(Wall!D41=\"\",\"\",Wall!D41)","v":""},{"$f":"IF(AI18=\"\",\"\",MAX(AH$10:AH17)+1)","v":""},{"$f":"IF(Room!C61=\"\",\"\",Room!C61)","v":""},{"$f":"IF(Room!D61=\"\",\"\",Room!D61)","v":""},null,null,null,null,8,"",""]
[null,null,null,null,null,"","","",null,"","","","","","","",null,null,null,null,null,null,null,null,null,{"$f":"IF(AA19=\"\",\"\",MAX(Z$10:Z18)+1)","v":""},{"$f":"IF(Wall!C17=\"\",\"\",Wall!C17)","v":""},{"$f":"IF(Wall!D17=\"\",\"\",Wall!D17)","v":""},{"$f":"IF(Wall!E17=\"\",\"\",Wall!E17)","v":""},{"$f":"IF(Wall!O17=\"\",\"\",Wall!O17)","v":false},{"$f":"IF(Wall!P17=\"\",\"\",Wall!P17)","v":false},"",{"$f":"IF(Wall!D42=\"\",\"\",Wall!D42)","v":""},{"$f":"IF(AI19=\"\",\"\",MAX(AH$10:AH18)+1)","v":""},{"$f":"IF(Room!C62=\"\",\"\",Room!C62)","v":""},{"$f":"IF(Room!D62=\"\",\"\",Room!D62)","v":""},null,null,null,null,9,"",{"$f":"IF(AO19>AH$45,\"\",VLOOKUP(AO19,AH19:AI49,2,FALSE))","v":""}]
[null,null,null,null,null,"","","",null,"","","","","","","",null,null,null,null,null,null,null,null,null,{"$f":"IF(AA20=\"\",\"\",MAX(Z$10:Z19)+1)","v":""},{"$f":"IF(Wall!C18=\"\",\"\",Wall!C18)","v":""},{"$f":"IF(Wall!D18=\"\",\"\",Wall!D18)","v":""},{"$f":"IF(Wall!E18=\"\",\"\",Wall!E18)","v":""},{"$f":"IF(Wall!O18=\"\",\"\",Wall!O18)","v":false},{"$f":"IF(Wall!P18=\"\",\"\",Wall!P18)","v":false},"",{"$f":"IF(Wall!D43=\"\",\"\",Wall!D43)","v":""},{"$f":"IF(AI20=\"\",\"\",MAX(AH$10:AH19)+1)","v":""},{"$f":"IF(Room!C63=\"\",\"\",Room!C63)","v":""},{"$f":"IF(Room!D63=\"\",\"\",Room!D63)","v":""},null,null,null,null,10,"",{"$f":"IF(AO20>AH$45,\"\",VLOOKUP(AO20,AH20:AI49,2,FALSE))","v":""}]
[null,null,null,null,null,"","","",null,"","","","","","","",null,null,null,null,null,null,null,null,null,{"$f":"IF(AA21=\"\",\"\",MAX(Z$10:Z20)+1)","v":""},{"$f":"IF(Wall!C19=\"\",\"\",Wall!C19)","v":""},{"$f":"IF(Wall!D19=\"\",\"\",Wall!D19)","v":""},{"$f":"IF(Wall!E19=\"\",\"\",Wall!E19)","v":""},{"$f":"IF(Wall!O19=\"\",\"\",Wall!O19)","v":false},{"$f":"IF(Wall!P19=\"\",\"\",Wall!P19)","v":false},"",{"$f":"IF(Wall!D44=\"\",\"\",Wall!D44)","v":""},{"$f":"IF(AI21=\"\",\"\",MAX(AH$10:AH20)+1)","v":""},{"$f":"IF(Room!C64=\"\",\"\",Room!C64)","v":""},{"$f":"IF(Room!D64=\"\",\"\",Room!D64)","v":""},null,null,null,null,11,"",{"$f":"IF(AO21>AH$45,\"\",VLOOKUP(AO21,AH21:AI49,2,FALSE))","v":""}]
[null,null,null,null,null,"","","",null,"","","","","","","",null,null,null,null,null,null,null,null,null,{"$f":"IF(AA22=\"\",\"\",MAX(Z$10:Z21)+1)","v":""},{"$f":"IF(Wall!C20=\"\",\"\",Wall!C20)","v":""},{"$f":"IF(Wall!D20=\"\",\"\",Wall!D20)","v":""},{"$f":"IF(Wall!E20=\"\",\"\",Wall!E20)","v":""},{"$f":"IF(Wall!O20=\"\",\"\",Wall!O20)","v":false},{"$f":"IF(Wall!P20=\"\",\"\",Wall!P20)","v":false},"",{"$f":"IF(Wall!D45=\"\",\"\",Wall!D45)","v":""},{"$f":"IF(AI22=\"\",\"\",MAX(AH$10:AH21)+1)","v":""},{"$f":"IF(Room!C65=\"\",\"\",Room!C65)","v":""},{"$f":"IF(Room!D65=\"\",\"\",Room!D65)","v":""},null,null,null,null,12,"",{"$f":"IF(AO22>AH$45,\"\",VLOOKUP(AO22,AH22:AI49,2,FALSE))","v":""}]
[null,null,null,null,null,"","","",null,"","","","","","","",null,null,null,null,null,null,null,null,null,{"$f":"IF(AA23=\"\",\"\",MAX(Z$10:Z22)+1)","v":""},{"$f":"IF(Wall!C21=\"\",\"\",Wall!C21)","v":""},{"$f":"IF(Wall!D21=\"\",\"\",Wall!D21)","v":""},{"$f":"IF(Wall!E21=\"\",\"\",Wall!E21)","v":""},{"$f":"IF(Wall!O21=\"\",\"\",Wall!O21)","v":false},{"$f":"IF(Wall!P21=\"\",\"\",Wall!P21)","v":false},"",{"$f":"IF(Wall!D46=\"\",\"\",Wall!D46)","v":""},{"$f":"IF(AI23=\"\",\"\",MAX(AH$10:AH22)+1)","v":""},{"$f":"IF(Room!C17=\"\",\"\",Room!C17)","v":""},{"$f":"IF(Room!D17=\"\",\"\",Room!D17)","v":""},null,null,null,null,13,"",{"$f":"IF(AO23>AH$45,\"\",VLOOKUP(AO23,AH23:AI49,2,FALSE))","v":""}]
[null,null,null,null,null,"","","",null,"","","","","","","",null,null,null,null,null,null,null,null,null,{"$f":"IF(AA24=\"\",\"\",MAX(Z$10:Z23)+1)","v":""},{"$f":"IF(Wall!C22=\"\",\"\",Wall!C22)","v":""},{"$f":"IF(Wall!D22=\"\",\"\",Wall!D22)","v":""},{"$f":"IF(Wall!E22=\"\",\"\",Wall!E22)","v":""},{"$f":"IF(Wall!O22=\"\",\"\",Wall!O22)","v":false},{"$f":"IF(Wall!P22=\"\",\"\",Wall!P22)","v":false},"",{"$f":"IF(Wall!D47=\"\",\"\",Wall!D47)","v":""},{"$f":"IF(AI24=\"\",\"\",MAX(AH$10:AH23)+1)","v":""},{"$f":"IF(Room!C18=\"\",\"\",Room!C18)","v":""},{"$f":"IF(Room!D18=\"\",\"\",Room!D18)","v":""},null,null,null,null,14,"",{"$f":"IF(AO24>AH$45,\"\",VLOOKUP(AO24,AH24:AI49,2,FALSE))","v":""}]
[null,null,null,null,null,"","","",null,"","","","","","","",null,null,null,null,null,null,null,null,null,{"$f":"IF(AA25=\"\",\"\",MAX(Z$10:Z24)+1)","v":""},{"$f":"IF(Wall!C23=\"\",\"\",Wall!C23)","v":""},{"$f":"IF(Wall!D23=\"\",\"\",Wall!D23)","v":""},{"$f":"IF(Wall!E23=\"\",\"\",Wall!E23)","v":""},{"$f":"IF(Wall!O23=\"\",\"\",Wall!O23)","v":false},{"$f":"IF(Wall!P23=\"\",\"\",Wall!P23)","v":false},"",{"$f":"IF(Wall!D48=\"\",\"\",Wall!D48)","v":""},{"$f":"IF(AI25=\"\",\"\",MAX(AH$10:AH24)+1)","v":""},{"$f":"IF(Room!C19=\"\",\"\",Room!C19)","v":""},{"$f":"IF(Room!D19=\"\",\"\",Room!D19)","v":""},null,null,null,null,15,"",{"$f":"IF(AO25>AH$45,\"\",VLOOKUP(AO25,AH25:AI49,2,FALSE))","v":""}]
[null,null,null,null,null,"","","",null,"","","","","","","",null,null,null,null,null,null,null,null,null,{"$f":"IF(AA26=\"\",\"\",MAX(Z$10:Z25)+1)","v":""},{"$f":"IF(Wall!C24=\"\",\"\",Wall!C24)","v":""},{"$f":"IF(Wall!D24=\"\",\"\",Wall!D24)","v":""},{"$f":"IF(Wall!E24=\"\",\"\",Wall!E24)","v":""},{"$f":"IF(Wall!O24=\"\",\"\",Wall!O24)","v":false},{"$f":"IF(Wall!P24=\"\",\"\",Wall!P24)","v":false},"",{"$f":"IF(Wall!D49=\"\",\"\",Wall!D49)","v":""},{"$f":"IF(AI26=\"\",\"\",MAX(AH$10:AH25)+1)","v":""},{"$f":"IF(Room!C20=\"\",\"\",Room!C20)","v":""},{"$f":"IF(Room!D20=\"\",\"\",Room!D20)","v":""},null,null,null,null,16,"",{"$f":"IF(AO26>AH$45,\"\",VLOOKUP(AO26,AH26:AI49,2,FALSE))","v":""}]
[null,null,null,null,null,"","","",null,"","","","","","","",null,null,null,null,null,null,null,null,null,{"$f":"IF(AA27=\"\",\"\",MAX(Z$10:Z26)+1)","v":""},{"$f":"IF(Wall!C25=\"\",\"\",Wall!C25)","v":""},{"$f":"IF(Wall!D25=\"\",\"\",Wall!D25)","v":""},{"$f":"IF(Wall!E25=\"\",\"\",Wall!E25)","v":""},{"$f":"IF(Wall!O25=\"\",\"\",Wall!O25)","v":false},{"$f":"IF(Wall!P25=\"\",\"\",Wall!P25)","v":false},"",{"$f":"IF(Wall!D50=\"\",\"\",Wall!D50)","v":""},{"$f":"IF(AI27=\"\",\"\",MAX(AH$10:AH26)+1)","v":""},{"$f":"IF(Room!C21=\"\",\"\",Room!C21)","v":""},{"$f":"IF(Room!D21=\"\",\"\",Room!D21)","v":""},null,null,null,null,17,"",{"$f":"IF(AO27>AH$45,\"\",VLOOKUP(AO27,AH27:AI49,2,FALSE))","v":""}]
[null,null,null,null,null,"","","",null,"","","","","","","",null,null,null,null,null,null,null,null,null,{"$f":"IF(AA28=\"\",\"\",MAX(Z$10:Z27)+1)","v":""},{"$f":"IF(Wall!C26=\"\",\"\",Wall!C26)","v":""},{"$f":"IF(Wall!D26=\"\",\"\",Wall!D26)","v":""},{"$f":"IF(Wall!E26=\"\",\"\",Wall!E26)","v":""},{"$f":"IF(Wall!O26=\"\",\"\",Wall!O26)","v":false},{"$f":"IF(Wall!P26=\"\",\"\",Wall!P26)","v":false},"",{"$f":"IF(Wall!D51=\"\",\"\",Wall!D51)","v":""},{"$f":"IF(AI28=\"\",\"\",MAX(AH$10:AH27)+1)","v":""},{"$f":"IF(Room!C22=\"\",\"\",Room!C22)","v":""},{"$f":"IF(Room!D22=\"\",\"\",Room!D22)","v":""},null,null,null,null,18,"",""]
[null,null,null,null,null,"","","",null,"","","","","","","",null,null,null,null,null,null,null,null,null,{"$f":"IF(AA29=\"\",\"\",MAX(Z$10:Z28)+1)","v":""},{"$f":"IF(Wall!C27=\"\",\"\",Wall!C27)","v":""},{"$f":"IF(Wall!D27=\"\",\"\",Wall!D27)","v":""},{"$f":"IF(Wall!E27=\"\",\"\",Wall!E27)","v":""},{"$f":"IF(Wall!O27=\"\",\"\",Wall!O27)","v":false},{"$f":"IF(Wall!P27=\"\",\"\",Wall!P27)","v":false},"",{"$f":"IF(Wall!D52=\"\",\"\",Wall!D52)","v":""},{"$f":"IF(AI29=\"\",\"\",MAX(AH$10:AH28)+1)","v":""},{"$f":"IF(Room!C23=\"\",\"\",Room!C23)","v":""},{"$f":"IF(Room!D23=\"\",\"\",Room!D23)","v":""},null,null,null,null,19,"",""]
[null,null,null,null,null,"","","",null,"","","","","","","",null,null,null,null,null,null,null,null,null,{"$f":"IF(AA30=\"\",\"\",MAX(Z$10:Z29)+1)","v":""},{"$f":"IF(Wall!C28=\"\",\"\",Wall!C28)","v":""},{"$f":"IF(Wall!D28=\"\",\"\",Wall!D28)","v":""},{"$f":"IF(Wall!E28=\"\",\"\",Wall!E28)","v":""},{"$f":"IF(Wall!O28=\"\",\"\",Wall!O28)","v":false},{"$f":"IF(Wall!P28=\"\",\"\",Wall!P28)","v":false},"",{"$f":"IF(Wall!D53=\"\",\"\",Wall!D53)","v":""},{"$f":"IF(AI30=\"\",\"\",MAX(AH$10:AH29)+1)","v":""},{"$f":"IF(Room!C24=\"\",\"\",Room!C24)","v":""},{"$f":"IF(Room!D24=\"\",\"\",Room!D24)","v":""},null,null,null,null,20,"",""]
[null,null,null,null,null,"","","",null,"","","","","","","",null,null,null,null,null,null,null,null,null,null,null,null,null,null,null,null,null,{"$f":"IF(AI31=\"\",\"\",MAX(AH$10:AH30)+1)","v":""},{"$f":"IF(Room!C25=\"\",\"\",Room!C25)","v":""},{"$f":"IF(Room!D25=\"\",\"\",Room!D25)","v":""},null,null,null,null,21,{"$f":"IF(AO31>Z$45,\"\",VLOOKUP(AO31,Z31:AA49,2,FALSE))","v":""},""]
[null,null,null,null,null,"","","",null,"","","","","","","",null,null,null,null,null,null,null,null,null,null,null,null,null,null,null,null,null,{"$f":"IF(AI32=\"\",\"\",MAX(AH$10:AH31)+1)","v":""},{"$f":"IF(Room!C26=\"\",\"\",Room!C26)","v":""},{"$f":"IF(Room!D26=\"\",\"\",Room!D26)","v":""},null,null,null,null,22,{"$f":"IF(AO32>Z$45,\"\",VLOOKUP(AO32,Z32:AA49,2,FALSE))","v":""},""]
[null,null,null,null,null,"","","",null,"","","","","","","",null,null,null,null,null,null,null,null,null,null,null,null,null,null,null,null,null,{"$f":"IF(AI33=\"\",\"\",MAX(AH$10:AH32)+1)","v":""},{"$f":"IF(Room!C27=\"\",\"\",Room!C27)","v":""},{"$f":"IF(Room!D27=\"\",\"\",Room!D27)","v":""},null,null,null,null,23,{"$f":"IF(AO33>Z$45,\"\",VLOOKUP(AO33,Z33:AA49,2,FALSE))","v":""},""]
[null,null,null,null,null,"","","",null,"","","","","","","",null,null,null,null,null,null,null,null,null,null,null,null,null,null,null,null,null,{"$f":"IF(AI34=\"\",\"\",MAX(AH$10:AH33)+1)","v":""},{"$f":"IF(Room!C28=\"\",\"\",Room!C28)","v":""},{"$f":"IF(Room!D28=\"\",\"\",Room!D28)","v":""},null,null,null,null,24,{"$f":"IF(AO34>Z$45,\"\",VLOOKUP(AO34,Z34:AA49,2,FALSE))","v":""},""]
[null,null,null,null,null,"","","",null,"","","","","","","",null,null,null,null,null,null,null,null,null,null,null,null,null,null,null,null,null,{"$f":"IF(AI35=\"\",\"\",MAX(AH$10:AH34)+1)","v":""},{"$f":"IF(Room!C29=\"\",\"\",Room!C29)","v":""},{"$f":"IF(Room!D29=\"\",\"\",Room!D29)","v":""},null,null,null,null,25,{"$f":"IF(AO35>Z$45,\"\",VLOOKUP(AO35,Z35:AA49,2,FALSE))","v":""},""]
[null,null,null,null,null,"","","",null,"","","","","","","",null,null,null,null,null,null,null,null,null,null,null,null,null,null,null,null,null,{"$f":"IF(AI36=\"\",\"\",MAX(AH$10:AH35)+1)","v":""},{"$f":"IF(Room!C30=\"\",\"\",Room!C30)","v":""},{"$f":"IF(Room!D30=\"\",\"\",Room!D30)","v":""},null,null,null,null,26,{"$f":"IF(AO36>Z$45,\"\",VLOOKUP(AO36,Z36:AA49,2,FALSE))","v":""},""]
[null,null,null,null,null,"","","",null,"","","","","","","",null,null,null,null,null,null,null,null,null,null,null,null,null,null,null,null,null,{"$f":"IF(AI37=\"\",\"\",MAX(AH$10:AH36)+1)","v":""},{"$f":"IF(Room!C31=\"\",\"\",Room!C31)","v":""},{"$f":"IF(Room!D31=\"\",\"\",Room!D31)","v":""},null,null,null,null,27,{"$f":"IF(AO37>Z$45,\"\",VLOOKUP(AO37,Z37:AA49,2,FALSE))","v":""},""]
[null,null,null,null,null,"","","",null,"","","","","","","",null,null,null,null,null,null,null,null,null,null,null,null,null,null,null,null,null,{"$f":"IF(AI38=\"\",\"\",MAX(AH$10:AH37)+1)","v":""},{"$f":"IF(Room!C32=\"\",\"\",Room!C32)","v":""},{"$f":"IF(Room!D32=\"\",\"\",Room!D32)","v":""},null,null,null,null,28,{"$f":"IF(AO38>Z$45,\"\",VLOOKUP(AO38,Z38:AA49,2,FALSE))","v":""},""]
[null,null,null,null,null,"","","",null,"","","","","","","",null,null,null,null,null,null,null,null,null,null,null,null,null,null,null,null,null,{"$f":"IF(AI39=\"\",\"\",MAX(AH$10:AH38)+1)","v":""},{"$f":"IF(Room!C33=\"\",\"\",Room!C33)","v":""},{"$f":"IF(Room!D33=\"\",\"\",Room!D33)","v":""},null,null,null,null,29,{"$f":"IF(AO39>Z$45,\"\",VLOOKUP(AO39,Z39:AA49,2,FALSE))","v":""},""]
[null,null,null,null,null,"","","",null,"","","","","","","",null,null,null,null,null,null,null,null,null,null,null,null,null,null,null,null,null,{"$f":"IF(AI40=\"\",\"\",MAX(AH$10:AH39)+1)","v":""},{"$f":"IF(Room!C34=\"\",\"\",Room!C34)","v":""},{"$f":"IF(Room!D34=\"\",\"\",Room!D34)","v":""},null,null,null,null,30,{"$f":"IF(AO40>Z$45,\"\",VLOOKUP(AO40,Z40:AA50,2,FALSE))","v":""},""]
[null,null,null,null,null,"","","",null,"","","","","","","",null,null,null,null,null,null,null,null,null,null,null,null,null,null,null,null,null,{"$f":"IF(AI41=\"\",\"\",MAX(AH$10:AH40)+1)","v":""},{"$f":"IF(Room!C35=\"\",\"\",Room!C35)","v":""},{"$f":"IF(Room!D35=\"\",\"\",Room!D35)","v":""},null,null,null,null,31,{"$f":"IF(AO41>Z$45,\"\",VLOOKUP(AO41,Z41:AA51,2,FALSE))","v":""},""]
[null,null,null,null,null,null,null,null,null,null,null,null,null,null,null,null,null,null,null,null,null,null,null,null,null,null,null,null,null,null,null,null,null,{"$f":"IF(AI42=\"\",\"\",MAX(AH$10:AH41)+1)","v":""},{"$f":"IF(Room!C36=\"\",\"\",Room!C36)","v":""},{"$f":"IF(Room!D36=\"\",\"\",Room!D36)","v":""},null,null,null,null,32,{"$f":"IF(AO42>Z$45,\"\",VLOOKUP(AO42,Z42:AA52,2,FALSE))","v":""},""]
[]
[]
[null,null,null,null,null,null,null,null,null,null,null,null,null,null,null,null,null,null,null,null,null,null,null,null,"Max",{"$f":"MAX(Z11:Z30)","v":0},null,null,null,null,null,null,"Max",{"$f":"MAX(AH11:AH42)","v":0}]

{"sheet":"T05","index":11,"n_rows":45,"n_cols":43,"rows_kept":45,"cut":false,"hidden":false,"merged":[[3,1,3,7],[7,1,7,7]]}
[]
[]
[]
[null,{"$f":"Langage!A54","v":"Perte thermique par transmission"}]
[]
[null,{"$f":"IF(S10=\"\",\"\",S10)","v":""},{"$f":"IF(S11=\"\",\"\",S11)","v":""},"°C",null,null,"FT,i   W",{"$f":"IF(C6=\"\",\"\",SUM(H12:H41))","v":""},null,null,null,null,null,"FT,i   W",null,{"$f":"IF(C6=\"\",\"\",SUM(P12:P40))","v":""},null,"Ceci reprend les valeurs dans les les autres onglets de façon à pouvoir les utiliser dans le présent onglet.",null,null,null,null,null,null,null,null,null,null,null,null,null,null,null,null,null,null,null,null,null,null,"Ceci recrée des listes sans vides pour les menus déroulants"]
[]
[null,null,null,null,null,null,null,null,null,null,null,null,null,null,null,null,null,"N° onglet",5,"Valeur à changer dans toutes les feuilles T",null,null,null,null,{"$f":"16+S8","v":21}]
[]
[null,null,null,"Ak","hm,k","Uk","DT","FT,i,k",null,"Tout","Tin","fqann","fGW","Chff sol","Chff mur","FT,i,k",null,"Espace",{"$f":"IF(INDIRECT(\"Room!C\"&Y8)=\"\",\"\",CONCATENATE(INDIRECT(\"Room!B\"&Y8),\". \",INDIRECT(\"Room!C\"&Y8)))","v":""},null,null,null,null,null,null,null,"Parois","U","DUTB","Chff sol","Chff mur","Utot",null,null,"Espaces",null,null,null,null,null,null,"Parois","Espace"]
[null,{"$f":"Langage!A20","v":"Parois"},{"$f":"Langage!A24","v":"Espace"},"m²","m","W/m².K","°C","W",null,null,null,null,null,null,"W",null,null,"qint   °C",{"$f":"IF(INDIRECT(\"Room!D\"&Y8)=\"\",\"\",INDIRECT(\"Room!D\"&Y8))","v":""},null,null,null,null,null,null,{"$f":"IF(AA11=\"\",\"\",MAX(Z$10:Z10)+1)","v":""},{"$f":"IF(Wall!C9=\"\",\"\",Wall!C9)","v":""},{"$f":"IF(Wall!D9=\"\",\"\",Wall!D9)","v":""},{"$f":"IF(Wall!E9=\"\",\"\",Wall!E9)","v":""},{"$f":"IF(Wall!O9=\"\",\"\",Wall!O9)","v":false},{"$f":"IF(Wall!P9=\"\",\"\",Wall!P9)","v":false},{"$f":"IF(AB11=\"\",\"\",(IF(AC11=\"\",AB11,AB11+AC11)))","v":""},{"$f":"IF(Wall!D34=\"\",\"\",Wall!D34)","v":""},{"$f":"IF(AI11=\"\",\"\",MAX(AH$10:AH10)+1)","v":""},{"$f":"IF(Room!C42=\"\",\"\",Room!C42)","v":""},{"$f":"IF(Room!D42=\"\",\"\",Room!D42)","v":""},null,null,null,null,1,{"$f":"IF(AO11>Z$45,\"\",VLOOKUP(AO11,Z11:AA30,2,FALSE))","v":""},{"$f":"IF(AO11>AH$45,\"\",VLOOKUP(AO11,AH11:AI42,2,FALSE))","v":""}]
[null,null,null,null,null,{"$f":"IF(B12=\"\",\"\",VLOOKUP(B12,AA$11:AF$30,6,FALSE))","v":""},{"$f":"IF(OR(K12=\"\",J12=\"\"),\"\",K12-J12)","v":""},{"$f":"IF(P12=\"\",\"\",P12)","v":""},null,{"$f":"IF(C12=\"\",\"\",VLOOKUP(C12,AI$11:AJ$42,2,FALSE))","v":""},{"$f":"IF(B12=\"\",\"\",IF(S$15<4,C$6,IF(E12=\"\",\"\",C$6+S$14*(E12-1))))","v":""},{"$f":"IF(C12=\"\",\"\",IF(VLOOKUP(C12,AI$11:AL$42,3,FALSE)=\"\",\"\",VLOOKUP(C12,AI$11:AL$42,3,FALSE)))","v":""},{"$f":"IF(C12=\"\",\"\",IF(VLOOKUP(C12,AI$11:AL$42,4,FALSE)=\"\",\"\",VLOOKUP(C12,AI$11:AL$42,4,FALSE)))","v":""},{"$f":"IF(B12=\"\",\"\",VLOOKUP(B12,AA$11:AF$30,4,FALSE))","v":""},{"$f":"IF(B12=\"\",\"\",VLOOKUP(B12,AA$11:AF$30,5,FALSE))","v":""},{"$f":"IF(OR(N12=TRUE,O12=TRUE),\"///\",IF(OR(D12=\"\",F12=\"\",G12=\"\"),\"\",IF(OR(L12=\"\",M12=\"\"),D12*F12*G12,D12*F12*G12*L12*M12)))","v":""},null,"qe   °C",{"$f":"IF(Room!F8=\"\",\"\",Room!F8)","v":""},null,null,null,null,null,null,{"$f":"IF(AA12=\"\",\"\",MAX(Z$10:Z11)+1)","v":""},{"$f":"IF(Wall!C10=\"\",\"\",Wall!C10)","v":""},{"$f":"IF(Wall!D10=\"\",\"\",Wall!D10)","v":""},{"$f":"IF(Wall!E10=\"\",\"\",Wall!E10)","v":""},{"$f":"IF(Wall!O10=\"\",\"\",Wall!O10)","v":false},{"$f":"IF(Wall!P10=\"\",\"\",Wall!P10)","v":false},{"$f":"IF(AB12=\"\",\"\",(IF(AC12=\"\",AB12,AB12+AC12)))","v":""},{"$f":"IF(Wall!D35=\"\",\"\",Wall!D35)","v":""},{"$f":"IF(AI12=\"\",\"\",MAX(AH$10:AH11)+1)","v":""},{"$f":"IF(Room!C47=\"\",\"\",Room!C47)","v":""},{"$f":"IF(Room!D47=\"\",\"\",Room!D47)","v":""},{"$f":"IF(Room!E47=\"\",\"\",Room!E47)","v":1.45},{"$f":"IF(Room!F47=\"\",\"\",Room!F47)","v":1.1499999999999999},null,null,2,{"$f":"IF(AO12>Z$45,\"\",VLOOKUP(AO12,Z12:AA31,2,FALSE))","v":""},{"$f":"IF(AO12>AH$45,\"\",VLOOKUP(AO12,AH12:AI43,2,FALSE))","v":""}]
[null,null,null,null,null,{"$f":"IF(B13=\"\",\"\",VLOOKUP(B13,AA$11:AF$30,6,FALSE))","v":""},{"$f":"IF(OR(K13=\"\",J13=\"\"),\"\",K13-J13)","v":""},{"$f":"IF(P13=\"\",\"\",P13)","v":""},null,"",{"$f":"IF(B13=\"\",\"\",IF(S$15<4,C$6,IF(E13=\"\",\"\",C$6+S$14*(E13-1))))","v":""},"","","",{"$f":"IF(B13=\"\",\"\",VLOOKUP(B13,AA$11:AF$30,5,FALSE))","v":""},{"$f":"IF(OR(N13=TRUE,O13=TRUE),\"///\",IF(OR(D13=\"\",F13=\"\",G13=\"\"),\"\",IF(OR(L13=\"\",M13=\"\"),D13*F13*G13,D13*F13*G13*L13*M13)))","v":""},null,"qm,e   °C",{"$f":"IF(Room!F9=\"\",\"\",Room!F9)","v":""},null,null,null,null,null,null,{"$f":"IF(AA13=\"\",\"\",MAX(Z$10:Z12)+1)","v":""},{"$f":"IF(Wall!C11=\"\",\"\",Wall!C11)","v":""},{"$f":"IF(Wall!D11=\"\",\"\",Wall!D11)","v":""},{"$f":"IF(Wall!E11=\"\",\"\",Wall!E11)","v":""},{"$f":"IF(Wall!O11=\"\",\"\",Wall!O11)","v":false},{"$f":"IF(Wall!P11=\"\",\"\",Wall!P11)","v":false},"",{"$f":"IF(Wall!D36=\"\",\"\",Wall!D36)","v":""},{"$f":"IF(AI13=\"\",\"\",MAX(AH$10:AH12)+1)","v":""},{"$f":"IF(Room!C52=\"\",\"\",Room!C52)","v":""},{"$f":"IF(Room!D52=\"\",\"\",Room!D52)","v":""},null,null,null,null,3,"",""]
[null,null,null,null,null,"","","",null,"","","","","","","",null,"Gq,air,i  °C/m",{"$f":"IF(INDIRECT(\"Room!T\"&Y8)=\"\",\"\",INDIRECT(\"Room!T\"&Y8))","v":""},null,null,null,null,null,null,{"$f":"IF(AA14=\"\",\"\",MAX(Z$10:Z13)+1)","v":""},{"$f":"IF(Wall!C12=\"\",\"\",Wall!C12)","v":""},{"$f":"IF(Wall!D12=\"\",\"\",Wall!D12)","v":""},{"$f":"IF(Wall!E12=\"\",\"\",Wall!E12)","v":""},{"$f":"IF(Wall!O12=\"\",\"\",Wall!O12)","v":false},{"$f":"IF(Wall!P12=\"\",\"\",Wall!P12)","v":false},"",{"$f":"IF(Wall!D37=\"\",\"\",Wall!D37)","v":""},{"$f":"IF(AI14=\"\",\"\",MAX(AH$10:AH13)+1)","v":""},{"$f":"IF(Room!C53=\"\",\"\",Room!C53)","v":""},{"$f":"IF(Room!D53=\"\",\"\",Room!D53)","v":""},null,null,null,null,4,"",""]
[null,null,null,null,null,"","","",null,"","","","","","","",null,"hi   m",{"$f":"IF(INDIRECT(\"Room!Q\"&Y8)=\"\",\"\",INDIRECT(\"Room!Q\"&Y8))","v":""},null,null,null,null,null,null,{"$f":"IF(AA15=\"\",\"\",MAX(Z$10:Z14)+1)","v":""},{"$f":"IF(Wall!C13=\"\",\"\",Wall!C13)","v":""},{"$f":"IF(Wall!D13=\"\",\"\",Wall!D13)","v":""},{"$f":"IF(Wall!E13=\"\",\"\",Wall!E13)","v":""},{"$f":"IF(Wall!O13=\"\",\"\",Wall!O13)","v":false},{"$f":"IF(Wall!P13=\"\",\"\",Wall!P13)","v":false},"",{"$f":"IF(Wall!D38=\"\",\"\",Wall!D38)","v":""},{"$f":"IF(AI15=\"\",\"\",MAX(AH$10:AH14)+1)","v":""},{"$f":"IF(Room!C54=\"\",\"\",Room!C54)","v":""},{"$f":"IF(Room!D54=\"\",\"\",Room!D54)","v":""},null,null,null,null,5,"",""]
[null,null,null,null,null,"","","",null,"","","","","","","",null,null,null,null,null,null,null,null,null,{"$f":"IF(AA16=\"\",\"\",MAX(Z$10:Z15)+1)","v":""},{"$f":"IF(Wall!C14=\"\",\"\",Wall!C14)","v":""},{"$f":"IF(Wall!D14=\"\",\"\",Wall!D14)","v":""},{"$f":"IF(Wall!E14=\"\",\"\",Wall!E14)","v":""},{"$f":"IF(Wall!O14=\"\",\"\",Wall!O14)","v":false},{"$f":"IF(Wall!P14=\"\",\"\",Wall!P14)","v":false},"",{"$f":"IF(Wall!D39=\"\",\"\",Wall!D39)","v":""},{"$f":"IF(AI16=\"\",\"\",MAX(AH$10:AH15)+1)","v":""},{"$f":"IF(Room!C55=\"\",\"\",Room!C55)","v":""},{"$f":"IF(Room!D55=\"\",\"\",Room!D55)","v":""},null,null,null,null,6,"",""]
[null,null,null,null,null,"","","",null,"","","","","","","",null,null,null,null,null,null,null,null,null,{"$f":"IF(AA17=\"\",\"\",MAX(Z$10:Z16)+1)","v":""},{"$f":"IF(Wall!C15=\"\",\"\",Wall!C15)","v":""},{"$f":"IF(Wall!D15=\"\",\"\",Wall!D15)","v":""},{"$f":"IF(Wall!E15=\"\",\"\",Wall!E15)","v":""},{"$f":"IF(Wall!O15=\"\",\"\",Wall!O15)","v":false},{"$f":"IF(Wall!P15=\"\",\"\",Wall!P15)","v":false},"",{"$f":"IF(Wall!D40=\"\",\"\",Wall!D40)","v":""},{"$f":"IF(AI17=\"\",\"\",MAX(AH$10:AH16)+1)","v":""},{"$f":"IF(Room!C56=\"\",\"\",Room!C56)","v":""},{"$f":"IF(Room!D56=\"\",\"\",Room!D56)","v":""},null,null,null,null,7,"",""]
[null,null,null,null,null,"","","",null,"","","","","","","",null,null,null,null,null,null,null,null,null,{"$f":"IF(AA18=\"\",\"\",MAX(Z$10:Z17)+1)","v":""},{"$f":"IF(Wall!C16=\"\",\"\",Wall!C16)","v":""},{"$f":"IF(Wall!D16=\"\",\"\",Wall!D16)","v":""},{"$f":"IF(Wall!E16=\"\",\"\",Wall!E16)","v":""},{"$f":"IF(Wall!O16=\"\",\"\",Wall!O16)","v":false},{"$f":"IF(Wall!P16=\"\",\"\",Wall!P16)","v":false},"",{"$f":"IF(Wall!D41=\"\",\"\",Wall!D41)","v":""},{"$f":"IF(AI18=\"\",\"\",MAX(AH$10:AH17)+1)","v":""},{"$f":"IF(Room!C61=\"\",\"\",Room!C61)","v":""},{"$f":"IF(Room!D61=\"\",\"\",Room!D61)","v":""},null,null,null,null,8,"",""]
[null,null,null,null,null,"","","",null,"","","","","","","",null,null,null,null,null,null,null,null,null,{"$f":"IF(AA19=\"\",\"\",MAX(Z$10:Z18)+1)","v":""},{"$f":"IF(Wall!C17=\"\",\"\",Wall!C17)","v":""},{"$f":"IF(Wall!D17=\"\",\"\",Wall!D17)","v":""},{"$f":"IF(Wall!E17=\"\",\"\",Wall!E17)","v":""},{"$f":"IF(Wall!O17=\"\",\"\",Wall!O17)","v":false},{"$f":"IF(Wall!P17=\"\",\"\",Wall!P17)","v":false},"",{"$f":"IF(Wall!D42=\"\",\"\",Wall!D42)","v":""},{"$f":"IF(AI19=\"\",\"\",MAX(AH$10:AH18)+1)","v":""},{"$f":"IF(Room!C62=\"\",\"\",Room!C62)","v":""},{"$f":"IF(Room!D62=\"\",\"\",Room!D62)","v":""},null,null,null,null,9,"",{"$f":"IF(AO19>AH$45,\"\",VLOOKUP(AO19,AH19:AI49,2,FALSE))","v":""}]
[null,null,null,null,null,"","","",null,"","","","","","","",null,null,null,null,null,null,null,null,null,{"$f":"IF(AA20=\"\",\"\",MAX(Z$10:Z19)+1)","v":""},{"$f":"IF(Wall!C18=\"\",\"\",Wall!C18)","v":""},{"$f":"IF(Wall!D18=\"\",\"\",Wall!D18)","v":""},{"$f":"IF(Wall!E18=\"\",\"\",Wall!E18)","v":""},{"$f":"IF(Wall!O18=\"\",\"\",Wall!O18)","v":false},{"$f":"IF(Wall!P18=\"\",\"\",Wall!P18)","v":false},"",{"$f":"IF(Wall!D43=\"\",\"\",Wall!D43)","v":""},{"$f":"IF(AI20=\"\",\"\",MAX(AH$10:AH19)+1)","v":""},{"$f":"IF(Room!C63=\"\",\"\",Room!C63)","v":""},{"$f":"IF(Room!D63=\"\",\"\",Room!D63)","v":""},null,null,null,null,10,"",{"$f":"IF(AO20>AH$45,\"\",VLOOKUP(AO20,AH20:AI49,2,FALSE))","v":""}]
[null,null,null,null,null,"","","",null,"","","","","","","",null,null,null,null,null,null,null,null,null,{"$f":"IF(AA21=\"\",\"\",MAX(Z$10:Z20)+1)","v":""},{"$f":"IF(Wall!C19=\"\",\"\",Wall!C19)","v":""},{"$f":"IF(Wall!D19=\"\",\"\",Wall!D19)","v":""},{"$f":"IF(Wall!E19=\"\",\"\",Wall!E19)","v":""},{"$f":"IF(Wall!O19=\"\",\"\",Wall!O19)","v":false},{"$f":"IF(Wall!P19=\"\",\"\",Wall!P19)","v":false},"",{"$f":"IF(Wall!D44=\"\",\"\",Wall!D44)","v":""},{"$f":"IF(AI21=\"\",\"\",MAX(AH$10:AH20)+1)","v":""},{"$f":"IF(Room!C64=\"\",\"\",Room!C64)","v":""},{"$f":"IF(Room!D64=\"\",\"\",Room!D64)","v":""},null,null,null,null,11,"",{"$f":"IF(AO21>AH$45,\"\",VLOOKUP(AO21,AH21:AI49,2,FALSE))","v":""}]
[null,null,null,null,null,"","","",null,"","","","","","","",null,null,null,null,null,null,null,null,null,{"$f":"IF(AA22=\"\",\"\",MAX(Z$10:Z21)+1)","v":""},{"$f":"IF(Wall!C20=\"\",\"\",Wall!C20)","v":""},{"$f":"IF(Wall!D20=\"\",\"\",Wall!D20)","v":""},{"$f":"IF(Wall!E20=\"\",\"\",Wall!E20)","v":""},{"$f":"IF(Wall!O20=\"\",\"\",Wall!O20)","v":false},{"$f":"IF(Wall!P20=\"\",\"\",Wall!P20)","v":false},"",{"$f":"IF(Wall!D45=\"\",\"\",Wall!D45)","v":""},{"$f":"IF(AI22=\"\",\"\",MAX(AH$10:AH21)+1)","v":""},{"$f":"IF(Room!C65=\"\",\"\",Room!C65)","v":""},{"$f":"IF(Room!D65=\"\",\"\",Room!D65)","v":""},null,null,null,null,12,"",{"$f":"IF(AO22>AH$45,\"\",VLOOKUP(AO22,AH22:AI49,2,FALSE))","v":""}]
[null,null,null,null,null,"","","",null,"","","","","","","",null,null,null,null,null,null,null,null,null,{"$f":"IF(AA23=\"\",\"\",MAX(Z$10:Z22)+1)","v":""},{"$f":"IF(Wall!C21=\"\",\"\",Wall!C21)","v":""},{"$f":"IF(Wall!D21=\"\",\"\",Wall!D21)","v":""},{"$f":"IF(Wall!E21=\"\",\"\",Wall!E21)","v":""},{"$f":"IF(Wall!O21=\"\",\"\",Wall!O21)","v":false},{"$f":"IF(Wall!P21=\"\",\"\",Wall!P21)","v":false},"",{"$f":"IF(Wall!D46=\"\",\"\",Wall!D46)","v":""},{"$f":"IF(AI23=\"\",\"\",MAX(AH$10:AH22)+1)","v":""},{"$f":"IF(Room!C17=\"\",\"\",Room!C17)","v":""},{"$f":"IF(Room!D17=\"\",\"\",Room!D17)","v":""},null,null,null,null,13,"",{"$f":"IF(AO23>AH$45,\"\",VLOOKUP(AO23,AH23:AI49,2,FALSE))","v":""}]
[null,null,null,null,null,"","","",null,"","","","","","","",null,null,null,null,null,null,null,null,null,{"$f":"IF(AA24=\"\",\"\",MAX(Z$10:Z23)+1)","v":""},{"$f":"IF(Wall!C22=\"\",\"\",Wall!C22)","v":""},{"$f":"IF(Wall!D22=\"\",\"\",Wall!D22)","v":""},{"$f":"IF(Wall!E22=\"\",\"\",Wall!E22)","v":""},{"$f":"IF(Wall!O22=\"\",\"\",Wall!O22)","v":false},{"$f":"IF(Wall!P22=\"\",\"\",Wall!P22)","v":false},"",{"$f":"IF(Wall!D47=\"\",\"\",Wall!D47)","v":""},{"$f":"IF(AI24=\"\",\"\",MAX(AH$10:AH23)+1)","v":""},{"$f":"IF(Room!C18=\"\",\"\",Room!C18)","v":""},{"$f":"IF(Room!D18=\"\",\"\",Room!D18)","v":""},null,null,null,null,14,"",{"$f":"IF(AO24>AH$45,\"\",VLOOKUP(AO24,AH24:AI49,2,FALSE))","v":""}]
[null,null,null,null,null,"","","",null,"","","","","","","",null,null,null,null,null,null,null,null,null,{"$f":"IF(AA25=\"\",\"\",MAX(Z$10:Z24)+1)","v":""},{"$f":"IF(Wall!C23=\"\",\"\",Wall!C23)","v":""},{"$f":"IF(Wall!D23=\"\",\"\",Wall!D23)","v":""},{"$f":"IF(Wall!E23=\"\",\"\",Wall!E23)","v":""},{"$f":"IF(Wall!O23=\"\",\"\",Wall!O23)","v":false},{"$f":"IF(Wall!P23=\"\",\"\",Wall!P23)","v":false},"",{"$f":"IF(Wall!D48=\"\",\"\",Wall!D48)","v":""},{"$f":"IF(AI25=\"\",\"\",MAX(AH$10:AH24)+1)","v":""},{"$f":"IF(Room!C19=\"\",\"\",Room!C19)","v":""},{"$f":"IF(Room!D19=\"\",\"\",Room!D19)","v":""},null,null,null,null,15,"",{"$f":"IF(AO25>AH$45,\"\",VLOOKUP(AO25,AH25:AI49,2,FALSE))","v":""}]
[null,null,null,null,null,"","","",null,"","","","","","","",null,null,null,null,null,null,null,null,null,{"$f":"IF(AA26=\"\",\"\",MAX(Z$10:Z25)+1)","v":""},{"$f":"IF(Wall!C24=\"\",\"\",Wall!C24)","v":""},{"$f":"IF(Wall!D24=\"\",\"\",Wall!D24)","v":""},{"$f":"IF(Wall!E24=\"\",\"\",Wall!E24)","v":""},{"$f":"IF(Wall!O24=\"\",\"\",Wall!O24)","v":false},{"$f":"IF(Wall!P24=\"\",\"\",Wall!P24)","v":false},"",{"$f":"IF(Wall!D49=\"\",\"\",Wall!D49)","v":""},{"$f":"IF(AI26=\"\",\"\",MAX(AH$10:AH25)+1)","v":""},{"$f":"IF(Room!C20=\"\",\"\",Room!C20)","v":""},{"$f":"IF(Room!D20=\"\",\"\",Room!D20)","v":""},null,null,null,null,16,"",{"$f":"IF(AO26>AH$45,\"\",VLOOKUP(AO26,AH26:AI49,2,FALSE))","v":""}]
[null,null,null,null,null,"","","",null,"","","","","","","",null,null,null,null,null,null,null,null,null,{"$f":"IF(AA27=\"\",\"\",MAX(Z$10:Z26)+1)","v":""},{"$f":"IF(Wall!C25=\"\",\"\",Wall!C25)","v":""},{"$f":"IF(Wall!D25=\"\",\"\",Wall!D25)","v":""},{"$f":"IF(Wall!E25=\"\",\"\",Wall!E25)","v":""},{"$f":"IF(Wall!O25=\"\",\"\",Wall!O25)","v":false},{"$f":"IF(Wall!P25=\"\",\"\",Wall!P25)","v":false},"",{"$f":"IF(Wall!D50=\"\",\"\",Wall!D50)","v":""},{"$f":"IF(AI27=\"\",\"\",MAX(AH$10:AH26)+1)","v":""},{"$f":"IF(Room!C21=\"\",\"\",Room!C21)","v":""},{"$f":"IF(Room!D21=\"\",\"\",Room!D21)","v":""},null,null,null,null,17,"",{"$f":"IF(AO27>AH$45,\"\",VLOOKUP(AO27,AH27:AI49,2,FALSE))","v":""}]
[null,null,null,null,null,"","","",null,"","","","","","","",null,null,null,null,null,null,null,null,null,{"$f":"IF(AA28=\"\",\"\",MAX(Z$10:Z27)+1)","v":""},{"$f":"IF(Wall!C26=\"\",\"\",Wall!C26)","v":""},{"$f":"IF(Wall!D26=\"\",\"\",Wall!D26)","v":""},{"$f":"IF(Wall!E26=\"\",\"\",Wall!E26)","v":""},{"$f":"IF(Wall!O26=\"\",\"\",Wall!O26)","v":false},{"$f":"IF(Wall!P26=\"\",\"\",Wall!P26)","v":false},"",{"$f":"IF(Wall!D51=\"\",\"\",Wall!D51)","v":""},{"$f":"IF(AI28=\"\",\"\",MAX(AH$10:AH27)+1)","v":""},{"$f":"IF(Room!C22=\"\",\"\",Room!C22)","v":""},{"$f":"IF(Room!D22=\"\",\"\",Room!D22)","v":""},null,null,null,null,18,"",""]
[null,null,null,null,null,"","","",null,"","","","","","","",null,null,null,null,null,null,null,null,null,{"$f":"IF(AA29=\"\",\"\",MAX(Z$10:Z28)+1)","v":""},{"$f":"IF(Wall!C27=\"\",\"\",Wall!C27)","v":""},{"$f":"IF(Wall!D27=\"\",\"\",Wall!D27)","v":""},{"$f":"IF(Wall!E27=\"\",\"\",Wall!E27)","v":""},{"$f":"IF(Wall!O27=\"\",\"\",Wall!O27)","v":false},{"$f":"IF(Wall!P27=\"\",\"\",Wall!P27)","v":false},"",{"$f":"IF(Wall!D52=\"\",\"\",Wall!D52)","v":""},{"$f":"IF(AI29=\"\",\"\",MAX(AH$10:AH28)+1)","v":""},{"$f":"IF(Room!C23=\"\",\"\",Room!C23)","v":""},{"$f":"IF(Room!D23=\"\",\"\",Room!D23)","v":""},null,null,null,null,19,"",""]
[null,null,null,null,null,"","","",null,"","","","","","","",null,null,null,null,null,null,null,null,null,{"$f":"IF(AA30=\"\",\"\",MAX(Z$10:Z29)+1)","v":""},{"$f":"IF(Wall!C28=\"\",\"\",Wall!C28)","v":""},{"$f":"IF(Wall!D28=\"\",\"\",Wall!D28)","v":""},{"$f":"IF(Wall!E28=\"\",\"\",Wall!E28)","v":""},{"$f":"IF(Wall!O28=\"\",\"\",Wall!O28)","v":false},{"$f":"IF(Wall!P28=\"\",\"\",Wall!P28)","v":false},"",{"$f":"IF(Wall!D53=\"\",\"\",Wall!D53)","v":""},{"$f":"IF(AI30=\"\",\"\",MAX(AH$10:AH29)+1)","v":""},{"$f":"IF(Room!C24=\"\",\"\",Room!C24)","v":""},{"$f":"IF(Room!D24=\"\",\"\",Room!D24)","v":""},null,null,null,null,20,"",""]
[null,null,null,null,null,"","","",null,"","","","","","","",null,null,null,null,null,null,null,null,null,null,null,null,null,null,null,null,null,{"$f":"IF(AI31=\"\",\"\",MAX(AH$10:AH30)+1)","v":""},{"$f":"IF(Room!C25=\"\",\"\",Room!C25)","v":""},{"$f":"IF(Room!D25=\"\",\"\",Room!D25)","v":""},null,null,null,null,21,{"$f":"IF(AO31>Z$45,\"\",VLOOKUP(AO31,Z31:AA49,2,FALSE))","v":""},""]
[null,null,null,null,null,"","","",null,"","","","","","","",null,null,null,null,null,null,null,null,null,null,null,null,null,null,null,null,null,{"$f":"IF(AI32=\"\",\"\",MAX(AH$10:AH31)+1)","v":""},{"$f":"IF(Room!C26=\"\",\"\",Room!C26)","v":""},{"$f":"IF(Room!D26=\"\",\"\",Room!D26)","v":""},null,null,null,null,22,{"$f":"IF(AO32>Z$45,\"\",VLOOKUP(AO32,Z32:AA49,2,FALSE))","v":""},""]
[null,null,null,null,null,"","","",null,"","","","","","","",null,null,null,null,null,null,null,null,null,null,null,null,null,null,null,null,null,{"$f":"IF(AI33=\"\",\"\",MAX(AH$10:AH32)+1)","v":""},{"$f":"IF(Room!C27=\"\",\"\",Room!C27)","v":""},{"$f":"IF(Room!D27=\"\",\"\",Room!D27)","v":""},null,null,null,null,23,{"$f":"IF(AO33>Z$45,\"\",VLOOKUP(AO33,Z33:AA49,2,FALSE))","v":""},""]
[null,null,null,null,null,"","","",null,"","","","","","","",null,null,null,null,null,null,null,null,null,null,null,null,null,null,null,null,null,{"$f":"IF(AI34=\"\",\"\",MAX(AH$10:AH33)+1)","v":""},{"$f":"IF(Room!C28=\"\",\"\",Room!C28)","v":""},{"$f":"IF(Room!D28=\"\",\"\",Room!D28)","v":""},null,null,null,null,24,{"$f":"IF(AO34>Z$45,\"\",VLOOKUP(AO34,Z34:AA49,2,FALSE))","v":""},""]
[null,null,null,null,null,"","","",null,"","","","","","","",null,null,null,null,null,null,null,null,null,null,null,null,null,null,null,null,null,{"$f":"IF(AI35=\"\",\"\",MAX(AH$10:AH34)+1)","v":""},{"$f":"IF(Room!C29=\"\",\"\",Room!C29)","v":""},{"$f":"IF(Room!D29=\"\",\"\",Room!D29)","v":""},null,null,null,null,25,{"$f":"IF(AO35>Z$45,\"\",VLOOKUP(AO35,Z35:AA49,2,FALSE))","v":""},""]
[null,null,null,null,null,"","","",null,"","","","","","","",null,null,null,null,null,null,null,null,null,null,null,null,null,null,null,null,null,{"$f":"IF(AI36=\"\",\"\",MAX(AH$10:AH35)+1)","v":""},{"$f":"IF(Room!C30=\"\",\"\",Room!C30)","v":""},{"$f":"IF(Room!D30=\"\",\"\",Room!D30)","v":""},null,null,null,null,26,{"$f":"IF(AO36>Z$45,\"\",VLOOKUP(AO36,Z36:AA49,2,FALSE))","v":""},""]
[null,null,null,null,null,"","","",null,"","","","","","","",null,null,null,null,null,null,null,null,null,null,null,null,null,null,null,null,null,{"$f":"IF(AI37=\"\",\"\",MAX(AH$10:AH36)+1)","v":""},{"$f":"IF(Room!C31=\"\",\"\",Room!C31)","v":""},{"$f":"IF(Room!D31=\"\",\"\",Room!D31)","v":""},null,null,null,null,27,{"$f":"IF(AO37>Z$45,\"\",VLOOKUP(AO37,Z37:AA49,2,FALSE))","v":""},""]
[null,null,null,null,null,"","","",null,"","","","","","","",null,null,null,null,null,null,null,null,null,null,null,null,null,null,null,null,null,{"$f":"IF(AI38=\"\",\"\",MAX(AH$10:AH37)+1)","v":""},{"$f":"IF(Room!C32=\"\",\"\",Room!C32)","v":""},{"$f":"IF(Room!D32=\"\",\"\",Room!D32)","v":""},null,null,null,null,28,{"$f":"IF(AO38>Z$45,\"\",VLOOKUP(AO38,Z38:AA49,2,FALSE))","v":""},""]
[null,null,null,null,null,"","","",null,"","","","","","","",null,null,null,null,null,null,null,null,null,null,null,null,null,null,null,null,null,{"$f":"IF(AI39=\"\",\"\",MAX(AH$10:AH38)+1)","v":""},{"$f":"IF(Room!C33=\"\",\"\",Room!C33)","v":""},{"$f":"IF(Room!D33=\"\",\"\",Room!D33)","v":""},null,null,null,null,29,{"$f":"IF(AO39>Z$45,\"\",VLOOKUP(AO39,Z39:AA49,2,FALSE))","v":""},""]
[null,null,null,null,null,"","","",null,"","","","","","","",null,null,null,null,null,null,null,null,null,null,null,null,null,null,null,null,null,{"$f":"IF(AI40=\"\",\"\",MAX(AH$10:AH39)+1)","v":""},{"$f":"IF(Room!C34=\"\",\"\",Room!C34)","v":""},{"$f":"IF(Room!D34=\"\",\"\",Room!D34)","v":""},null,null,null,null,30,{"$f":"IF(AO40>Z$45,\"\",VLOOKUP(AO40,Z40:AA50,2,FALSE))","v":""},""]
[null,null,null,null,null,"","","",null,"","","","","","","",null,null,null,null,null,null,null,null,null,null,null,null,null,null,null,null,null,{"$f":"IF(AI41=\"\",\"\",MAX(AH$10:AH40)+1)","v":""},{"$f":"IF(Room!C35=\"\",\"\",Room!C35)","v":""},{"$f":"IF(Room!D35=\"\",\"\",Room!D35)","v":""},null,null,null,null,31,{"$f":"IF(AO41>Z$45,\"\",VLOOKUP(AO41,Z41:AA51,2,FALSE))","v":""},""]
[null,null,null,null,null,null,null,null,null,null,null,null,null,null,null,null,null,null,null,null,null,null,null,null,null,null,null,null,null,null,null,null,null,{"$f":"IF(AI42=\"\",\"\",MAX(AH$10:AH41)+1)","v":""},{"$f":"IF(Room!C36=\"\",\"\",Room!C36)","v":""},{"$f":"IF(Room!D36=\"\",\"\",Room!D36)","v":""},null,null,null,null,32,{"$f":"IF(AO42>Z$45,\"\",VLOOKUP(AO42,Z42:AA52,2,FALSE))","v":""},""]
[]
[]
[null,null,null,null,null,null,null,null,null,null,null,null,null,null,null,null,null,null,null,null,null,null,null,null,"Max",{"$f":"MAX(Z11:Z30)","v":0},null,null,null,null,null,null,"Max",{"$f":"MAX(AH11:AH42)","v":0}]

{"sheet":"T06","index":12,"n_rows":45,"n_cols":43,"rows_kept":45,"cut":false,"hidden":false,"merged":[[3,1,3,7],[7,1,7,7]]}
[]
[]
[]
[null,{"$f":"Langage!A54","v":"Perte thermique par transmission"}]
[]
[null,{"$f":"IF(S10=\"\",\"\",S10)","v":""},{"$f":"IF(S11=\"\",\"\",S11)","v":""},"°C",null,null,"FT,i   W",{"$f":"IF(C6=\"\",\"\",SUM(H12:H41))","v":""},null,null,null,null,null,"FT,i   W",null,{"$f":"IF(C6=\"\",\"\",SUM(P12:P40))","v":""},null,"Ceci reprend les valeurs dans les les autres onglets de façon à pouvoir les utiliser dans le présent onglet.",null,null,null,null,null,null,null,null,null,null,null,null,null,null,null,null,null,null,null,null,null,null,"Ceci recrée des listes sans vides pour les menus déroulants"]
[]
[null,null,null,null,null,null,null,null,null,null,null,null,null,null,null,null,null,"N° onglet",6,"Valeur à changer dans toutes les feuilles T",null,null,null,null,{"$f":"16+S8","v":22}]
[]
[null,null,null,"Ak","hm,k","Uk","DT","FT,i,k",null,"Tout","Tin","fqann","fGW","Chff sol","Chff mur","FT,i,k",null,"Espace",{"$f":"IF(INDIRECT(\"Room!C\"&Y8)=\"\",\"\",CONCATENATE(INDIRECT(\"Room!B\"&Y8),\". \",INDIRECT(\"Room!C\"&Y8)))","v":""},null,null,null,null,null,null,null,"Parois","U","DUTB","Chff sol","Chff mur","Utot",null,null,"Espaces",null,null,null,null,null,null,"Parois","Espace"]
[null,{"$f":"Langage!A20","v":"Parois"},{"$f":"Langage!A24","v":"Espace"},"m²","m","W/m².K","°C","W",null,null,null,null,null,null,"W",null,null,"qint   °C",{"$f":"IF(INDIRECT(\"Room!D\"&Y8)=\"\",\"\",INDIRECT(\"Room!D\"&Y8))","v":""},null,null,null,null,null,null,{"$f":"IF(AA11=\"\",\"\",MAX(Z$10:Z10)+1)","v":""},{"$f":"IF(Wall!C9=\"\",\"\",Wall!C9)","v":""},{"$f":"IF(Wall!D9=\"\",\"\",Wall!D9)","v":""},{"$f":"IF(Wall!E9=\"\",\"\",Wall!E9)","v":""},{"$f":"IF(Wall!O9=\"\",\"\",Wall!O9)","v":false},{"$f":"IF(Wall!P9=\"\",\"\",Wall!P9)","v":false},{"$f":"IF(AB11=\"\",\"\",(IF(AC11=\"\",AB11,AB11+AC11)))","v":""},{"$f":"IF(Wall!D34=\"\",\"\",Wall!D34)","v":""},{"$f":"IF(AI11=\"\",\"\",MAX(AH$10:AH10)+1)","v":""},{"$f":"IF(Room!C42=\"\",\"\",Room!C42)","v":""},{"$f":"IF(Room!D42=\"\",\"\",Room!D42)","v":""},null,null,null,null,1,{"$f":"IF(AO11>Z$45,\"\",VLOOKUP(AO11,Z11:AA30,2,FALSE))","v":""},{"$f":"IF(AO11>AH$45,\"\",VLOOKUP(AO11,AH11:AI42,2,FALSE))","v":""}]
[null,null,null,null,null,{"$f":"IF(B12=\"\",\"\",VLOOKUP(B12,AA$11:AF$30,6,FALSE))","v":""},{"$f":"IF(OR(K12=\"\",J12=\"\"),\"\",K12-J12)","v":""},{"$f":"IF(P12=\"\",\"\",P12)","v":""},null,{"$f":"IF(C12=\"\",\"\",VLOOKUP(C12,AI$11:AJ$42,2,FALSE))","v":""},{"$f":"IF(B12=\"\",\"\",IF(S$15<4,C$6,IF(E12=\"\",\"\",C$6+S$14*(E12-1))))","v":""},{"$f":"IF(C12=\"\",\"\",IF(VLOOKUP(C12,AI$11:AL$42,3,FALSE)=\"\",\"\",VLOOKUP(C12,AI$11:AL$42,3,FALSE)))","v":""},{"$f":"IF(C12=\"\",\"\",IF(VLOOKUP(C12,AI$11:AL$42,4,FALSE)=\"\",\"\",VLOOKUP(C12,AI$11:AL$42,4,FALSE)))","v":""},{"$f":"IF(B12=\"\",\"\",VLOOKUP(B12,AA$11:AF$30,4,FALSE))","v":""},{"$f":"IF(B12=\"\",\"\",VLOOKUP(B12,AA$11:AF$30,5,FALSE))","v":""},{"$f":"IF(OR(N12=TRUE,O12=TRUE),\"///\",IF(OR(D12=\"\",F12=\"\",G12=\"\"),\"\",IF(OR(L12=\"\",M12=\"\"),D12*F12*G12,D12*F12*G12*L12*M12)))","v":""},null,"qe   °C",{"$f":"IF(Room!F8=\"\",\"\",Room!F8)","v":""},null,null,null,null,null,null,{"$f":"IF(AA12=\"\",\"\",MAX(Z$10:Z11)+1)","v":""},{"$f":"IF(Wall!C10=\"\",\"\",Wall!C10)","v":""},{"$f":"IF(Wall!D10=\"\",\"\",Wall!D10)","v":""},{"$f":"IF(Wall!E10=\"\",\"\",Wall!E10)","v":""},{"$f":"IF(Wall!O10=\"\",\"\",Wall!O10)","v":false},{"$f":"IF(Wall!P10=\"\",\"\",Wall!P10)","v":false},{"$f":"IF(AB12=\"\",\"\",(IF(AC12=\"\",AB12,AB12+AC12)))","v":""},{"$f":"IF(Wall!D35=\"\",\"\",Wall!D35)","v":""},{"$f":"IF(AI12=\"\",\"\",MAX(AH$10:AH11)+1)","v":""},{"$f":"IF(Room!C47=\"\",\"\",Room!C47)","v":""},{"$f":"IF(Room!D47=\"\",\"\",Room!D47)","v":""},{"$f":"IF(Room!E47=\"\",\"\",Room!E47)","v":1.45},{"$f":"IF(Room!F47=\"\",\"\",Room!F47)","v":1.1499999999999999},null,null,2,{"$f":"IF(AO12>Z$45,\"\",VLOOKUP(AO12,Z12:AA31,2,FALSE))","v":""},{"$f":"IF(AO12>AH$45,\"\",VLOOKUP(AO12,AH12:AI43,2,FALSE))","v":""}]
[null,null,null,null,null,{"$f":"IF(B13=\"\",\"\",VLOOKUP(B13,AA$11:AF$30,6,FALSE))","v":""},{"$f":"IF(OR(K13=\"\",J13=\"\"),\"\",K13-J13)","v":""},{"$f":"IF(P13=\"\",\"\",P13)","v":""},null,"",{"$f":"IF(B13=\"\",\"\",IF(S$15<4,C$6,IF(E13=\"\",\"\",C$6+S$14*(E13-1))))","v":""},"","","",{"$f":"IF(B13=\"\",\"\",VLOOKUP(B13,AA$11:AF$30,5,FALSE))","v":""},{"$f":"IF(OR(N13=TRUE,O13=TRUE),\"///\",IF(OR(D13=\"\",F13=\"\",G13=\"\"),\"\",IF(OR(L13=\"\",M13=\"\"),D13*F13*G13,D13*F13*G13*L13*M13)))","v":""},null,"qm,e   °C",{"$f":"IF(Room!F9=\"\",\"\",Room!F9)","v":""},null,null,null,null,null,null,{"$f":"IF(AA13=\"\",\"\",MAX(Z$10:Z12)+1)","v":""},{"$f":"IF(Wall!C11=\"\",\"\",Wall!C11)","v":""},{"$f":"IF(Wall!D11=\"\",\"\",Wall!D11)","v":""},{"$f":"IF(Wall!E11=\"\",\"\",Wall!E11)","v":""},{"$f":"IF(Wall!O11=\"\",\"\",Wall!O11)","v":false},{"$f":"IF(Wall!P11=\"\",\"\",Wall!P11)","v":false},"",{"$f":"IF(Wall!D36=\"\",\"\",Wall!D36)","v":""},{"$f":"IF(AI13=\"\",\"\",MAX(AH$10:AH12)+1)","v":""},{"$f":"IF(Room!C52=\"\",\"\",Room!C52)","v":""},{"$f":"IF(Room!D52=\"\",\"\",Room!D52)","v":""},null,null,null,null,3,"",""]
[null,null,null,null,null,"","","",null,"","","","","","","",null,"Gq,air,i  °C/m",{"$f":"IF(INDIRECT(\"Room!T\"&Y8)=\"\",\"\",INDIRECT(\"Room!T\"&Y8))","v":""},null,null,null,null,null,null,{"$f":"IF(AA14=\"\",\"\",MAX(Z$10:Z13)+1)","v":""},{"$f":"IF(Wall!C12=\"\",\"\",Wall!C12)","v":""},{"$f":"IF(Wall!D12=\"\",\"\",Wall!D12)","v":""},{"$f":"IF(Wall!E12=\"\",\"\",Wall!E12)","v":""},{"$f":"IF(Wall!O12=\"\",\"\",Wall!O12)","v":false},{"$f":"IF(Wall!P12=\"\",\"\",Wall!P12)","v":false},"",{"$f":"IF(Wall!D37=\"\",\"\",Wall!D37)","v":""},{"$f":"IF(AI14=\"\",\"\",MAX(AH$10:AH13)+1)","v":""},{"$f":"IF(Room!C53=\"\",\"\",Room!C53)","v":""},{"$f":"IF(Room!D53=\"\",\"\",Room!D53)","v":""},null,null,null,null,4,"",""]
[null,null,null,null,null,"","","",null,"","","","","","","",null,"hi   m",{"$f":"IF(INDIRECT(\"Room!Q\"&Y8)=\"\",\"\",INDIRECT(\"Room!Q\"&Y8))","v":""},null,null,null,null,null,null,{"$f":"IF(AA15=\"\",\"\",MAX(Z$10:Z14)+1)","v":""},{"$f":"IF(Wall!C13=\"\",\"\",Wall!C13)","v":""},{"$f":"IF(Wall!D13=\"\",\"\",Wall!D13)","v":""},{"$f":"IF(Wall!E13=\"\",\"\",Wall!E13)","v":""},{"$f":"IF(Wall!O13=\"\",\"\",Wall!O13)","v":false},{"$f":"IF(Wall!P13=\"\",\"\",Wall!P13)","v":false},"",{"$f":"IF(Wall!D38=\"\",\"\",Wall!D38)","v":""},{"$f":"IF(AI15=\"\",\"\",MAX(AH$10:AH14)+1)","v":""},{"$f":"IF(Room!C54=\"\",\"\",Room!C54)","v":""},{"$f":"IF(Room!D54=\"\",\"\",Room!D54)","v":""},null,null,null,null,5,"",""]
[null,null,null,null,null,"","","",null,"","","","","","","",null,null,null,null,null,null,null,null,null,{"$f":"IF(AA16=\"\",\"\",MAX(Z$10:Z15)+1)","v":""},{"$f":"IF(Wall!C14=\"\",\"\",Wall!C14)","v":""},{"$f":"IF(Wall!D14=\"\",\"\",Wall!D14)","v":""},{"$f":"IF(Wall!E14=\"\",\"\",Wall!E14)","v":""},{"$f":"IF(Wall!O14=\"\",\"\",Wall!O14)","v":false},{"$f":"IF(Wall!P14=\"\",\"\",Wall!P14)","v":false},"",{"$f":"IF(Wall!D39=\"\",\"\",Wall!D39)","v":""},{"$f":"IF(AI16=\"\",\"\",MAX(AH$10:AH15)+1)","v":""},{"$f":"IF(Room!C55=\"\",\"\",Room!C55)","v":""},{"$f":"IF(Room!D55=\"\",\"\",Room!D55)","v":""},null,null,null,null,6,"",""]
[null,null,null,null,null,"","","",null,"","","","","","","",null,null,null,null,null,null,null,null,null,{"$f":"IF(AA17=\"\",\"\",MAX(Z$10:Z16)+1)","v":""},{"$f":"IF(Wall!C15=\"\",\"\",Wall!C15)","v":""},{"$f":"IF(Wall!D15=\"\",\"\",Wall!D15)","v":""},{"$f":"IF(Wall!E15=\"\",\"\",Wall!E15)","v":""},{"$f":"IF(Wall!O15=\"\",\"\",Wall!O15)","v":false},{"$f":"IF(Wall!P15=\"\",\"\",Wall!P15)","v":false},"",{"$f":"IF(Wall!D40=\"\",\"\",Wall!D40)","v":""},{"$f":"IF(AI17=\"\",\"\",MAX(AH$10:AH16)+1)","v":""},{"$f":"IF(Room!C56=\"\",\"\",Room!C56)","v":""},{"$f":"IF(Room!D56=\"\",\"\",Room!D56)","v":""},null,null,null,null,7,"",""]
[null,null,null,null,null,"","","",null,"","","","","","","",null,null,null,null,null,null,null,null,null,{"$f":"IF(AA18=\"\",\"\",MAX(Z$10:Z17)+1)","v":""},{"$f":"IF(Wall!C16=\"\",\"\",Wall!C16)","v":""},{"$f":"IF(Wall!D16=\"\",\"\",Wall!D16)","v":""},{"$f":"IF(Wall!E16=\"\",\"\",Wall!E16)","v":""},{"$f":"IF(Wall!O16=\"\",\"\",Wall!O16)","v":false},{"$f":"IF(Wall!P16=\"\",\"\",Wall!P16)","v":false},"",{"$f":"IF(Wall!D41=\"\",\"\",Wall!D41)","v":""},{"$f":"IF(AI18=\"\",\"\",MAX(AH$10:AH17)+1)","v":""},{"$f":"IF(Room!C61=\"\",\"\",Room!C61)","v":""},{"$f":"IF(Room!D61=\"\",\"\",Room!D61)","v":""},null,null,null,null,8,"",""]
[null,null,null,null,null,"","","",null,"","","","","","","",null,null,null,null,null,null,null,null,null,{"$f":"IF(AA19=\"\",\"\",MAX(Z$10:Z18)+1)","v":""},{"$f":"IF(Wall!C17=\"\",\"\",Wall!C17)","v":""},{"$f":"IF(Wall!D17=\"\",\"\",Wall!D17)","v":""},{"$f":"IF(Wall!E17=\"\",\"\",Wall!E17)","v":""},{"$f":"IF(Wall!O17=\"\",\"\",Wall!O17)","v":false},{"$f":"IF(Wall!P17=\"\",\"\",Wall!P17)","v":false},"",{"$f":"IF(Wall!D42=\"\",\"\",Wall!D42)","v":""},{"$f":"IF(AI19=\"\",\"\",MAX(AH$10:AH18)+1)","v":""},{"$f":"IF(Room!C62=\"\",\"\",Room!C62)","v":""},{"$f":"IF(Room!D62=\"\",\"\",Room!D62)","v":""},null,null,null,null,9,"",{"$f":"IF(AO19>AH$45,\"\",VLOOKUP(AO19,AH19:AI49,2,FALSE))","v":""}]
[null,null,null,null,null,"","","",null,"","","","","","","",null,null,null,null,null,null,null,null,null,{"$f":"IF(AA20=\"\",\"\",MAX(Z$10:Z19)+1)","v":""},{"$f":"IF(Wall!C18=\"\",\"\",Wall!C18)","v":""},{"$f":"IF(Wall!D18=\"\",\"\",Wall!D18)","v":""},{"$f":"IF(Wall!E18=\"\",\"\",Wall!E18)","v":""},{"$f":"IF(Wall!O18=\"\",\"\",Wall!O18)","v":false},{"$f":"IF(Wall!P18=\"\",\"\",Wall!P18)","v":false},"",{"$f":"IF(Wall!D43=\"\",\"\",Wall!D43)","v":""},{"$f":"IF(AI20=\"\",\"\",MAX(AH$10:AH19)+1)","v":""},{"$f":"IF(Room!C63=\"\",\"\",Room!C63)","v":""},{"$f":"IF(Room!D63=\"\",\"\",Room!D63)","v":""},null,null,null,null,10,"",{"$f":"IF(AO20>AH$45,\"\",VLOOKUP(AO20,AH20:AI49,2,FALSE))","v":""}]
[null,null,null,null,null,"","","",null,"","","","","","","",null,null,null,null,null,null,null,null,null,{"$f":"IF(AA21=\"\",\"\",MAX(Z$10:Z20)+1)","v":""},{"$f":"IF(Wall!C19=\"\",\"\",Wall!C19)","v":""},{"$f":"IF(Wall!D19=\"\",\"\",Wall!D19)","v":""},{"$f":"IF(Wall!E19=\"\",\"\",Wall!E19)","v":""},{"$f":"IF(Wall!O19=\"\",\"\",Wall!O19)","v":false},{"$f":"IF(Wall!P19=\"\",\"\",Wall!P19)","v":false},"",{"$f":"IF(Wall!D44=\"\",\"\",Wall!D44)","v":""},{"$f":"IF(AI21=\"\",\"\",MAX(AH$10:AH20)+1)","v":""},{"$f":"IF(Room!C64=\"\",\"\",Room!C64)","v":""},{"$f":"IF(Room!D64=\"\",\"\",Room!D64)","v":""},null,null,null,null,11,"",{"$f":"IF(AO21>AH$45,\"\",VLOOKUP(AO21,AH21:AI49,2,FALSE))","v":""}]
[null,null,null,null,null,"","","",null,"","","","","","","",null,null,null,null,null,null,null,null,null,{"$f":"IF(AA22=\"\",\"\",MAX(Z$10:Z21)+1)","v":""},{"$f":"IF(Wall!C20=\"\",\"\",Wall!C20)","v":""},{"$f":"IF(Wall!D20=\"\",\"\",Wall!D20)","v":""},{"$f":"IF(Wall!E20=\"\",\"\",Wall!E20)","v":""},{"$f":"IF(Wall!O20=\"\",\"\",Wall!O20)","v":false},{"$f":"IF(Wall!P20=\"\",\"\",Wall!P20)","v":false},"",{"$f":"IF(Wall!D45=\"\",\"\",Wall!D45)","v":""},{"$f":"IF(AI22=\"\",\"\",MAX(AH$10:AH21)+1)","v":""},{"$f":"IF(Room!C65=\"\",\"\",Room!C65)","v":""},{"$f":"IF(Room!D65=\"\",\"\",Room!D65)","v":""},null,null,null,null,12,"",{"$f":"IF(AO22>AH$45,\"\",VLOOKUP(AO22,AH22:AI49,2,FALSE))","v":""}]
[null,null,null,null,null,"","","",null,"","","","","","","",null,null,null,null,null,null,null,null,null,{"$f":"IF(AA23=\"\",\"\",MAX(Z$10:Z22)+1)","v":""},{"$f":"IF(Wall!C21=\"\",\"\",Wall!C21)","v":""},{"$f":"IF(Wall!D21=\"\",\"\",Wall!D21)","v":""},{"$f":"IF(Wall!E21=\"\",\"\",Wall!E21)","v":""},{"$f":"IF(Wall!O21=\"\",\"\",Wall!O21)","v":false},{"$f":"IF(Wall!P21=\"\",\"\",Wall!P21)","v":false},"",{"$f":"IF(Wall!D46=\"\",\"\",Wall!D46)","v":""},{"$f":"IF(AI23=\"\",\"\",MAX(AH$10:AH22)+1)","v":""},{"$f":"IF(Room!C17=\"\",\"\",Room!C17)","v":""},{"$f":"IF(Room!D17=\"\",\"\",Room!D17)","v":""},null,null,null,null,13,"",{"$f":"IF(AO23>AH$45,\"\",VLOOKUP(AO23,AH23:AI49,2,FALSE))","v":""}]
[null,null,null,null,null,"","","",null,"","","","","","","",null,null,null,null,null,null,null,null,null,{"$f":"IF(AA24=\"\",\"\",MAX(Z$10:Z23)+1)","v":""},{"$f":"IF(Wall!C22=\"\",\"\",Wall!C22)","v":""},{"$f":"IF(Wall!D22=\"\",\"\",Wall!D22)","v":""},{"$f":"IF(Wall!E22=\"\",\"\",Wall!E22)","v":""},{"$f":"IF(Wall!O22=\"\",\"\",Wall!O22)","v":false},{"$f":"IF(Wall!P22=\"\",\"\",Wall!P22)","v":false},"",{"$f":"IF(Wall!D47=\"\",\"\",Wall!D47)","v":""},{"$f":"IF(AI24=\"\",\"\",MAX(AH$10:AH23)+1)","v":""},{"$f":"IF(Room!C18=\"\",\"\",Room!C18)","v":""},{"$f":"IF(Room!D18=\"\",\"\",Room!D18)","v":""},null,null,null,null,14,"",{"$f":"IF(AO24>AH$45,\"\",VLOOKUP(AO24,AH24:AI49,2,FALSE))","v":""}]
[null,null,null,null,null,"","","",null,"","","","","","","",null,null,null,null,null,null,null,null,null,{"$f":"IF(AA25=\"\",\"\",MAX(Z$10:Z24)+1)","v":""},{"$f":"IF(Wall!C23=\"\",\"\",Wall!C23)","v":""},{"$f":"IF(Wall!D23=\"\",\"\",Wall!D23)","v":""},{"$f":"IF(Wall!E23=\"\",\"\",Wall!E23)","v":""},{"$f":"IF(Wall!O23=\"\",\"\",Wall!O23)","v":false},{"$f":"IF(Wall!P23=\"\",\"\",Wall!P23)","v":false},"",{"$f":"IF(Wall!D48=\"\",\"\",Wall!D48)","v":""},{"$f":"IF(AI25=\"\",\"\",MAX(AH$10:AH24)+1)","v":""},{"$f":"IF(Room!C19=\"\",\"\",Room!C19)","v":""},{"$f":"IF(Room!D19=\"\",\"\",Room!D19)","v":""},null,null,null,null,15,"",{"$f":"IF(AO25>AH$45,\"\",VLOOKUP(AO25,AH25:AI49,2,FALSE))","v":""}]
[null,null,null,null,null,"","","",null,"","","","","","","",null,null,null,null,null,null,null,null,null,{"$f":"IF(AA26=\"\",\"\",MAX(Z$10:Z25)+1)","v":""},{"$f":"IF(Wall!C24=\"\",\"\",Wall!C24)","v":""},{"$f":"IF(Wall!D24=\"\",\"\",Wall!D24)","v":""},{"$f":"IF(Wall!E24=\"\",\"\",Wall!E24)","v":""},{"$f":"IF(Wall!O24=\"\",\"\",Wall!O24)","v":false},{"$f":"IF(Wall!P24=\"\",\"\",Wall!P24)","v":false},"",{"$f":"IF(Wall!D49=\"\",\"\",Wall!D49)","v":""},{"$f":"IF(AI26=\"\",\"\",MAX(AH$10:AH25)+1)","v":""},{"$f":"IF(Room!C20=\"\",\"\",Room!C20)","v":""},{"$f":"IF(Room!D20=\"\",\"\",Room!D20)","v":""},null,null,null,null,16,"",{"$f":"IF(AO26>AH$45,\"\",VLOOKUP(AO26,AH26:AI49,2,FALSE))","v":""}]
[null,null,null,null,null,"","","",null,"","","","","","","",null,null,null,null,null,null,null,null,null,{"$f":"IF(AA27=\"\",\"\",MAX(Z$10:Z26)+1)","v":""},{"$f":"IF(Wall!C25=\"\",\"\",Wall!C25)","v":""},{"$f":"IF(Wall!D25=\"\",\"\",Wall!D25)","v":""},{"$f":"IF(Wall!E25=\"\",\"\",Wall!E25)","v":""},{"$f":"IF(Wall!O25=\"\",\"\",Wall!O25)","v":false},{"$f":"IF(Wall!P25=\"\",\"\",Wall!P25)","v":false},"",{"$f":"IF(Wall!D50=\"\",\"\",Wall!D50)","v":""},{"$f":"IF(AI27=\"\",\"\",MAX(AH$10:AH26)+1)","v":""},{"$f":"IF(Room!C21=\"\",\"\",Room!C21)","v":""},{"$f":"IF(Room!D21=\"\",\"\",Room!D21)","v":""},null,null,null,null,17,"",{"$f":"IF(AO27>AH$45,\"\",VLOOKUP(AO27,AH27:AI49,2,FALSE))","v":""}]
[null,null,null,null,null,"","","",null,"","","","","","","",null,null,null,null,null,null,null,null,null,{"$f":"IF(AA28=\"\",\"\",MAX(Z$10:Z27)+1)","v":""},{"$f":"IF(Wall!C26=\"\",\"\",Wall!C26)","v":""},{"$f":"IF(Wall!D26=\"\",\"\",Wall!D26)","v":""},{"$f":"IF(Wall!E26=\"\",\"\",Wall!E26)","v":""},{"$f":"IF(Wall!O26=\"\",\"\",Wall!O26)","v":false},{"$f":"IF(Wall!P26=\"\",\"\",Wall!P26)","v":false},"",{"$f":"IF(Wall!D51=\"\",\"\",Wall!D51)","v":""},{"$f":"IF(AI28=\"\",\"\",MAX(AH$10:AH27)+1)","v":""},{"$f":"IF(Room!C22=\"\",\"\",Room!C22)","v":""},{"$f":"IF(Room!D22=\"\",\"\",Room!D22)","v":""},null,null,null,null,18,"",""]
[null,null,null,null,null,"","","",null,"","","","","","","",null,null,null,null,null,null,null,null,null,{"$f":"IF(AA29=\"\",\"\",MAX(Z$10:Z28)+1)","v":""},{"$f":"IF(Wall!C27=\"\",\"\",Wall!C27)","v":""},{"$f":"IF(Wall!D27=\"\",\"\",Wall!D27)","v":""},{"$f":"IF(Wall!E27=\"\",\"\",Wall!E27)","v":""},{"$f":"IF(Wall!O27=\"\",\"\",Wall!O27)","v":false},{"$f":"IF(Wall!P27=\"\",\"\",Wall!P27)","v":false},"",{"$f":"IF(Wall!D52=\"\",\"\",Wall!D52)","v":""},{"$f":"IF(AI29=\"\",\"\",MAX(AH$10:AH28)+1)","v":""},{"$f":"IF(Room!C23=\"\",\"\",Room!C23)","v":""},{"$f":"IF(Room!D23=\"\",\"\",Room!D23)","v":""},null,null,null,null,19,"",""]
[null,null,null,null,null,"","","",null,"","","","","","","",null,null,null,null,null,null,null,null,null,{"$f":"IF(AA30=\"\",\"\",MAX(Z$10:Z29)+1)","v":""},{"$f":"IF(Wall!C28=\"\",\"\",Wall!C28)","v":""},{"$f":"IF(Wall!D28=\"\",\"\",Wall!D28)","v":""},{"$f":"IF(Wall!E28=\"\",\"\",Wall!E28)","v":""},{"$f":"IF(Wall!O28=\"\",\"\",Wall!O28)","v":false},{"$f":"IF(Wall!P28=\"\",\"\",Wall!P28)","v":false},"",{"$f":"IF(Wall!D53=\"\",\"\",Wall!D53)","v":""},{"$f":"IF(AI30=\"\",\"\",MAX(AH$10:AH29)+1)","v":""},{"$f":"IF(Room!C24=\"\",\"\",Room!C24)","v":""},{"$f":"IF(Room!D24=\"\",\"\",Room!D24)","v":""},null,null,null,null,20,"",""]
[null,null,null,null,null,"","","",null,"","","","","","","",null,null,null,null,null,null,null,null,null,null,null,null,null,null,null,null,null,{"$f":"IF(AI31=\"\",\"\",MAX(AH$10:AH30)+1)","v":""},{"$f":"IF(Room!C25=\"\",\"\",Room!C25)","v":""},{"$f":"IF(Room!D25=\"\",\"\",Room!D25)","v":""},null,null,null,null,21,{"$f":"IF(AO31>Z$45,\"\",VLOOKUP(AO31,Z31:AA49,2,FALSE))","v":""},""]
[null,null,null,null,null,"","","",null,"","","","","","","",null,null,null,null,null,null,null,null,null,null,null,null,null,null,null,null,null,{"$f":"IF(AI32=\"\",\"\",MAX(AH$10:AH31)+1)","v":""},{"$f":"IF(Room!C26=\"\",\"\",Room!C26)","v":""},{"$f":"IF(Room!D26=\"\",\"\",Room!D26)","v":""},null,null,null,null,22,{"$f":"IF(AO32>Z$45,\"\",VLOOKUP(AO32,Z32:AA49,2,FALSE))","v":""},""]
[null,null,null,null,null,"","","",null,"","","","","","","",null,null,null,null,null,null,null,null,null,null,null,null,null,null,null,null,null,{"$f":"IF(AI33=\"\",\"\",MAX(AH$10:AH32)+1)","v":""},{"$f":"IF(Room!C27=\"\",\"\",Room!C27)","v":""},{"$f":"IF(Room!D27=\"\",\"\",Room!D27)","v":""},null,null,null,null,23,{"$f":"IF(AO33>Z$45,\"\",VLOOKUP(AO33,Z33:AA49,2,FALSE))","v":""},""]
[null,null,null,null,null,"","","",null,"","","","","","","",null,null,null,null,null,null,null,null,null,null,null,null,null,null,null,null,null,{"$f":"IF(AI34=\"\",\"\",MAX(AH$10:AH33)+1)","v":""},{"$f":"IF(Room!C28=\"\",\"\",Room!C28)","v":""},{"$f":"IF(Room!D28=\"\",\"\",Room!D28)","v":""},null,null,null,null,24,{"$f":"IF(AO34>Z$45,\"\",VLOOKUP(AO34,Z34:AA49,2,FALSE))","v":""},""]
[null,null,null,null,null,"","","",null,"","","","","","","",null,null,null,null,null,null,null,null,null,null,null,null,null,null,null,null,null,{"$f":"IF(AI35=\"\",\"\",MAX(AH$10:AH34)+1)","v":""},{"$f":"IF(Room!C29=\"\",\"\",Room!C29)","v":""},{"$f":"IF(Room!D29=\"\",\"\",Room!D29)","v":""},null,null,null,null,25,{"$f":"IF(AO35>Z$45,\"\",VLOOKUP(AO35,Z35:AA49,2,FALSE))","v":""},""]
[null,null,null,null,null,"","","",null,"","","","","","","",null,null,null,null,null,null,null,null,null,null,null,null,null,null,null,null,null,{"$f":"IF(AI36=\"\",\"\",MAX(AH$10:AH35)+1)","v":""},{"$f":"IF(Room!C30=\"\",\"\",Room!C30)","v":""},{"$f":"IF(Room!D30=\"\",\"\",Room!D30)","v":""},null,null,null,null,26,{"$f":"IF(AO36>Z$45,\"\",VLOOKUP(AO36,Z36:AA49,2,FALSE))","v":""},""]
[null,null,null,null,null,"","","",null,"","","","","","","",null,null,null,null,null,null,null,null,null,null,null,null,null,null,null,null,null,{"$f":"IF(AI37=\"\",\"\",MAX(AH$10:AH36)+1)","v":""},{"$f":"IF(Room!C31=\"\",\"\",Room!C31)","v":""},{"$f":"IF(Room!D31=\"\",\"\",Room!D31)","v":""},null,null,null,null,27,{"$f":"IF(AO37>Z$45,\"\",VLOOKUP(AO37,Z37:AA49,2,FALSE))","v":""},""]
[null,null,null,null,null,"","","",null,"","","","","","","",null,null,null,null,null,null,null,null,null,null,null,null,null,null,null,null,null,{"$f":"IF(AI38=\"\",\"\",MAX(AH$10:AH37)+1)","v":""},{"$f":"IF(Room!C32=\"\",\"\",Room!C32)","v":""},{"$f":"IF(Room!D32=\"\",\"\",Room!D32)","v":""},null,null,null,null,28,{"$f":"IF(AO38>Z$45,\"\",VLOOKUP(AO38,Z38:AA49,2,FALSE))","v":""},""]
[null,null,null,null,null,"","","",null,"","","","","","","",null,null,null,null,null,null,null,null,null,null,null,null,null,null,null,null,null,{"$f":"IF(AI39=\"\",\"\",MAX(AH$10:AH38)+1)","v":""},{"$f":"IF(Room!C33=\"\",\"\",Room!C33)","v":""},{"$f":"IF(Room!D33=\"\",\"\",Room!D33)","v":""},null,null,null,null,29,{"$f":"IF(AO39>Z$45,\"\",VLOOKUP(AO39,Z39:AA49,2,FALSE))","v":""},""]
[null,null,null,null,null,"","","",null,"","","","","","","",null,null,null,null,null,null,null,null,null,null,null,null,null,null,null,null,null,{"$f":"IF(AI40=\"\",\"\",MAX(AH$10:AH39)+1)","v":""},{"$f":"IF(Room!C34=\"\",\"\",Room!C34)","v":""},{"$f":"IF(Room!D34=\"\",\"\",Room!D34)","v":""},null,null,null,null,30,{"$f":"IF(AO40>Z$45,\"\",VLOOKUP(AO40,Z40:AA50,2,FALSE))","v":""},""]
[null,null,null,null,null,"","","",null,"","","","","","","",null,null,null,null,null,null,null,null,null,null,null,null,null,null,null,null,null,{"$f":"IF(AI41=\"\",\"\",MAX(AH$10:AH40)+1)","v":""},{"$f":"IF(Room!C35=\"\",\"\",Room!C35)","v":""},{"$f":"IF(Room!D35=\"\",\"\",Room!D35)","v":""},null,null,null,null,31,{"$f":"IF(AO41>Z$45,\"\",VLOOKUP(AO41,Z41:AA51,2,FALSE))","v":""},""]
[null,null,null,null,null,null,null,null,null,null,null,null,null,null,null,null,null,null,null,null,null,null,null,null,null,null,null,null,null,null,null,null,null,{"$f":"IF(AI42=\"\",\"\",MAX(AH$10:AH41)+1)","v":""},{"$f":"IF(Room!C36=\"\",\"\",Room!C36)","v":""},{"$f":"IF(Room!D36=\"\",\"\",Room!D36)","v":""},null,null,null,null,32,{"$f":"IF(AO42>Z$45,\"\",VLOOKUP(AO42,Z42:AA52,2,FALSE))","v":""},""]
[]
[]
[null,null,null,null,null,null,null,null,null,null,null,null,null,null,null,null,null,null,null,null,null,null,null,null,"Max",{"$f":"MAX(Z11:Z30)","v":0},null,null,null,null,null,null,"Max",{"$f":"MAX(AH11:AH42)","v":0}]

{"sheet":"T07","index":13,"n_rows":45,"n_cols":43,"rows_kept":45,"cut":false,"hidden":false,"merged":[[3,1,3,7],[7,1,7,7]]}
[]
[]
[]
[null,{"$f":"Langage!A54","v":"Perte thermique par transmission"}]
[]
[null,{"$f":"IF(S10=\"\",\"\",S10)","v":""},{"$f":"IF(S11=\"\",\"\",S11)","v":""},"°C",null,null,"FT,i   W",{"$f":"IF(C6=\"\",\"\",SUM(H12:H41))","v":""},null,null,null,null,null,"FT,i   W",null,{"$f":"IF(C6=\"\",\"\",SUM(P12:P40))","v":""},null,"Ceci reprend les valeurs dans les les autres onglets de façon à pouvoir les utiliser dans le présent onglet.",null,null,null,null,null,null,null,null,null,null,null,null,null,null,null,null,null,null,null,null,null,null,"Ceci recrée des listes sans vides pour les menus déroulants"]
[]
[null,null,null,null,null,null,null,null,null,null,null,null,null,null,null,null,null,"N° onglet",7,"Valeur à changer dans toutes les feuilles T",null,null,null,null,{"$f":"16+S8","v":23}]
[]
[null,null,null,"Ak","hm,k","Uk","DT","FT,i,k",null,"Tout","Tin","fqann","fGW","Chff sol","Chff mur","FT,i,k",null,"Espace",{"$f":"IF(INDIRECT(\"Room!C\"&Y8)=\"\",\"\",CONCATENATE(INDIRECT(\"Room!B\"&Y8),\". \",INDIRECT(\"Room!C\"&Y8)))","v":""},null,null,null,null,null,null,null,"Parois","U","DUTB","Chff sol","Chff mur","Utot",null,null,"Espaces",null,null,null,null,null,null,"Parois","Espace"]
[null,{"$f":"Langage!A20","v":"Parois"},{"$f":"Langage!A24","v":"Espace"},"m²","m","W/m².K","°C","W",null,null,null,null,null,null,"W",null,null,"qint   °C",{"$f":"IF(INDIRECT(\"Room!D\"&Y8)=\"\",\"\",INDIRECT(\"Room!D\"&Y8))","v":""},null,null,null,null,null,null,{"$f":"IF(AA11=\"\",\"\",MAX(Z$10:Z10)+1)","v":""},{"$f":"IF(Wall!C9=\"\",\"\",Wall!C9)","v":""},{"$f":"IF(Wall!D9=\"\",\"\",Wall!D9)","v":""},{"$f":"IF(Wall!E9=\"\",\"\",Wall!E9)","v":""},{"$f":"IF(Wall!O9=\"\",\"\",Wall!O9)","v":false},{"$f":"IF(Wall!P9=\"\",\"\",Wall!P9)","v":false},{"$f":"IF(AB11=\"\",\"\",(IF(AC11=\"\",AB11,AB11+AC11)))","v":""},{"$f":"IF(Wall!D34=\"\",\"\",Wall!D34)","v":""},{"$f":"IF(AI11=\"\",\"\",MAX(AH$10:AH10)+1)","v":""},{"$f":"IF(Room!C42=\"\",\"\",Room!C42)","v":""},{"$f":"IF(Room!D42=\"\",\"\",Room!D42)","v":""},null,null,null,null,1,{"$f":"IF(AO11>Z$45,\"\",VLOOKUP(AO11,Z11:AA30,2,FALSE))","v":""},{"$f":"IF(AO11>AH$45,\"\",VLOOKUP(AO11,AH11:AI42,2,FALSE))","v":""}]
[null,null,null,null,null,{"$f":"IF(B12=\"\",\"\",VLOOKUP(B12,AA$11:AF$30,6,FALSE))","v":""},{"$f":"IF(OR(K12=\"\",J12=\"\"),\"\",K12-J12)","v":""},{"$f":"IF(P12=\"\",\"\",P12)","v":""},null,{"$f":"IF(C12=\"\",\"\",VLOOKUP(C12,AI$11:AJ$42,2,FALSE))","v":""},{"$f":"IF(B12=\"\",\"\",IF(S$15<4,C$6,IF(E12=\"\",\"\",C$6+S$14*(E12-1))))","v":""},{"$f":"IF(C12=\"\",\"\",IF(VLOOKUP(C12,AI$11:AL$42,3,FALSE)=\"\",\"\",VLOOKUP(C12,AI$11:AL$42,3,FALSE)))","v":""},{"$f":"IF(C12=\"\",\"\",IF(VLOOKUP(C12,AI$11:AL$42,4,FALSE)=\"\",\"\",VLOOKUP(C12,AI$11:AL$42,4,FALSE)))","v":""},{"$f":"IF(B12=\"\",\"\",VLOOKUP(B12,AA$11:AF$30,4,FALSE))","v":""},{"$f":"IF(B12=\"\",\"\",VLOOKUP(B12,AA$11:AF$30,5,FALSE))","v":""},{"$f":"IF(OR(N12=TRUE,O12=TRUE),\"///\",IF(OR(D12=\"\",F12=\"\",G12=\"\"),\"\",IF(OR(L12=\"\",M12=\"\"),D12*F12*G12,D12*F12*G12*L12*M12)))","v":""},null,"qe   °C",{"$f":"IF(Room!F8=\"\",\"\",Room!F8)","v":""},null,null,null,null,null,null,{"$f":"IF(AA12=\"\",\"\",MAX(Z$10:Z11)+1)","v":""},{"$f":"IF(Wall!C10=\"\",\"\",Wall!C10)","v":""},{"$f":"IF(Wall!D10=\"\",\"\",Wall!D10)","v":""},{"$f":"IF(Wall!E10=\"\",\"\",Wall!E10)","v":""},{"$f":"IF(Wall!O10=\"\",\"\",Wall!O10)","v":false},{"$f":"IF(Wall!P10=\"\",\"\",Wall!P10)","v":false},{"$f":"IF(AB12=\"\",\"\",(IF(AC12=\"\",AB12,AB12+AC12)))","v":""},{"$f":"IF(Wall!D35=\"\",\"\",Wall!D35)","v":""},{"$f":"IF(AI12=\"\",\"\",MAX(AH$10:AH11)+1)","v":""},{"$f":"IF(Room!C47=\"\",\"\",Room!C47)","v":""},{"$f":"IF(Room!D47=\"\",\"\",Room!D47)","v":""},{"$f":"IF(Room!E47=\"\",\"\",Room!E47)","v":1.45},{"$f":"IF(Room!F47=\"\",\"\",Room!F47)","v":1.1499999999999999},null,null,2,{"$f":"IF(AO12>Z$45,\"\",VLOOKUP(AO12,Z12:AA31,2,FALSE))","v":""},{"$f":"IF(AO12>AH$45,\"\",VLOOKUP(AO12,AH12:AI43,2,FALSE))","v":""}]
[null,null,null,null,null,{"$f":"IF(B13=\"\",\"\",VLOOKUP(B13,AA$11:AF$30,6,FALSE))","v":""},{"$f":"IF(OR(K13=\"\",J13=\"\"),\"\",K13-J13)","v":""},{"$f":"IF(P13=\"\",\"\",P13)","v":""},null,"",{"$f":"IF(B13=\"\",\"\",IF(S$15<4,C$6,IF(E13=\"\",\"\",C$6+S$14*(E13-1))))","v":""},"","","",{"$f":"IF(B13=\"\",\"\",VLOOKUP(B13,AA$11:AF$30,5,FALSE))","v":""},{"$f":"IF(OR(N13=TRUE,O13=TRUE),\"///\",IF(OR(D13=\"\",F13=\"\",G13=\"\"),\"\",IF(OR(L13=\"\",M13=\"\"),D13*F13*G13,D13*F13*G13*L13*M13)))","v":""},null,"qm,e   °C",{"$f":"IF(Room!F9=\"\",\"\",Room!F9)","v":""},null,null,null,null,null,null,{"$f":"IF(AA13=\"\",\"\",MAX(Z$10:Z12)+1)","v":""},{"$f":"IF(Wall!C11=\"\",\"\",Wall!C11)","v":""},{"$f":"IF(Wall!D11=\"\",\"\",Wall!D11)","v":""},{"$f":"IF(Wall!E11=\"\",\"\",Wall!E11)","v":""},{"$f":"IF(Wall!O11=\"\",\"\",Wall!O11)","v":false},{"$f":"IF(Wall!P11=\"\",\"\",Wall!P11)","v":false},"",{"$f":"IF(Wall!D36=\"\",\"\",Wall!D36)","v":""},{"$f":"IF(AI13=\"\",\"\",MAX(AH$10:AH12)+1)","v":""},{"$f":"IF(Room!C52=\"\",\"\",Room!C52)","v":""},{"$f":"IF(Room!D52=\"\",\"\",Room!D52)","v":""},null,null,null,null,3,"",""]
[null,null,null,null,null,"","","",null,"","","","","","","",null,"Gq,air,i  °C/m",{"$f":"IF(INDIRECT(\"Room!T\"&Y8)=\"\",\"\",INDIRECT(\"Room!T\"&Y8))","v":""},null,null,null,null,null,null,{"$f":"IF(AA14=\"\",\"\",MAX(Z$10:Z13)+1)","v":""},{"$f":"IF(Wall!C12=\"\",\"\",Wall!C12)","v":""},{"$f":"IF(Wall!D12=\"\",\"\",Wall!D12)","v":""},{"$f":"IF(Wall!E12=\"\",\"\",Wall!E12)","v":""},{"$f":"IF(Wall!O12=\"\",\"\",Wall!O12)","v":false},{"$f":"IF(Wall!P12=\"\",\"\",Wall!P12)","v":false},"",{"$f":"IF(Wall!D37=\"\",\"\",Wall!D37)","v":""},{"$f":"IF(AI14=\"\",\"\",MAX(AH$10:AH13)+1)","v":""},{"$f":"IF(Room!C53=\"\",\"\",Room!C53)","v":""},{"$f":"IF(Room!D53=\"\",\"\",Room!D53)","v":""},null,null,null,null,4,"",""]
[null,null,null,null,null,"","","",null,"","","","","","","",null,"hi   m",{"$f":"IF(INDIRECT(\"Room!Q\"&Y8)=\"\",\"\",INDIRECT(\"Room!Q\"&Y8))","v":""},null,null,null,null,null,null,{"$f":"IF(AA15=\"\",\"\",MAX(Z$10:Z14)+1)","v":""},{"$f":"IF(Wall!C13=\"\",\"\",Wall!C13)","v":""},{"$f":"IF(Wall!D13=\"\",\"\",Wall!D13)","v":""},{"$f":"IF(Wall!E13=\"\",\"\",Wall!E13)","v":""},{"$f":"IF(Wall!O13=\"\",\"\",Wall!O13)","v":false},{"$f":"IF(Wall!P13=\"\",\"\",Wall!P13)","v":false},"",{"$f":"IF(Wall!D38=\"\",\"\",Wall!D38)","v":""},{"$f":"IF(AI15=\"\",\"\",MAX(AH$10:AH14)+1)","v":""},{"$f":"IF(Room!C54=\"\",\"\",Room!C54)","v":""},{"$f":"IF(Room!D54=\"\",\"\",Room!D54)","v":""},null,null,null,null,5,"",""]
[null,null,null,null,null,"","","",null,"","","","","","","",null,null,null,null,null,null,null,null,null,{"$f":"IF(AA16=\"\",\"\",MAX(Z$10:Z15)+1)","v":""},{"$f":"IF(Wall!C14=\"\",\"\",Wall!C14)","v":""},{"$f":"IF(Wall!D14=\"\",\"\",Wall!D14)","v":""},{"$f":"IF(Wall!E14=\"\",\"\",Wall!E14)","v":""},{"$f":"IF(Wall!O14=\"\",\"\",Wall!O14)","v":false},{"$f":"IF(Wall!P14=\"\",\"\",Wall!P14)","v":false},"",{"$f":"IF(Wall!D39=\"\",\"\",Wall!D39)","v":""},{"$f":"IF(AI16=\"\",\"\",MAX(AH$10:AH15)+1)","v":""},{"$f":"IF(Room!C55=\"\",\"\",Room!C55)","v":""},{"$f":"IF(Room!D55=\"\",\"\",Room!D55)","v":""},null,null,null,null,6,"",""]
[null,null,null,null,null,"","","",null,"","","","","","","",null,null,null,null,null,null,null,null,null,{"$f":"IF(AA17=\"\",\"\",MAX(Z$10:Z16)+1)","v":""},{"$f":"IF(Wall!C15=\"\",\"\",Wall!C15)","v":""},{"$f":"IF(Wall!D15=\"\",\"\",Wall!D15)","v":""},{"$f":"IF(Wall!E15=\"\",\"\",Wall!E15)","v":""},{"$f":"IF(Wall!O15=\"\",\"\",Wall!O15)","v":false},{"$f":"IF(Wall!P15=\"\",\"\",Wall!P15)","v":false},"",{"$f":"IF(Wall!D40=\"\",\"\",Wall!D40)","v":""},{"$f":"IF(AI17=\"\",\"\",MAX(AH$10:AH16)+1)","v":""},{"$f":"IF(Room!C56=\"\",\"\",Room!C56)","v":""},{"$f":"IF(Room!D56=\"\",\"\",Room!D56)","v":""},null,null,null,null,7,"",""]
[null,null,null,null,null,"","","",null,"","","","","","","",null,null,null,null,null,null,null,null,null,{"$f":"IF(AA18=\"\",\"\",MAX(Z$10:Z17)+1)","v":""},{"$f":"IF(Wall!C16=\"\",\"\",Wall!C16)","v":""},{"$f":"IF(Wall!D16=\"\",\"\",Wall!D16)","v":""},{"$f":"IF(Wall!E16=\"\",\"\",Wall!E16)","v":""},{"$f":"IF(Wall!O16=\"\",\"\",Wall!O16)","v":false},{"$f":"IF(Wall!P16=\"\",\"\",Wall!P16)","v":false},"",{"$f":"IF(Wall!D41=\"\",\"\",Wall!D41)","v":""},{"$f":"IF(AI18=\"\",\"\",MAX(AH$10:AH17)+1)","v":""},{"$f":"IF(Room!C61=\"\",\"\",Room!C61)","v":""},{"$f":"IF(Room!D61=\"\",\"\",Room!D61)","v":""},null,null,null,null,8,"",""]
[null,null,null,null,null,"","","",null,"","","","","","","",null,null,null,null,null,null,null,null,null,{"$f":"IF(AA19=\"\",\"\",MAX(Z$10:Z18)+1)","v":""},{"$f":"IF(Wall!C17=\"\",\"\",Wall!C17)","v":""},{"$f":"IF(Wall!D17=\"\",\"\",Wall!D17)","v":""},{"$f":"IF(Wall!E17=\"\",\"\",Wall!E17)","v":""},{"$f":"IF(Wall!O17=\"\",\"\",Wall!O17)","v":false},{"$f":"IF(Wall!P17=\"\",\"\",Wall!P17)","v":false},"",{"$f":"IF(Wall!D42=\"\",\"\",Wall!D42)","v":""},{"$f":"IF(AI19=\"\",\"\",MAX(AH$10:AH18)+1)","v":""},{"$f":"IF(Room!C62=\"\",\"\",Room!C62)","v":""},{"$f":"IF(Room!D62=\"\",\"\",Room!D62)","v":""},null,null,null,null,9,"",{"$f":"IF(AO19>AH$45,\"\",VLOOKUP(AO19,AH19:AI49,2,FALSE))","v":""}]
[null,null,null,null,null,"","","",null,"","","","","","","",null,null,null,null,null,null,null,null,null,{"$f":"IF(AA20=\"\",\"\",MAX(Z$10:Z19)+1)","v":""},{"$f":"IF(Wall!C18=\"\",\"\",Wall!C18)","v":""},{"$f":"IF(Wall!D18=\"\",\"\",Wall!D18)","v":""},{"$f":"IF(Wall!E18=\"\",\"\",Wall!E18)","v":""},{"$f":"IF(Wall!O18=\"\",\"\",Wall!O18)","v":false},{"$f":"IF(Wall!P18=\"\",\"\",Wall!P18)","v":false},"",{"$f":"IF(Wall!D43=\"\",\"\",Wall!D43)","v":""},{"$f":"IF(AI20=\"\",\"\",MAX(AH$10:AH19)+1)","v":""},{"$f":"IF(Room!C63=\"\",\"\",Room!C63)","v":""},{"$f":"IF(Room!D63=\"\",\"\",Room!D63)","v":""},null,null,null,null,10,"",{"$f":"IF(AO20>AH$45,\"\",VLOOKUP(AO20,AH20:AI49,2,FALSE))","v":""}]
[null,null,null,null,null,"","","",null,"","","","","","","",null,null,null,null,null,null,null,null,null,{"$f":"IF(AA21=\"\",\"\",MAX(Z$10:Z20)+1)","v":""},{"$f":"IF(Wall!C19=\"\",\"\",Wall!C19)","v":""},{"$f":"IF(Wall!D19=\"\",\"\",Wall!D19)","v":""},{"$f":"IF(Wall!E19=\"\",\"\",Wall!E19)","v":""},{"$f":"IF(Wall!O19=\"\",\"\",Wall!O19)","v":false},{"$f":"IF(Wall!P19=\"\",\"\",Wall!P19)","v":false},"",{"$f":"IF(Wall!D44=\"\",\"\",Wall!D44)","v":""},{"$f":"IF(AI21=\"\",\"\",MAX(AH$10:AH20)+1)","v":""},{"$f":"IF(Room!C64=\"\",\"\",Room!C64)","v":""},{"$f":"IF(Room!D64=\"\",\"\",Room!D64)","v":""},null,null,null,null,11,"",{"$f":"IF(AO21>AH$45,\"\",VLOOKUP(AO21,AH21:AI49,2,FALSE))","v":""}]
[null,null,null,null,null,"","","",null,"","","","","","","",null,null,null,null,null,null,null,null,null,{"$f":"IF(AA22=\"\",\"\",MAX(Z$10:Z21)+1)","v":""},{"$f":"IF(Wall!C20=\"\",\"\",Wall!C20)","v":""},{"$f":"IF(Wall!D20=\"\",\"\",Wall!D20)","v":""},{"$f":"IF(Wall!E20=\"\",\"\",Wall!E20)","v":""},{"$f":"IF(Wall!O20=\"\",\"\",Wall!O20)","v":false},{"$f":"IF(Wall!P20=\"\",\"\",Wall!P20)","v":false},"",{"$f":"IF(Wall!D45=\"\",\"\",Wall!D45)","v":""},{"$f":"IF(AI22=\"\",\"\",MAX(AH$10:AH21)+1)","v":""},{"$f":"IF(Room!C65=\"\",\"\",Room!C65)","v":""},{"$f":"IF(Room!D65=\"\",\"\",Room!D65)","v":""},null,null,null,null,12,"",{"$f":"IF(AO22>AH$45,\"\",VLOOKUP(AO22,AH22:AI49,2,FALSE))","v":""}]
[null,null,null,null,null,"","","",null,"","","","","","","",null,null,null,null,null,null,null,null,null,{"$f":"IF(AA23=\"\",\"\",MAX(Z$10:Z22)+1)","v":""},{"$f":"IF(Wall!C21=\"\",\"\",Wall!C21)","v":""},{"$f":"IF(Wall!D21=\"\",\"\",Wall!D21)","v":""},{"$f":"IF(Wall!E21=\"\",\"\",Wall!E21)","v":""},{"$f":"IF(Wall!O21=\"\",\"\",Wall!O21)","v":false},{"$f":"IF(Wall!P21=\"\",\"\",Wall!P21)","v":false},"",{"$f":"IF(Wall!D46=\"\",\"\",Wall!D46)","v":""},{"$f":"IF(AI23=\"\",\"\",MAX(AH$10:AH22)+1)","v":""},{"$f":"IF(Room!C17=\"\",\"\",Room!C17)","v":""},{"$f":"IF(Room!D17=\"\",\"\",Room!D17)","v":""},null,null,null,null,13,"",{"$f":"IF(AO23>AH$45,\"\",VLOOKUP(AO23,AH23:AI49,2,FALSE))","v":""}]
[null,null,null,null,null,"","","",null,"","","","","","","",null,null,null,null,null,null,null,null,null,{"$f":"IF(AA24=\"\",\"\",MAX(Z$10:Z23)+1)","v":""},{"$f":"IF(Wall!C22=\"\",\"\",Wall!C22)","v":""},{"$f":"IF(Wall!D22=\"\",\"\",Wall!D22)","v":""},{"$f":"IF(Wall!E22=\"\",\"\",Wall!E22)","v":""},{"$f":"IF(Wall!O22=\"\",\"\",Wall!O22)","v":false},{"$f":"IF(Wall!P22=\"\",\"\",Wall!P22)","v":false},"",{"$f":"IF(Wall!D47=\"\",\"\",Wall!D47)","v":""},{"$f":"IF(AI24=\"\",\"\",MAX(AH$10:AH23)+1)","v":""},{"$f":"IF(Room!C18=\"\",\"\",Room!C18)","v":""},{"$f":"IF(Room!D18=\"\",\"\",Room!D18)","v":""},null,null,null,null,14,"",{"$f":"IF(AO24>AH$45,\"\",VLOOKUP(AO24,AH24:AI49,2,FALSE))","v":""}]
[null,null,null,null,null,"","","",null,"","","","","","","",null,null,null,null,null,null,null,null,null,{"$f":"IF(AA25=\"\",\"\",MAX(Z$10:Z24)+1)","v":""},{"$f":"IF(Wall!C23=\"\",\"\",Wall!C23)","v":""},{"$f":"IF(Wall!D23=\"\",\"\",Wall!D23)","v":""},{"$f":"IF(Wall!E23=\"\",\"\",Wall!E23)","v":""},{"$f":"IF(Wall!O23=\"\",\"\",Wall!O23)","v":false},{"$f":"IF(Wall!P23=\"\",\"\",Wall!P23)","v":false},"",{"$f":"IF(Wall!D48=\"\",\"\",Wall!D48)","v":""},{"$f":"IF(AI25=\"\",\"\",MAX(AH$10:AH24)+1)","v":""},{"$f":"IF(Room!C19=\"\",\"\",Room!C19)","v":""},{"$f":"IF(Room!D19=\"\",\"\",Room!D19)","v":""},null,null,null,null,15,"",{"$f":"IF(AO25>AH$45,\"\",VLOOKUP(AO25,AH25:AI49,2,FALSE))","v":""}]
[null,null,null,null,null,"","","",null,"","","","","","","",null,null,null,null,null,null,null,null,null,{"$f":"IF(AA26=\"\",\"\",MAX(Z$10:Z25)+1)","v":""},{"$f":"IF(Wall!C24=\"\",\"\",Wall!C24)","v":""},{"$f":"IF(Wall!D24=\"\",\"\",Wall!D24)","v":""},{"$f":"IF(Wall!E24=\"\",\"\",Wall!E24)","v":""},{"$f":"IF(Wall!O24=\"\",\"\",Wall!O24)","v":false},{"$f":"IF(Wall!P24=\"\",\"\",Wall!P24)","v":false},"",{"$f":"IF(Wall!D49=\"\",\"\",Wall!D49)","v":""},{"$f":"IF(AI26=\"\",\"\",MAX(AH$10:AH25)+1)","v":""},{"$f":"IF(Room!C20=\"\",\"\",Room!C20)","v":""},{"$f":"IF(Room!D20=\"\",\"\",Room!D20)","v":""},null,null,null,null,16,"",{"$f":"IF(AO26>AH$45,\"\",VLOOKUP(AO26,AH26:AI49,2,FALSE))","v":""}]
[null,null,null,null,null,"","","",null,"","","","","","","",null,null,null,null,null,null,null,null,null,{"$f":"IF(AA27=\"\",\"\",MAX(Z$10:Z26)+1)","v":""},{"$f":"IF(Wall!C25=\"\",\"\",Wall!C25)","v":""},{"$f":"IF(Wall!D25=\"\",\"\",Wall!D25)","v":""},{"$f":"IF(Wall!E25=\"\",\"\",Wall!E25)","v":""},{"$f":"IF(Wall!O25=\"\",\"\",Wall!O25)","v":false},{"$f":"IF(Wall!P25=\"\",\"\",Wall!P25)","v":false},"",{"$f":"IF(Wall!D50=\"\",\"\",Wall!D50)","v":""},{"$f":"IF(AI27=\"\",\"\",MAX(AH$10:AH26)+1)","v":""},{"$f":"IF(Room!C21=\"\",\"\",Room!C21)","v":""},{"$f":"IF(Room!D21=\"\",\"\",Room!D21)","v":""},null,null,null,null,17,"",{"$f":"IF(AO27>AH$45,\"\",VLOOKUP(AO27,AH27:AI49,2,FALSE))","v":""}]
[null,null,null,null,null,"","","",null,"","","","","","","",null,null,null,null,null,null,null,null,null,{"$f":"IF(AA28=\"\",\"\",MAX(Z$10:Z27)+1)","v":""},{"$f":"IF(Wall!C26=\"\",\"\",Wall!C26)","v":""},{"$f":"IF(Wall!D26=\"\",\"\",Wall!D26)","v":""},{"$f":"IF(Wall!E26=\"\",\"\",Wall!E26)","v":""},{"$f":"IF(Wall!O26=\"\",\"\",Wall!O26)","v":false},{"$f":"IF(Wall!P26=\"\",\"\",Wall!P26)","v":false},"",{"$f":"IF(Wall!D51=\"\",\"\",Wall!D51)","v":""},{"$f":"IF(AI28=\"\",\"\",MAX(AH$10:AH27)+1)","v":""},{"$f":"IF(Room!C22=\"\",\"\",Room!C22)","v":""},{"$f":"IF(Room!D22=\"\",\"\",Room!D22)","v":""},null,null,null,null,18,"",""]
[null,null,null,null,null,"","","",null,"","","","","","","",null,null,null,null,null,null,null,null,null,{"$f":"IF(AA29=\"\",\"\",MAX(Z$10:Z28)+1)","v":""},{"$f":"IF(Wall!C27=\"\",\"\",Wall!C27)","v":""},{"$f":"IF(Wall!D27=\"\",\"\",Wall!D27)","v":""},{"$f":"IF(Wall!E27=\"\",\"\",Wall!E27)","v":""},{"$f":"IF(Wall!O27=\"\",\"\",Wall!O27)","v":false},{"$f":"IF(Wall!P27=\"\",\"\",Wall!P27)","v":false},"",{"$f":"IF(Wall!D52=\"\",\"\",Wall!D52)","v":""},{"$f":"IF(AI29=\"\",\"\",MAX(AH$10:AH28)+1)","v":""},{"$f":"IF(Room!C23=\"\",\"\",Room!C23)","v":""},{"$f":"IF(Room!D23=\"\",\"\",Room!D23)","v":""},null,null,null,null,19,"",""]
[null,null,null,null,null,"","","",null,"","","","","","","",null,null,null,null,null,null,null,null,null,{"$f":"IF(AA30=\"\",\"\",MAX(Z$10:Z29)+1)","v":""},{"$f":"IF(Wall!C28=\"\",\"\",Wall!C28)","v":""},{"$f":"IF(Wall!D28=\"\",\"\",Wall!D28)","v":""},{"$f":"IF(Wall!E28=\"\",\"\",Wall!E28)","v":""},{"$f":"IF(Wall!O28=\"\",\"\",Wall!O28)","v":false},{"$f":"IF(Wall!P28=\"\",\"\",Wall!P28)","v":false},"",{"$f":"IF(Wall!D53=\"\",\"\",Wall!D53)","v":""},{"$f":"IF(AI30=\"\",\"\",MAX(AH$10:AH29)+1)","v":""},{"$f":"IF(Room!C24=\"\",\"\",Room!C24)","v":""},{"$f":"IF(Room!D24=\"\",\"\",Room!D24)","v":""},null,null,null,null,20,"",""]
[null,null,null,null,null,"","","",null,"","","","","","","",null,null,null,null,null,null,null,null,null,null,null,null,null,null,null,null,null,{"$f":"IF(AI31=\"\",\"\",MAX(AH$10:AH30)+1)","v":""},{"$f":"IF(Room!C25=\"\",\"\",Room!C25)","v":""},{"$f":"IF(Room!D25=\"\",\"\",Room!D25)","v":""},null,null,null,null,21,{"$f":"IF(AO31>Z$45,\"\",VLOOKUP(AO31,Z31:AA49,2,FALSE))","v":""},""]
[null,null,null,null,null,"","","",null,"","","","","","","",null,null,null,null,null,null,null,null,null,null,null,null,null,null,null,null,null,{"$f":"IF(AI32=\"\",\"\",MAX(AH$10:AH31)+1)","v":""},{"$f":"IF(Room!C26=\"\",\"\",Room!C26)","v":""},{"$f":"IF(Room!D26=\"\",\"\",Room!D26)","v":""},null,null,null,null,22,{"$f":"IF(AO32>Z$45,\"\",VLOOKUP(AO32,Z32:AA49,2,FALSE))","v":""},""]
[null,null,null,null,null,"","","",null,"","","","","","","",null,null,null,null,null,null,null,null,null,null,null,null,null,null,null,null,null,{"$f":"IF(AI33=\"\",\"\",MAX(AH$10:AH32)+1)","v":""},{"$f":"IF(Room!C27=\"\",\"\",Room!C27)","v":""},{"$f":"IF(Room!D27=\"\",\"\",Room!D27)","v":""},null,null,null,null,23,{"$f":"IF(AO33>Z$45,\"\",VLOOKUP(AO33,Z33:AA49,2,FALSE))","v":""},""]
[null,null,null,null,null,"","","",null,"","","","","","","",null,null,null,null,null,null,null,null,null,null,null,null,null,null,null,null,null,{"$f":"IF(AI34=\"\",\"\",MAX(AH$10:AH33)+1)","v":""},{"$f":"IF(Room!C28=\"\",\"\",Room!C28)","v":""},{"$f":"IF(Room!D28=\"\",\"\",Room!D28)","v":""},null,null,null,null,24,{"$f":"IF(AO34>Z$45,\"\",VLOOKUP(AO34,Z34:AA49,2,FALSE))","v":""},""]
[null,null,null,null,null,"","","",null,"","","","","","","",null,null,null,null,null,null,null,null,null,null,null,null,null,null,null,null,null,{"$f":"IF(AI35=\"\",\"\",MAX(AH$10:AH34)+1)","v":""},{"$f":"IF(Room!C29=\"\",\"\",Room!C29)","v":""},{"$f":"IF(Room!D29=\"\",\"\",Room!D29)","v":""},null,null,null,null,25,{"$f":"IF(AO35>Z$45,\"\",VLOOKUP(AO35,Z35:AA49,2,FALSE))","v":""},""]
[null,null,null,null,null,"","","",null,"","","","","","","",null,null,null,null,null,null,null,null,null,null,null,null,null,null,null,null,null,{"$f":"IF(AI36=\"\",\"\",MAX(AH$10:AH35)+1)","v":""},{"$f":"IF(Room!C30=\"\",\"\",Room!C30)","v":""},{"$f":"IF(Room!D30=\"\",\"\",Room!D30)","v":""},null,null,null,null,26,{"$f":"IF(AO36>Z$45,\"\",VLOOKUP(AO36,Z36:AA49,2,FALSE))","v":""},""]
[null,null,null,null,null,"","","",null,"","","","","","","",null,null,null,null,null,null,null,null,null,null,null,null,null,null,null,null,null,{"$f":"IF(AI37=\"\",\"\",MAX(AH$10:AH36)+1)","v":""},{"$f":"IF(Room!C31=\"\",\"\",Room!C31)","v":""},{"$f":"IF(Room!D31=\"\",\"\",Room!D31)","v":""},null,null,null,null,27,{"$f":"IF(AO37>Z$45,\"\",VLOOKUP(AO37,Z37:AA49,2,FALSE))","v":""},""]
[null,null,null,null,null,"","","",null,"","","","","","","",null,null,null,null,null,null,null,null,null,null,null,null,null,null,null,null,null,{"$f":"IF(AI38=\"\",\"\",MAX(AH$10:AH37)+1)","v":""},{"$f":"IF(Room!C32=\"\",\"\",Room!C32)","v":""},{"$f":"IF(Room!D32=\"\",\"\",Room!D32)","v":""},null,null,null,null,28,{"$f":"IF(AO38>Z$45,\"\",VLOOKUP(AO38,Z38:AA49,2,FALSE))","v":""},""]
[null,null,null,null,null,"","","",null,"","","","","","","",null,null,null,null,null,null,null,null,null,null,null,null,null,null,null,null,null,{"$f":"IF(AI39=\"\",\"\",MAX(AH$10:AH38)+1)","v":""},{"$f":"IF(Room!C33=\"\",\"\",Room!C33)","v":""},{"$f":"IF(Room!D33=\"\",\"\",Room!D33)","v":""},null,null,null,null,29,{"$f":"IF(AO39>Z$45,\"\",VLOOKUP(AO39,Z39:AA49,2,FALSE))","v":""},""]
[null,null,null,null,null,"","","",null,"","","","","","","",null,null,null,null,null,null,null,null,null,null,null,null,null,null,null,null,null,{"$f":"IF(AI40=\"\",\"\",MAX(AH$10:AH39)+1)","v":""},{"$f":"IF(Room!C34=\"\",\"\",Room!C34)","v":""},{"$f":"IF(Room!D34=\"\",\"\",Room!D34)","v":""},null,null,null,null,30,{"$f":"IF(AO40>Z$45,\"\",VLOOKUP(AO40,Z40:AA50,2,FALSE))","v":""},""]
[null,null,null,null,null,"","","",null,"","","","","","","",null,null,null,null,null,null,null,null,null,null,null,null,null,null,null,null,null,{"$f":"IF(AI41=\"\",\"\",MAX(AH$10:AH40)+1)","v":""},{"$f":"IF(Room!C35=\"\",\"\",Room!C35)","v":""},{"$f":"IF(Room!D35=\"\",\"\",Room!D35)","v":""},null,null,null,null,31,{"$f":"IF(AO41>Z$45,\"\",VLOOKUP(AO41,Z41:AA51,2,FALSE))","v":""},""]
[null,null,null,null,null,null,null,null,null,null,null,null,null,null,null,null,null,null,null,null,null,null,null,null,null,null,null,null,null,null,null,null,null,{"$f":"IF(AI42=\"\",\"\",MAX(AH$10:AH41)+1)","v":""},{"$f":"IF(Room!C36=\"\",\"\",Room!C36)","v":""},{"$f":"IF(Room!D36=\"\",\"\",Room!D36)","v":""},null,null,null,null,32,{"$f":"IF(AO42>Z$45,\"\",VLOOKUP(AO42,Z42:AA52,2,FALSE))","v":""},""]
[]
[]
[null,null,null,null,null,null,null,null,null,null,null,null,null,null,null,null,null,null,null,null,null,null,null,null,"Max",{"$f":"MAX(Z11:Z30)","v":0},null,null,null,null,null,null,"Max",{"$f":"MAX(AH11:AH42)","v":0}]

{"sheet":"T08","index":14,"n_rows":45,"n_cols":43,"rows_kept":45,"cut":false,"hidden":false,"merged":[[3,1,3,7],[7,1,7,7]]}
[]
[]
[]
[null,{"$f":"Langage!A54","v":"Perte thermique par transmission"}]
[]
[null,{"$f":"IF(S10=\"\",\"\",S10)","v":""},{"$f":"IF(S11=\"\",\"\",S11)","v":""},"°C",null,null,"FT,i   W",{"$f":"IF(C6=\"\",\"\",SUM(H12:H41))","v":""},null,null,null,null,null,"FT,i   W",null,{"$f":"IF(C6=\"\",\"\",SUM(P12:P40))","v":""},null,"Ceci reprend les valeurs dans les les autres onglets de façon à pouvoir les utiliser dans le présent onglet.",null,null,null,null,null,null,null,null,null,null,null,null,null,null,null,null,null,null,null,null,null,null,"Ceci recrée des listes sans vides pour les menus déroulants"]
[]
[null,null,null,null,null,null,null,null,null,null,null,null,null,null,null,null,null,"N° onglet",8,"Valeur à changer dans toutes les feuilles T",null,null,null,null,{"$f":"16+S8","v":24}]
[]
[null,null,null,"Ak","hm,k","Uk","DT","FT,i,k",null,"Tout","Tin","fqann","fGW","Chff sol","Chff mur","FT,i,k",null,"Espace",{"$f":"IF(INDIRECT(\"Room!C\"&Y8)=\"\",\"\",CONCATENATE(INDIRECT(\"Room!B\"&Y8),\". \",INDIRECT(\"Room!C\"&Y8)))","v":""},null,null,null,null,null,null,null,"Parois","U","DUTB","Chff sol","Chff mur","Utot",null,null,"Espaces",null,null,null,null,null,null,"Parois","Espace"]
[null,{"$f":"Langage!A20","v":"Parois"},{"$f":"Langage!A24","v":"Espace"},"m²","m","W/m².K","°C","W",null,null,null,null,null,null,"W",null,null,"qint   °C",{"$f":"IF(INDIRECT(\"Room!D\"&Y8)=\"\",\"\",INDIRECT(\"Room!D\"&Y8))","v":""},null,null,null,null,null,null,{"$f":"IF(AA11=\"\",\"\",MAX(Z$10:Z10)+1)","v":""},{"$f":"IF(Wall!C9=\"\",\"\",Wall!C9)","v":""},{"$f":"IF(Wall!D9=\"\",\"\",Wall!D9)","v":""},{"$f":"IF(Wall!E9=\"\",\"\",Wall!E9)","v":""},{"$f":"IF(Wall!O9=\"\",\"\",Wall!O9)","v":false},{"$f":"IF(Wall!P9=\"\",\"\",Wall!P9)","v":false},{"$f":"IF(AB11=\"\",\"\",(IF(AC11=\"\",AB11,AB11+AC11)))","v":""},{"$f":"IF(Wall!D34=\"\",\"\",Wall!D34)","v":""},{"$f":"IF(AI11=\"\",\"\",MAX(AH$10:AH10)+1)","v":""},{"$f":"IF(Room!C42=\"\",\"\",Room!C42)","v":""},{"$f":"IF(Room!D42=\"\",\"\",Room!D42)","v":""},null,null,null,null,1,{"$f":"IF(AO11>Z$45,\"\",VLOOKUP(AO11,Z11:AA30,2,FALSE))","v":""},{"$f":"IF(AO11>AH$45,\"\",VLOOKUP(AO11,AH11:AI42,2,FALSE))","v":""}]
[null,null,null,null,null,{"$f":"IF(B12=\"\",\"\",VLOOKUP(B12,AA$11:AF$30,6,FALSE))","v":""},{"$f":"IF(OR(K12=\"\",J12=\"\"),\"\",K12-J12)","v":""},{"$f":"IF(P12=\"\",\"\",P12)","v":""},null,{"$f":"IF(C12=\"\",\"\",VLOOKUP(C12,AI$11:AJ$42,2,FALSE))","v":""},{"$f":"IF(B12=\"\",\"\",IF(S$15<4,C$6,IF(E12=\"\",\"\",C$6+S$14*(E12-1))))","v":""},{"$f":"IF(C12=\"\",\"\",IF(VLOOKUP(C12,AI$11:AL$42,3,FALSE)=\"\",\"\",VLOOKUP(C12,AI$11:AL$42,3,FALSE)))","v":""},{"$f":"IF(C12=\"\",\"\",IF(VLOOKUP(C12,AI$11:AL$42,4,FALSE)=\"\",\"\",VLOOKUP(C12,AI$11:AL$42,4,FALSE)))","v":""},{"$f":"IF(B12=\"\",\"\",VLOOKUP(B12,AA$11:AF$30,4,FALSE))","v":""},{"$f":"IF(B12=\"\",\"\",VLOOKUP(B12,AA$11:AF$30,5,FALSE))","v":""},{"$f":"IF(OR(N12=TRUE,O12=TRUE),\"///\",IF(OR(D12=\"\",F12=\"\",G12=\"\"),\"\",IF(OR(L12=\"\",M12=\"\"),D12*F12*G12,D12*F12*G12*L12*M12)))","v":""},null,"qe   °C",{"$f":"IF(Room!F8=\"\",\"\",Room!F8)","v":""},null,null,null,null,null,null,{"$f":"IF(AA12=\"\",\"\",MAX(Z$10:Z11)+1)","v":""},{"$f":"IF(Wall!C10=\"\",\"\",Wall!C10)","v":""},{"$f":"IF(Wall!D10=\"\",\"\",Wall!D10)","v":""},{"$f":"IF(Wall!E10=\"\",\"\",Wall!E10)","v":""},{"$f":"IF(Wall!O10=\"\",\"\",Wall!O10)","v":false},{"$f":"IF(Wall!P10=\"\",\"\",Wall!P10)","v":false},{"$f":"IF(AB12=\"\",\"\",(IF(AC12=\"\",AB12,AB12+AC12)))","v":""},{"$f":"IF(Wall!D35=\"\",\"\",Wall!D35)","v":""},{"$f":"IF(AI12=\"\",\"\",MAX(AH$10:AH11)+1)","v":""},{"$f":"IF(Room!C47=\"\",\"\",Room!C47)","v":""},{"$f":"IF(Room!D47=\"\",\"\",Room!D47)","v":""},{"$f":"IF(Room!E47=\"\",\"\",Room!E47)","v":1.45},{"$f":"IF(Room!F47=\"\",\"\",Room!F47)","v":1.1499999999999999},null,null,2,{"$f":"IF(AO12>Z$45,\"\",VLOOKUP(AO12,Z12:AA31,2,FALSE))","v":""},{"$f":"IF(AO12>AH$45,\"\",VLOOKUP(AO12,AH12:AI43,2,FALSE))","v":""}]
[null,null,null,null,null,{"$f":"IF(B13=\"\",\"\",VLOOKUP(B13,AA$11:AF$30,6,FALSE))","v":""},{"$f":"IF(OR(K13=\"\",J13=\"\"),\"\",K13-J13)","v":""},{"$f":"IF(P13=\"\",\"\",P13)","v":""},null,"",{"$f":"IF(B13=\"\",\"\",IF(S$15<4,C$6,IF(E13=\"\",\"\",C$6+S$14*(E13-1))))","v":""},"","","",{"$f":"IF(B13=\"\",\"\",VLOOKUP(B13,AA$11:AF$30,5,FALSE))","v":""},{"$f":"IF(OR(N13=TRUE,O13=TRUE),\"///\",IF(OR(D13=\"\",F13=\"\",G13=\"\"),\"\",IF(OR(L13=\"\",M13=\"\"),D13*F13*G13,D13*F13*G13*L13*M13)))","v":""},null,"qm,e   °C",{"$f":"IF(Room!F9=\"\",\"\",Room!F9)","v":""},null,null,null,null,null,null,{"$f":"IF(AA13=\"\",\"\",MAX(Z$10:Z12)+1)","v":""},{"$f":"IF(Wall!C11=\"\",\"\",Wall!C11)","v":""},{"$f":"IF(Wall!D11=\"\",\"\",Wall!D11)","v":""},{"$f":"IF(Wall!E11=\"\",\"\",Wall!E11)","v":""},{"$f":"IF(Wall!O11=\"\",\"\",Wall!O11)","v":false},{"$f":"IF(Wall!P11=\"\",\"\",Wall!P11)","v":false},"",{"$f":"IF(Wall!D36=\"\",\"\",Wall!D36)","v":""},{"$f":"IF(AI13=\"\",\"\",MAX(AH$10:AH12)+1)","v":""},{"$f":"IF(Room!C52=\"\",\"\",Room!C52)","v":""},{"$f":"IF(Room!D52=\"\",\"\",Room!D52)","v":""},null,null,null,null,3,"",""]
[null,null,null,null,null,"","","",null,"","","","","","","",null,"Gq,air,i  °C/m",{"$f":"IF(INDIRECT(\"Room!T\"&Y8)=\"\",\"\",INDIRECT(\"Room!T\"&Y8))","v":""},null,null,null,null,null,null,{"$f":"IF(AA14=\"\",\"\",MAX(Z$10:Z13)+1)","v":""},{"$f":"IF(Wall!C12=\"\",\"\",Wall!C12)","v":""},{"$f":"IF(Wall!D12=\"\",\"\",Wall!D12)","v":""},{"$f":"IF(Wall!E12=\"\",\"\",Wall!E12)","v":""},{"$f":"IF(Wall!O12=\"\",\"\",Wall!O12)","v":false},{"$f":"IF(Wall!P12=\"\",\"\",Wall!P12)","v":false},"",{"$f":"IF(Wall!D37=\"\",\"\",Wall!D37)","v":""},{"$f":"IF(AI14=\"\",\"\",MAX(AH$10:AH13)+1)","v":""},{"$f":"IF(Room!C53=\"\",\"\",Room!C53)","v":""},{"$f":"IF(Room!D53=\"\",\"\",Room!D53)","v":""},null,null,null,null,4,"",""]
[null,null,null,null,null,"","","",null,"","","","","","","",null,"hi   m",{"$f":"IF(INDIRECT(\"Room!Q\"&Y8)=\"\",\"\",INDIRECT(\"Room!Q\"&Y8))","v":""},null,null,null,null,null,null,{"$f":"IF(AA15=\"\",\"\",MAX(Z$10:Z14)+1)","v":""},{"$f":"IF(Wall!C13=\"\",\"\",Wall!C13)","v":""},{"$f":"IF(Wall!D13=\"\",\"\",Wall!D13)","v":""},{"$f":"IF(Wall!E13=\"\",\"\",Wall!E13)","v":""},{"$f":"IF(Wall!O13=\"\",\"\",Wall!O13)","v":false},{"$f":"IF(Wall!P13=\"\",\"\",Wall!P13)","v":false},"",{"$f":"IF(Wall!D38=\"\",\"\",Wall!D38)","v":""},{"$f":"IF(AI15=\"\",\"\",MAX(AH$10:AH14)+1)","v":""},{"$f":"IF(Room!C54=\"\",\"\",Room!C54)","v":""},{"$f":"IF(Room!D54=\"\",\"\",Room!D54)","v":""},null,null,null,null,5,"",""]
[null,null,null,null,null,"","","",null,"","","","","","","",null,null,null,null,null,null,null,null,null,{"$f":"IF(AA16=\"\",\"\",MAX(Z$10:Z15)+1)","v":""},{"$f":"IF(Wall!C14=\"\",\"\",Wall!C14)","v":""},{"$f":"IF(Wall!D14=\"\",\"\",Wall!D14)","v":""},{"$f":"IF(Wall!E14=\"\",\"\",Wall!E14)","v":""},{"$f":"IF(Wall!O14=\"\",\"\",Wall!O14)","v":false},{"$f":"IF(Wall!P14=\"\",\"\",Wall!P14)","v":false},"",{"$f":"IF(Wall!D39=\"\",\"\",Wall!D39)","v":""},{"$f":"IF(AI16=\"\",\"\",MAX(AH$10:AH15)+1)","v":""},{"$f":"IF(Room!C55=\"\",\"\",Room!C55)","v":""},{"$f":"IF(Room!D55=\"\",\"\",Room!D55)","v":""},null,null,null,null,6,"",""]
[null,null,null,null,null,"","","",null,"","","","","","","",null,null,null,null,null,null,null,null,null,{"$f":"IF(AA17=\"\",\"\",MAX(Z$10:Z16)+1)","v":""},{"$f":"IF(Wall!C15=\"\",\"\",Wall!C15)","v":""},{"$f":"IF(Wall!D15=\"\",\"\",Wall!D15)","v":""},{"$f":"IF(Wall!E15=\"\",\"\",Wall!E15)","v":""},{"$f":"IF(Wall!O15=\"\",\"\",Wall!O15)","v":false},{"$f":"IF(Wall!P15=\"\",\"\",Wall!P15)","v":false},"",{"$f":"IF(Wall!D40=\"\",\"\",Wall!D40)","v":""},{"$f":"IF(AI17=\"\",\"\",MAX(AH$10:AH16)+1)","v":""},{"$f":"IF(Room!C56=\"\",\"\",Room!C56)","v":""},{"$f":"IF(Room!D56=\"\",\"\",Room!D56)","v":""},null,null,null,null,7,"",""]
[null,null,null,null,null,"","","",null,"","","","","","","",null,null,null,null,null,null,null,null,null,{"$f":"IF(AA18=\"\",\"\",MAX(Z$10:Z17)+1)","v":""},{"$f":"IF(Wall!C16=\"\",\"\",Wall!C16)","v":""},{"$f":"IF(Wall!D16=\"\",\"\",Wall!D16)","v":""},{"$f":"IF(Wall!E16=\"\",\"\",Wall!E16)","v":""},{"$f":"IF(Wall!O16=\"\",\"\",Wall!O16)","v":false},{"$f":"IF(Wall!P16=\"\",\"\",Wall!P16)","v":false},"",{"$f":"IF(Wall!D41=\"\",\"\",Wall!D41)","v":""},{"$f":"IF(AI18=\"\",\"\",MAX(AH$10:AH17)+1)","v":""},{"$f":"IF(Room!C61=\"\",\"\",Room!C61)","v":""},{"$f":"IF(Room!D61=\"\",\"\",Room!D61)","v":""},null,null,null,null,8,"",""]
[null,null,null,null,null,"","","",null,"","","","","","","",null,null,null,null,null,null,null,null,null,{"$f":"IF(AA19=\"\",\"\",MAX(Z$10:Z18)+1)","v":""},{"$f":"IF(Wall!C17=\"\",\"\",Wall!C17)","v":""},{"$f":"IF(Wall!D17=\"\",\"\",Wall!D17)","v":""},{"$f":"IF(Wall!E17=\"\",\"\",Wall!E17)","v":""},{"$f":"IF(Wall!O17=\"\",\"\",Wall!O17)","v":false},{"$f":"IF(Wall!P17=\"\",\"\",Wall!P17)","v":false},"",{"$f":"IF(Wall!D42=\"\",\"\",Wall!D42)","v":""},{"$f":"IF(AI19=\"\",\"\",MAX(AH$10:AH18)+1)","v":""},{"$f":"IF(Room!C62=\"\",\"\",Room!C62)","v":""},{"$f":"IF(Room!D62=\"\",\"\",Room!D62)","v":""},null,null,null,null,9,"",{"$f":"IF(AO19>AH$45,\"\",VLOOKUP(AO19,AH19:AI49,2,FALSE))","v":""}]
[null,null,null,null,null,"","","",null,"","","","","","","",null,null,null,null,null,null,null,null,null,{"$f":"IF(AA20=\"\",\"\",MAX(Z$10:Z19)+1)","v":""},{"$f":"IF(Wall!C18=\"\",\"\",Wall!C18)","v":""},{"$f":"IF(Wall!D18=\"\",\"\",Wall!D18)","v":""},{"$f":"IF(Wall!E18=\"\",\"\",Wall!E18)","v":""},{"$f":"IF(Wall!O18=\"\",\"\",Wall!O18)","v":false},{"$f":"IF(Wall!P18=\"\",\"\",Wall!P18)","v":false},"",{"$f":"IF(Wall!D43=\"\",\"\",Wall!D43)","v":""},{"$f":"IF(AI20=\"\",\"\",MAX(AH$10:AH19)+1)","v":""},{"$f":"IF(Room!C63=\"\",\"\",Room!C63)","v":""},{"$f":"IF(Room!D63=\"\",\"\",Room!D63)","v":""},null,null,null,null,10,"",{"$f":"IF(AO20>AH$45,\"\",VLOOKUP(AO20,AH20:AI49,2,FALSE))","v":""}]
[null,null,null,null,null,"","","",null,"","","","","","","",null,null,null,null,null,null,null,null,null,{"$f":"IF(AA21=\"\",\"\",MAX(Z$10:Z20)+1)","v":""},{"$f":"IF(Wall!C19=\"\",\"\",Wall!C19)","v":""},{"$f":"IF(Wall!D19=\"\",\"\",Wall!D19)","v":""},{"$f":"IF(Wall!E19=\"\",\"\",Wall!E19)","v":""},{"$f":"IF(Wall!O19=\"\",\"\",Wall!O19)","v":false},{"$f":"IF(Wall!P19=\"\",\"\",Wall!P19)","v":false},"",{"$f":"IF(Wall!D44=\"\",\"\",Wall!D44)","v":""},{"$f":"IF(AI21=\"\",\"\",MAX(AH$10:AH20)+1)","v":""},{"$f":"IF(Room!C64=\"\",\"\",Room!C64)","v":""},{"$f":"IF(Room!D64=\"\",\"\",Room!D64)","v":""},null,null,null,null,11,"",{"$f":"IF(AO21>AH$45,\"\",VLOOKUP(AO21,AH21:AI49,2,FALSE))","v":""}]
[null,null,null,null,null,"","","",null,"","","","","","","",null,null,null,null,null,null,null,null,null,{"$f":"IF(AA22=\"\",\"\",MAX(Z$10:Z21)+1)","v":""},{"$f":"IF(Wall!C20=\"\",\"\",Wall!C20)","v":""},{"$f":"IF(Wall!D20=\"\",\"\",Wall!D20)","v":""},{"$f":"IF(Wall!E20=\"\",\"\",Wall!E20)","v":""},{"$f":"IF(Wall!O20=\"\",\"\",Wall!O20)","v":false},{"$f":"IF(Wall!P20=\"\",\"\",Wall!P20)","v":false},"",{"$f":"IF(Wall!D45=\"\",\"\",Wall!D45)","v":""},{"$f":"IF(AI22=\"\",\"\",MAX(AH$10:AH21)+1)","v":""},{"$f":"IF(Room!C65=\"\",\"\",Room!C65)","v":""},{"$f":"IF(Room!D65=\"\",\"\",Room!D65)","v":""},null,null,null,null,12,"",{"$f":"IF(AO22>AH$45,\"\",VLOOKUP(AO22,AH22:AI49,2,FALSE))","v":""}]
[null,null,null,null,null,"","","",null,"","","","","","","",null,null,null,null,null,null,null,null,null,{"$f":"IF(AA23=\"\",\"\",MAX(Z$10:Z22)+1)","v":""},{"$f":"IF(Wall!C21=\"\",\"\",Wall!C21)","v":""},{"$f":"IF(Wall!D21=\"\",\"\",Wall!D21)","v":""},{"$f":"IF(Wall!E21=\"\",\"\",Wall!E21)","v":""},{"$f":"IF(Wall!O21=\"\",\"\",Wall!O21)","v":false},{"$f":"IF(Wall!P21=\"\",\"\",Wall!P21)","v":false},"",{"$f":"IF(Wall!D46=\"\",\"\",Wall!D46)","v":""},{"$f":"IF(AI23=\"\",\"\",MAX(AH$10:AH22)+1)","v":""},{"$f":"IF(Room!C17=\"\",\"\",Room!C17)","v":""},{"$f":"IF(Room!D17=\"\",\"\",Room!D17)","v":""},null,null,null,null,13,"",{"$f":"IF(AO23>AH$45,\"\",VLOOKUP(AO23,AH23:AI49,2,FALSE))","v":""}]
[null,null,null,null,null,"","","",null,"","","","","","","",null,null,null,null,null,null,null,null,null,{"$f":"IF(AA24=\"\",\"\",MAX(Z$10:Z23)+1)","v":""},{"$f":"IF(Wall!C22=\"\",\"\",Wall!C22)","v":""},{"$f":"IF(Wall!D22=\"\",\"\",Wall!D22)","v":""},{"$f":"IF(Wall!E22=\"\",\"\",Wall!E22)","v":""},{"$f":"IF(Wall!O22=\"\",\"\",Wall!O22)","v":false},{"$f":"IF(Wall!P22=\"\",\"\",Wall!P22)","v":false},"",{"$f":"IF(Wall!D47=\"\",\"\",Wall!D47)","v":""},{"$f":"IF(AI24=\"\",\"\",MAX(AH$10:AH23)+1)","v":""},{"$f":"IF(Room!C18=\"\",\"\",Room!C18)","v":""},{"$f":"IF(Room!D18=\"\",\"\",Room!D18)","v":""},null,null,null,null,14,"",{"$f":"IF(AO24>AH$45,\"\",VLOOKUP(AO24,AH24:AI49,2,FALSE))","v":""}]
[null,null,null,null,null,"","","",null,"","","","","","","",null,null,null,null,null,null,null,null,null,{"$f":"IF(AA25=\"\",\"\",MAX(Z$10:Z24)+1)","v":""},{"$f":"IF(Wall!C23=\"\",\"\",Wall!C23)","v":""},{"$f":"IF(Wall!D23=\"\",\"\",Wall!D23)","v":""},{"$f":"IF(Wall!E23=\"\",\"\",Wall!E23)","v":""},{"$f":"IF(Wall!O23=\"\",\"\",Wall!O23)","v":false},{"$f":"IF(Wall!P23=\"\",\"\",Wall!P23)","v":false},"",{"$f":"IF(Wall!D48=\"\",\"\",Wall!D48)","v":""},{"$f":"IF(AI25=\"\",\"\",MAX(AH$10:AH24)+1)","v":""},{"$f":"IF(Room!C19=\"\",\"\",Room!C19)","v":""},{"$f":"IF(Room!D19=\"\",\"\",Room!D19)","v":""},null,null,null,null,15,"",{"$f":"IF(AO25>AH$45,\"\",VLOOKUP(AO25,AH25:AI49,2,FALSE))","v":""}]
[null,null,null,null,null,"","","",null,"","","","","","","",null,null,null,null,null,null,null,null,null,{"$f":"IF(AA26=\"\",\"\",MAX(Z$10:Z25)+1)","v":""},{"$f":"IF(Wall!C24=\"\",\"\",Wall!C24)","v":""},{"$f":"IF(Wall!D24=\"\",\"\",Wall!D24)","v":""},{"$f":"IF(Wall!E24=\"\",\"\",Wall!E24)","v":""},{"$f":"IF(Wall!O24=\"\",\"\",Wall!O24)","v":false},{"$f":"IF(Wall!P24=\"\",\"\",Wall!P24)","v":false},"",{"$f":"IF(Wall!D49=\"\",\"\",Wall!D49)","v":""},{"$f":"IF(AI26=\"\",\"\",MAX(AH$10:AH25)+1)","v":""},{"$f":"IF(Room!C20=\"\",\"\",Room!C20)","v":""},{"$f":"IF(Room!D20=\"\",\"\",Room!D20)","v":""},null,null,null,null,16,"",{"$f":"IF(AO26>AH$45,\"\",VLOOKUP(AO26,AH26:AI49,2,FALSE))","v":""}]
[null,null,null,null,null,"","","",null,"","","","","","","",null,null,null,null,null,null,null,null,null,{"$f":"IF(AA27=\"\",\"\",MAX(Z$10:Z26)+1)","v":""},{"$f":"IF(Wall!C25=\"\",\"\",Wall!C25)","v":""},{"$f":"IF(Wall!D25=\"\",\"\",Wall!D25)","v":""},{"$f":"IF(Wall!E25=\"\",\"\",Wall!E25)","v":""},{"$f":"IF(Wall!O25=\"\",\"\",Wall!O25)","v":false},{"$f":"IF(Wall!P25=\"\",\"\",Wall!P25)","v":false},"",{"$f":"IF(Wall!D50=\"\",\"\",Wall!D50)","v":""},{"$f":"IF(AI27=\"\",\"\",MAX(AH$10:AH26)+1)","v":""},{"$f":"IF(Room!C21=\"\",\"\",Room!C21)","v":""},{"$f":"IF(Room!D21=\"\",\"\",Room!D21)","v":""},null,null,null,null,17,"",{"$f":"IF(AO27>AH$45,\"\",VLOOKUP(AO27,AH27:AI49,2,FALSE))","v":""}]
[null,null,null,null,null,"","","",null,"","","","","","","",null,null,null,null,null,null,null,null,null,{"$f":"IF(AA28=\"\",\"\",MAX(Z$10:Z27)+1)","v":""},{"$f":"IF(Wall!C26=\"\",\"\",Wall!C26)","v":""},{"$f":"IF(Wall!D26=\"\",\"\",Wall!D26)","v":""},{"$f":"IF(Wall!E26=\"\",\"\",Wall!E26)","v":""},{"$f":"IF(Wall!O26=\"\",\"\",Wall!O26)","v":false},{"$f":"IF(Wall!P26=\"\",\"\",Wall!P26)","v":false},"",{"$f":"IF(Wall!D51=\"\",\"\",Wall!D51)","v":""},{"$f":"IF(AI28=\"\",\"\",MAX(AH$10:AH27)+1)","v":""},{"$f":"IF(Room!C22=\"\",\"\",Room!C22)","v":""},{"$f":"IF(Room!D22=\"\",\"\",Room!D22)","v":""},null,null,null,null,18,"",""]
[null,null,null,null,null,"","","",null,"","","","","","","",null,null,null,null,null,null,null,null,null,{"$f":"IF(AA29=\"\",\"\",MAX(Z$10:Z28)+1)","v":""},{"$f":"IF(Wall!C27=\"\",\"\",Wall!C27)","v":""},{"$f":"IF(Wall!D27=\"\",\"\",Wall!D27)","v":""},{"$f":"IF(Wall!E27=\"\",\"\",Wall!E27)","v":""},{"$f":"IF(Wall!O27=\"\",\"\",Wall!O27)","v":false},{"$f":"IF(Wall!P27=\"\",\"\",Wall!P27)","v":false},"",{"$f":"IF(Wall!D52=\"\",\"\",Wall!D52)","v":""},{"$f":"IF(AI29=\"\",\"\",MAX(AH$10:AH28)+1)","v":""},{"$f":"IF(Room!C23=\"\",\"\",Room!C23)","v":""},{"$f":"IF(Room!D23=\"\",\"\",Room!D23)","v":""},null,null,null,null,19,"",""]
[null,null,null,null,null,"","","",null,"","","","","","","",null,null,null,null,null,null,null,null,null,{"$f":"IF(AA30=\"\",\"\",MAX(Z$10:Z29)+1)","v":""},{"$f":"IF(Wall!C28=\"\",\"\",Wall!C28)","v":""},{"$f":"IF(Wall!D28=\"\",\"\",Wall!D28)","v":""},{"$f":"IF(Wall!E28=\"\",\"\",Wall!E28)","v":""},{"$f":"IF(Wall!O28=\"\",\"\",Wall!O28)","v":false},{"$f":"IF(Wall!P28=\"\",\"\",Wall!P28)","v":false},"",{"$f":"IF(Wall!D53=\"\",\"\",Wall!D53)","v":""},{"$f":"IF(AI30=\"\",\"\",MAX(AH$10:AH29)+1)","v":""},{"$f":"IF(Room!C24=\"\",\"\",Room!C24)","v":""},{"$f":"IF(Room!D24=\"\",\"\",Room!D24)","v":""},null,null,null,null,20,"",""]
[null,null,null,null,null,"","","",null,"","","","","","","",null,null,null,null,null,null,null,null,null,null,null,null,null,null,null,null,null,{"$f":"IF(AI31=\"\",\"\",MAX(AH$10:AH30)+1)","v":""},{"$f":"IF(Room!C25=\"\",\"\",Room!C25)","v":""},{"$f":"IF(Room!D25=\"\",\"\",Room!D25)","v":""},null,null,null,null,21,{"$f":"IF(AO31>Z$45,\"\",VLOOKUP(AO31,Z31:AA49,2,FALSE))","v":""},""]
[null,null,null,null,null,"","","",null,"","","","","","","",null,null,null,null,null,null,null,null,null,null,null,null,null,null,null,null,null,{"$f":"IF(AI32=\"\",\"\",MAX(AH$10:AH31)+1)","v":""},{"$f":"IF(Room!C26=\"\",\"\",Room!C26)","v":""},{"$f":"IF(Room!D26=\"\",\"\",Room!D26)","v":""},null,null,null,null,22,{"$f":"IF(AO32>Z$45,\"\",VLOOKUP(AO32,Z32:AA49,2,FALSE))","v":""},""]
[null,null,null,null,null,"","","",null,"","","","","","","",null,null,null,null,null,null,null,null,null,null,null,null,null,null,null,null,null,{"$f":"IF(AI33=\"\",\"\",MAX(AH$10:AH32)+1)","v":""},{"$f":"IF(Room!C27=\"\",\"\",Room!C27)","v":""},{"$f":"IF(Room!D27=\"\",\"\",Room!D27)","v":""},null,null,null,null,23,{"$f":"IF(AO33>Z$45,\"\",VLOOKUP(AO33,Z33:AA49,2,FALSE))","v":""},""]
[null,null,null,null,null,"","","",null,"","","","","","","",null,null,null,null,null,null,null,null,null,null,null,null,null,null,null,null,null,{"$f":"IF(AI34=\"\",\"\",MAX(AH$10:AH33)+1)","v":""},{"$f":"IF(Room!C28=\"\",\"\",Room!C28)","v":""},{"$f":"IF(Room!D28=\"\",\"\",Room!D28)","v":""},null,null,null,null,24,{"$f":"IF(AO34>Z$45,\"\",VLOOKUP(AO34,Z34:AA49,2,FALSE))","v":""},""]
[null,null,null,null,null,"","","",null,"","","","","","","",null,null,null,null,null,null,null,null,null,null,null,null,null,null,null,null,null,{"$f":"IF(AI35=\"\",\"\",MAX(AH$10:AH34)+1)","v":""},{"$f":"IF(Room!C29=\"\",\"\",Room!C29)","v":""},{"$f":"IF(Room!D29=\"\",\"\",Room!D29)","v":""},null,null,null,null,25,{"$f":"IF(AO35>Z$45,\"\",VLOOKUP(AO35,Z35:AA49,2,FALSE))","v":""},""]
[null,null,null,null,null,"","","",null,"","","","","","","",null,null,null,null,null,null,null,null,null,null,null,null,null,null,null,null,null,{"$f":"IF(AI36=\"\",\"\",MAX(AH$10:AH35)+1)","v":""},{"$f":"IF(Room!C30=\"\",\"\",Room!C30)","v":""},{"$f":"IF(Room!D30=\"\",\"\",Room!D30)","v":""},null,null,null,null,26,{"$f":"IF(AO36>Z$45,\"\",VLOOKUP(AO36,Z36:AA49,2,FALSE))","v":""},""]
[null,null,null,null,null,"","","",null,"","","","","","","",null,null,null,null,null,null,null,null,null,null,null,null,null,null,null,null,null,{"$f":"IF(AI37=\"\",\"\",MAX(AH$10:AH36)+1)","v":""},{"$f":"IF(Room!C31=\"\",\"\",Room!C31)","v":""},{"$f":"IF(Room!D31=\"\",\"\",Room!D31)","v":""},null,null,null,null,27,{"$f":"IF(AO37>Z$45,\"\",VLOOKUP(AO37,Z37:AA49,2,FALSE))","v":""},""]
[null,null,null,null,null,"","","",null,"","","","","","","",null,null,null,null,null,null,null,null,null,null,null,null,null,null,null,null,null,{"$f":"IF(AI38=\"\",\"\",MAX(AH$10:AH37)+1)","v":""},{"$f":"IF(Room!C32=\"\",\"\",Room!C32)","v":""},{"$f":"IF(Room!D32=\"\",\"\",Room!D32)","v":""},null,null,null,null,28,{"$f":"IF(AO38>Z$45,\"\",VLOOKUP(AO38,Z38:AA49,2,FALSE))","v":""},""]
[null,null,null,null,null,"","","",null,"","","","","","","",null,null,null,null,null,null,null,null,null,null,null,null,null,null,null,null,null,{"$f":"IF(AI39=\"\",\"\",MAX(AH$10:AH38)+1)","v":""},{"$f":"IF(Room!C33=\"\",\"\",Room!C33)","v":""},{"$f":"IF(Room!D33=\"\",\"\",Room!D33)","v":""},null,null,null,null,29,{"$f":"IF(AO39>Z$45,\"\",VLOOKUP(AO39,Z39:AA49,2,FALSE))","v":""},""]
[null,null,null,null,null,"","","",null,"","","","","","","",null,null,null,null,null,null,null,null,null,null,null,null,null,null,null,null,null,{"$f":"IF(AI40=\"\",\"\",MAX(AH$10:AH39)+1)","v":""},{"$f":"IF(Room!C34=\"\",\"\",Room!C34)","v":""},{"$f":"IF(Room!D34=\"\",\"\",Room!D34)","v":""},null,null,null,null,30,{"$f":"IF(AO40>Z$45,\"\",VLOOKUP(AO40,Z40:AA50,2,FALSE))","v":""},""]
[null,null,null,null,null,"","","",null,"","","","","","","",null,null,null,null,null,null,null,null,null,null,null,null,null,null,null,null,null,{"$f":"IF(AI41=\"\",\"\",MAX(AH$10:AH40)+1)","v":""},{"$f":"IF(Room!C35=\"\",\"\",Room!C35)","v":""},{"$f":"IF(Room!D35=\"\",\"\",Room!D35)","v":""},null,null,null,null,31,{"$f":"IF(AO41>Z$45,\"\",VLOOKUP(AO41,Z41:AA51,2,FALSE))","v":""},""]
[null,null,null,null,null,null,null,null,null,null,null,null,null,null,null,null,null,null,null,null,null,null,null,null,null,null,null,null,null,null,null,null,null,{"$f":"IF(AI42=\"\",\"\",MAX(AH$10:AH41)+1)","v":""},{"$f":"IF(Room!C36=\"\",\"\",Room!C36)","v":""},{"$f":"IF(Room!D36=\"\",\"\",Room!D36)","v":""},null,null,null,null,32,{"$f":"IF(AO42>Z$45,\"\",VLOOKUP(AO42,Z42:AA52,2,FALSE))","v":""},""]
[]
[]
[null,null,null,null,null,null,null,null,null,null,null,null,null,null,null,null,null,null,null,null,null,null,null,null,"Max",{"$f":"MAX(Z11:Z30)","v":0},null,null,null,null,null,null,"Max",{"$f":"MAX(AH11:AH42)","v":0}]

{"sheet":"T09","index":15,"n_rows":45,"n_cols":43,"rows_kept":45,"cut":false,"hidden":false,"merged":[[3,1,3,7],[7,1,7,7]]}
[]
[]
[]
[null,{"$f":"Langage!A54","v":"Perte thermique par transmission"}]
[]
[null,{"$f":"IF(S10=\"\",\"\",S10)","v":""},{"$f":"IF(S11=\"\",\"\",S11)","v":""},"°C",null,null,"FT,i   W",{"$f":"IF(C6=\"\",\"\",SUM(H12:H41))","v":""},null,null,null,null,null,"FT,i   W",null,{"$f":"IF(C6=\"\",\"\",SUM(P12:P40))","v":""},null,"Ceci reprend les valeurs dans les les autres onglets de façon à pouvoir les utiliser dans le présent onglet.",null,null,null,null,null,null,null,null,null,null,null,null,null,null,null,null,null,null,null,null,null,null,"Ceci recrée des listes sans vides pour les menus déroulants"]
[]
[null,null,null,null,null,null,null,null,null,null,null,null,null,null,null,null,null,"N° onglet",9,"Valeur à changer dans toutes les feuilles T",null,null,null,null,{"$f":"16+S8","v":25}]
[]
[null,null,null,"Ak","hm,k","Uk","DT","FT,i,k",null,"Tout","Tin","fqann","fGW","Chff sol","Chff mur","FT,i,k",null,"Espace",{"$f":"IF(INDIRECT(\"Room!C\"&Y8)=\"\",\"\",CONCATENATE(INDIRECT(\"Room!B\"&Y8),\". \",INDIRECT(\"Room!C\"&Y8)))","v":""},null,null,null,null,null,null,null,"Parois","U","DUTB","Chff sol","Chff mur","Utot",null,null,"Espaces",null,null,null,null,null,null,"Parois","Espace"]
[null,{"$f":"Langage!A20","v":"Parois"},{"$f":"Langage!A24","v":"Espace"},"m²","m","W/m².K","°C","W",null,null,null,null,null,null,"W",null,null,"qint   °C",{"$f":"IF(INDIRECT(\"Room!D\"&Y8)=\"\",\"\",INDIRECT(\"Room!D\"&Y8))","v":""},null,null,null,null,null,null,{"$f":"IF(AA11=\"\",\"\",MAX(Z$10:Z10)+1)","v":""},{"$f":"IF(Wall!C9=\"\",\"\",Wall!C9)","v":""},{"$f":"IF(Wall!D9=\"\",\"\",Wall!D9)","v":""},{"$f":"IF(Wall!E9=\"\",\"\",Wall!E9)","v":""},{"$f":"IF(Wall!O9=\"\",\"\",Wall!O9)","v":false},{"$f":"IF(Wall!P9=\"\",\"\",Wall!P9)","v":false},{"$f":"IF(AB11=\"\",\"\",(IF(AC11=\"\",AB11,AB11+AC11)))","v":""},{"$f":"IF(Wall!D34=\"\",\"\",Wall!D34)","v":""},{"$f":"IF(AI11=\"\",\"\",MAX(AH$10:AH10)+1)","v":""},{"$f":"IF(Room!C42=\"\",\"\",Room!C42)","v":""},{"$f":"IF(Room!D42=\"\",\"\",Room!D42)","v":""},null,null,null,null,1,{"$f":"IF(AO11>Z$45,\"\",VLOOKUP(AO11,Z11:AA30,2,FALSE))","v":""},{"$f":"IF(AO11>AH$45,\"\",VLOOKUP(AO11,AH11:AI42,2,FALSE))","v":""}]
[null,null,null,null,null,{"$f":"IF(B12=\"\",\"\",VLOOKUP(B12,AA$11:AF$30,6,FALSE))","v":""},{"$f":"IF(OR(K12=\"\",J12=\"\"),\"\",K12-J12)","v":""},{"$f":"IF(P12=\"\",\"\",P12)","v":""},null,{"$f":"IF(C12=\"\",\"\",VLOOKUP(C12,AI$11:AJ$42,2,FALSE))","v":""},{"$f":"IF(B12=\"\",\"\",IF(S$15<4,C$6,IF(E12=\"\",\"\",C$6+S$14*(E12-1))))","v":""},{"$f":"IF(C12=\"\",\"\",IF(VLOOKUP(C12,AI$11:AL$42,3,FALSE)=\"\",\"\",VLOOKUP(C12,AI$11:AL$42,3,FALSE)))","v":""},{"$f":"IF(C12=\"\",\"\",IF(VLOOKUP(C12,AI$11:AL$42,4,FALSE)=\"\",\"\",VLOOKUP(C12,AI$11:AL$42,4,FALSE)))","v":""},{"$f":"IF(B12=\"\",\"\",VLOOKUP(B12,AA$11:AF$30,4,FALSE))","v":""},{"$f":"IF(B12=\"\",\"\",VLOOKUP(B12,AA$11:AF$30,5,FALSE))","v":""},{"$f":"IF(OR(N12=TRUE,O12=TRUE),\"///\",IF(OR(D12=\"\",F12=\"\",G12=\"\"),\"\",IF(OR(L12=\"\",M12=\"\"),D12*F12*G12,D12*F12*G12*L12*M12)))","v":""},null,"qe   °C",{"$f":"IF(Room!F8=\"\",\"\",Room!F8)","v":""},null,null,null,null,null,null,{"$f":"IF(AA12=\"\",\"\",MAX(Z$10:Z11)+1)","v":""},{"$f":"IF(Wall!C10=\"\",\"\",Wall!C10)","v":""},{"$f":"IF(Wall!D10=\"\",\"\",Wall!D10)","v":""},{"$f":"IF(Wall!E10=\"\",\"\",Wall!E10)","v":""},{"$f":"IF(Wall!O10=\"\",\"\",Wall!O10)","v":false},{"$f":"IF(Wall!P10=\"\",\"\",Wall!P10)","v":false},{"$f":"IF(AB12=\"\",\"\",(IF(AC12=\"\",AB12,AB12+AC12)))","v":""},{"$f":"IF(Wall!D35=\"\",\"\",Wall!D35)","v":""},{"$f":"IF(AI12=\"\",\"\",MAX(AH$10:AH11)+1)","v":""},{"$f":"IF(Room!C47=\"\",\"\",Room!C47)","v":""},{"$f":"IF(Room!D47=\"\",\"\",Room!D47)","v":""},{"$f":"IF(Room!E47=\"\",\"\",Room!E47)","v":1.45},{"$f":"IF(Room!F47=\"\",\"\",Room!F47)","v":1.1499999999999999},null,null,2,{"$f":"IF(AO12>Z$45,\"\",VLOOKUP(AO12,Z12:AA31,2,FALSE))","v":""},{"$f":"IF(AO12>AH$45,\"\",VLOOKUP(AO12,AH12:AI43,2,FALSE))","v":""}]
[null,null,null,null,null,{"$f":"IF(B13=\"\",\"\",VLOOKUP(B13,AA$11:AF$30,6,FALSE))","v":""},{"$f":"IF(OR(K13=\"\",J13=\"\"),\"\",K13-J13)","v":""},{"$f":"IF(P13=\"\",\"\",P13)","v":""},null,"",{"$f":"IF(B13=\"\",\"\",IF(S$15<4,C$6,IF(E13=\"\",\"\",C$6+S$14*(E13-1))))","v":""},"","","",{"$f":"IF(B13=\"\",\"\",VLOOKUP(B13,AA$11:AF$30,5,FALSE))","v":""},{"$f":"IF(OR(N13=TRUE,O13=TRUE),\"///\",IF(OR(D13=\"\",F13=\"\",G13=\"\"),\"\",IF(OR(L13=\"\",M13=\"\"),D13*F13*G13,D13*F13*G13*L13*M13)))","v":""},null,"qm,e   °C",{"$f":"IF(Room!F9=\"\",\"\",Room!F9)","v":""},null,null,null,null,null,null,{"$f":"IF(AA13=\"\",\"\",MAX(Z$10:Z12)+1)","v":""},{"$f":"IF(Wall!C11=\"\",\"\",Wall!C11)","v":""},{"$f":"IF(Wall!D11=\"\",\"\",Wall!D11)","v":""},{"$f":"IF(Wall!E11=\"\",\"\",Wall!E11)","v":""},{"$f":"IF(Wall!O11=\"\",\"\",Wall!O11)","v":false},{"$f":"IF(Wall!P11=\"\",\"\",Wall!P11)","v":false},"",{"$f":"IF(Wall!D36=\"\",\"\",Wall!D36)","v":""},{"$f":"IF(AI13=\"\",\"\",MAX(AH$10:AH12)+1)","v":""},{"$f":"IF(Room!C52=\"\",\"\",Room!C52)","v":""},{"$f":"IF(Room!D52=\"\",\"\",Room!D52)","v":""},null,null,null,null,3,"",""]
[null,null,null,null,null,"","","",null,"","","","","","","",null,"Gq,air,i  °C/m",{"$f":"IF(INDIRECT(\"Room!T\"&Y8)=\"\",\"\",INDIRECT(\"Room!T\"&Y8))","v":""},null,null,null,null,null,null,{"$f":"IF(AA14=\"\",\"\",MAX(Z$10:Z13)+1)","v":""},{"$f":"IF(Wall!C12=\"\",\"\",Wall!C12)","v":""},{"$f":"IF(Wall!D12=\"\",\"\",Wall!D12)","v":""},{"$f":"IF(Wall!E12=\"\",\"\",Wall!E12)","v":""},{"$f":"IF(Wall!O12=\"\",\"\",Wall!O12)","v":false},{"$f":"IF(Wall!P12=\"\",\"\",Wall!P12)","v":false},"",{"$f":"IF(Wall!D37=\"\",\"\",Wall!D37)","v":""},{"$f":"IF(AI14=\"\",\"\",MAX(AH$10:AH13)+1)","v":""},{"$f":"IF(Room!C53=\"\",\"\",Room!C53)","v":""},{"$f":"IF(Room!D53=\"\",\"\",Room!D53)","v":""},null,null,null,null,4,"",""]
[null,null,null,null,null,"","","",null,"","","","","","","",null,"hi   m",{"$f":"IF(INDIRECT(\"Room!Q\"&Y8)=\"\",\"\",INDIRECT(\"Room!Q\"&Y8))","v":""},null,null,null,null,null,null,{"$f":"IF(AA15=\"\",\"\",MAX(Z$10:Z14)+1)","v":""},{"$f":"IF(Wall!C13=\"\",\"\",Wall!C13)","v":""},{"$f":"IF(Wall!D13=\"\",\"\",Wall!D13)","v":""},{"$f":"IF(Wall!E13=\"\",\"\",Wall!E13)","v":""},{"$f":"IF(Wall!O13=\"\",\"\",Wall!O13)","v":false},{"$f":"IF(Wall!P13=\"\",\"\",Wall!P13)","v":false},"",{"$f":"IF(Wall!D38=\"\",\"\",Wall!D38)","v":""},{"$f":"IF(AI15=\"\",\"\",MAX(AH$10:AH14)+1)","v":""},{"$f":"IF(Room!C54=\"\",\"\",Room!C54)","v":""},{"$f":"IF(Room!D54=\"\",\"\",Room!D54)","v":""},null,null,null,null,5,"",""]
[null,null,null,null,null,"","","",null,"","","","","","","",null,null,null,null,null,null,null,null,null,{"$f":"IF(AA16=\"\",\"\",MAX(Z$10:Z15)+1)","v":""},{"$f":"IF(Wall!C14=\"\",\"\",Wall!C14)","v":""},{"$f":"IF(Wall!D14=\"\",\"\",Wall!D14)","v":""},{"$f":"IF(Wall!E14=\"\",\"\",Wall!E14)","v":""},{"$f":"IF(Wall!O14=\"\",\"\",Wall!O14)","v":false},{"$f":"IF(Wall!P14=\"\",\"\",Wall!P14)","v":false},"",{"$f":"IF(Wall!D39=\"\",\"\",Wall!D39)","v":""},{"$f":"IF(AI16=\"\",\"\",MAX(AH$10:AH15)+1)","v":""},{"$f":"IF(Room!C55=\"\",\"\",Room!C55)","v":""},{"$f":"IF(Room!D55=\"\",\"\",Room!D55)","v":""},null,null,null,null,6,"",""]
[null,null,null,null,null,"","","",null,"","","","","","","",null,null,null,null,null,null,null,null,null,{"$f":"IF(AA17=\"\",\"\",MAX(Z$10:Z16)+1)","v":""},{"$f":"IF(Wall!C15=\"\",\"\",Wall!C15)","v":""},{"$f":"IF(Wall!D15=\"\",\"\",Wall!D15)","v":""},{"$f":"IF(Wall!E15=\"\",\"\",Wall!E15)","v":""},{"$f":"IF(Wall!O15=\"\",\"\",Wall!O15)","v":false},{"$f":"IF(Wall!P15=\"\",\"\",Wall!P15)","v":false},"",{"$f":"IF(Wall!D40=\"\",\"\",Wall!D40)","v":""},{"$f":"IF(AI17=\"\",\"\",MAX(AH$10:AH16)+1)","v":""},{"$f":"IF(Room!C56=\"\",\"\",Room!C56)","v":""},{"$f":"IF(Room!D56=\"\",\"\",Room!D56)","v":""},null,null,null,null,7,"",""]
[null,null,null,null,null,"","","",null,"","","","","","","",null,null,null,null,null,null,null,null,null,{"$f":"IF(AA18=\"\",\"\",MAX(Z$10:Z17)+1)","v":""},{"$f":"IF(Wall!C16=\"\",\"\",Wall!C16)","v":""},{"$f":"IF(Wall!D16=\"\",\"\",Wall!D16)","v":""},{"$f":"IF(Wall!E16=\"\",\"\",Wall!E16)","v":""},{"$f":"IF(Wall!O16=\"\",\"\",Wall!O16)","v":false},{"$f":"IF(Wall!P16=\"\",\"\",Wall!P16)","v":false},"",{"$f":"IF(Wall!D41=\"\",\"\",Wall!D41)","v":""},{"$f":"IF(AI18=\"\",\"\",MAX(AH$10:AH17)+1)","v":""},{"$f":"IF(Room!C61=\"\",\"\",Room!C61)","v":""},{"$f":"IF(Room!D61=\"\",\"\",Room!D61)","v":""},null,null,null,null,8,"",""]
[null,null,null,null,null,"","","",null,"","","","","","","",null,null,null,null,null,null,null,null,null,{"$f":"IF(AA19=\"\",\"\",MAX(Z$10:Z18)+1)","v":""},{"$f":"IF(Wall!C17=\"\",\"\",Wall!C17)","v":""},{"$f":"IF(Wall!D17=\"\",\"\",Wall!D17)","v":""},{"$f":"IF(Wall!E17=\"\",\"\",Wall!E17)","v":""},{"$f":"IF(Wall!O17=\"\",\"\",Wall!O17)","v":false},{"$f":"IF(Wall!P17=\"\",\"\",Wall!P17)","v":false},"",{"$f":"IF(Wall!D42=\"\",\"\",Wall!D42)","v":""},{"$f":"IF(AI19=\"\",\"\",MAX(AH$10:AH18)+1)","v":""},{"$f":"IF(Room!C62=\"\",\"\",Room!C62)","v":""},{"$f":"IF(Room!D62=\"\",\"\",Room!D62)","v":""},null,null,null,null,9,"",{"$f":"IF(AO19>AH$45,\"\",VLOOKUP(AO19,AH19:AI49,2,FALSE))","v":""}]
[null,null,null,null,null,"","","",null,"","","","","","","",null,null,null,null,null,null,null,null,null,{"$f":"IF(AA20=\"\",\"\",MAX(Z$10:Z19)+1)","v":""},{"$f":"IF(Wall!C18=\"\",\"\",Wall!C18)","v":""},{"$f":"IF(Wall!D18=\"\",\"\",Wall!D18)","v":""},{"$f":"IF(Wall!E18=\"\",\"\",Wall!E18)","v":""},{"$f":"IF(Wall!O18=\"\",\"\",Wall!O18)","v":false},{"$f":"IF(Wall!P18=\"\",\"\",Wall!P18)","v":false},"",{"$f":"IF(Wall!D43=\"\",\"\",Wall!D43)","v":""},{"$f":"IF(AI20=\"\",\"\",MAX(AH$10:AH19)+1)","v":""},{"$f":"IF(Room!C63=\"\",\"\",Room!C63)","v":""},{"$f":"IF(Room!D63=\"\",\"\",Room!D63)","v":""},null,null,null,null,10,"",{"$f":"IF(AO20>AH$45,\"\",VLOOKUP(AO20,AH20:AI49,2,FALSE))","v":""}]
[null,null,null,null,null,"","","",null,"","","","","","","",null,null,null,null,null,null,null,null,null,{"$f":"IF(AA21=\"\",\"\",MAX(Z$10:Z20)+1)","v":""},{"$f":"IF(Wall!C19=\"\",\"\",Wall!C19)","v":""},{"$f":"IF(Wall!D19=\"\",\"\",Wall!D19)","v":""},{"$f":"IF(Wall!E19=\"\",\"\",Wall!E19)","v":""},{"$f":"IF(Wall!O19=\"\",\"\",Wall!O19)","v":false},{"$f":"IF(Wall!P19=\"\",\"\",Wall!P19)","v":false},"",{"$f":"IF(Wall!D44=\"\",\"\",Wall!D44)","v":""},{"$f":"IF(AI21=\"\",\"\",MAX(AH$10:AH20)+1)","v":""},{"$f":"IF(Room!C64=\"\",\"\",Room!C64)","v":""},{"$f":"IF(Room!D64=\"\",\"\",Room!D64)","v":""},null,null,null,null,11,"",{"$f":"IF(AO21>AH$45,\"\",VLOOKUP(AO21,AH21:AI49,2,FALSE))","v":""}]
[null,null,null,null,null,"","","",null,"","","","","","","",null,null,null,null,null,null,null,null,null,{"$f":"IF(AA22=\"\",\"\",MAX(Z$10:Z21)+1)","v":""},{"$f":"IF(Wall!C20=\"\",\"\",Wall!C20)","v":""},{"$f":"IF(Wall!D20=\"\",\"\",Wall!D20)","v":""},{"$f":"IF(Wall!E20=\"\",\"\",Wall!E20)","v":""},{"$f":"IF(Wall!O20=\"\",\"\",Wall!O20)","v":false},{"$f":"IF(Wall!P20=\"\",\"\",Wall!P20)","v":false},"",{"$f":"IF(Wall!D45=\"\",\"\",Wall!D45)","v":""},{"$f":"IF(AI22=\"\",\"\",MAX(AH$10:AH21)+1)","v":""},{"$f":"IF(Room!C65=\"\",\"\",Room!C65)","v":""},{"$f":"IF(Room!D65=\"\",\"\",Room!D65)","v":""},null,null,null,null,12,"",{"$f":"IF(AO22>AH$45,\"\",VLOOKUP(AO22,AH22:AI49,2,FALSE))","v":""}]
[null,null,null,null,null,"","","",null,"","","","","","","",null,null,null,null,null,null,null,null,null,{"$f":"IF(AA23=\"\",\"\",MAX(Z$10:Z22)+1)","v":""},{"$f":"IF(Wall!C21=\"\",\"\",Wall!C21)","v":""},{"$f":"IF(Wall!D21=\"\",\"\",Wall!D21)","v":""},{"$f":"IF(Wall!E21=\"\",\"\",Wall!E21)","v":""},{"$f":"IF(Wall!O21=\"\",\"\",Wall!O21)","v":false},{"$f":"IF(Wall!P21=\"\",\"\",Wall!P21)","v":false},"",{"$f":"IF(Wall!D46=\"\",\"\",Wall!D46)","v":""},{"$f":"IF(AI23=\"\",\"\",MAX(AH$10:AH22)+1)","v":""},{"$f":"IF(Room!C17=\"\",\"\",Room!C17)","v":""},{"$f":"IF(Room!D17=\"\",\"\",Room!D17)","v":""},null,null,null,null,13,"",{"$f":"IF(AO23>AH$45,\"\",VLOOKUP(AO23,AH23:AI49,2,FALSE))","v":""}]
[null,null,null,null,null,"","","",null,"","","","","","","",null,null,null,null,null,null,null,null,null,{"$f":"IF(AA24=\"\",\"\",MAX(Z$10:Z23)+1)","v":""},{"$f":"IF(Wall!C22=\"\",\"\",Wall!C22)","v":""},{"$f":"IF(Wall!D22=\"\",\"\",Wall!D22)","v":""},{"$f":"IF(Wall!E22=\"\",\"\",Wall!E22)","v":""},{"$f":"IF(Wall!O22=\"\",\"\",Wall!O22)","v":false},{"$f":"IF(Wall!P22=\"\",\"\",Wall!P22)","v":false},"",{"$f":"IF(Wall!D47=\"\",\"\",Wall!D47)","v":""},{"$f":"IF(AI24=\"\",\"\",MAX(AH$10:AH23)+1)","v":""},{"$f":"IF(Room!C18=\"\",\"\",Room!C18)","v":""},{"$f":"IF(Room!D18=\"\",\"\",Room!D18)","v":""},null,null,null,null,14,"",{"$f":"IF(AO24>AH$45,\"\",VLOOKUP(AO24,AH24:AI49,2,FALSE))","v":""}]
[null,null,null,null,null,"","","",null,"","","","","","","",null,null,null,null,null,null,null,null,null,{"$f":"IF(AA25=\"\",\"\",MAX(Z$10:Z24)+1)","v":""},{"$f":"IF(Wall!C23=\"\",\"\",Wall!C23)","v":""},{"$f":"IF(Wall!D23=\"\",\"\",Wall!D23)","v":""},{"$f":"IF(Wall!E23=\"\",\"\",Wall!E23)","v":""},{"$f":"IF(Wall!O23=\"\",\"\",Wall!O23)","v":false},{"$f":"IF(Wall!P23=\"\",\"\",Wall!P23)","v":false},"",{"$f":"IF(Wall!D48=\"\",\"\",Wall!D48)","v":""},{"$f":"IF(AI25=\"\",\"\",MAX(AH$10:AH24)+1)","v":""},{"$f":"IF(Room!C19=\"\",\"\",Room!C19)","v":""},{"$f":"IF(Room!D19=\"\",\"\",Room!D19)","v":""},null,null,null,null,15,"",{"$f":"IF(AO25>AH$45,\"\",VLOOKUP(AO25,AH25:AI49,2,FALSE))","v":""}]
[null,null,null,null,null,"","","",null,"","","","","","","",null,null,null,null,null,null,null,null,null,{"$f":"IF(AA26=\"\",\"\",MAX(Z$10:Z25)+1)","v":""},{"$f":"IF(Wall!C24=\"\",\"\",Wall!C24)","v":""},{"$f":"IF(Wall!D24=\"\",\"\",Wall!D24)","v":""},{"$f":"IF(Wall!E24=\"\",\"\",Wall!E24)","v":""},{"$f":"IF(Wall!O24=\"\",\"\",Wall!O24)","v":false},{"$f":"IF(Wall!P24=\"\",\"\",Wall!P24)","v":false},"",{"$f":"IF(Wall!D49=\"\",\"\",Wall!D49)","v":""},{"$f":"IF(AI26=\"\",\"\",MAX(AH$10:AH25)+1)","v":""},{"$f":"IF(Room!C20=\"\",\"\",Room!C20)","v":""},{"$f":"IF(Room!D20=\"\",\"\",Room!D20)","v":""},null,null,null,null,16,"",{"$f":"IF(AO26>AH$45,\"\",VLOOKUP(AO26,AH26:AI49,2,FALSE))","v":""}]
[null,null,null,null,null,"","","",null,"","","","","","","",null,null,null,null,null,null,null,null,null,{"$f":"IF(AA27=\"\",\"\",MAX(Z$10:Z26)+1)","v":""},{"$f":"IF(Wall!C25=\"\",\"\",Wall!C25)","v":""},{"$f":"IF(Wall!D25=\"\",\"\",Wall!D25)","v":""},{"$f":"IF(Wall!E25=\"\",\"\",Wall!E25)","v":""},{"$f":"IF(Wall!O25=\"\",\"\",Wall!O25)","v":false},{"$f":"IF(Wall!P25=\"\",\"\",Wall!P25)","v":false},"",{"$f":"IF(Wall!D50=\"\",\"\",Wall!D50)","v":""},{"$f":"IF(AI27=\"\",\"\",MAX(AH$10:AH26)+1)","v":""},{"$f":"IF(Room!C21=\"\",\"\",Room!C21)","v":""},{"$f":"IF(Room!D21=\"\",\"\",Room!D21)","v":""},null,null,null,null,17,"",{"$f":"IF(AO27>AH$45,\"\",VLOOKUP(AO27,AH27:AI49,2,FALSE))","v":""}]
[null,null,null,null,null,"","","",null,"","","","","","","",null,null,null,null,null,null,null,null,null,{"$f":"IF(AA28=\"\",\"\",MAX(Z$10:Z27)+1)","v":""},{"$f":"IF(Wall!C26=\"\",\"\",Wall!C26)","v":""},{"$f":"IF(Wall!D26=\"\",\"\",Wall!D26)","v":""},{"$f":"IF(Wall!E26=\"\",\"\",Wall!E26)","v":""},{"$f":"IF(Wall!O26=\"\",\"\",Wall!O26)","v":false},{"$f":"IF(Wall!P26=\"\",\"\",Wall!P26)","v":false},"",{"$f":"IF(Wall!D51=\"\",\"\",Wall!D51)","v":""},{"$f":"IF(AI28=\"\",\"\",MAX(AH$10:AH27)+1)","v":""},{"$f":"IF(Room!C22=\"\",\"\",Room!C22)","v":""},{"$f":"IF(Room!D22=\"\",\"\",Room!D22)","v":""},null,null,null,null,18,"",""]
[null,null,null,null,null,"","","",null,"","","","","","","",null,null,null,null,null,null,null,null,null,{"$f":"IF(AA29=\"\",\"\",MAX(Z$10:Z28)+1)","v":""},{"$f":"IF(Wall!C27=\"\",\"\",Wall!C27)","v":""},{"$f":"IF(Wall!D27=\"\",\"\",Wall!D27)","v":""},{"$f":"IF(Wall!E27=\"\",\"\",Wall!E27)","v":""},{"$f":"IF(Wall!O27=\"\",\"\",Wall!O27)","v":false},{"$f":"IF(Wall!P27=\"\",\"\",Wall!P27)","v":false},"",{"$f":"IF(Wall!D52=\"\",\"\",Wall!D52)","v":""},{"$f":"IF(AI29=\"\",\"\",MAX(AH$10:AH28)+1)","v":""},{"$f":"IF(Room!C23=\"\",\"\",Room!C23)","v":""},{"$f":"IF(Room!D23=\"\",\"\",Room!D23)","v":""},null,null,null,null,19,"",""]
[null,null,null,null,null,"","","",null,"","","","","","","",null,null,null,null,null,null,null,null,null,{"$f":"IF(AA30=\"\",\"\",MAX(Z$10:Z29)+1)","v":""},{"$f":"IF(Wall!C28=\"\",\"\",Wall!C28)","v":""},{"$f":"IF(Wall!D28=\"\",\"\",Wall!D28)","v":""},{"$f":"IF(Wall!E28=\"\",\"\",Wall!E28)","v":""},{"$f":"IF(Wall!O28=\"\",\"\",Wall!O28)","v":false},{"$f":"IF(Wall!P28=\"\",\"\",Wall!P28)","v":false},"",{"$f":"IF(Wall!D53=\"\",\"\",Wall!D53)","v":""},{"$f":"IF(AI30=\"\",\"\",MAX(AH$10:AH29)+1)","v":""},{"$f":"IF(Room!C24=\"\",\"\",Room!C24)","v":""},{"$f":"IF(Room!D24=\"\",\"\",Room!D24)","v":""},null,null,null,null,20,"",""]
[null,null,null,null,null,"","","",null,"","","","","","","",null,null,null,null,null,null,null,null,null,null,null,null,null,null,null,null,null,{"$f":"IF(AI31=\"\",\"\",MAX(AH$10:AH30)+1)","v":""},{"$f":"IF(Room!C25=\"\",\"\",Room!C25)","v":""},{"$f":"IF(Room!D25=\"\",\"\",Room!D25)","v":""},null,null,null,null,21,{"$f":"IF(AO31>Z$45,\"\",VLOOKUP(AO31,Z31:AA49,2,FALSE))","v":""},""]
[null,null,null,null,null,"","","",null,"","","","","","","",null,null,null,null,null,null,null,null,null,null,null,null,null,null,null,null,null,{"$f":"IF(AI32=\"\",\"\",MAX(AH$10:AH31)+1)","v":""},{"$f":"IF(Room!C26=\"\",\"\",Room!C26)","v":""},{"$f":"IF(Room!D26=\"\",\"\",Room!D26)","v":""},null,null,null,null,22,{"$f":"IF(AO32>Z$45,\"\",VLOOKUP(AO32,Z32:AA49,2,FALSE))","v":""},""]
[null,null,null,null,null,"","","",null,"","","","","","","",null,null,null,null,null,null,null,null,null,null,null,null,null,null,null,null,null,{"$f":"IF(AI33=\"\",\"\",MAX(AH$10:AH32)+1)","v":""},{"$f":"IF(Room!C27=\"\",\"\",Room!C27)","v":""},{"$f":"IF(Room!D27=\"\",\"\",Room!D27)","v":""},null,null,null,null,23,{"$f":"IF(AO33>Z$45,\"\",VLOOKUP(AO33,Z33:AA49,2,FALSE))","v":""},""]
[null,null,null,null,null,"","","",null,"","","","","","","",null,null,null,null,null,null,null,null,null,null,null,null,null,null,null,null,null,{"$f":"IF(AI34=\"\",\"\",MAX(AH$10:AH33)+1)","v":""},{"$f":"IF(Room!C28=\"\",\"\",Room!C28)","v":""},{"$f":"IF(Room!D28=\"\",\"\",Room!D28)","v":""},null,null,null,null,24,{"$f":"IF(AO34>Z$45,\"\",VLOOKUP(AO34,Z34:AA49,2,FALSE))","v":""},""]
[null,null,null,null,null,"","","",null,"","","","","","","",null,null,null,null,null,null,null,null,null,null,null,null,null,null,null,null,null,{"$f":"IF(AI35=\"\",\"\",MAX(AH$10:AH34)+1)","v":""},{"$f":"IF(Room!C29=\"\",\"\",Room!C29)","v":""},{"$f":"IF(Room!D29=\"\",\"\",Room!D29)","v":""},null,null,null,null,25,{"$f":"IF(AO35>Z$45,\"\",VLOOKUP(AO35,Z35:AA49,2,FALSE))","v":""},""]
[null,null,null,null,null,"","","",null,"","","","","","","",null,null,null,null,null,null,null,null,null,null,null,null,null,null,null,null,null,{"$f":"IF(AI36=\"\",\"\",MAX(AH$10:AH35)+1)","v":""},{"$f":"IF(Room!C30=\"\",\"\",Room!C30)","v":""},{"$f":"IF(Room!D30=\"\",\"\",Room!D30)","v":""},null,null,null,null,26,{"$f":"IF(AO36>Z$45,\"\",VLOOKUP(AO36,Z36:AA49,2,FALSE))","v":""},""]
[null,null,null,null,null,"","","",null,"","","","","","","",null,null,null,null,null,null,null,null,null,null,null,null,null,null,null,null,null,{"$f":"IF(AI37=\"\",\"\",MAX(AH$10:AH36)+1)","v":""},{"$f":"IF(Room!C31=\"\",\"\",Room!C31)","v":""},{"$f":"IF(Room!D31=\"\",\"\",Room!D31)","v":""},null,null,null,null,27,{"$f":"IF(AO37>Z$45,\"\",VLOOKUP(AO37,Z37:AA49,2,FALSE))","v":""},""]
[null,null,null,null,null,"","","",null,"","","","","","","",null,null,null,null,null,null,null,null,null,null,null,null,null,null,null,null,null,{"$f":"IF(AI38=\"\",\"\",MAX(AH$10:AH37)+1)","v":""},{"$f":"IF(Room!C32=\"\",\"\",Room!C32)","v":""},{"$f":"IF(Room!D32=\"\",\"\",Room!D32)","v":""},null,null,null,null,28,{"$f":"IF(AO38>Z$45,\"\",VLOOKUP(AO38,Z38:AA49,2,FALSE))","v":""},""]
[null,null,null,null,null,"","","",null,"","","","","","","",null,null,null,null,null,null,null,null,null,null,null,null,null,null,null,null,null,{"$f":"IF(AI39=\"\",\"\",MAX(AH$10:AH38)+1)","v":""},{"$f":"IF(Room!C33=\"\",\"\",Room!C33)","v":""},{"$f":"IF(Room!D33=\"\",\"\",Room!D33)","v":""},null,null,null,null,29,{"$f":"IF(AO39>Z$45,\"\",VLOOKUP(AO39,Z39:AA49,2,FALSE))","v":""},""]
[null,null,null,null,null,"","","",null,"","","","","","","",null,null,null,null,null,null,null,null,null,null,null,null,null,null,null,null,null,{"$f":"IF(AI40=\"\",\"\",MAX(AH$10:AH39)+1)","v":""},{"$f":"IF(Room!C34=\"\",\"\",Room!C34)","v":""},{"$f":"IF(Room!D34=\"\",\"\",Room!D34)","v":""},null,null,null,null,30,{"$f":"IF(AO40>Z$45,\"\",VLOOKUP(AO40,Z40:AA50,2,FALSE))","v":""},""]
[null,null,null,null,null,"","","",null,"","","","","","","",null,null,null,null,null,null,null,null,null,null,null,null,null,null,null,null,null,{"$f":"IF(AI41=\"\",\"\",MAX(AH$10:AH40)+1)","v":""},{"$f":"IF(Room!C35=\"\",\"\",Room!C35)","v":""},{"$f":"IF(Room!D35=\"\",\"\",Room!D35)","v":""},null,null,null,null,31,{"$f":"IF(AO41>Z$45,\"\",VLOOKUP(AO41,Z41:AA51,2,FALSE))","v":""},""]
[null,null,null,null,null,null,null,null,null,null,null,null,null,null,null,null,null,null,null,null,null,null,null,null,null,null,null,null,null,null,null,null,null,{"$f":"IF(AI42=\"\",\"\",MAX(AH$10:AH41)+1)","v":""},{"$f":"IF(Room!C36=\"\",\"\",Room!C36)","v":""},{"$f":"IF(Room!D36=\"\",\"\",Room!D36)","v":""},null,null,null,null,32,{"$f":"IF(AO42>Z$45,\"\",VLOOKUP(AO42,Z42:AA52,2,FALSE))","v":""},""]
[]
[]
[null,null,null,null,null,null,null,null,null,null,null,null,null,null,null,null,null,null,null,null,null,null,null,null,"Max",{"$f":"MAX(Z11:Z30)","v":0},null,null,null,null,null,null,"Max",{"$f":"MAX(AH11:AH42)","v":0}]

{"sheet":"T10","index":16,"n_rows":45,"n_cols":43,"rows_kept":45,"cut":false,"hidden":false,"merged":[[3,1,3,7],[7,1,7,7]]}
[]
[]
[]
[null,{"$f":"Langage!A54","v":"Perte thermique par transmission"}]
[]
[null,{"$f":"IF(S10=\"\",\"\",S10)","v":""},{"$f":"IF(S11=\"\",\"\",S11)","v":""},"°C",null,null,"FT,i   W",{"$f":"IF(C6=\"\",\"\",SUM(H12:H41))","v":""},null,null,null,null,null,"FT,i   W",null,{"$f":"IF(C6=\"\",\"\",SUM(P12:P40))","v":""},null,"Ceci reprend les valeurs dans les les autres onglets de façon à pouvoir les utiliser dans le présent onglet.",null,null,null,null,null,null,null,null,null,null,null,null,null,null,null,null,null,null,null,null,null,null,"Ceci recrée des listes sans vides pour les menus déroulants"]
[]
[null,null,null,null,null,null,null,null,null,null,null,null,null,null,null,null,null,"N° onglet",10,"Valeur à changer dans toutes les feuilles T",null,null,null,null,{"$f":"16+S8","v":26}]
[]
[null,null,null,"Ak","hm,k","Uk","DT","FT,i,k",null,"Tout","Tin","fqann","fGW","Chff sol","Chff mur","FT,i,k",null,"Espace",{"$f":"IF(INDIRECT(\"Room!C\"&Y8)=\"\",\"\",CONCATENATE(INDIRECT(\"Room!B\"&Y8),\". \",INDIRECT(\"Room!C\"&Y8)))","v":""},null,null,null,null,null,null,null,"Parois","U","DUTB","Chff sol","Chff mur","Utot",null,null,"Espaces",null,null,null,null,null,null,"Parois","Espace"]
[null,{"$f":"Langage!A20","v":"Parois"},{"$f":"Langage!A24","v":"Espace"},"m²","m","W/m².K","°C","W",null,null,null,null,null,null,"W",null,null,"qint   °C",{"$f":"IF(INDIRECT(\"Room!D\"&Y8)=\"\",\"\",INDIRECT(\"Room!D\"&Y8))","v":""},null,null,null,null,null,null,{"$f":"IF(AA11=\"\",\"\",MAX(Z$10:Z10)+1)","v":""},{"$f":"IF(Wall!C9=\"\",\"\",Wall!C9)","v":""},{"$f":"IF(Wall!D9=\"\",\"\",Wall!D9)","v":""},{"$f":"IF(Wall!E9=\"\",\"\",Wall!E9)","v":""},{"$f":"IF(Wall!O9=\"\",\"\",Wall!O9)","v":false},{"$f":"IF(Wall!P9=\"\",\"\",Wall!P9)","v":false},{"$f":"IF(AB11=\"\",\"\",(IF(AC11=\"\",AB11,AB11+AC11)))","v":""},{"$f":"IF(Wall!D34=\"\",\"\",Wall!D34)","v":""},{"$f":"IF(AI11=\"\",\"\",MAX(AH$10:AH10)+1)","v":""},{"$f":"IF(Room!C42=\"\",\"\",Room!C42)","v":""},{"$f":"IF(Room!D42=\"\",\"\",Room!D42)","v":""},null,null,null,null,1,{"$f":"IF(AO11>Z$45,\"\",VLOOKUP(AO11,Z11:AA30,2,FALSE))","v":""},{"$f":"IF(AO11>AH$45,\"\",VLOOKUP(AO11,AH11:AI42,2,FALSE))","v":""}]
[null,null,null,null,null,{"$f":"IF(B12=\"\",\"\",VLOOKUP(B12,AA$11:AF$30,6,FALSE))","v":""},{"$f":"IF(OR(K12=\"\",J12=\"\"),\"\",K12-J12)","v":""},{"$f":"IF(P12=\"\",\"\",P12)","v":""},null,{"$f":"IF(C12=\"\",\"\",VLOOKUP(C12,AI$11:AJ$42,2,FALSE))","v":""},{"$f":"IF(B12=\"\",\"\",IF(S$15<4,C$6,IF(E12=\"\",\"\",C$6+S$14*(E12-1))))","v":""},{"$f":"IF(C12=\"\",\"\",IF(VLOOKUP(C12,AI$11:AL$42,3,FALSE)=\"\",\"\",VLOOKUP(C12,AI$11:AL$42,3,FALSE)))","v":""},{"$f":"IF(C12=\"\",\"\",IF(VLOOKUP(C12,AI$11:AL$42,4,FALSE)=\"\",\"\",VLOOKUP(C12,AI$11:AL$42,4,FALSE)))","v":""},{"$f":"IF(B12=\"\",\"\",VLOOKUP(B12,AA$11:AF$30,4,FALSE))","v":""},{"$f":"IF(B12=\"\",\"\",VLOOKUP(B12,AA$11:AF$30,5,FALSE))","v":""},{"$f":"IF(OR(N12=TRUE,O12=TRUE),\"///\",IF(OR(D12=\"\",F12=\"\",G12=\"\"),\"\",IF(OR(L12=\"\",M12=\"\"),D12*F12*G12,D12*F12*G12*L12*M12)))","v":""},null,"qe   °C",{"$f":"IF(Room!F8=\"\",\"\",Room!F8)","v":""},null,null,null,null,null,null,{"$f":"IF(AA12=\"\",\"\",MAX(Z$10:Z11)+1)","v":""},{"$f":"IF(Wall!C10=\"\",\"\",Wall!C10)","v":""},{"$f":"IF(Wall!D10=\"\",\"\",Wall!D10)","v":""},{"$f":"IF(Wall!E10=\"\",\"\",Wall!E10)","v":""},{"$f":"IF(Wall!O10=\"\",\"\",Wall!O10)","v":false},{"$f":"IF(Wall!P10=\"\",\"\",Wall!P10)","v":false},{"$f":"IF(AB12=\"\",\"\",(IF(AC12=\"\",AB12,AB12+AC12)))","v":""},{"$f":"IF(Wall!D35=\"\",\"\",Wall!D35)","v":""},{"$f":"IF(AI12=\"\",\"\",MAX(AH$10:AH11)+1)","v":""},{"$f":"IF(Room!C47=\"\",\"\",Room!C47)","v":""},{"$f":"IF(Room!D47=\"\",\"\",Room!D47)","v":""},{"$f":"IF(Room!E47=\"\",\"\",Room!E47)","v":1.45},{"$f":"IF(Room!F47=\"\",\"\",Room!F47)","v":1.1499999999999999},null,null,2,{"$f":"IF(AO12>Z$45,\"\",VLOOKUP(AO12,Z12:AA31,2,FALSE))","v":""},{"$f":"IF(AO12>AH$45,\"\",VLOOKUP(AO12,AH12:AI43,2,FALSE))","v":""}]
[null,null,null,null,null,{"$f":"IF(B13=\"\",\"\",VLOOKUP(B13,AA$11:AF$30,6,FALSE))","v":""},{"$f":"IF(OR(K13=\"\",J13=\"\"),\"\",K13-J13)","v":""},{"$f":"IF(P13=\"\",\"\",P13)","v":""},null,"",{"$f":"IF(B13=\"\",\"\",IF(S$15<4,C$6,IF(E13=\"\",\"\",C$6+S$14*(E13-1))))","v":""},"","","",{"$f":"IF(B13=\"\",\"\",VLOOKUP(B13,AA$11:AF$30,5,FALSE))","v":""},{"$f":"IF(OR(N13=TRUE,O13=TRUE),\"///\",IF(OR(D13=\"\",F13=\"\",G13=\"\"),\"\",IF(OR(L13=\"\",M13=\"\"),D13*F13*G13,D13*F13*G13*L13*M13)))","v":""},null,"qm,e   °C",{"$f":"IF(Room!F9=\"\",\"\",Room!F9)","v":""},null,null,null,null,null,null,{"$f":"IF(AA13=\"\",\"\",MAX(Z$10:Z12)+1)","v":""},{"$f":"IF(Wall!C11=\"\",\"\",Wall!C11)","v":""},{"$f":"IF(Wall!D11=\"\",\"\",Wall!D11)","v":""},{"$f":"IF(Wall!E11=\"\",\"\",Wall!E11)","v":""},{"$f":"IF(Wall!O11=\"\",\"\",Wall!O11)","v":false},{"$f":"IF(Wall!P11=\"\",\"\",Wall!P11)","v":false},"",{"$f":"IF(Wall!D36=\"\",\"\",Wall!D36)","v":""},{"$f":"IF(AI13=\"\",\"\",MAX(AH$10:AH12)+1)","v":""},{"$f":"IF(Room!C52=\"\",\"\",Room!C52)","v":""},{"$f":"IF(Room!D52=\"\",\"\",Room!D52)","v":""},null,null,null,null,3,"",""]
[null,null,null,null,null,"","","",null,"","","","","","","",null,"Gq,air,i  °C/m",{"$f":"IF(INDIRECT(\"Room!T\"&Y8)=\"\",\"\",INDIRECT(\"Room!T\"&Y8))","v":""},null,null,null,null,null,null,{"$f":"IF(AA14=\"\",\"\",MAX(Z$10:Z13)+1)","v":""},{"$f":"IF(Wall!C12=\"\",\"\",Wall!C12)","v":""},{"$f":"IF(Wall!D12=\"\",\"\",Wall!D12)","v":""},{"$f":"IF(Wall!E12=\"\",\"\",Wall!E12)","v":""},{"$f":"IF(Wall!O12=\"\",\"\",Wall!O12)","v":false},{"$f":"IF(Wall!P12=\"\",\"\",Wall!P12)","v":false},"",{"$f":"IF(Wall!D37=\"\",\"\",Wall!D37)","v":""},{"$f":"IF(AI14=\"\",\"\",MAX(AH$10:AH13)+1)","v":""},{"$f":"IF(Room!C53=\"\",\"\",Room!C53)","v":""},{"$f":"IF(Room!D53=\"\",\"\",Room!D53)","v":""},null,null,null,null,4,"",""]
[null,null,null,null,null,"","","",null,"","","","","","","",null,"hi   m",{"$f":"IF(INDIRECT(\"Room!Q\"&Y8)=\"\",\"\",INDIRECT(\"Room!Q\"&Y8))","v":""},null,null,null,null,null,null,{"$f":"IF(AA15=\"\",\"\",MAX(Z$10:Z14)+1)","v":""},{"$f":"IF(Wall!C13=\"\",\"\",Wall!C13)","v":""},{"$f":"IF(Wall!D13=\"\",\"\",Wall!D13)","v":""},{"$f":"IF(Wall!E13=\"\",\"\",Wall!E13)","v":""},{"$f":"IF(Wall!O13=\"\",\"\",Wall!O13)","v":false},{"$f":"IF(Wall!P13=\"\",\"\",Wall!P13)","v":false},"",{"$f":"IF(Wall!D38=\"\",\"\",Wall!D38)","v":""},{"$f":"IF(AI15=\"\",\"\",MAX(AH$10:AH14)+1)","v":""},{"$f":"IF(Room!C54=\"\",\"\",Room!C54)","v":""},{"$f":"IF(Room!D54=\"\",\"\",Room!D54)","v":""},null,null,null,null,5,"",""]
[null,null,null,null,null,"","","",null,"","","","","","","",null,null,null,null,null,null,null,null,null,{"$f":"IF(AA16=\"\",\"\",MAX(Z$10:Z15)+1)","v":""},{"$f":"IF(Wall!C14=\"\",\"\",Wall!C14)","v":""},{"$f":"IF(Wall!D14=\"\",\"\",Wall!D14)","v":""},{"$f":"IF(Wall!E14=\"\",\"\",Wall!E14)","v":""},{"$f":"IF(Wall!O14=\"\",\"\",Wall!O14)","v":false},{"$f":"IF(Wall!P14=\"\",\"\",Wall!P14)","v":false},"",{"$f":"IF(Wall!D39=\"\",\"\",Wall!D39)","v":""},{"$f":"IF(AI16=\"\",\"\",MAX(AH$10:AH15)+1)","v":""},{"$f":"IF(Room!C55=\"\",\"\",Room!C55)","v":""},{"$f":"IF(Room!D55=\"\",\"\",Room!D55)","v":""},null,null,null,null,6,"",""]
[null,null,null,null,null,"","","",null,"","","","","","","",null,null,null,null,null,null,null,null,null,{"$f":"IF(AA17=\"\",\"\",MAX(Z$10:Z16)+1)","v":""},{"$f":"IF(Wall!C15=\"\",\"\",Wall!C15)","v":""},{"$f":"IF(Wall!D15=\"\",\"\",Wall!D15)","v":""},{"$f":"IF(Wall!E15=\"\",\"\",Wall!E15)","v":""},{"$f":"IF(Wall!O15=\"\",\"\",Wall!O15)","v":false},{"$f":"IF(Wall!P15=\"\",\"\",Wall!P15)","v":false},"",{"$f":"IF(Wall!D40=\"\",\"\",Wall!D40)","v":""},{"$f":"IF(AI17=\"\",\"\",MAX(AH$10:AH16)+1)","v":""},{"$f":"IF(Room!C56=\"\",\"\",Room!C56)","v":""},{"$f":"IF(Room!D56=\"\",\"\",Room!D56)","v":""},null,null,null,null,7,"",""]
[null,null,null,null,null,"","","",null,"","","","","","","",null,null,null,null,null,null,null,null,null,{"$f":"IF(AA18=\"\",\"\",MAX(Z$10:Z17)+1)","v":""},{"$f":"IF(Wall!C16=\"\",\"\",Wall!C16)","v":""},{"$f":"IF(Wall!D16=\"\",\"\",Wall!D16)","v":""},{"$f":"IF(Wall!E16=\"\",\"\",Wall!E16)","v":""},{"$f":"IF(Wall!O16=\"\",\"\",Wall!O16)","v":false},{"$f":"IF(Wall!P16=\"\",\"\",Wall!P16)","v":false},"",{"$f":"IF(Wall!D41=\"\",\"\",Wall!D41)","v":""},{"$f":"IF(AI18=\"\",\"\",MAX(AH$10:AH17)+1)","v":""},{"$f":"IF(Room!C61=\"\",\"\",Room!C61)","v":""},{"$f":"IF(Room!D61=\"\",\"\",Room!D61)","v":""},null,null,null,null,8,"",""]
[null,null,null,null,null,"","","",null,"","","","","","","",null,null,null,null,null,null,null,null,null,{"$f":"IF(AA19=\"\",\"\",MAX(Z$10:Z18)+1)","v":""},{"$f":"IF(Wall!C17=\"\",\"\",Wall!C17)","v":""},{"$f":"IF(Wall!D17=\"\",\"\",Wall!D17)","v":""},{"$f":"IF(Wall!E17=\"\",\"\",Wall!E17)","v":""},{"$f":"IF(Wall!O17=\"\",\"\",Wall!O17)","v":false},{"$f":"IF(Wall!P17=\"\",\"\",Wall!P17)","v":false},"",{"$f":"IF(Wall!D42=\"\",\"\",Wall!D42)","v":""},{"$f":"IF(AI19=\"\",\"\",MAX(AH$10:AH18)+1)","v":""},{"$f":"IF(Room!C62=\"\",\"\",Room!C62)","v":""},{"$f":"IF(Room!D62=\"\",\"\",Room!D62)","v":""},null,null,null,null,9,"",{"$f":"IF(AO19>AH$45,\"\",VLOOKUP(AO19,AH19:AI49,2,FALSE))","v":""}]
[null,null,null,null,null,"","","",null,"","","","","","","",null,null,null,null,null,null,null,null,null,{"$f":"IF(AA20=\"\",\"\",MAX(Z$10:Z19)+1)","v":""},{"$f":"IF(Wall!C18=\"\",\"\",Wall!C18)","v":""},{"$f":"IF(Wall!D18=\"\",\"\",Wall!D18)","v":""},{"$f":"IF(Wall!E18=\"\",\"\",Wall!E18)","v":""},{"$f":"IF(Wall!O18=\"\",\"\",Wall!O18)","v":false},{"$f":"IF(Wall!P18=\"\",\"\",Wall!P18)","v":false},"",{"$f":"IF(Wall!D43=\"\",\"\",Wall!D43)","v":""},{"$f":"IF(AI20=\"\",\"\",MAX(AH$10:AH19)+1)","v":""},{"$f":"IF(Room!C63=\"\",\"\",Room!C63)","v":""},{"$f":"IF(Room!D63=\"\",\"\",Room!D63)","v":""},null,null,null,null,10,"",{"$f":"IF(AO20>AH$45,\"\",VLOOKUP(AO20,AH20:AI49,2,FALSE))","v":""}]
[null,null,null,null,null,"","","",null,"","","","","","","",null,null,null,null,null,null,null,null,null,{"$f":"IF(AA21=\"\",\"\",MAX(Z$10:Z20)+1)","v":""},{"$f":"IF(Wall!C19=\"\",\"\",Wall!C19)","v":""},{"$f":"IF(Wall!D19=\"\",\"\",Wall!D19)","v":""},{"$f":"IF(Wall!E19=\"\",\"\",Wall!E19)","v":""},{"$f":"IF(Wall!O19=\"\",\"\",Wall!O19)","v":false},{"$f":"IF(Wall!P19=\"\",\"\",Wall!P19)","v":false},"",{"$f":"IF(Wall!D44=\"\",\"\",Wall!D44)","v":""},{"$f":"IF(AI21=\"\",\"\",MAX(AH$10:AH20)+1)","v":""},{"$f":"IF(Room!C64=\"\",\"\",Room!C64)","v":""},{"$f":"IF(Room!D64=\"\",\"\",Room!D64)","v":""},null,null,null,null,11,"",{"$f":"IF(AO21>AH$45,\"\",VLOOKUP(AO21,AH21:AI49,2,FALSE))","v":""}]
[null,null,null,null,null,"","","",null,"","","","","","","",null,null,null,null,null,null,null,null,null,{"$f":"IF(AA22=\"\",\"\",MAX(Z$10:Z21)+1)","v":""},{"$f":"IF(Wall!C20=\"\",\"\",Wall!C20)","v":""},{"$f":"IF(Wall!D20=\"\",\"\",Wall!D20)","v":""},{"$f":"IF(Wall!E20=\"\",\"\",Wall!E20)","v":""},{"$f":"IF(Wall!O20=\"\",\"\",Wall!O20)","v":false},{"$f":"IF(Wall!P20=\"\",\"\",Wall!P20)","v":false},"",{"$f":"IF(Wall!D45=\"\",\"\",Wall!D45)","v":""},{"$f":"IF(AI22=\"\",\"\",MAX(AH$10:AH21)+1)","v":""},{"$f":"IF(Room!C65=\"\",\"\",Room!C65)","v":""},{"$f":"IF(Room!D65=\"\",\"\",Room!D65)","v":""},null,null,null,null,12,"",{"$f":"IF(AO22>AH$45,\"\",VLOOKUP(AO22,AH22:AI49,2,FALSE))","v":""}]
[null,null,null,null,null,"","","",null,"","","","","","","",null,null,null,null,null,null,null,null,null,{"$f":"IF(AA23=\"\",\"\",MAX(Z$10:Z22)+1)","v":""},{"$f":"IF(Wall!C21=\"\",\"\",Wall!C21)","v":""},{"$f":"IF(Wall!D21=\"\",\"\",Wall!D21)","v":""},{"$f":"IF(Wall!E21=\"\",\"\",Wall!E21)","v":""},{"$f":"IF(Wall!O21=\"\",\"\",Wall!O21)","v":false},{"$f":"IF(Wall!P21=\"\",\"\",Wall!P21)","v":false},"",{"$f":"IF(Wall!D46=\"\",\"\",Wall!D46)","v":""},{"$f":"IF(AI23=\"\",\"\",MAX(AH$10:AH22)+1)","v":""},{"$f":"IF(Room!C17=\"\",\"\",Room!C17)","v":""},{"$f":"IF(Room!D17=\"\",\"\",Room!D17)","v":""},null,null,null,null,13,"",{"$f":"IF(AO23>AH$45,\"\",VLOOKUP(AO23,AH23:AI49,2,FALSE))","v":""}]
[null,null,null,null,null,"","","",null,"","","","","","","",null,null,null,null,null,null,null,null,null,{"$f":"IF(AA24=\"\",\"\",MAX(Z$10:Z23)+1)","v":""},{"$f":"IF(Wall!C22=\"\",\"\",Wall!C22)","v":""},{"$f":"IF(Wall!D22=\"\",\"\",Wall!D22)","v":""},{"$f":"IF(Wall!E22=\"\",\"\",Wall!E22)","v":""},{"$f":"IF(Wall!O22=\"\",\"\",Wall!O22)","v":false},{"$f":"IF(Wall!P22=\"\",\"\",Wall!P22)","v":false},"",{"$f":"IF(Wall!D47=\"\",\"\",Wall!D47)","v":""},{"$f":"IF(AI24=\"\",\"\",MAX(AH$10:AH23)+1)","v":""},{"$f":"IF(Room!C18=\"\",\"\",Room!C18)","v":""},{"$f":"IF(Room!D18=\"\",\"\",Room!D18)","v":""},null,null,null,null,14,"",{"$f":"IF(AO24>AH$45,\"\",VLOOKUP(AO24,AH24:AI49,2,FALSE))","v":""}]
[null,null,null,null,null,"","","",null,"","","","","","","",null,null,null,null,null,null,null,null,null,{"$f":"IF(AA25=\"\",\"\",MAX(Z$10:Z24)+1)","v":""},{"$f":"IF(Wall!C23=\"\",\"\",Wall!C23)","v":""},{"$f":"IF(Wall!D23=\"\",\"\",Wall!D23)","v":""},{"$f":"IF(Wall!E23=\"\",\"\",Wall!E23)","v":""},{"$f":"IF(Wall!O23=\"\",\"\",Wall!O23)","v":false},{"$f":"IF(Wall!P23=\"\",\"\",Wall!P23)","v":false},"",{"$f":"IF(Wall!D48=\"\",\"\",Wall!D48)","v":""},{"$f":"IF(AI25=\"\",\"\",MAX(AH$10:AH24)+1)","v":""},{"$f":"IF(Room!C19=\"\",\"\",Room!C19)","v":""},{"$f":"IF(Room!D19=\"\",\"\",Room!D19)","v":""},null,null,null,null,15,"",{"$f":"IF(AO25>AH$45,\"\",VLOOKUP(AO25,AH25:AI49,2,FALSE))","v":""}]
[null,null,null,null,null,"","","",null,"","","","","","","",null,null,null,null,null,null,null,null,null,{"$f":"IF(AA26=\"\",\"\",MAX(Z$10:Z25)+1)","v":""},{"$f":"IF(Wall!C24=\"\",\"\",Wall!C24)","v":""},{"$f":"IF(Wall!D24=\"\",\"\",Wall!D24)","v":""},{"$f":"IF(Wall!E24=\"\",\"\",Wall!E24)","v":""},{"$f":"IF(Wall!O24=\"\",\"\",Wall!O24)","v":false},{"$f":"IF(Wall!P24=\"\",\"\",Wall!P24)","v":false},"",{"$f":"IF(Wall!D49=\"\",\"\",Wall!D49)","v":""},{"$f":"IF(AI26=\"\",\"\",MAX(AH$10:AH25)+1)","v":""},{"$f":"IF(Room!C20=\"\",\"\",Room!C20)","v":""},{"$f":"IF(Room!D20=\"\",\"\",Room!D20)","v":""},null,null,null,null,16,"",{"$f":"IF(AO26>AH$45,\"\",VLOOKUP(AO26,AH26:AI49,2,FALSE))","v":""}]
[null,null,null,null,null,"","","",null,"","","","","","","",null,null,null,null,null,null,null,null,null,{"$f":"IF(AA27=\"\",\"\",MAX(Z$10:Z26)+1)","v":""},{"$f":"IF(Wall!C25=\"\",\"\",Wall!C25)","v":""},{"$f":"IF(Wall!D25=\"\",\"\",Wall!D25)","v":""},{"$f":"IF(Wall!E25=\"\",\"\",Wall!E25)","v":""},{"$f":"IF(Wall!O25=\"\",\"\",Wall!O25)","v":false},{"$f":"IF(Wall!P25=\"\",\"\",Wall!P25)","v":false},"",{"$f":"IF(Wall!D50=\"\",\"\",Wall!D50)","v":""},{"$f":"IF(AI27=\"\",\"\",MAX(AH$10:AH26)+1)","v":""},{"$f":"IF(Room!C21=\"\",\"\",Room!C21)","v":""},{"$f":"IF(Room!D21=\"\",\"\",Room!D21)","v":""},null,null,null,null,17,"",{"$f":"IF(AO27>AH$45,\"\",VLOOKUP(AO27,AH27:AI49,2,FALSE))","v":""}]
[null,null,null,null,null,"","","",null,"","","","","","","",null,null,null,null,null,null,null,null,null,{"$f":"IF(AA28=\"\",\"\",MAX(Z$10:Z27)+1)","v":""},{"$f":"IF(Wall!C26=\"\",\"\",Wall!C26)","v":""},{"$f":"IF(Wall!D26=\"\",\"\",Wall!D26)","v":""},{"$f":"IF(Wall!E26=\"\",\"\",Wall!E26)","v":""},{"$f":"IF(Wall!O26=\"\",\"\",Wall!O26)","v":false},{"$f":"IF(Wall!P26=\"\",\"\",Wall!P26)","v":false},"",{"$f":"IF(Wall!D51=\"\",\"\",Wall!D51)","v":""},{"$f":"IF(AI28=\"\",\"\",MAX(AH$10:AH27)+1)","v":""},{"$f":"IF(Room!C22=\"\",\"\",Room!C22)","v":""},{"$f":"IF(Room!D22=\"\",\"\",Room!D22)","v":""},null,null,null,null,18,"",""]
[null,null,null,null,null,"","","",null,"","","","","","","",null,null,null,null,null,null,null,null,null,{"$f":"IF(AA29=\"\",\"\",MAX(Z$10:Z28)+1)","v":""},{"$f":"IF(Wall!C27=\"\",\"\",Wall!C27)","v":""},{"$f":"IF(Wall!D27=\"\",\"\",Wall!D27)","v":""},{"$f":"IF(Wall!E27=\"\",\"\",Wall!E27)","v":""},{"$f":"IF(Wall!O27=\"\",\"\",Wall!O27)","v":false},{"$f":"IF(Wall!P27=\"\",\"\",Wall!P27)","v":false},"",{"$f":"IF(Wall!D52=\"\",\"\",Wall!D52)","v":""},{"$f":"IF(AI29=\"\",\"\",MAX(AH$10:AH28)+1)","v":""},{"$f":"IF(Room!C23=\"\",\"\",Room!C23)","v":""},{"$f":"IF(Room!D23=\"\",\"\",Room!D23)","v":""},null,null,null,null,19,"",""]
[null,null,null,null,null,"","","",null,"","","","","","","",null,null,null,null,null,null,null,null,null,{"$f":"IF(AA30=\"\",\"\",MAX(Z$10:Z29)+1)","v":""},{"$f":"IF(Wall!C28=\"\",\"\",Wall!C28)","v":""},{"$f":"IF(Wall!D28=\"\",\"\",Wall!D28)","v":""},{"$f":"IF(Wall!E28=\"\",\"\",Wall!E28)","v":""},{"$f":"IF(Wall!O28=\"\",\"\",Wall!O28)","v":false},{"$f":"IF(Wall!P28=\"\",\"\",Wall!P28)","v":false},"",{"$f":"IF(Wall!D53=\"\",\"\",Wall!D53)","v":""},{"$f":"IF(AI30=\"\",\"\",MAX(AH$10:AH29)+1)","v":""},{"$f":"IF(Room!C24=\"\",\"\",Room!C24)","v":""},{"$f":"IF(Room!D24=\"\",\"\",Room!D24)","v":""},null,null,null,null,20,"",""]
[null,null,null,null,null,"","","",null,"","","","","","","",null,null,null,null,null,null,null,null,null,null,null,null,null,null,null,null,null,{"$f":"IF(AI31=\"\",\"\",MAX(AH$10:AH30)+1)","v":""},{"$f":"IF(Room!C25=\"\",\"\",Room!C25)","v":""},{"$f":"IF(Room!D25=\"\",\"\",Room!D25)","v":""},null,null,null,null,21,{"$f":"IF(AO31>Z$45,\"\",VLOOKUP(AO31,Z31:AA49,2,FALSE))","v":""},""]
[null,null,null,null,null,"","","",null,"","","","","","","",null,null,null,null,null,null,null,null,null,null,null,null,null,null,null,null,null,{"$f":"IF(AI32=\"\",\"\",MAX(AH$10:AH31)+1)","v":""},{"$f":"IF(Room!C26=\"\",\"\",Room!C26)","v":""},{"$f":"IF(Room!D26=\"\",\"\",Room!D26)","v":""},null,null,null,null,22,{"$f":"IF(AO32>Z$45,\"\",VLOOKUP(AO32,Z32:AA49,2,FALSE))","v":""},""]
[null,null,null,null,null,"","","",null,"","","","","","","",null,null,null,null,null,null,null,null,null,null,null,null,null,null,null,null,null,{"$f":"IF(AI33=\"\",\"\",MAX(AH$10:AH32)+1)","v":""},{"$f":"IF(Room!C27=\"\",\"\",Room!C27)","v":""},{"$f":"IF(Room!D27=\"\",\"\",Room!D27)","v":""},null,null,null,null,23,{"$f":"IF(AO33>Z$45,\"\",VLOOKUP(AO33,Z33:AA49,2,FALSE))","v":""},""]
[null,null,null,null,null,"","","",null,"","","","","","","",null,null,null,null,null,null,null,null,null,null,null,null,null,null,null,null,null,{"$f":"IF(AI34=\"\",\"\",MAX(AH$10:AH33)+1)","v":""},{"$f":"IF(Room!C28=\"\",\"\",Room!C28)","v":""},{"$f":"IF(Room!D28=\"\",\"\",Room!D28)","v":""},null,null,null,null,24,{"$f":"IF(AO34>Z$45,\"\",VLOOKUP(AO34,Z34:AA49,2,FALSE))","v":""},""]
[null,null,null,null,null,"","","",null,"","","","","","","",null,null,null,null,null,null,null,null,null,null,null,null,null,null,null,null,null,{"$f":"IF(AI35=\"\",\"\",MAX(AH$10:AH34)+1)","v":""},{"$f":"IF(Room!C29=\"\",\"\",Room!C29)","v":""},{"$f":"IF(Room!D29=\"\",\"\",Room!D29)","v":""},null,null,null,null,25,{"$f":"IF(AO35>Z$45,\"\",VLOOKUP(AO35,Z35:AA49,2,FALSE))","v":""},""]
[null,null,null,null,null,"","","",null,"","","","","","","",null,null,null,null,null,null,null,null,null,null,null,null,null,null,null,null,null,{"$f":"IF(AI36=\"\",\"\",MAX(AH$10:AH35)+1)","v":""},{"$f":"IF(Room!C30=\"\",\"\",Room!C30)","v":""},{"$f":"IF(Room!D30=\"\",\"\",Room!D30)","v":""},null,null,null,null,26,{"$f":"IF(AO36>Z$45,\"\",VLOOKUP(AO36,Z36:AA49,2,FALSE))","v":""},""]
[null,null,null,null,null,"","","",null,"","","","","","","",null,null,null,null,null,null,null,null,null,null,null,null,null,null,null,null,null,{"$f":"IF(AI37=\"\",\"\",MAX(AH$10:AH36)+1)","v":""},{"$f":"IF(Room!C31=\"\",\"\",Room!C31)","v":""},{"$f":"IF(Room!D31=\"\",\"\",Room!D31)","v":""},null,null,null,null,27,{"$f":"IF(AO37>Z$45,\"\",VLOOKUP(AO37,Z37:AA49,2,FALSE))","v":""},""]
[null,null,null,null,null,"","","",null,"","","","","","","",null,null,null,null,null,null,null,null,null,null,null,null,null,null,null,null,null,{"$f":"IF(AI38=\"\",\"\",MAX(AH$10:AH37)+1)","v":""},{"$f":"IF(Room!C32=\"\",\"\",Room!C32)","v":""},{"$f":"IF(Room!D32=\"\",\"\",Room!D32)","v":""},null,null,null,null,28,{"$f":"IF(AO38>Z$45,\"\",VLOOKUP(AO38,Z38:AA49,2,FALSE))","v":""},""]
[null,null,null,null,null,"","","",null,"","","","","","","",null,null,null,null,null,null,null,null,null,null,null,null,null,null,null,null,null,{"$f":"IF(AI39=\"\",\"\",MAX(AH$10:AH38)+1)","v":""},{"$f":"IF(Room!C33=\"\",\"\",Room!C33)","v":""},{"$f":"IF(Room!D33=\"\",\"\",Room!D33)","v":""},null,null,null,null,29,{"$f":"IF(AO39>Z$45,\"\",VLOOKUP(AO39,Z39:AA49,2,FALSE))","v":""},""]
[null,null,null,null,null,"","","",null,"","","","","","","",null,null,null,null,null,null,null,null,null,null,null,null,null,null,null,null,null,{"$f":"IF(AI40=\"\",\"\",MAX(AH$10:AH39)+1)","v":""},{"$f":"IF(Room!C34=\"\",\"\",Room!C34)","v":""},{"$f":"IF(Room!D34=\"\",\"\",Room!D34)","v":""},null,null,null,null,30,{"$f":"IF(AO40>Z$45,\"\",VLOOKUP(AO40,Z40:AA50,2,FALSE))","v":""},""]
[null,null,null,null,null,"","","",null,"","","","","","","",null,null,null,null,null,null,null,null,null,null,null,null,null,null,null,null,null,{"$f":"IF(AI41=\"\",\"\",MAX(AH$10:AH40)+1)","v":""},{"$f":"IF(Room!C35=\"\",\"\",Room!C35)","v":""},{"$f":"IF(Room!D35=\"\",\"\",Room!D35)","v":""},null,null,null,null,31,{"$f":"IF(AO41>Z$45,\"\",VLOOKUP(AO41,Z41:AA51,2,FALSE))","v":""},""]
[null,null,null,null,null,null,null,null,null,null,null,null,null,null,null,null,null,null,null,null,null,null,null,null,null,null,null,null,null,null,null,null,null,{"$f":"IF(AI42=\"\",\"\",MAX(AH$10:AH41)+1)","v":""},{"$f":"IF(Room!C36=\"\",\"\",Room!C36)","v":""},{"$f":"IF(Room!D36=\"\",\"\",Room!D36)","v":""},null,null,null,null,32,{"$f":"IF(AO42>Z$45,\"\",VLOOKUP(AO42,Z42:AA52,2,FALSE))","v":""},""]
[]
[]
[null,null,null,null,null,null,null,null,null,null,null,null,null,null,null,null,null,null,null,null,null,null,null,null,"Max",{"$f":"MAX(Z11:Z30)","v":0},null,null,null,null,null,null,"Max",{"$f":"MAX(AH11:AH42)","v":0}]

{"sheet":"T11","index":17,"n_rows":45,"n_cols":43,"rows_kept":45,"cut":false,"hidden":false,"merged":[[3,1,3,7],[7,1,7,7]]}
[]
[]
[]
[null,{"$f":"Langage!A54","v":"Perte thermique par transmission"}]
[]
[null,{"$f":"IF(S10=\"\",\"\",S10)","v":""},{"$f":"IF(S11=\"\",\"\",S11)","v":""},"°C",null,null,"FT,i   W",{"$f":"IF(C6=\"\",\"\",SUM(H12:H41))","v":""},null,null,null,null,null,"FT,i   W",null,{"$f":"IF(C6=\"\",\"\",SUM(P12:P40))","v":""},null,"Ceci reprend les valeurs dans les les autres onglets de façon à pouvoir les utiliser dans le présent onglet.",null,null,null,null,null,null,null,null,null,null,null,null,null,null,null,null,null,null,null,null,null,null,"Ceci recrée des listes sans vides pour les menus déroulants"]
[]
[null,null,null,null,null,null,null,null,null,null,null,null,null,null,null,null,null,"N° onglet",11,"Valeur à changer dans toutes les feuilles T",null,null,null,null,{"$f":"16+S8","v":27}]
[]
[null,null,null,"Ak","hm,k","Uk","DT","FT,i,k",null,"Tout","Tin","fqann","fGW","Chff sol","Chff mur","FT,i,k",null,"Espace",{"$f":"IF(INDIRECT(\"Room!C\"&Y8)=\"\",\"\",CONCATENATE(INDIRECT(\"Room!B\"&Y8),\". \",INDIRECT(\"Room!C\"&Y8)))","v":""},null,null,null,null,null,null,null,"Parois","U","DUTB","Chff sol","Chff mur","Utot",null,null,"Espaces",null,null,null,null,null,null,"Parois","Espace"]
[null,{"$f":"Langage!A20","v":"Parois"},{"$f":"Langage!A24","v":"Espace"},"m²","m","W/m².K","°C","W",null,null,null,null,null,null,"W",null,null,"qint   °C",{"$f":"IF(INDIRECT(\"Room!D\"&Y8)=\"\",\"\",INDIRECT(\"Room!D\"&Y8))","v":""},null,null,null,null,null,null,{"$f":"IF(AA11=\"\",\"\",MAX(Z$10:Z10)+1)","v":""},{"$f":"IF(Wall!C9=\"\",\"\",Wall!C9)","v":""},{"$f":"IF(Wall!D9=\"\",\"\",Wall!D9)","v":""},{"$f":"IF(Wall!E9=\"\",\"\",Wall!E9)","v":""},{"$f":"IF(Wall!O9=\"\",\"\",Wall!O9)","v":false},{"$f":"IF(Wall!P9=\"\",\"\",Wall!P9)","v":false},{"$f":"IF(AB11=\"\",\"\",(IF(AC11=\"\",AB11,AB11+AC11)))","v":""},{"$f":"IF(Wall!D34=\"\",\"\",Wall!D34)","v":""},{"$f":"IF(AI11=\"\",\"\",MAX(AH$10:AH10)+1)","v":""},{"$f":"IF(Room!C42=\"\",\"\",Room!C42)","v":""},{"$f":"IF(Room!D42=\"\",\"\",Room!D42)","v":""},null,null,null,null,1,{"$f":"IF(AO11>Z$45,\"\",VLOOKUP(AO11,Z11:AA30,2,FALSE))","v":""},{"$f":"IF(AO11>AH$45,\"\",VLOOKUP(AO11,AH11:AI42,2,FALSE))","v":""}]
[null,null,null,null,null,{"$f":"IF(B12=\"\",\"\",VLOOKUP(B12,AA$11:AF$30,6,FALSE))","v":""},{"$f":"IF(OR(K12=\"\",J12=\"\"),\"\",K12-J12)","v":""},{"$f":"IF(P12=\"\",\"\",P12)","v":""},null,{"$f":"IF(C12=\"\",\"\",VLOOKUP(C12,AI$11:AJ$42,2,FALSE))","v":""},{"$f":"IF(B12=\"\",\"\",IF(S$15<4,C$6,IF(E12=\"\",\"\",C$6+S$14*(E12-1))))","v":""},{"$f":"IF(C12=\"\",\"\",IF(VLOOKUP(C12,AI$11:AL$42,3,FALSE)=\"\",\"\",VLOOKUP(C12,AI$11:AL$42,3,FALSE)))","v":""},{"$f":"IF(C12=\"\",\"\",IF(VLOOKUP(C12,AI$11:AL$42,4,FALSE)=\"\",\"\",VLOOKUP(C12,AI$11:AL$42,4,FALSE)))","v":""},{"$f":"IF(B12=\"\",\"\",VLOOKUP(B12,AA$11:AF$30,4,FALSE))","v":""},{"$f":"IF(B12=\"\",\"\",VLOOKUP(B12,AA$11:AF$30,5,FALSE))","v":""},{"$f":"IF(OR(N12=TRUE,O12=TRUE),\"///\",IF(OR(D12=\"\",F12=\"\",G12=\"\"),\"\",IF(OR(L12=\"\",M12=\"\"),D12*F12*G12,D12*F12*G12*L12*M12)))","v":""},null,"qe   °C",{"$f":"IF(Room!F8=\"\",\"\",Room!F8)","v":""},null,null,null,null,null,null,{"$f":"IF(AA12=\"\",\"\",MAX(Z$10:Z11)+1)","v":""},{"$f":"IF(Wall!C10=\"\",\"\",Wall!C10)","v":""},{"$f":"IF(Wall!D10=\"\",\"\",Wall!D10)","v":""},{"$f":"IF(Wall!E10=\"\",\"\",Wall!E10)","v":""},{"$f":"IF(Wall!O10=\"\",\"\",Wall!O10)","v":false},{"$f":"IF(Wall!P10=\"\",\"\",Wall!P10)","v":false},{"$f":"IF(AB12=\"\",\"\",(IF(AC12=\"\",AB12,AB12+AC12)))","v":""},{"$f":"IF(Wall!D35=\"\",\"\",Wall!D35)","v":""},{"$f":"IF(AI12=\"\",\"\",MAX(AH$10:AH11)+1)","v":""},{"$f":"IF(Room!C47=\"\",\"\",Room!C47)","v":""},{"$f":"IF(Room!D47=\"\",\"\",Room!D47)","v":""},{"$f":"IF(Room!E47=\"\",\"\",Room!E47)","v":1.45},{"$f":"IF(Room!F47=\"\",\"\",Room!F47)","v":1.1499999999999999},null,null,2,{"$f":"IF(AO12>Z$45,\"\",VLOOKUP(AO12,Z12:AA31,2,FALSE))","v":""},{"$f":"IF(AO12>AH$45,\"\",VLOOKUP(AO12,AH12:AI43,2,FALSE))","v":""}]
[null,null,null,null,null,{"$f":"IF(B13=\"\",\"\",VLOOKUP(B13,AA$11:AF$30,6,FALSE))","v":""},{"$f":"IF(OR(K13=\"\",J13=\"\"),\"\",K13-J13)","v":""},{"$f":"IF(P13=\"\",\"\",P13)","v":""},null,"",{"$f":"IF(B13=\"\",\"\",IF(S$15<4,C$6,IF(E13=\"\",\"\",C$6+S$14*(E13-1))))","v":""},"","","",{"$f":"IF(B13=\"\",\"\",VLOOKUP(B13,AA$11:AF$30,5,FALSE))","v":""},{"$f":"IF(OR(N13=TRUE,O13=TRUE),\"///\",IF(OR(D13=\"\",F13=\"\",G13=\"\"),\"\",IF(OR(L13=\"\",M13=\"\"),D13*F13*G13,D13*F13*G13*L13*M13)))","v":""},null,"qm,e   °C",{"$f":"IF(Room!F9=\"\",\"\",Room!F9)","v":""},null,null,null,null,null,null,{"$f":"IF(AA13=\"\",\"\",MAX(Z$10:Z12)+1)","v":""},{"$f":"IF(Wall!C11=\"\",\"\",Wall!C11)","v":""},{"$f":"IF(Wall!D11=\"\",\"\",Wall!D11)","v":""},{"$f":"IF(Wall!E11=\"\",\"\",Wall!E11)","v":""},{"$f":"IF(Wall!O11=\"\",\"\",Wall!O11)","v":false},{"$f":"IF(Wall!P11=\"\",\"\",Wall!P11)","v":false},"",{"$f":"IF(Wall!D36=\"\",\"\",Wall!D36)","v":""},{"$f":"IF(AI13=\"\",\"\",MAX(AH$10:AH12)+1)","v":""},{"$f":"IF(Room!C52=\"\",\"\",Room!C52)","v":""},{"$f":"IF(Room!D52=\"\",\"\",Room!D52)","v":""},null,null,null,null,3,"",""]
[null,null,null,null,null,"","","",null,"","","","","","","",null,"Gq,air,i  °C/m",{"$f":"IF(INDIRECT(\"Room!T\"&Y8)=\"\",\"\",INDIRECT(\"Room!T\"&Y8))","v":""},null,null,null,null,null,null,{"$f":"IF(AA14=\"\",\"\",MAX(Z$10:Z13)+1)","v":""},{"$f":"IF(Wall!C12=\"\",\"\",Wall!C12)","v":""},{"$f":"IF(Wall!D12=\"\",\"\",Wall!D12)","v":""},{"$f":"IF(Wall!E12=\"\",\"\",Wall!E12)","v":""},{"$f":"IF(Wall!O12=\"\",\"\",Wall!O12)","v":false},{"$f":"IF(Wall!P12=\"\",\"\",Wall!P12)","v":false},"",{"$f":"IF(Wall!D37=\"\",\"\",Wall!D37)","v":""},{"$f":"IF(AI14=\"\",\"\",MAX(AH$10:AH13)+1)","v":""},{"$f":"IF(Room!C53=\"\",\"\",Room!C53)","v":""},{"$f":"IF(Room!D53=\"\",\"\",Room!D53)","v":""},null,null,null,null,4,"",""]
[null,null,null,null,null,"","","",null,"","","","","","","",null,"hi   m",{"$f":"IF(INDIRECT(\"Room!Q\"&Y8)=\"\",\"\",INDIRECT(\"Room!Q\"&Y8))","v":""},null,null,null,null,null,null,{"$f":"IF(AA15=\"\",\"\",MAX(Z$10:Z14)+1)","v":""},{"$f":"IF(Wall!C13=\"\",\"\",Wall!C13)","v":""},{"$f":"IF(Wall!D13=\"\",\"\",Wall!D13)","v":""},{"$f":"IF(Wall!E13=\"\",\"\",Wall!E13)","v":""},{"$f":"IF(Wall!O13=\"\",\"\",Wall!O13)","v":false},{"$f":"IF(Wall!P13=\"\",\"\",Wall!P13)","v":false},"",{"$f":"IF(Wall!D38=\"\",\"\",Wall!D38)","v":""},{"$f":"IF(AI15=\"\",\"\",MAX(AH$10:AH14)+1)","v":""},{"$f":"IF(Room!C54=\"\",\"\",Room!C54)","v":""},{"$f":"IF(Room!D54=\"\",\"\",Room!D54)","v":""},null,null,null,null,5,"",""]
[null,null,null,null,null,"","","",null,"","","","","","","",null,null,null,null,null,null,null,null,null,{"$f":"IF(AA16=\"\",\"\",MAX(Z$10:Z15)+1)","v":""},{"$f":"IF(Wall!C14=\"\",\"\",Wall!C14)","v":""},{"$f":"IF(Wall!D14=\"\",\"\",Wall!D14)","v":""},{"$f":"IF(Wall!E14=\"\",\"\",Wall!E14)","v":""},{"$f":"IF(Wall!O14=\"\",\"\",Wall!O14)","v":false},{"$f":"IF(Wall!P14=\"\",\"\",Wall!P14)","v":false},"",{"$f":"IF(Wall!D39=\"\",\"\",Wall!D39)","v":""},{"$f":"IF(AI16=\"\",\"\",MAX(AH$10:AH15)+1)","v":""},{"$f":"IF(Room!C55=\"\",\"\",Room!C55)","v":""},{"$f":"IF(Room!D55=\"\",\"\",Room!D55)","v":""},null,null,null,null,6,"",""]
[null,null,null,null,null,"","","",null,"","","","","","","",null,null,null,null,null,null,null,null,null,{"$f":"IF(AA17=\"\",\"\",MAX(Z$10:Z16)+1)","v":""},{"$f":"IF(Wall!C15=\"\",\"\",Wall!C15)","v":""},{"$f":"IF(Wall!D15=\"\",\"\",Wall!D15)","v":""},{"$f":"IF(Wall!E15=\"\",\"\",Wall!E15)","v":""},{"$f":"IF(Wall!O15=\"\",\"\",Wall!O15)","v":false},{"$f":"IF(Wall!P15=\"\",\"\",Wall!P15)","v":false},"",{"$f":"IF(Wall!D40=\"\",\"\",Wall!D40)","v":""},{"$f":"IF(AI17=\"\",\"\",MAX(AH$10:AH16)+1)","v":""},{"$f":"IF(Room!C56=\"\",\"\",Room!C56)","v":""},{"$f":"IF(Room!D56=\"\",\"\",Room!D56)","v":""},null,null,null,null,7,"",""]
[null,null,null,null,null,"","","",null,"","","","","","","",null,null,null,null,null,null,null,null,null,{"$f":"IF(AA18=\"\",\"\",MAX(Z$10:Z17)+1)","v":""},{"$f":"IF(Wall!C16=\"\",\"\",Wall!C16)","v":""},{"$f":"IF(Wall!D16=\"\",\"\",Wall!D16)","v":""},{"$f":"IF(Wall!E16=\"\",\"\",Wall!E16)","v":""},{"$f":"IF(Wall!O16=\"\",\"\",Wall!O16)","v":false},{"$f":"IF(Wall!P16=\"\",\"\",Wall!P16)","v":false},"",{"$f":"IF(Wall!D41=\"\",\"\",Wall!D41)","v":""},{"$f":"IF(AI18=\"\",\"\",MAX(AH$10:AH17)+1)","v":""},{"$f":"IF(Room!C61=\"\",\"\",Room!C61)","v":""},{"$f":"IF(Room!D61=\"\",\"\",Room!D61)","v":""},null,null,null,null,8,"",""]
[null,null,null,null,null,"","","",null,"","","","","","","",null,null,null,null,null,null,null,null,null,{"$f":"IF(AA19=\"\",\"\",MAX(Z$10:Z18)+1)","v":""},{"$f":"IF(Wall!C17=\"\",\"\",Wall!C17)","v":""},{"$f":"IF(Wall!D17=\"\",\"\",Wall!D17)","v":""},{"$f":"IF(Wall!E17=\"\",\"\",Wall!E17)","v":""},{"$f":"IF(Wall!O17=\"\",\"\",Wall!O17)","v":false},{"$f":"IF(Wall!P17=\"\",\"\",Wall!P17)","v":false},"",{"$f":"IF(Wall!D42=\"\",\"\",Wall!D42)","v":""},{"$f":"IF(AI19=\"\",\"\",MAX(AH$10:AH18)+1)","v":""},{"$f":"IF(Room!C62=\"\",\"\",Room!C62)","v":""},{"$f":"IF(Room!D62=\"\",\"\",Room!D62)","v":""},null,null,null,null,9,"",{"$f":"IF(AO19>AH$45,\"\",VLOOKUP(AO19,AH19:AI49,2,FALSE))","v":""}]
[null,null,null,null,null,"","","",null,"","","","","","","",null,null,null,null,null,null,null,null,null,{"$f":"IF(AA20=\"\",\"\",MAX(Z$10:Z19)+1)","v":""},{"$f":"IF(Wall!C18=\"\",\"\",Wall!C18)","v":""},{"$f":"IF(Wall!D18=\"\",\"\",Wall!D18)","v":""},{"$f":"IF(Wall!E18=\"\",\"\",Wall!E18)","v":""},{"$f":"IF(Wall!O18=\"\",\"\",Wall!O18)","v":false},{"$f":"IF(Wall!P18=\"\",\"\",Wall!P18)","v":false},"",{"$f":"IF(Wall!D43=\"\",\"\",Wall!D43)","v":""},{"$f":"IF(AI20=\"\",\"\",MAX(AH$10:AH19)+1)","v":""},{"$f":"IF(Room!C63=\"\",\"\",Room!C63)","v":""},{"$f":"IF(Room!D63=\"\",\"\",Room!D63)","v":""},null,null,null,null,10,"",{"$f":"IF(AO20>AH$45,\"\",VLOOKUP(AO20,AH20:AI49,2,FALSE))","v":""}]
[null,null,null,null,null,"","","",null,"","","","","","","",null,null,null,null,null,null,null,null,null,{"$f":"IF(AA21=\"\",\"\",MAX(Z$10:Z20)+1)","v":""},{"$f":"IF(Wall!C19=\"\",\"\",Wall!C19)","v":""},{"$f":"IF(Wall!D19=\"\",\"\",Wall!D19)","v":""},{"$f":"IF(Wall!E19=\"\",\"\",Wall!E19)","v":""},{"$f":"IF(Wall!O19=\"\",\"\",Wall!O19)","v":false},{"$f":"IF(Wall!P19=\"\",\"\",Wall!P19)","v":false},"",{"$f":"IF(Wall!D44=\"\",\"\",Wall!D44)","v":""},{"$f":"IF(AI21=\"\",\"\",MAX(AH$10:AH20)+1)","v":""},{"$f":"IF(Room!C64=\"\",\"\",Room!C64)","v":""},{"$f":"IF(Room!D64=\"\",\"\",Room!D64)","v":""},null,null,null,null,11,"",{"$f":"IF(AO21>AH$45,\"\",VLOOKUP(AO21,AH21:AI49,2,FALSE))","v":""}]
[null,null,null,null,null,"","","",null,"","","","","","","",null,null,null,null,null,null,null,null,null,{"$f":"IF(AA22=\"\",\"\",MAX(Z$10:Z21)+1)","v":""},{"$f":"IF(Wall!C20=\"\",\"\",Wall!C20)","v":""},{"$f":"IF(Wall!D20=\"\",\"\",Wall!D20)","v":""},{"$f":"IF(Wall!E20=\"\",\"\",Wall!E20)","v":""},{"$f":"IF(Wall!O20=\"\",\"\",Wall!O20)","v":false},{"$f":"IF(Wall!P20=\"\",\"\",Wall!P20)","v":false},"",{"$f":"IF(Wall!D45=\"\",\"\",Wall!D45)","v":""},{"$f":"IF(AI22=\"\",\"\",MAX(AH$10:AH21)+1)","v":""},{"$f":"IF(Room!C65=\"\",\"\",Room!C65)","v":""},{"$f":"IF(Room!D65=\"\",\"\",Room!D65)","v":""},null,null,null,null,12,"",{"$f":"IF(AO22>AH$45,\"\",VLOOKUP(AO22,AH22:AI49,2,FALSE))","v":""}]
[null,null,null,null,null,"","","",null,"","","","","","","",null,null,null,null,null,null,null,null,null,{"$f":"IF(AA23=\"\",\"\",MAX(Z$10:Z22)+1)","v":""},{"$f":"IF(Wall!C21=\"\",\"\",Wall!C21)","v":""},{"$f":"IF(Wall!D21=\"\",\"\",Wall!D21)","v":""},{"$f":"IF(Wall!E21=\"\",\"\",Wall!E21)","v":""},{"$f":"IF(Wall!O21=\"\",\"\",Wall!O21)","v":false},{"$f":"IF(Wall!P21=\"\",\"\",Wall!P21)","v":false},"",{"$f":"IF(Wall!D46=\"\",\"\",Wall!D46)","v":""},{"$f":"IF(AI23=\"\",\"\",MAX(AH$10:AH22)+1)","v":""},{"$f":"IF(Room!C17=\"\",\"\",Room!C17)","v":""},{"$f":"IF(Room!D17=\"\",\"\",Room!D17)","v":""},null,null,null,null,13,"",{"$f":"IF(AO23>AH$45,\"\",VLOOKUP(AO23,AH23:AI49,2,FALSE))","v":""}]
[null,null,null,null,null,"","","",null,"","","","","","","",null,null,null,null,null,null,null,null,null,{"$f":"IF(AA24=\"\",\"\",MAX(Z$10:Z23)+1)","v":""},{"$f":"IF(Wall!C22=\"\",\"\",Wall!C22)","v":""},{"$f":"IF(Wall!D22=\"\",\"\",Wall!D22)","v":""},{"$f":"IF(Wall!E22=\"\",\"\",Wall!E22)","v":""},{"$f":"IF(Wall!O22=\"\",\"\",Wall!O22)","v":false},{"$f":"IF(Wall!P22=\"\",\"\",Wall!P22)","v":false},"",{"$f":"IF(Wall!D47=\"\",\"\",Wall!D47)","v":""},{"$f":"IF(AI24=\"\",\"\",MAX(AH$10:AH23)+1)","v":""},{"$f":"IF(Room!C18=\"\",\"\",Room!C18)","v":""},{"$f":"IF(Room!D18=\"\",\"\",Room!D18)","v":""},null,null,null,null,14,"",{"$f":"IF(AO24>AH$45,\"\",VLOOKUP(AO24,AH24:AI49,2,FALSE))","v":""}]
[null,null,null,null,null,"","","",null,"","","","","","","",null,null,null,null,null,null,null,null,null,{"$f":"IF(AA25=\"\",\"\",MAX(Z$10:Z24)+1)","v":""},{"$f":"IF(Wall!C23=\"\",\"\",Wall!C23)","v":""},{"$f":"IF(Wall!D23=\"\",\"\",Wall!D23)","v":""},{"$f":"IF(Wall!E23=\"\",\"\",Wall!E23)","v":""},{"$f":"IF(Wall!O23=\"\",\"\",Wall!O23)","v":false},{"$f":"IF(Wall!P23=\"\",\"\",Wall!P23)","v":false},"",{"$f":"IF(Wall!D48=\"\",\"\",Wall!D48)","v":""},{"$f":"IF(AI25=\"\",\"\",MAX(AH$10:AH24)+1)","v":""},{"$f":"IF(Room!C19=\"\",\"\",Room!C19)","v":""},{"$f":"IF(Room!D19=\"\",\"\",Room!D19)","v":""},null,null,null,null,15,"",{"$f":"IF(AO25>AH$45,\"\",VLOOKUP(AO25,AH25:AI49,2,FALSE))","v":""}]
[null,null,null,null,null,"","","",null,"","","","","","","",null,null,null,null,null,null,null,null,null,{"$f":"IF(AA26=\"\",\"\",MAX(Z$10:Z25)+1)","v":""},{"$f":"IF(Wall!C24=\"\",\"\",Wall!C24)","v":""},{"$f":"IF(Wall!D24=\"\",\"\",Wall!D24)","v":""},{"$f":"IF(Wall!E24=\"\",\"\",Wall!E24)","v":""},{"$f":"IF(Wall!O24=\"\",\"\",Wall!O24)","v":false},{"$f":"IF(Wall!P24=\"\",\"\",Wall!P24)","v":false},"",{"$f":"IF(Wall!D49=\"\",\"\",Wall!D49)","v":""},{"$f":"IF(AI26=\"\",\"\",MAX(AH$10:AH25)+1)","v":""},{"$f":"IF(Room!C20=\"\",\"\",Room!C20)","v":""},{"$f":"IF(Room!D20=\"\",\"\",Room!D20)","v":""},null,null,null,null,16,"",{"$f":"IF(AO26>AH$45,\"\",VLOOKUP(AO26,AH26:AI49,2,FALSE))","v":""}]
[null,null,null,null,null,"","","",null,"","","","","","","",null,null,null,null,null,null,null,null,null,{"$f":"IF(AA27=\"\",\"\",MAX(Z$10:Z26)+1)","v":""},{"$f":"IF(Wall!C25=\"\",\"\",Wall!C25)","v":""},{"$f":"IF(Wall!D25=\"\",\"\",Wall!D25)","v":""},{"$f":"IF(Wall!E25=\"\",\"\",Wall!E25)","v":""},{"$f":"IF(Wall!O25=\"\",\"\",Wall!O25)","v":false},{"$f":"IF(Wall!P25=\"\",\"\",Wall!P25)","v":false},"",{"$f":"IF(Wall!D50=\"\",\"\",Wall!D50)","v":""},{"$f":"IF(AI27=\"\",\"\",MAX(AH$10:AH26)+1)","v":""},{"$f":"IF(Room!C21=\"\",\"\",Room!C21)","v":""},{"$f":"IF(Room!D21=\"\",\"\",Room!D21)","v":""},null,null,null,null,17,"",{"$f":"IF(AO27>AH$45,\"\",VLOOKUP(AO27,AH27:AI49,2,FALSE))","v":""}]
[null,null,null,null,null,"","","",null,"","","","","","","",null,null,null,null,null,null,null,null,null,{"$f":"IF(AA28=\"\",\"\",MAX(Z$10:Z27)+1)","v":""},{"$f":"IF(Wall!C26=\"\",\"\",Wall!C26)","v":""},{"$f":"IF(Wall!D26=\"\",\"\",Wall!D26)","v":""},{"$f":"IF(Wall!E26=\"\",\"\",Wall!E26)","v":""},{"$f":"IF(Wall!O26=\"\",\"\",Wall!O26)","v":false},{"$f":"IF(Wall!P26=\"\",\"\",Wall!P26)","v":false},"",{"$f":"IF(Wall!D51=\"\",\"\",Wall!D51)","v":""},{"$f":"IF(AI28=\"\",\"\",MAX(AH$10:AH27)+1)","v":""},{"$f":"IF(Room!C22=\"\",\"\",Room!C22)","v":""},{"$f":"IF(Room!D22=\"\",\"\",Room!D22)","v":""},null,null,null,null,18,"",""]
[null,null,null,null,null,"","","",null,"","","","","","","",null,null,null,null,null,null,null,null,null,{"$f":"IF(AA29=\"\",\"\",MAX(Z$10:Z28)+1)","v":""},{"$f":"IF(Wall!C27=\"\",\"\",Wall!C27)","v":""},{"$f":"IF(Wall!D27=\"\",\"\",Wall!D27)","v":""},{"$f":"IF(Wall!E27=\"\",\"\",Wall!E27)","v":""},{"$f":"IF(Wall!O27=\"\",\"\",Wall!O27)","v":false},{"$f":"IF(Wall!P27=\"\",\"\",Wall!P27)","v":false},"",{"$f":"IF(Wall!D52=\"\",\"\",Wall!D52)","v":""},{"$f":"IF(AI29=\"\",\"\",MAX(AH$10:AH28)+1)","v":""},{"$f":"IF(Room!C23=\"\",\"\",Room!C23)","v":""},{"$f":"IF(Room!D23=\"\",\"\",Room!D23)","v":""},null,null,null,null,19,"",""]
[null,null,null,null,null,"","","",null,"","","","","","","",null,null,null,null,null,null,null,null,null,{"$f":"IF(AA30=\"\",\"\",MAX(Z$10:Z29)+1)","v":""},{"$f":"IF(Wall!C28=\"\",\"\",Wall!C28)","v":""},{"$f":"IF(Wall!D28=\"\",\"\",Wall!D28)","v":""},{"$f":"IF(Wall!E28=\"\",\"\",Wall!E28)","v":""},{"$f":"IF(Wall!O28=\"\",\"\",Wall!O28)","v":false},{"$f":"IF(Wall!P28=\"\",\"\",Wall!P28)","v":false},"",{"$f":"IF(Wall!D53=\"\",\"\",Wall!D53)","v":""},{"$f":"IF(AI30=\"\",\"\",MAX(AH$10:AH29)+1)","v":""},{"$f":"IF(Room!C24=\"\",\"\",Room!C24)","v":""},{"$f":"IF(Room!D24=\"\",\"\",Room!D24)","v":""},null,null,null,null,20,"",""]
[null,null,null,null,null,"","","",null,"","","","","","","",null,null,null,null,null,null,null,null,null,null,null,null,null,null,null,null,null,{"$f":"IF(AI31=\"\",\"\",MAX(AH$10:AH30)+1)","v":""},{"$f":"IF(Room!C25=\"\",\"\",Room!C25)","v":""},{"$f":"IF(Room!D25=\"\",\"\",Room!D25)","v":""},null,null,null,null,21,{"$f":"IF(AO31>Z$45,\"\",VLOOKUP(AO31,Z31:AA49,2,FALSE))","v":""},""]
[null,null,null,null,null,"","","",null,"","","","","","","",null,null,null,null,null,null,null,null,null,null,null,null,null,null,null,null,null,{"$f":"IF(AI32=\"\",\"\",MAX(AH$10:AH31)+1)","v":""},{"$f":"IF(Room!C26=\"\",\"\",Room!C26)","v":""},{"$f":"IF(Room!D26=\"\",\"\",Room!D26)","v":""},null,null,null,null,22,{"$f":"IF(AO32>Z$45,\"\",VLOOKUP(AO32,Z32:AA49,2,FALSE))","v":""},""]
[null,null,null,null,null,"","","",null,"","","","","","","",null,null,null,null,null,null,null,null,null,null,null,null,null,null,null,null,null,{"$f":"IF(AI33=\"\",\"\",MAX(AH$10:AH32)+1)","v":""},{"$f":"IF(Room!C27=\"\",\"\",Room!C27)","v":""},{"$f":"IF(Room!D27=\"\",\"\",Room!D27)","v":""},null,null,null,null,23,{"$f":"IF(AO33>Z$45,\"\",VLOOKUP(AO33,Z33:AA49,2,FALSE))","v":""},""]
[null,null,null,null,null,"","","",null,"","","","","","","",null,null,null,null,null,null,null,null,null,null,null,null,null,null,null,null,null,{"$f":"IF(AI34=\"\",\"\",MAX(AH$10:AH33)+1)","v":""},{"$f":"IF(Room!C28=\"\",\"\",Room!C28)","v":""},{"$f":"IF(Room!D28=\"\",\"\",Room!D28)","v":""},null,null,null,null,24,{"$f":"IF(AO34>Z$45,\"\",VLOOKUP(AO34,Z34:AA49,2,FALSE))","v":""},""]
[null,null,null,null,null,"","","",null,"","","","","","","",null,null,null,null,null,null,null,null,null,null,null,null,null,null,null,null,null,{"$f":"IF(AI35=\"\",\"\",MAX(AH$10:AH34)+1)","v":""},{"$f":"IF(Room!C29=\"\",\"\",Room!C29)","v":""},{"$f":"IF(Room!D29=\"\",\"\",Room!D29)","v":""},null,null,null,null,25,{"$f":"IF(AO35>Z$45,\"\",VLOOKUP(AO35,Z35:AA49,2,FALSE))","v":""},""]
[null,null,null,null,null,"","","",null,"","","","","","","",null,null,null,null,null,null,null,null,null,null,null,null,null,null,null,null,null,{"$f":"IF(AI36=\"\",\"\",MAX(AH$10:AH35)+1)","v":""},{"$f":"IF(Room!C30=\"\",\"\",Room!C30)","v":""},{"$f":"IF(Room!D30=\"\",\"\",Room!D30)","v":""},null,null,null,null,26,{"$f":"IF(AO36>Z$45,\"\",VLOOKUP(AO36,Z36:AA49,2,FALSE))","v":""},""]
[null,null,null,null,null,"","","",null,"","","","","","","",null,null,null,null,null,null,null,null,null,null,null,null,null,null,null,null,null,{"$f":"IF(AI37=\"\",\"\",MAX(AH$10:AH36)+1)","v":""},{"$f":"IF(Room!C31=\"\",\"\",Room!C31)","v":""},{"$f":"IF(Room!D31=\"\",\"\",Room!D31)","v":""},null,null,null,null,27,{"$f":"IF(AO37>Z$45,\"\",VLOOKUP(AO37,Z37:AA49,2,FALSE))","v":""},""]
[null,null,null,null,null,"","","",null,"","","","","","","",null,null,null,null,null,null,null,null,null,null,null,null,null,null,null,null,null,{"$f":"IF(AI38=\"\",\"\",MAX(AH$10:AH37)+1)","v":""},{"$f":"IF(Room!C32=\"\",\"\",Room!C32)","v":""},{"$f":"IF(Room!D32=\"\",\"\",Room!D32)","v":""},null,null,null,null,28,{"$f":"IF(AO38>Z$45,\"\",VLOOKUP(AO38,Z38:AA49,2,FALSE))","v":""},""]
[null,null,null,null,null,"","","",null,"","","","","","","",null,null,null,null,null,null,null,null,null,null,null,null,null,null,null,null,null,{"$f":"IF(AI39=\"\",\"\",MAX(AH$10:AH38)+1)","v":""},{"$f":"IF(Room!C33=\"\",\"\",Room!C33)","v":""},{"$f":"IF(Room!D33=\"\",\"\",Room!D33)","v":""},null,null,null,null,29,{"$f":"IF(AO39>Z$45,\"\",VLOOKUP(AO39,Z39:AA49,2,FALSE))","v":""},""]
[null,null,null,null,null,"","","",null,"","","","","","","",null,null,null,null,null,null,null,null,null,null,null,null,null,null,null,null,null,{"$f":"IF(AI40=\"\",\"\",MAX(AH$10:AH39)+1)","v":""},{"$f":"IF(Room!C34=\"\",\"\",Room!C34)","v":""},{"$f":"IF(Room!D34=\"\",\"\",Room!D34)","v":""},null,null,null,null,30,{"$f":"IF(AO40>Z$45,\"\",VLOOKUP(AO40,Z40:AA50,2,FALSE))","v":""},""]
[null,null,null,null,null,"","","",null,"","","","","","","",null,null,null,null,null,null,null,null,null,null,null,null,null,null,null,null,null,{"$f":"IF(AI41=\"\",\"\",MAX(AH$10:AH40)+1)","v":""},{"$f":"IF(Room!C35=\"\",\"\",Room!C35)","v":""},{"$f":"IF(Room!D35=\"\",\"\",Room!D35)","v":""},null,null,null,null,31,{"$f":"IF(AO41>Z$45,\"\",VLOOKUP(AO41,Z41:AA51,2,FALSE))","v":""},""]
[null,null,null,null,null,null,null,null,null,null,null,null,null,null,null,null,null,null,null,null,null,null,null,null,null,null,null,null,null,null,null,null,null,{"$f":"IF(AI42=\"\",\"\",MAX(AH$10:AH41)+1)","v":""},{"$f":"IF(Room!C36=\"\",\"\",Room!C36)","v":""},{"$f":"IF(Room!D36=\"\",\"\",Room!D36)","v":""},null,null,null,null,32,{"$f":"IF(AO42>Z$45,\"\",VLOOKUP(AO42,Z42:AA52,2,FALSE))","v":""},""]
[]
[]
[null,null,null,null,null,null,null,null,null,null,null,null,null,null,null,null,null,null,null,null,null,null,null,null,"Max",{"$f":"MAX(Z11:Z30)","v":0},null,null,null,null,null,null,"Max",{"$f":"MAX(AH11:AH42)","v":0}]

{"sheet":"T12","index":18,"n_rows":45,"n_cols":43,"rows_kept":45,"cut":false,"hidden":false,"merged":[[3,1,3,7],[7,1,7,7]]}
[]
[]
[]
[null,{"$f":"Langage!A54","v":"Perte thermique par transmission"}]
[]
[null,{"$f":"IF(S10=\"\",\"\",S10)","v":""},{"$f":"IF(S11=\"\",\"\",S11)","v":""},"°C",null,null,"FT,i   W",{"$f":"IF(C6=\"\",\"\",SUM(H12:H41))","v":""},null,null,null,null,null,"FT,i   W",null,{"$f":"IF(C6=\"\",\"\",SUM(P12:P40))","v":""},null,"Ceci reprend les valeurs dans les les autres onglets de façon à pouvoir les utiliser dans le présent onglet.",null,null,null,null,null,null,null,null,null,null,null,null,null,null,null,null,null,null,null,null,null,null,"Ceci recrée des listes sans vides pour les menus déroulants"]
[]
[null,null,null,null,null,null,null,null,null,null,null,null,null,null,null,null,null,"N° onglet",12,"Valeur à changer dans toutes les feuilles T",null,null,null,null,{"$f":"16+S8","v":28}]
[]
[null,null,null,"Ak","hm,k","Uk","DT","FT,i,k",null,"Tout","Tin","fqann","fGW","Chff sol","Chff mur","FT,i,k",null,"Espace",{"$f":"IF(INDIRECT(\"Room!C\"&Y8)=\"\",\"\",CONCATENATE(INDIRECT(\"Room!B\"&Y8),\". \",INDIRECT(\"Room!C\"&Y8)))","v":""},null,null,null,null,null,null,null,"Parois","U","DUTB","Chff sol","Chff mur","Utot",null,null,"Espaces",null,null,null,null,null,null,"Parois","Espace"]
[null,{"$f":"Langage!A20","v":"Parois"},{"$f":"Langage!A24","v":"Espace"},"m²","m","W/m².K","°C","W",null,null,null,null,null,null,"W",null,null,"qint   °C",{"$f":"IF(INDIRECT(\"Room!D\"&Y8)=\"\",\"\",INDIRECT(\"Room!D\"&Y8))","v":""},null,null,null,null,null,null,{"$f":"IF(AA11=\"\",\"\",MAX(Z$10:Z10)+1)","v":""},{"$f":"IF(Wall!C9=\"\",\"\",Wall!C9)","v":""},{"$f":"IF(Wall!D9=\"\",\"\",Wall!D9)","v":""},{"$f":"IF(Wall!E9=\"\",\"\",Wall!E9)","v":""},{"$f":"IF(Wall!O9=\"\",\"\",Wall!O9)","v":false},{"$f":"IF(Wall!P9=\"\",\"\",Wall!P9)","v":false},{"$f":"IF(AB11=\"\",\"\",(IF(AC11=\"\",AB11,AB11+AC11)))","v":""},{"$f":"IF(Wall!D34=\"\",\"\",Wall!D34)","v":""},{"$f":"IF(AI11=\"\",\"\",MAX(AH$10:AH10)+1)","v":""},{"$f":"IF(Room!C42=\"\",\"\",Room!C42)","v":""},{"$f":"IF(Room!D42=\"\",\"\",Room!D42)","v":""},null,null,null,null,1,{"$f":"IF(AO11>Z$45,\"\",VLOOKUP(AO11,Z11:AA30,2,FALSE))","v":""},{"$f":"IF(AO11>AH$45,\"\",VLOOKUP(AO11,AH11:AI42,2,FALSE))","v":""}]
[null,null,null,null,null,{"$f":"IF(B12=\"\",\"\",VLOOKUP(B12,AA$11:AF$30,6,FALSE))","v":""},{"$f":"IF(OR(K12=\"\",J12=\"\"),\"\",K12-J12)","v":""},{"$f":"IF(P12=\"\",\"\",P12)","v":""},null,{"$f":"IF(C12=\"\",\"\",VLOOKUP(C12,AI$11:AJ$42,2,FALSE))","v":""},{"$f":"IF(B12=\"\",\"\",IF(S$15<4,C$6,IF(E12=\"\",\"\",C$6+S$14*(E12-1))))","v":""},{"$f":"IF(C12=\"\",\"\",IF(VLOOKUP(C12,AI$11:AL$42,3,FALSE)=\"\",\"\",VLOOKUP(C12,AI$11:AL$42,3,FALSE)))","v":""},{"$f":"IF(C12=\"\",\"\",IF(VLOOKUP(C12,AI$11:AL$42,4,FALSE)=\"\",\"\",VLOOKUP(C12,AI$11:AL$42,4,FALSE)))","v":""},{"$f":"IF(B12=\"\",\"\",VLOOKUP(B12,AA$11:AF$30,4,FALSE))","v":""},{"$f":"IF(B12=\"\",\"\",VLOOKUP(B12,AA$11:AF$30,5,FALSE))","v":""},{"$f":"IF(OR(N12=TRUE,O12=TRUE),\"///\",IF(OR(D12=\"\",F12=\"\",G12=\"\"),\"\",IF(OR(L12=\"\",M12=\"\"),D12*F12*G12,D12*F12*G12*L12*M12)))","v":""},null,"qe   °C",{"$f":"IF(Room!F8=\"\",\"\",Room!F8)","v":""},null,null,null,null,null,null,{"$f":"IF(AA12=\"\",\"\",MAX(Z$10:Z11)+1)","v":""},{"$f":"IF(Wall!C10=\"\",\"\",Wall!C10)","v":""},{"$f":"IF(Wall!D10=\"\",\"\",Wall!D10)","v":""},{"$f":"IF(Wall!E10=\"\",\"\",Wall!E10)","v":""},{"$f":"IF(Wall!O10=\"\",\"\",Wall!O10)","v":false},{"$f":"IF(Wall!P10=\"\",\"\",Wall!P10)","v":false},{"$f":"IF(AB12=\"\",\"\",(IF(AC12=\"\",AB12,AB12+AC12)))","v":""},{"$f":"IF(Wall!D35=\"\",\"\",Wall!D35)","v":""},{"$f":"IF(AI12=\"\",\"\",MAX(AH$10:AH11)+1)","v":""},{"$f":"IF(Room!C47=\"\",\"\",Room!C47)","v":""},{"$f":"IF(Room!D47=\"\",\"\",Room!D47)","v":""},{"$f":"IF(Room!E47=\"\",\"\",Room!E47)","v":1.45},{"$f":"IF(Room!F47=\"\",\"\",Room!F47)","v":1.1499999999999999},null,null,2,{"$f":"IF(AO12>Z$45,\"\",VLOOKUP(AO12,Z12:AA31,2,FALSE))","v":""},{"$f":"IF(AO12>AH$45,\"\",VLOOKUP(AO12,AH12:AI43,2,FALSE))","v":""}]
[null,null,null,null,null,{"$f":"IF(B13=\"\",\"\",VLOOKUP(B13,AA$11:AF$30,6,FALSE))","v":""},{"$f":"IF(OR(K13=\"\",J13=\"\"),\"\",K13-J13)","v":""},{"$f":"IF(P13=\"\",\"\",P13)","v":""},null,"",{"$f":"IF(B13=\"\",\"\",IF(S$15<4,C$6,IF(E13=\"\",\"\",C$6+S$14*(E13-1))))","v":""},"","","",{"$f":"IF(B13=\"\",\"\",VLOOKUP(B13,AA$11:AF$30,5,FALSE))","v":""},{"$f":"IF(OR(N13=TRUE,O13=TRUE),\"///\",IF(OR(D13=\"\",F13=\"\",G13=\"\"),\"\",IF(OR(L13=\"\",M13=\"\"),D13*F13*G13,D13*F13*G13*L13*M13)))","v":""},null,"qm,e   °C",{"$f":"IF(Room!F9=\"\",\"\",Room!F9)","v":""},null,null,null,null,null,null,{"$f":"IF(AA13=\"\",\"\",MAX(Z$10:Z12)+1)","v":""},{"$f":"IF(Wall!C11=\"\",\"\",Wall!C11)","v":""},{"$f":"IF(Wall!D11=\"\",\"\",Wall!D11)","v":""},{"$f":"IF(Wall!E11=\"\",\"\",Wall!E11)","v":""},{"$f":"IF(Wall!O11=\"\",\"\",Wall!O11)","v":false},{"$f":"IF(Wall!P11=\"\",\"\",Wall!P11)","v":false},"",{"$f":"IF(Wall!D36=\"\",\"\",Wall!D36)","v":""},{"$f":"IF(AI13=\"\",\"\",MAX(AH$10:AH12)+1)","v":""},{"$f":"IF(Room!C52=\"\",\"\",Room!C52)","v":""},{"$f":"IF(Room!D52=\"\",\"\",Room!D52)","v":""},null,null,null,null,3,"",""]
[null,null,null,null,null,"","","",null,"","","","","","","",null,"Gq,air,i  °C/m",{"$f":"IF(INDIRECT(\"Room!T\"&Y8)=\"\",\"\",INDIRECT(\"Room!T\"&Y8))","v":""},null,null,null,null,null,null,{"$f":"IF(AA14=\"\",\"\",MAX(Z$10:Z13)+1)","v":""},{"$f":"IF(Wall!C12=\"\",\"\",Wall!C12)","v":""},{"$f":"IF(Wall!D12=\"\",\"\",Wall!D12)","v":""},{"$f":"IF(Wall!E12=\"\",\"\",Wall!E12)","v":""},{"$f":"IF(Wall!O12=\"\",\"\",Wall!O12)","v":false},{"$f":"IF(Wall!P12=\"\",\"\",Wall!P12)","v":false},"",{"$f":"IF(Wall!D37=\"\",\"\",Wall!D37)","v":""},{"$f":"IF(AI14=\"\",\"\",MAX(AH$10:AH13)+1)","v":""},{"$f":"IF(Room!C53=\"\",\"\",Room!C53)","v":""},{"$f":"IF(Room!D53=\"\",\"\",Room!D53)","v":""},null,null,null,null,4,"",""]
[null,null,null,null,null,"","","",null,"","","","","","","",null,"hi   m",{"$f":"IF(INDIRECT(\"Room!Q\"&Y8)=\"\",\"\",INDIRECT(\"Room!Q\"&Y8))","v":""},null,null,null,null,null,null,{"$f":"IF(AA15=\"\",\"\",MAX(Z$10:Z14)+1)","v":""},{"$f":"IF(Wall!C13=\"\",\"\",Wall!C13)","v":""},{"$f":"IF(Wall!D13=\"\",\"\",Wall!D13)","v":""},{"$f":"IF(Wall!E13=\"\",\"\",Wall!E13)","v":""},{"$f":"IF(Wall!O13=\"\",\"\",Wall!O13)","v":false},{"$f":"IF(Wall!P13=\"\",\"\",Wall!P13)","v":false},"",{"$f":"IF(Wall!D38=\"\",\"\",Wall!D38)","v":""},{"$f":"IF(AI15=\"\",\"\",MAX(AH$10:AH14)+1)","v":""},{"$f":"IF(Room!C54=\"\",\"\",Room!C54)","v":""},{"$f":"IF(Room!D54=\"\",\"\",Room!D54)","v":""},null,null,null,null,5,"",""]
[null,null,null,null,null,"","","",null,"","","","","","","",null,null,null,null,null,null,null,null,null,{"$f":"IF(AA16=\"\",\"\",MAX(Z$10:Z15)+1)","v":""},{"$f":"IF(Wall!C14=\"\",\"\",Wall!C14)","v":""},{"$f":"IF(Wall!D14=\"\",\"\",Wall!D14)","v":""},{"$f":"IF(Wall!E14=\"\",\"\",Wall!E14)","v":""},{"$f":"IF(Wall!O14=\"\",\"\",Wall!O14)","v":false},{"$f":"IF(Wall!P14=\"\",\"\",Wall!P14)","v":false},"",{"$f":"IF(Wall!D39=\"\",\"\",Wall!D39)","v":""},{"$f":"IF(AI16=\"\",\"\",MAX(AH$10:AH15)+1)","v":""},{"$f":"IF(Room!C55=\"\",\"\",Room!C55)","v":""},{"$f":"IF(Room!D55=\"\",\"\",Room!D55)","v":""},null,null,null,null,6,"",""]
[null,null,null,null,null,"","","",null,"","","","","","","",null,null,null,null,null,null,null,null,null,{"$f":"IF(AA17=\"\",\"\",MAX(Z$10:Z16)+1)","v":""},{"$f":"IF(Wall!C15=\"\",\"\",Wall!C15)","v":""},{"$f":"IF(Wall!D15=\"\",\"\",Wall!D15)","v":""},{"$f":"IF(Wall!E15=\"\",\"\",Wall!E15)","v":""},{"$f":"IF(Wall!O15=\"\",\"\",Wall!O15)","v":false},{"$f":"IF(Wall!P15=\"\",\"\",Wall!P15)","v":false},"",{"$f":"IF(Wall!D40=\"\",\"\",Wall!D40)","v":""},{"$f":"IF(AI17=\"\",\"\",MAX(AH$10:AH16)+1)","v":""},{"$f":"IF(Room!C56=\"\",\"\",Room!C56)","v":""},{"$f":"IF(Room!D56=\"\",\"\",Room!D56)","v":""},null,null,null,null,7,"",""]
[null,null,null,null,null,"","","",null,"","","","","","","",null,null,null,null,null,null,null,null,null,{"$f":"IF(AA18=\"\",\"\",MAX(Z$10:Z17)+1)","v":""},{"$f":"IF(Wall!C16=\"\",\"\",Wall!C16)","v":""},{"$f":"IF(Wall!D16=\"\",\"\",Wall!D16)","v":""},{"$f":"IF(Wall!E16=\"\",\"\",Wall!E16)","v":""},{"$f":"IF(Wall!O16=\"\",\"\",Wall!O16)","v":false},{"$f":"IF(Wall!P16=\"\",\"\",Wall!P16)","v":false},"",{"$f":"IF(Wall!D41=\"\",\"\",Wall!D41)","v":""},{"$f":"IF(AI18=\"\",\"\",MAX(AH$10:AH17)+1)","v":""},{"$f":"IF(Room!C61=\"\",\"\",Room!C61)","v":""},{"$f":"IF(Room!D61=\"\",\"\",Room!D61)","v":""},null,null,null,null,8,"",""]
[null,null,null,null,null,"","","",null,"","","","","","","",null,null,null,null,null,null,null,null,null,{"$f":"IF(AA19=\"\",\"\",MAX(Z$10:Z18)+1)","v":""},{"$f":"IF(Wall!C17=\"\",\"\",Wall!C17)","v":""},{"$f":"IF(Wall!D17=\"\",\"\",Wall!D17)","v":""},{"$f":"IF(Wall!E17=\"\",\"\",Wall!E17)","v":""},{"$f":"IF(Wall!O17=\"\",\"\",Wall!O17)","v":false},{"$f":"IF(Wall!P17=\"\",\"\",Wall!P17)","v":false},"",{"$f":"IF(Wall!D42=\"\",\"\",Wall!D42)","v":""},{"$f":"IF(AI19=\"\",\"\",MAX(AH$10:AH18)+1)","v":""},{"$f":"IF(Room!C62=\"\",\"\",Room!C62)","v":""},{"$f":"IF(Room!D62=\"\",\"\",Room!D62)","v":""},null,null,null,null,9,"",{"$f":"IF(AO19>AH$45,\"\",VLOOKUP(AO19,AH19:AI49,2,FALSE))","v":""}]
[null,null,null,null,null,"","","",null,"","","","","","","",null,null,null,null,null,null,null,null,null,{"$f":"IF(AA20=\"\",\"\",MAX(Z$10:Z19)+1)","v":""},{"$f":"IF(Wall!C18=\"\",\"\",Wall!C18)","v":""},{"$f":"IF(Wall!D18=\"\",\"\",Wall!D18)","v":""},{"$f":"IF(Wall!E18=\"\",\"\",Wall!E18)","v":""},{"$f":"IF(Wall!O18=\"\",\"\",Wall!O18)","v":false},{"$f":"IF(Wall!P18=\"\",\"\",Wall!P18)","v":false},"",{"$f":"IF(Wall!D43=\"\",\"\",Wall!D43)","v":""},{"$f":"IF(AI20=\"\",\"\",MAX(AH$10:AH19)+1)","v":""},{"$f":"IF(Room!C63=\"\",\"\",Room!C63)","v":""},{"$f":"IF(Room!D63=\"\",\"\",Room!D63)","v":""},null,null,null,null,10,"",{"$f":"IF(AO20>AH$45,\"\",VLOOKUP(AO20,AH20:AI49,2,FALSE))","v":""}]
[null,null,null,null,null,"","","",null,"","","","","","","",null,null,null,null,null,null,null,null,null,{"$f":"IF(AA21=\"\",\"\",MAX(Z$10:Z20)+1)","v":""},{"$f":"IF(Wall!C19=\"\",\"\",Wall!C19)","v":""},{"$f":"IF(Wall!D19=\"\",\"\",Wall!D19)","v":""},{"$f":"IF(Wall!E19=\"\",\"\",Wall!E19)","v":""},{"$f":"IF(Wall!O19=\"\",\"\",Wall!O19)","v":false},{"$f":"IF(Wall!P19=\"\",\"\",Wall!P19)","v":false},"",{"$f":"IF(Wall!D44=\"\",\"\",Wall!D44)","v":""},{"$f":"IF(AI21=\"\",\"\",MAX(AH$10:AH20)+1)","v":""},{"$f":"IF(Room!C64=\"\",\"\",Room!C64)","v":""},{"$f":"IF(Room!D64=\"\",\"\",Room!D64)","v":""},null,null,null,null,11,"",{"$f":"IF(AO21>AH$45,\"\",VLOOKUP(AO21,AH21:AI49,2,FALSE))","v":""}]
[null,null,null,null,null,"","","",null,"","","","","","","",null,null,null,null,null,null,null,null,null,{"$f":"IF(AA22=\"\",\"\",MAX(Z$10:Z21)+1)","v":""},{"$f":"IF(Wall!C20=\"\",\"\",Wall!C20)","v":""},{"$f":"IF(Wall!D20=\"\",\"\",Wall!D20)","v":""},{"$f":"IF(Wall!E20=\"\",\"\",Wall!E20)","v":""},{"$f":"IF(Wall!O20=\"\",\"\",Wall!O20)","v":false},{"$f":"IF(Wall!P20=\"\",\"\",Wall!P20)","v":false},"",{"$f":"IF(Wall!D45=\"\",\"\",Wall!D45)","v":""},{"$f":"IF(AI22=\"\",\"\",MAX(AH$10:AH21)+1)","v":""},{"$f":"IF(Room!C65=\"\",\"\",Room!C65)","v":""},{"$f":"IF(Room!D65=\"\",\"\",Room!D65)","v":""},null,null,null,null,12,"",{"$f":"IF(AO22>AH$45,\"\",VLOOKUP(AO22,AH22:AI49,2,FALSE))","v":""}]
[null,null,null,null,null,"","","",null,"","","","","","","",null,null,null,null,null,null,null,null,null,{"$f":"IF(AA23=\"\",\"\",MAX(Z$10:Z22)+1)","v":""},{"$f":"IF(Wall!C21=\"\",\"\",Wall!C21)","v":""},{"$f":"IF(Wall!D21=\"\",\"\",Wall!D21)","v":""},{"$f":"IF(Wall!E21=\"\",\"\",Wall!E21)","v":""},{"$f":"IF(Wall!O21=\"\",\"\",Wall!O21)","v":false},{"$f":"IF(Wall!P21=\"\",\"\",Wall!P21)","v":false},"",{"$f":"IF(Wall!D46=\"\",\"\",Wall!D46)","v":""},{"$f":"IF(AI23=\"\",\"\",MAX(AH$10:AH22)+1)","v":""},{"$f":"IF(Room!C17=\"\",\"\",Room!C17)","v":""},{"$f":"IF(Room!D17=\"\",\"\",Room!D17)","v":""},null,null,null,null,13,"",{"$f":"IF(AO23>AH$45,\"\",VLOOKUP(AO23,AH23:AI49,2,FALSE))","v":""}]
[null,null,null,null,null,"","","",null,"","","","","","","",null,null,null,null,null,null,null,null,null,{"$f":"IF(AA24=\"\",\"\",MAX(Z$10:Z23)+1)","v":""},{"$f":"IF(Wall!C22=\"\",\"\",Wall!C22)","v":""},{"$f":"IF(Wall!D22=\"\",\"\",Wall!D22)","v":""},{"$f":"IF(Wall!E22=\"\",\"\",Wall!E22)","v":""},{"$f":"IF(Wall!O22=\"\",\"\",Wall!O22)","v":false},{"$f":"IF(Wall!P22=\"\",\"\",Wall!P22)","v":false},"",{"$f":"IF(Wall!D47=\"\",\"\",Wall!D47)","v":""},{"$f":"IF(AI24=\"\",\"\",MAX(AH$10:AH23)+1)","v":""},{"$f":"IF(Room!C18=\"\",\"\",Room!C18)","v":""},{"$f":"IF(Room!D18=\"\",\"\",Room!D18)","v":""},null,null,null,null,14,"",{"$f":"IF(AO24>AH$45,\"\",VLOOKUP(AO24,AH24:AI49,2,FALSE))","v":""}]
[null,null,null,null,null,"","","",null,"","","","","","","",null,null,null,null,null,null,null,null,null,{"$f":"IF(AA25=\"\",\"\",MAX(Z$10:Z24)+1)","v":""},{"$f":"IF(Wall!C23=\"\",\"\",Wall!C23)","v":""},{"$f":"IF(Wall!D23=\"\",\"\",Wall!D23)","v":""},{"$f":"IF(Wall!E23=\"\",\"\",Wall!E23)","v":""},{"$f":"IF(Wall!O23=\"\",\"\",Wall!O23)","v":false},{"$f":"IF(Wall!P23=\"\",\"\",Wall!P23)","v":false},"",{"$f":"IF(Wall!D48=\"\",\"\",Wall!D48)","v":""},{"$f":"IF(AI25=\"\",\"\",MAX(AH$10:AH24)+1)","v":""},{"$f":"IF(Room!C19=\"\",\"\",Room!C19)","v":""},{"$f":"IF(Room!D19=\"\",\"\",Room!D19)","v":""},null,null,null,null,15,"",{"$f":"IF(AO25>AH$45,\"\",VLOOKUP(AO25,AH25:AI49,2,FALSE))","v":""}]
[null,null,null,null,null,"","","",null,"","","","","","","",null,null,null,null,null,null,null,null,null,{"$f":"IF(AA26=\"\",\"\",MAX(Z$10:Z25)+1)","v":""},{"$f":"IF(Wall!C24=\"\",\"\",Wall!C24)","v":""},{"$f":"IF(Wall!D24=\"\",\"\",Wall!D24)","v":""},{"$f":"IF(Wall!E24=\"\",\"\",Wall!E24)","v":""},{"$f":"IF(Wall!O24=\"\",\"\",Wall!O24)","v":false},{"$f":"IF(Wall!P24=\"\",\"\",Wall!P24)","v":false},"",{"$f":"IF(Wall!D49=\"\",\"\",Wall!D49)","v":""},{"$f":"IF(AI26=\"\",\"\",MAX(AH$10:AH25)+1)","v":""},{"$f":"IF(Room!C20=\"\",\"\",Room!C20)","v":""},{"$f":"IF(Room!D20=\"\",\"\",Room!D20)","v":""},null,null,null,null,16,"",{"$f":"IF(AO26>AH$45,\"\",VLOOKUP(AO26,AH26:AI49,2,FALSE))","v":""}]
[null,null,null,null,null,"","","",null,"","","","","","","",null,null,null,null,null,null,null,null,null,{"$f":"IF(AA27=\"\",\"\",MAX(Z$10:Z26)+1)","v":""},{"$f":"IF(Wall!C25=\"\",\"\",Wall!C25)","v":""},{"$f":"IF(Wall!D25=\"\",\"\",Wall!D25)","v":""},{"$f":"IF(Wall!E25=\"\",\"\",Wall!E25)","v":""},{"$f":"IF(Wall!O25=\"\",\"\",Wall!O25)","v":false},{"$f":"IF(Wall!P25=\"\",\"\",Wall!P25)","v":false},"",{"$f":"IF(Wall!D50=\"\",\"\",Wall!D50)","v":""},{"$f":"IF(AI27=\"\",\"\",MAX(AH$10:AH26)+1)","v":""},{"$f":"IF(Room!C21=\"\",\"\",Room!C21)","v":""},{"$f":"IF(Room!D21=\"\",\"\",Room!D21)","v":""},null,null,null,null,17,"",{"$f":"IF(AO27>AH$45,\"\",VLOOKUP(AO27,AH27:AI49,2,FALSE))","v":""}]
[null,null,null,null,null,"","","",null,"","","","","","","",null,null,null,null,null,null,null,null,null,{"$f":"IF(AA28=\"\",\"\",MAX(Z$10:Z27)+1)","v":""},{"$f":"IF(Wall!C26=\"\",\"\",Wall!C26)","v":""},{"$f":"IF(Wall!D26=\"\",\"\",Wall!D26)","v":""},{"$f":"IF(Wall!E26=\"\",\"\",Wall!E26)","v":""},{"$f":"IF(Wall!O26=\"\",\"\",Wall!O26)","v":false},{"$f":"IF(Wall!P26=\"\",\"\",Wall!P26)","v":false},"",{"$f":"IF(Wall!D51=\"\",\"\",Wall!D51)","v":""},{"$f":"IF(AI28=\"\",\"\",MAX(AH$10:AH27)+1)","v":""},{"$f":"IF(Room!C22=\"\",\"\",Room!C22)","v":""},{"$f":"IF(Room!D22=\"\",\"\",Room!D22)","v":""},null,null,null,null,18,"",""]
[null,null,null,null,null,"","","",null,"","","","","","","",null,null,null,null,null,null,null,null,null,{"$f":"IF(AA29=\"\",\"\",MAX(Z$10:Z28)+1)","v":""},{"$f":"IF(Wall!C27=\"\",\"\",Wall!C27)","v":""},{"$f":"IF(Wall!D27=\"\",\"\",Wall!D27)","v":""},{"$f":"IF(Wall!E27=\"\",\"\",Wall!E27)","v":""},{"$f":"IF(Wall!O27=\"\",\"\",Wall!O27)","v":false},{"$f":"IF(Wall!P27=\"\",\"\",Wall!P27)","v":false},"",{"$f":"IF(Wall!D52=\"\",\"\",Wall!D52)","v":""},{"$f":"IF(AI29=\"\",\"\",MAX(AH$10:AH28)+1)","v":""},{"$f":"IF(Room!C23=\"\",\"\",Room!C23)","v":""},{"$f":"IF(Room!D23=\"\",\"\",Room!D23)","v":""},null,null,null,null,19,"",""]
[null,null,null,null,null,"","","",null,"","","","","","","",null,null,null,null,null,null,null,null,null,{"$f":"IF(AA30=\"\",\"\",MAX(Z$10:Z29)+1)","v":""},{"$f":"IF(Wall!C28=\"\",\"\",Wall!C28)","v":""},{"$f":"IF(Wall!D28=\"\",\"\",Wall!D28)","v":""},{"$f":"IF(Wall!E28=\"\",\"\",Wall!E28)","v":""},{"$f":"IF(Wall!O28=\"\",\"\",Wall!O28)","v":false},{"$f":"IF(Wall!P28=\"\",\"\",Wall!P28)","v":false},"",{"$f":"IF(Wall!D53=\"\",\"\",Wall!D53)","v":""},{"$f":"IF(AI30=\"\",\"\",MAX(AH$10:AH29)+1)","v":""},{"$f":"IF(Room!C24=\"\",\"\",Room!C24)","v":""},{"$f":"IF(Room!D24=\"\",\"\",Room!D24)","v":""},null,null,null,null,20,"",""]
[null,null,null,null,null,"","","",null,"","","","","","","",null,null,null,null,null,null,null,null,null,null,null,null,null,null,null,null,null,{"$f":"IF(AI31=\"\",\"\",MAX(AH$10:AH30)+1)","v":""},{"$f":"IF(Room!C25=\"\",\"\",Room!C25)","v":""},{"$f":"IF(Room!D25=\"\",\"\",Room!D25)","v":""},null,null,null,null,21,{"$f":"IF(AO31>Z$45,\"\",VLOOKUP(AO31,Z31:AA49,2,FALSE))","v":""},""]
[null,null,null,null,null,"","","",null,"","","","","","","",null,null,null,null,null,null,null,null,null,null,null,null,null,null,null,null,null,{"$f":"IF(AI32=\"\",\"\",MAX(AH$10:AH31)+1)","v":""},{"$f":"IF(Room!C26=\"\",\"\",Room!C26)","v":""},{"$f":"IF(Room!D26=\"\",\"\",Room!D26)","v":""},null,null,null,null,22,{"$f":"IF(AO32>Z$45,\"\",VLOOKUP(AO32,Z32:AA49,2,FALSE))","v":""},""]
[null,null,null,null,null,"","","",null,"","","","","","","",null,null,null,null,null,null,null,null,null,null,null,null,null,null,null,null,null,{"$f":"IF(AI33=\"\",\"\",MAX(AH$10:AH32)+1)","v":""},{"$f":"IF(Room!C27=\"\",\"\",Room!C27)","v":""},{"$f":"IF(Room!D27=\"\",\"\",Room!D27)","v":""},null,null,null,null,23,{"$f":"IF(AO33>Z$45,\"\",VLOOKUP(AO33,Z33:AA49,2,FALSE))","v":""},""]
[null,null,null,null,null,"","","",null,"","","","","","","",null,null,null,null,null,null,null,null,null,null,null,null,null,null,null,null,null,{"$f":"IF(AI34=\"\",\"\",MAX(AH$10:AH33)+1)","v":""},{"$f":"IF(Room!C28=\"\",\"\",Room!C28)","v":""},{"$f":"IF(Room!D28=\"\",\"\",Room!D28)","v":""},null,null,null,null,24,{"$f":"IF(AO34>Z$45,\"\",VLOOKUP(AO34,Z34:AA49,2,FALSE))","v":""},""]
[null,null,null,null,null,"","","",null,"","","","","","","",null,null,null,null,null,null,null,null,null,null,null,null,null,null,null,null,null,{"$f":"IF(AI35=\"\",\"\",MAX(AH$10:AH34)+1)","v":""},{"$f":"IF(Room!C29=\"\",\"\",Room!C29)","v":""},{"$f":"IF(Room!D29=\"\",\"\",Room!D29)","v":""},null,null,null,null,25,{"$f":"IF(AO35>Z$45,\"\",VLOOKUP(AO35,Z35:AA49,2,FALSE))","v":""},""]
[null,null,null,null,null,"","","",null,"","","","","","","",null,null,null,null,null,null,null,null,null,null,null,null,null,null,null,null,null,{"$f":"IF(AI36=\"\",\"\",MAX(AH$10:AH35)+1)","v":""},{"$f":"IF(Room!C30=\"\",\"\",Room!C30)","v":""},{"$f":"IF(Room!D30=\"\",\"\",Room!D30)","v":""},null,null,null,null,26,{"$f":"IF(AO36>Z$45,\"\",VLOOKUP(AO36,Z36:AA49,2,FALSE))","v":""},""]
[null,null,null,null,null,"","","",null,"","","","","","","",null,null,null,null,null,null,null,null,null,null,null,null,null,null,null,null,null,{"$f":"IF(AI37=\"\",\"\",MAX(AH$10:AH36)+1)","v":""},{"$f":"IF(Room!C31=\"\",\"\",Room!C31)","v":""},{"$f":"IF(Room!D31=\"\",\"\",Room!D31)","v":""},null,null,null,null,27,{"$f":"IF(AO37>Z$45,\"\",VLOOKUP(AO37,Z37:AA49,2,FALSE))","v":""},""]
[null,null,null,null,null,"","","",null,"","","","","","","",null,null,null,null,null,null,null,null,null,null,null,null,null,null,null,null,null,{"$f":"IF(AI38=\"\",\"\",MAX(AH$10:AH37)+1)","v":""},{"$f":"IF(Room!C32=\"\",\"\",Room!C32)","v":""},{"$f":"IF(Room!D32=\"\",\"\",Room!D32)","v":""},null,null,null,null,28,{"$f":"IF(AO38>Z$45,\"\",VLOOKUP(AO38,Z38:AA49,2,FALSE))","v":""},""]
[null,null,null,null,null,"","","",null,"","","","","","","",null,null,null,null,null,null,null,null,null,null,null,null,null,null,null,null,null,{"$f":"IF(AI39=\"\",\"\",MAX(AH$10:AH38)+1)","v":""},{"$f":"IF(Room!C33=\"\",\"\",Room!C33)","v":""},{"$f":"IF(Room!D33=\"\",\"\",Room!D33)","v":""},null,null,null,null,29,{"$f":"IF(AO39>Z$45,\"\",VLOOKUP(AO39,Z39:AA49,2,FALSE))","v":""},""]
[null,null,null,null,null,"","","",null,"","","","","","","",null,null,null,null,null,null,null,null,null,null,null,null,null,null,null,null,null,{"$f":"IF(AI40=\"\",\"\",MAX(AH$10:AH39)+1)","v":""},{"$f":"IF(Room!C34=\"\",\"\",Room!C34)","v":""},{"$f":"IF(Room!D34=\"\",\"\",Room!D34)","v":""},null,null,null,null,30,{"$f":"IF(AO40>Z$45,\"\",VLOOKUP(AO40,Z40:AA50,2,FALSE))","v":""},""]
[null,null,null,null,null,"","","",null,"","","","","","","",null,null,null,null,null,null,null,null,null,null,null,null,null,null,null,null,null,{"$f":"IF(AI41=\"\",\"\",MAX(AH$10:AH40)+1)","v":""},{"$f":"IF(Room!C35=\"\",\"\",Room!C35)","v":""},{"$f":"IF(Room!D35=\"\",\"\",Room!D35)","v":""},null,null,null,null,31,{"$f":"IF(AO41>Z$45,\"\",VLOOKUP(AO41,Z41:AA51,2,FALSE))","v":""},""]
[null,null,null,null,null,null,null,null,null,null,null,null,null,null,null,null,null,null,null,null,null,null,null,null,null,null,null,null,null,null,null,null,null,{"$f":"IF(AI42=\"\",\"\",MAX(AH$10:AH41)+1)","v":""},{"$f":"IF(Room!C36=\"\",\"\",Room!C36)","v":""},{"$f":"IF(Room!D36=\"\",\"\",Room!D36)","v":""},null,null,null,null,32,{"$f":"IF(AO42>Z$45,\"\",VLOOKUP(AO42,Z42:AA52,2,FALSE))","v":""},""]
[]
[]
[null,null,null,null,null,null,null,null,null,null,null,null,null,null,null,null,null,null,null,null,null,null,null,null,"Max",{"$f":"MAX(Z11:Z30)","v":0},null,null,null,null,null,null,"Max",{"$f":"MAX(AH11:AH42)","v":0}]

{"sheet":"T13","index":19,"n_rows":45,"n_cols":43,"rows_kept":45,"cut":false,"hidden":false,"merged":[[3,1,3,7],[7,1,7,7]]}
[]
[]
[]
[null,{"$f":"Langage!A54","v":"Perte thermique par transmission"}]
[]
[null,{"$f":"IF(S10=\"\",\"\",S10)","v":""},{"$f":"IF(S11=\"\",\"\",S11)","v":""},"°C",null,null,"FT,i   W",{"$f":"IF(C6=\"\",\"\",SUM(H12:H41))","v":""},null,null,null,null,null,"FT,i   W",null,{"$f":"IF(C6=\"\",\"\",SUM(P12:P40))","v":""},null,"Ceci reprend les valeurs dans les les autres onglets de façon à pouvoir les utiliser dans le présent onglet.",null,null,null,null,null,null,null,null,null,null,null,null,null,null,null,null,null,null,null,null,null,null,"Ceci recrée des listes sans vides pour les menus déroulants"]
[]
[null,null,null,null,null,null,null,null,null,null,null,null,null,null,null,null,null,"N° onglet",13,"Valeur à changer dans toutes les feuilles T",null,null,null,null,{"$f":"16+S8","v":29}]
[]
[null,null,null,"Ak","hm,k","Uk","DT","FT,i,k",null,"Tout","Tin","fqann","fGW","Chff sol","Chff mur","FT,i,k",null,"Espace",{"$f":"IF(INDIRECT(\"Room!C\"&Y8)=\"\",\"\",CONCATENATE(INDIRECT(\"Room!B\"&Y8),\". \",INDIRECT(\"Room!C\"&Y8)))","v":""},null,null,null,null,null,null,null,"Parois","U","DUTB","Chff sol","Chff mur","Utot",null,null,"Espaces",null,null,null,null,null,null,"Parois","Espace"]
[null,{"$f":"Langage!A20","v":"Parois"},{"$f":"Langage!A24","v":"Espace"},"m²","m","W/m².K","°C","W",null,null,null,null,null,null,"W",null,null,"qint   °C",{"$f":"IF(INDIRECT(\"Room!D\"&Y8)=\"\",\"\",INDIRECT(\"Room!D\"&Y8))","v":""},null,null,null,null,null,null,{"$f":"IF(AA11=\"\",\"\",MAX(Z$10:Z10)+1)","v":""},{"$f":"IF(Wall!C9=\"\",\"\",Wall!C9)","v":""},{"$f":"IF(Wall!D9=\"\",\"\",Wall!D9)","v":""},{"$f":"IF(Wall!E9=\"\",\"\",Wall!E9)","v":""},{"$f":"IF(Wall!O9=\"\",\"\",Wall!O9)","v":false},{"$f":"IF(Wall!P9=\"\",\"\",Wall!P9)","v":false},{"$f":"IF(AB11=\"\",\"\",(IF(AC11=\"\",AB11,AB11+AC11)))","v":""},{"$f":"IF(Wall!D34=\"\",\"\",Wall!D34)","v":""},{"$f":"IF(AI11=\"\",\"\",MAX(AH$10:AH10)+1)","v":""},{"$f":"IF(Room!C42=\"\",\"\",Room!C42)","v":""},{"$f":"IF(Room!D42=\"\",\"\",Room!D42)","v":""},null,null,null,null,1,{"$f":"IF(AO11>Z$45,\"\",VLOOKUP(AO11,Z11:AA30,2,FALSE))","v":""},{"$f":"IF(AO11>AH$45,\"\",VLOOKUP(AO11,AH11:AI42,2,FALSE))","v":""}]
[null,null,null,null,null,{"$f":"IF(B12=\"\",\"\",VLOOKUP(B12,AA$11:AF$30,6,FALSE))","v":""},{"$f":"IF(OR(K12=\"\",J12=\"\"),\"\",K12-J12)","v":""},{"$f":"IF(P12=\"\",\"\",P12)","v":""},null,{"$f":"IF(C12=\"\",\"\",VLOOKUP(C12,AI$11:AJ$42,2,FALSE))","v":""},{"$f":"IF(B12=\"\",\"\",IF(S$15<4,C$6,IF(E12=\"\",\"\",C$6+S$14*(E12-1))))","v":""},{"$f":"IF(C12=\"\",\"\",IF(VLOOKUP(C12,AI$11:AL$42,3,FALSE)=\"\",\"\",VLOOKUP(C12,AI$11:AL$42,3,FALSE)))","v":""},{"$f":"IF(C12=\"\",\"\",IF(VLOOKUP(C12,AI$11:AL$42,4,FALSE)=\"\",\"\",VLOOKUP(C12,AI$11:AL$42,4,FALSE)))","v":""},{"$f":"IF(B12=\"\",\"\",VLOOKUP(B12,AA$11:AF$30,4,FALSE))","v":""},{"$f":"IF(B12=\"\",\"\",VLOOKUP(B12,AA$11:AF$30,5,FALSE))","v":""},{"$f":"IF(OR(N12=TRUE,O12=TRUE),\"///\",IF(OR(D12=\"\",F12=\"\",G12=\"\"),\"\",IF(OR(L12=\"\",M12=\"\"),D12*F12*G12,D12*F12*G12*L12*M12)))","v":""},null,"qe   °C",{"$f":"IF(Room!F8=\"\",\"\",Room!F8)","v":""},null,null,null,null,null,null,{"$f":"IF(AA12=\"\",\"\",MAX(Z$10:Z11)+1)","v":""},{"$f":"IF(Wall!C10=\"\",\"\",Wall!C10)","v":""},{"$f":"IF(Wall!D10=\"\",\"\",Wall!D10)","v":""},{"$f":"IF(Wall!E10=\"\",\"\",Wall!E10)","v":""},{"$f":"IF(Wall!O10=\"\",\"\",Wall!O10)","v":false},{"$f":"IF(Wall!P10=\"\",\"\",Wall!P10)","v":false},{"$f":"IF(AB12=\"\",\"\",(IF(AC12=\"\",AB12,AB12+AC12)))","v":""},{"$f":"IF(Wall!D35=\"\",\"\",Wall!D35)","v":""},{"$f":"IF(AI12=\"\",\"\",MAX(AH$10:AH11)+1)","v":""},{"$f":"IF(Room!C47=\"\",\"\",Room!C47)","v":""},{"$f":"IF(Room!D47=\"\",\"\",Room!D47)","v":""},{"$f":"IF(Room!E47=\"\",\"\",Room!E47)","v":1.45},{"$f":"IF(Room!F47=\"\",\"\",Room!F47)","v":1.1499999999999999},null,null,2,{"$f":"IF(AO12>Z$45,\"\",VLOOKUP(AO12,Z12:AA31,2,FALSE))","v":""},{"$f":"IF(AO12>AH$45,\"\",VLOOKUP(AO12,AH12:AI43,2,FALSE))","v":""}]
[null,null,null,null,null,{"$f":"IF(B13=\"\",\"\",VLOOKUP(B13,AA$11:AF$30,6,FALSE))","v":""},{"$f":"IF(OR(K13=\"\",J13=\"\"),\"\",K13-J13)","v":""},{"$f":"IF(P13=\"\",\"\",P13)","v":""},null,"",{"$f":"IF(B13=\"\",\"\",IF(S$15<4,C$6,IF(E13=\"\",\"\",C$6+S$14*(E13-1))))","v":""},"","","",{"$f":"IF(B13=\"\",\"\",VLOOKUP(B13,AA$11:AF$30,5,FALSE))","v":""},{"$f":"IF(OR(N13=TRUE,O13=TRUE),\"///\",IF(OR(D13=\"\",F13=\"\",G13=\"\"),\"\",IF(OR(L13=\"\",M13=\"\"),D13*F13*G13,D13*F13*G13*L13*M13)))","v":""},null,"qm,e   °C",{"$f":"IF(Room!F9=\"\",\"\",Room!F9)","v":""},null,null,null,null,null,null,{"$f":"IF(AA13=\"\",\"\",MAX(Z$10:Z12)+1)","v":""},{"$f":"IF(Wall!C11=\"\",\"\",Wall!C11)","v":""},{"$f":"IF(Wall!D11=\"\",\"\",Wall!D11)","v":""},{"$f":"IF(Wall!E11=\"\",\"\",Wall!E11)","v":""},{"$f":"IF(Wall!O11=\"\",\"\",Wall!O11)","v":false},{"$f":"IF(Wall!P11=\"\",\"\",Wall!P11)","v":false},"",{"$f":"IF(Wall!D36=\"\",\"\",Wall!D36)","v":""},{"$f":"IF(AI13=\"\",\"\",MAX(AH$10:AH12)+1)","v":""},{"$f":"IF(Room!C52=\"\",\"\",Room!C52)","v":""},{"$f":"IF(Room!D52=\"\",\"\",Room!D52)","v":""},null,null,null,null,3,"",""]
[null,null,null,null,null,"","","",null,"","","","","","","",null,"Gq,air,i  °C/m",{"$f":"IF(INDIRECT(\"Room!T\"&Y8)=\"\",\"\",INDIRECT(\"Room!T\"&Y8))","v":""},null,null,null,null,null,null,{"$f":"IF(AA14=\"\",\"\",MAX(Z$10:Z13)+1)","v":""},{"$f":"IF(Wall!C12=\"\",\"\",Wall!C12)","v":""},{"$f":"IF(Wall!D12=\"\",\"\",Wall!D12)","v":""},{"$f":"IF(Wall!E12=\"\",\"\",Wall!E12)","v":""},{"$f":"IF(Wall!O12=\"\",\"\",Wall!O12)","v":false},{"$f":"IF(Wall!P12=\"\",\"\",Wall!P12)","v":false},"",{"$f":"IF(Wall!D37=\"\",\"\",Wall!D37)","v":""},{"$f":"IF(AI14=\"\",\"\",MAX(AH$10:AH13)+1)","v":""},{"$f":"IF(Room!C53=\"\",\"\",Room!C53)","v":""},{"$f":"IF(Room!D53=\"\",\"\",Room!D53)","v":""},null,null,null,null,4,"",""]
[null,null,null,null,null,"","","",null,"","","","","","","",null,"hi   m",{"$f":"IF(INDIRECT(\"Room!Q\"&Y8)=\"\",\"\",INDIRECT(\"Room!Q\"&Y8))","v":""},null,null,null,null,null,null,{"$f":"IF(AA15=\"\",\"\",MAX(Z$10:Z14)+1)","v":""},{"$f":"IF(Wall!C13=\"\",\"\",Wall!C13)","v":""},{"$f":"IF(Wall!D13=\"\",\"\",Wall!D13)","v":""},{"$f":"IF(Wall!E13=\"\",\"\",Wall!E13)","v":""},{"$f":"IF(Wall!O13=\"\",\"\",Wall!O13)","v":false},{"$f":"IF(Wall!P13=\"\",\"\",Wall!P13)","v":false},"",{"$f":"IF(Wall!D38=\"\",\"\",Wall!D38)","v":""},{"$f":"IF(AI15=\"\",\"\",MAX(AH$10:AH14)+1)","v":""},{"$f":"IF(Room!C54=\"\",\"\",Room!C54)","v":""},{"$f":"IF(Room!D54=\"\",\"\",Room!D54)","v":""},null,null,null,null,5,"",""]
[null,null,null,null,null,"","","",null,"","","","","","","",null,null,null,null,null,null,null,null,null,{"$f":"IF(AA16=\"\",\"\",MAX(Z$10:Z15)+1)","v":""},{"$f":"IF(Wall!C14=\"\",\"\",Wall!C14)","v":""},{"$f":"IF(Wall!D14=\"\",\"\",Wall!D14)","v":""},{"$f":"IF(Wall!E14=\"\",\"\",Wall!E14)","v":""},{"$f":"IF(Wall!O14=\"\",\"\",Wall!O14)","v":false},{"$f":"IF(Wall!P14=\"\",\"\",Wall!P14)","v":false},"",{"$f":"IF(Wall!D39=\"\",\"\",Wall!D39)","v":""},{"$f":"IF(AI16=\"\",\"\",MAX(AH$10:AH15)+1)","v":""},{"$f":"IF(Room!C55=\"\",\"\",Room!C55)","v":""},{"$f":"IF(Room!D55=\"\",\"\",Room!D55)","v":""},null,null,null,null,6,"",""]
[null,null,null,null,null,"","","",null,"","","","","","","",null,null,null,null,null,null,null,null,null,{"$f":"IF(AA17=\"\",\"\",MAX(Z$10:Z16)+1)","v":""},{"$f":"IF(Wall!C15=\"\",\"\",Wall!C15)","v":""},{"$f":"IF(Wall!D15=\"\",\"\",Wall!D15)","v":""},{"$f":"IF(Wall!E15=\"\",\"\",Wall!E15)","v":""},{"$f":"IF(Wall!O15=\"\",\"\",Wall!O15)","v":false},{"$f":"IF(Wall!P15=\"\",\"\",Wall!P15)","v":false},"",{"$f":"IF(Wall!D40=\"\",\"\",Wall!D40)","v":""},{"$f":"IF(AI17=\"\",\"\",MAX(AH$10:AH16)+1)","v":""},{"$f":"IF(Room!C56=\"\",\"\",Room!C56)","v":""},{"$f":"IF(Room!D56=\"\",\"\",Room!D56)","v":""},null,null,null,null,7,"",""]
[null,null,null,null,null,"","","",null,"","","","","","","",null,null,null,null,null,null,null,null,null,{"$f":"IF(AA18=\"\",\"\",MAX(Z$10:Z17)+1)","v":""},{"$f":"IF(Wall!C16=\"\",\"\",Wall!C16)","v":""},{"$f":"IF(Wall!D16=\"\",\"\",Wall!D16)","v":""},{"$f":"IF(Wall!E16=\"\",\"\",Wall!E16)","v":""},{"$f":"IF(Wall!O16=\"\",\"\",Wall!O16)","v":false},{"$f":"IF(Wall!P16=\"\",\"\",Wall!P16)","v":false},"",{"$f":"IF(Wall!D41=\"\",\"\",Wall!D41)","v":""},{"$f":"IF(AI18=\"\",\"\",MAX(AH$10:AH17)+1)","v":""},{"$f":"IF(Room!C61=\"\",\"\",Room!C61)","v":""},{"$f":"IF(Room!D61=\"\",\"\",Room!D61)","v":""},null,null,null,null,8,"",""]
[null,null,null,null,null,"","","",null,"","","","","","","",null,null,null,null,null,null,null,null,null,{"$f":"IF(AA19=\"\",\"\",MAX(Z$10:Z18)+1)","v":""},{"$f":"IF(Wall!C17=\"\",\"\",Wall!C17)","v":""},{"$f":"IF(Wall!D17=\"\",\"\",Wall!D17)","v":""},{"$f":"IF(Wall!E17=\"\",\"\",Wall!E17)","v":""},{"$f":"IF(Wall!O17=\"\",\"\",Wall!O17)","v":false},{"$f":"IF(Wall!P17=\"\",\"\",Wall!P17)","v":false},"",{"$f":"IF(Wall!D42=\"\",\"\",Wall!D42)","v":""},{"$f":"IF(AI19=\"\",\"\",MAX(AH$10:AH18)+1)","v":""},{"$f":"IF(Room!C62=\"\",\"\",Room!C62)","v":""},{"$f":"IF(Room!D62=\"\",\"\",Room!D62)","v":""},null,null,null,null,9,"",{"$f":"IF(AO19>AH$45,\"\",VLOOKUP(AO19,AH19:AI49,2,FALSE))","v":""}]
[null,null,null,null,null,"","","",null,"","","","","","","",null,null,null,null,null,null,null,null,null,{"$f":"IF(AA20=\"\",\"\",MAX(Z$10:Z19)+1)","v":""},{"$f":"IF(Wall!C18=\"\",\"\",Wall!C18)","v":""},{"$f":"IF(Wall!D18=\"\",\"\",Wall!D18)","v":""},{"$f":"IF(Wall!E18=\"\",\"\",Wall!E18)","v":""},{"$f":"IF(Wall!O18=\"\",\"\",Wall!O18)","v":false},{"$f":"IF(Wall!P18=\"\",\"\",Wall!P18)","v":false},"",{"$f":"IF(Wall!D43=\"\",\"\",Wall!D43)","v":""},{"$f":"IF(AI20=\"\",\"\",MAX(AH$10:AH19)+1)","v":""},{"$f":"IF(Room!C63=\"\",\"\",Room!C63)","v":""},{"$f":"IF(Room!D63=\"\",\"\",Room!D63)","v":""},null,null,null,null,10,"",{"$f":"IF(AO20>AH$45,\"\",VLOOKUP(AO20,AH20:AI49,2,FALSE))","v":""}]
[null,null,null,null,null,"","","",null,"","","","","","","",null,null,null,null,null,null,null,null,null,{"$f":"IF(AA21=\"\",\"\",MAX(Z$10:Z20)+1)","v":""},{"$f":"IF(Wall!C19=\"\",\"\",Wall!C19)","v":""},{"$f":"IF(Wall!D19=\"\",\"\",Wall!D19)","v":""},{"$f":"IF(Wall!E19=\"\",\"\",Wall!E19)","v":""},{"$f":"IF(Wall!O19=\"\",\"\",Wall!O19)","v":false},{"$f":"IF(Wall!P19=\"\",\"\",Wall!P19)","v":false},"",{"$f":"IF(Wall!D44=\"\",\"\",Wall!D44)","v":""},{"$f":"IF(AI21=\"\",\"\",MAX(AH$10:AH20)+1)","v":""},{"$f":"IF(Room!C64=\"\",\"\",Room!C64)","v":""},{"$f":"IF(Room!D64=\"\",\"\",Room!D64)","v":""},null,null,null,null,11,"",{"$f":"IF(AO21>AH$45,\"\",VLOOKUP(AO21,AH21:AI49,2,FALSE))","v":""}]
[null,null,null,null,null,"","","",null,"","","","","","","",null,null,null,null,null,null,null,null,null,{"$f":"IF(AA22=\"\",\"\",MAX(Z$10:Z21)+1)","v":""},{"$f":"IF(Wall!C20=\"\",\"\",Wall!C20)","v":""},{"$f":"IF(Wall!D20=\"\",\"\",Wall!D20)","v":""},{"$f":"IF(Wall!E20=\"\",\"\",Wall!E20)","v":""},{"$f":"IF(Wall!O20=\"\",\"\",Wall!O20)","v":false},{"$f":"IF(Wall!P20=\"\",\"\",Wall!P20)","v":false},"",{"$f":"IF(Wall!D45=\"\",\"\",Wall!D45)","v":""},{"$f":"IF(AI22=\"\",\"\",MAX(AH$10:AH21)+1)","v":""},{"$f":"IF(Room!C65=\"\",\"\",Room!C65)","v":""},{"$f":"IF(Room!D65=\"\",\"\",Room!D65)","v":""},null,null,null,null,12,"",{"$f":"IF(AO22>AH$45,\"\",VLOOKUP(AO22,AH22:AI49,2,FALSE))","v":""}]
[null,null,null,null,null,"","","",null,"","","","","","","",null,null,null,null,null,null,null,null,null,{"$f":"IF(AA23=\"\",\"\",MAX(Z$10:Z22)+1)","v":""},{"$f":"IF(Wall!C21=\"\",\"\",Wall!C21)","v":""},{"$f":"IF(Wall!D21=\"\",\"\",Wall!D21)","v":""},{"$f":"IF(Wall!E21=\"\",\"\",Wall!E21)","v":""},{"$f":"IF(Wall!O21=\"\",\"\",Wall!O21)","v":false},{"$f":"IF(Wall!P21=\"\",\"\",Wall!P21)","v":false},"",{"$f":"IF(Wall!D46=\"\",\"\",Wall!D46)","v":""},{"$f":"IF(AI23=\"\",\"\",MAX(AH$10:AH22)+1)","v":""},{"$f":"IF(Room!C17=\"\",\"\",Room!C17)","v":""},{"$f":"IF(Room!D17=\"\",\"\",Room!D17)","v":""},null,null,null,null,13,"",{"$f":"IF(AO23>AH$45,\"\",VLOOKUP(AO23,AH23:AI49,2,FALSE))","v":""}]
[null,null,null,null,null,"","","",null,"","","","","","","",null,null,null,null,null,null,null,null,null,{"$f":"IF(AA24=\"\",\"\",MAX(Z$10:Z23)+1)","v":""},{"$f":"IF(Wall!C22=\"\",\"\",Wall!C22)","v":""},{"$f":"IF(Wall!D22=\"\",\"\",Wall!D22)","v":""},{"$f":"IF(Wall!E22=\"\",\"\",Wall!E22)","v":""},{"$f":"IF(Wall!O22=\"\",\"\",Wall!O22)","v":false},{"$f":"IF(Wall!P22=\"\",\"\",Wall!P22)","v":false},"",{"$f":"IF(Wall!D47=\"\",\"\",Wall!D47)","v":""},{"$f":"IF(AI24=\"\",\"\",MAX(AH$10:AH23)+1)","v":""},{"$f":"IF(Room!C18=\"\",\"\",Room!C18)","v":""},{"$f":"IF(Room!D18=\"\",\"\",Room!D18)","v":""},null,null,null,null,14,"",{"$f":"IF(AO24>AH$45,\"\",VLOOKUP(AO24,AH24:AI49,2,FALSE))","v":""}]
[null,null,null,null,null,"","","",null,"","","","","","","",null,null,null,null,null,null,null,null,null,{"$f":"IF(AA25=\"\",\"\",MAX(Z$10:Z24)+1)","v":""},{"$f":"IF(Wall!C23=\"\",\"\",Wall!C23)","v":""},{"$f":"IF(Wall!D23=\"\",\"\",Wall!D23)","v":""},{"$f":"IF(Wall!E23=\"\",\"\",Wall!E23)","v":""},{"$f":"IF(Wall!O23=\"\",\"\",Wall!O23)","v":false},{"$f":"IF(Wall!P23=\"\",\"\",Wall!P23)","v":false},"",{"$f":"IF(Wall!D48=\"\",\"\",Wall!D48)","v":""},{"$f":"IF(AI25=\"\",\"\",MAX(AH$10:AH24)+1)","v":""},{"$f":"IF(Room!C19=\"\",\"\",Room!C19)","v":""},{"$f":"IF(Room!D19=\"\",\"\",Room!D19)","v":""},null,null,null,null,15,"",{"$f":"IF(AO25>AH$45,\"\",VLOOKUP(AO25,AH25:AI49,2,FALSE))","v":""}]
[null,null,null,null,null,"","","",null,"","","","","","","",null,null,null,null,null,null,null,null,null,{"$f":"IF(AA26=\"\",\"\",MAX(Z$10:Z25)+1)","v":""},{"$f":"IF(Wall!C24=\"\",\"\",Wall!C24)","v":""},{"$f":"IF(Wall!D24=\"\",\"\",Wall!D24)","v":""},{"$f":"IF(Wall!E24=\"\",\"\",Wall!E24)","v":""},{"$f":"IF(Wall!O24=\"\",\"\",Wall!O24)","v":false},{"$f":"IF(Wall!P24=\"\",\"\",Wall!P24)","v":false},"",{"$f":"IF(Wall!D49=\"\",\"\",Wall!D49)","v":""},{"$f":"IF(AI26=\"\",\"\",MAX(AH$10:AH25)+1)","v":""},{"$f":"IF(Room!C20=\"\",\"\",Room!C20)","v":""},{"$f":"IF(Room!D20=\"\",\"\",Room!D20)","v":""},null,null,null,null,16,"",{"$f":"IF(AO26>AH$45,\"\",VLOOKUP(AO26,AH26:AI49,2,FALSE))","v":""}]
[null,null,null,null,null,"","","",null,"","","","","","","",null,null,null,null,null,null,null,null,null,{"$f":"IF(AA27=\"\",\"\",MAX(Z$10:Z26)+1)","v":""},{"$f":"IF(Wall!C25=\"\",\"\",Wall!C25)","v":""},{"$f":"IF(Wall!D25=\"\",\"\",Wall!D25)","v":""},{"$f":"IF(Wall!E25=\"\",\"\",Wall!E25)","v":""},{"$f":"IF(Wall!O25=\"\",\"\",Wall!O25)","v":false},{"$f":"IF(Wall!P25=\"\",\"\",Wall!P25)","v":false},"",{"$f":"IF(Wall!D50=\"\",\"\",Wall!D50)","v":""},{"$f":"IF(AI27=\"\",\"\",MAX(AH$10:AH26)+1)","v":""},{"$f":"IF(Room!C21=\"\",\"\",Room!C21)","v":""},{"$f":"IF(Room!D21=\"\",\"\",Room!D21)","v":""},null,null,null,null,17,"",{"$f":"IF(AO27>AH$45,\"\",VLOOKUP(AO27,AH27:AI49,2,FALSE))","v":""}]
[null,null,null,null,null,"","","",null,"","","","","","","",null,null,null,null,null,null,null,null,null,{"$f":"IF(AA28=\"\",\"\",MAX(Z$10:Z27)+1)","v":""},{"$f":"IF(Wall!C26=\"\",\"\",Wall!C26)","v":""},{"$f":"IF(Wall!D26=\"\",\"\",Wall!D26)","v":""},{"$f":"IF(Wall!E26=\"\",\"\",Wall!E26)","v":""},{"$f":"IF(Wall!O26=\"\",\"\",Wall!O26)","v":false},{"$f":"IF(Wall!P26=\"\",\"\",Wall!P26)","v":false},"",{"$f":"IF(Wall!D51=\"\",\"\",Wall!D51)","v":""},{"$f":"IF(AI28=\"\",\"\",MAX(AH$10:AH27)+1)","v":""},{"$f":"IF(Room!C22=\"\",\"\",Room!C22)","v":""},{"$f":"IF(Room!D22=\"\",\"\",Room!D22)","v":""},null,null,null,null,18,"",""]
[null,null,null,null,null,"","","",null,"","","","","","","",null,null,null,null,null,null,null,null,null,{"$f":"IF(AA29=\"\",\"\",MAX(Z$10:Z28)+1)","v":""},{"$f":"IF(Wall!C27=\"\",\"\",Wall!C27)","v":""},{"$f":"IF(Wall!D27=\"\",\"\",Wall!D27)","v":""},{"$f":"IF(Wall!E27=\"\",\"\",Wall!E27)","v":""},{"$f":"IF(Wall!O27=\"\",\"\",Wall!O27)","v":false},{"$f":"IF(Wall!P27=\"\",\"\",Wall!P27)","v":false},"",{"$f":"IF(Wall!D52=\"\",\"\",Wall!D52)","v":""},{"$f":"IF(AI29=\"\",\"\",MAX(AH$10:AH28)+1)","v":""},{"$f":"IF(Room!C23=\"\",\"\",Room!C23)","v":""},{"$f":"IF(Room!D23=\"\",\"\",Room!D23)","v":""},null,null,null,null,19,"",""]
[null,null,null,null,null,"","","",null,"","","","","","","",null,null,null,null,null,null,null,null,null,{"$f":"IF(AA30=\"\",\"\",MAX(Z$10:Z29)+1)","v":""},{"$f":"IF(Wall!C28=\"\",\"\",Wall!C28)","v":""},{"$f":"IF(Wall!D28=\"\",\"\",Wall!D28)","v":""},{"$f":"IF(Wall!E28=\"\",\"\",Wall!E28)","v":""},{"$f":"IF(Wall!O28=\"\",\"\",Wall!O28)","v":false},{"$f":"IF(Wall!P28=\"\",\"\",Wall!P28)","v":false},"",{"$f":"IF(Wall!D53=\"\",\"\",Wall!D53)","v":""},{"$f":"IF(AI30=\"\",\"\",MAX(AH$10:AH29)+1)","v":""},{"$f":"IF(Room!C24=\"\",\"\",Room!C24)","v":""},{"$f":"IF(Room!D24=\"\",\"\",Room!D24)","v":""},null,null,null,null,20,"",""]
[null,null,null,null,null,"","","",null,"","","","","","","",null,null,null,null,null,null,null,null,null,null,null,null,null,null,null,null,null,{"$f":"IF(AI31=\"\",\"\",MAX(AH$10:AH30)+1)","v":""},{"$f":"IF(Room!C25=\"\",\"\",Room!C25)","v":""},{"$f":"IF(Room!D25=\"\",\"\",Room!D25)","v":""},null,null,null,null,21,{"$f":"IF(AO31>Z$45,\"\",VLOOKUP(AO31,Z31:AA49,2,FALSE))","v":""},""]
[null,null,null,null,null,"","","",null,"","","","","","","",null,null,null,null,null,null,null,null,null,null,null,null,null,null,null,null,null,{"$f":"IF(AI32=\"\",\"\",MAX(AH$10:AH31)+1)","v":""},{"$f":"IF(Room!C26=\"\",\"\",Room!C26)","v":""},{"$f":"IF(Room!D26=\"\",\"\",Room!D26)","v":""},null,null,null,null,22,{"$f":"IF(AO32>Z$45,\"\",VLOOKUP(AO32,Z32:AA49,2,FALSE))","v":""},""]
[null,null,null,null,null,"","","",null,"","","","","","","",null,null,null,null,null,null,null,null,null,null,null,null,null,null,null,null,null,{"$f":"IF(AI33=\"\",\"\",MAX(AH$10:AH32)+1)","v":""},{"$f":"IF(Room!C27=\"\",\"\",Room!C27)","v":""},{"$f":"IF(Room!D27=\"\",\"\",Room!D27)","v":""},null,null,null,null,23,{"$f":"IF(AO33>Z$45,\"\",VLOOKUP(AO33,Z33:AA49,2,FALSE))","v":""},""]
[null,null,null,null,null,"","","",null,"","","","","","","",null,null,null,null,null,null,null,null,null,null,null,null,null,null,null,null,null,{"$f":"IF(AI34=\"\",\"\",MAX(AH$10:AH33)+1)","v":""},{"$f":"IF(Room!C28=\"\",\"\",Room!C28)","v":""},{"$f":"IF(Room!D28=\"\",\"\",Room!D28)","v":""},null,null,null,null,24,{"$f":"IF(AO34>Z$45,\"\",VLOOKUP(AO34,Z34:AA49,2,FALSE))","v":""},""]
[null,null,null,null,null,"","","",null,"","","","","","","",null,null,null,null,null,null,null,null,null,null,null,null,null,null,null,null,null,{"$f":"IF(AI35=\"\",\"\",MAX(AH$10:AH34)+1)","v":""},{"$f":"IF(Room!C29=\"\",\"\",Room!C29)","v":""},{"$f":"IF(Room!D29=\"\",\"\",Room!D29)","v":""},null,null,null,null,25,{"$f":"IF(AO35>Z$45,\"\",VLOOKUP(AO35,Z35:AA49,2,FALSE))","v":""},""]
[null,null,null,null,null,"","","",null,"","","","","","","",null,null,null,null,null,null,null,null,null,null,null,null,null,null,null,null,null,{"$f":"IF(AI36=\"\",\"\",MAX(AH$10:AH35)+1)","v":""},{"$f":"IF(Room!C30=\"\",\"\",Room!C30)","v":""},{"$f":"IF(Room!D30=\"\",\"\",Room!D30)","v":""},null,null,null,null,26,{"$f":"IF(AO36>Z$45,\"\",VLOOKUP(AO36,Z36:AA49,2,FALSE))","v":""},""]
[null,null,null,null,null,"","","",null,"","","","","","","",null,null,null,null,null,null,null,null,null,null,null,null,null,null,null,null,null,{"$f":"IF(AI37=\"\",\"\",MAX(AH$10:AH36)+1)","v":""},{"$f":"IF(Room!C31=\"\",\"\",Room!C31)","v":""},{"$f":"IF(Room!D31=\"\",\"\",Room!D31)","v":""},null,null,null,null,27,{"$f":"IF(AO37>Z$45,\"\",VLOOKUP(AO37,Z37:AA49,2,FALSE))","v":""},""]
[null,null,null,null,null,"","","",null,"","","","","","","",null,null,null,null,null,null,null,null,null,null,null,null,null,null,null,null,null,{"$f":"IF(AI38=\"\",\"\",MAX(AH$10:AH37)+1)","v":""},{"$f":"IF(Room!C32=\"\",\"\",Room!C32)","v":""},{"$f":"IF(Room!D32=\"\",\"\",Room!D32)","v":""},null,null,null,null,28,{"$f":"IF(AO38>Z$45,\"\",VLOOKUP(AO38,Z38:AA49,2,FALSE))","v":""},""]
[null,null,null,null,null,"","","",null,"","","","","","","",null,null,null,null,null,null,null,null,null,null,null,null,null,null,null,null,null,{"$f":"IF(AI39=\"\",\"\",MAX(AH$10:AH38)+1)","v":""},{"$f":"IF(Room!C33=\"\",\"\",Room!C33)","v":""},{"$f":"IF(Room!D33=\"\",\"\",Room!D33)","v":""},null,null,null,null,29,{"$f":"IF(AO39>Z$45,\"\",VLOOKUP(AO39,Z39:AA49,2,FALSE))","v":""},""]
[null,null,null,null,null,"","","",null,"","","","","","","",null,null,null,null,null,null,null,null,null,null,null,null,null,null,null,null,null,{"$f":"IF(AI40=\"\",\"\",MAX(AH$10:AH39)+1)","v":""},{"$f":"IF(Room!C34=\"\",\"\",Room!C34)","v":""},{"$f":"IF(Room!D34=\"\",\"\",Room!D34)","v":""},null,null,null,null,30,{"$f":"IF(AO40>Z$45,\"\",VLOOKUP(AO40,Z40:AA50,2,FALSE))","v":""},""]
[null,null,null,null,null,"","","",null,"","","","","","","",null,null,null,null,null,null,null,null,null,null,null,null,null,null,null,null,null,{"$f":"IF(AI41=\"\",\"\",MAX(AH$10:AH40)+1)","v":""},{"$f":"IF(Room!C35=\"\",\"\",Room!C35)","v":""},{"$f":"IF(Room!D35=\"\",\"\",Room!D35)","v":""},null,null,null,null,31,{"$f":"IF(AO41>Z$45,\"\",VLOOKUP(AO41,Z41:AA51,2,FALSE))","v":""},""]
[null,null,null,null,null,null,null,null,null,null,null,null,null,null,null,null,null,null,null,null,null,null,null,null,null,null,null,null,null,null,null,null,null,{"$f":"IF(AI42=\"\",\"\",MAX(AH$10:AH41)+1)","v":""},{"$f":"IF(Room!C36=\"\",\"\",Room!C36)","v":""},{"$f":"IF(Room!D36=\"\",\"\",Room!D36)","v":""},null,null,null,null,32,{"$f":"IF(AO42>Z$45,\"\",VLOOKUP(AO42,Z42:AA52,2,FALSE))","v":""},""]
[]
[]
[null,null,null,null,null,null,null,null,null,null,null,null,null,null,null,null,null,null,null,null,null,null,null,null,"Max",{"$f":"MAX(Z11:Z30)","v":0},null,null,null,null,null,null,"Max",{"$f":"MAX(AH11:AH42)","v":0}]

{"sheet":"T14","index":20,"n_rows":45,"n_cols":43,"rows_kept":45,"cut":false,"hidden":false,"merged":[[3,1,3,7],[7,1,7,7]]}
[]
[]
[]
[null,{"$f":"Langage!A54","v":"Perte thermique par transmission"}]
[]
[null,{"$f":"IF(S10=\"\",\"\",S10)","v":""},{"$f":"IF(S11=\"\",\"\",S11)","v":""},"°C",null,null,"FT,i   W",{"$f":"IF(C6=\"\",\"\",SUM(H12:H41))","v":""},null,null,null,null,null,"FT,i   W",null,{"$f":"IF(C6=\"\",\"\",SUM(P12:P40))","v":""},null,"Ceci reprend les valeurs dans les les autres onglets de façon à pouvoir les utiliser dans le présent onglet.",null,null,null,null,null,null,null,null,null,null,null,null,null,null,null,null,null,null,null,null,null,null,"Ceci recrée des listes sans vides pour les menus déroulants"]
[]
[null,null,null,null,null,null,null,null,null,null,null,null,null,null,null,null,null,"N° onglet",14,"Valeur à changer dans toutes les feuilles T",null,null,null,null,{"$f":"16+S8","v":30}]
[]
[null,null,null,"Ak","hm,k","Uk","DT","FT,i,k",null,"Tout","Tin","fqann","fGW","Chff sol","Chff mur","FT,i,k",null,"Espace",{"$f":"IF(INDIRECT(\"Room!C\"&Y8)=\"\",\"\",CONCATENATE(INDIRECT(\"Room!B\"&Y8),\". \",INDIRECT(\"Room!C\"&Y8)))","v":""},null,null,null,null,null,null,null,"Parois","U","DUTB","Chff sol","Chff mur","Utot",null,null,"Espaces",null,null,null,null,null,null,"Parois","Espace"]
[null,{"$f":"Langage!A20","v":"Parois"},{"$f":"Langage!A24","v":"Espace"},"m²","m","W/m².K","°C","W",null,null,null,null,null,null,"W",null,null,"qint   °C",{"$f":"IF(INDIRECT(\"Room!D\"&Y8)=\"\",\"\",INDIRECT(\"Room!D\"&Y8))","v":""},null,null,null,null,null,null,{"$f":"IF(AA11=\"\",\"\",MAX(Z$10:Z10)+1)","v":""},{"$f":"IF(Wall!C9=\"\",\"\",Wall!C9)","v":""},{"$f":"IF(Wall!D9=\"\",\"\",Wall!D9)","v":""},{"$f":"IF(Wall!E9=\"\",\"\",Wall!E9)","v":""},{"$f":"IF(Wall!O9=\"\",\"\",Wall!O9)","v":false},{"$f":"IF(Wall!P9=\"\",\"\",Wall!P9)","v":false},{"$f":"IF(AB11=\"\",\"\",(IF(AC11=\"\",AB11,AB11+AC11)))","v":""},{"$f":"IF(Wall!D34=\"\",\"\",Wall!D34)","v":""},{"$f":"IF(AI11=\"\",\"\",MAX(AH$10:AH10)+1)","v":""},{"$f":"IF(Room!C42=\"\",\"\",Room!C42)","v":""},{"$f":"IF(Room!D42=\"\",\"\",Room!D42)","v":""},null,null,null,null,1,{"$f":"IF(AO11>Z$45,\"\",VLOOKUP(AO11,Z11:AA30,2,FALSE))","v":""},{"$f":"IF(AO11>AH$45,\"\",VLOOKUP(AO11,AH11:AI42,2,FALSE))","v":""}]
[null,null,null,null,null,{"$f":"IF(B12=\"\",\"\",VLOOKUP(B12,AA$11:AF$30,6,FALSE))","v":""},{"$f":"IF(OR(K12=\"\",J12=\"\"),\"\",K12-J12)","v":""},{"$f":"IF(P12=\"\",\"\",P12)","v":""},null,{"$f":"IF(C12=\"\",\"\",VLOOKUP(C12,AI$11:AJ$42,2,FALSE))","v":""},{"$f":"IF(B12=\"\",\"\",IF(S$15<4,C$6,IF(E12=\"\",\"\",C$6+S$14*(E12-1))))","v":""},{"$f":"IF(C12=\"\",\"\",IF(VLOOKUP(C12,AI$11:AL$42,3,FALSE)=\"\",\"\",VLOOKUP(C12,AI$11:AL$42,3,FALSE)))","v":""},{"$f":"IF(C12=\"\",\"\",IF(VLOOKUP(C12,AI$11:AL$42,4,FALSE)=\"\",\"\",VLOOKUP(C12,AI$11:AL$42,4,FALSE)))","v":""},{"$f":"IF(B12=\"\",\"\",VLOOKUP(B12,AA$11:AF$30,4,FALSE))","v":""},{"$f":"IF(B12=\"\",\"\",VLOOKUP(B12,AA$11:AF$30,5,FALSE))","v":""},{"$f":"IF(OR(N12=TRUE,O12=TRUE),\"///\",IF(OR(D12=\"\",F12=\"\",G12=\"\"),\"\",IF(OR(L12=\"\",M12=\"\"),D12*F12*G12,D12*F12*G12*L12*M12)))","v":""},null,"qe   °C",{"$f":"IF(Room!F8=\"\",\"\",Room!F8)","v":""},null,null,null,null,null,null,{"$f":"IF(AA12=\"\",\"\",MAX(Z$10:Z11)+1)","v":""},{"$f":"IF(Wall!C10=\"\",\"\",Wall!C10)","v":""},{"$f":"IF(Wall!D10=\"\",\"\",Wall!D10)","v":""},{"$f":"IF(Wall!E10=\"\",\"\",Wall!E10)","v":""},{"$f":"IF(Wall!O10=\"\",\"\",Wall!O10)","v":false},{"$f":"IF(Wall!P10=\"\",\"\",Wall!P10)","v":false},{"$f":"IF(AB12=\"\",\"\",(IF(AC12=\"\",AB12,AB12+AC12)))","v":""},{"$f":"IF(Wall!D35=\"\",\"\",Wall!D35)","v":""},{"$f":"IF(AI12=\"\",\"\",MAX(AH$10:AH11)+1)","v":""},{"$f":"IF(Room!C47=\"\",\"\",Room!C47)","v":""},{"$f":"IF(Room!D47=\"\",\"\",Room!D47)","v":""},{"$f":"IF(Room!E47=\"\",\"\",Room!E47)","v":1.45},{"$f":"IF(Room!F47=\"\",\"\",Room!F47)","v":1.1499999999999999},null,null,2,{"$f":"IF(AO12>Z$45,\"\",VLOOKUP(AO12,Z12:AA31,2,FALSE))","v":""},{"$f":"IF(AO12>AH$45,\"\",VLOOKUP(AO12,AH12:AI43,2,FALSE))","v":""}]
[null,null,null,null,null,{"$f":"IF(B13=\"\",\"\",VLOOKUP(B13,AA$11:AF$30,6,FALSE))","v":""},{"$f":"IF(OR(K13=\"\",J13=\"\"),\"\",K13-J13)","v":""},{"$f":"IF(P13=\"\",\"\",P13)","v":""},null,{"$f":"IF(C13=\"\",\"\",VLOOKUP(C13,AI$11:AJ$42,2,FALSE))","v":""},{"$f":"IF(B13=\"\",\"\",IF(S$15<4,C$6,IF(E13=\"\",\"\",C$6+S$14*(E13-1))))","v":""},{"$f":"IF(C13=\"\",\"\",IF(VLOOKUP(C13,AI$11:AL$42,3,FALSE)=\"\",\"\",VLOOKUP(C13,AI$11:AL$42,3,FALSE)))","v":""},{"$f":"IF(C13=\"\",\"\",IF(VLOOKUP(C13,AI$11:AL$42,4,FALSE)=\"\",\"\",VLOOKUP(C13,AI$11:AL$42,4,FALSE)))","v":""},{"$f":"IF(B13=\"\",\"\",VLOOKUP(B13,AA$11:AF$30,4,FALSE))","v":""},{"$f":"IF(B13=\"\",\"\",VLOOKUP(B13,AA$11:AF$30,5,FALSE))","v":""},{"$f":"IF(OR(N13=TRUE,O13=TRUE),\"///\",IF(OR(D13=\"\",F13=\"\",G13=\"\"),\"\",IF(OR(L13=\"\",M13=\"\"),D13*F13*G13,D13*F13*G13*L13*M13)))","v":""},null,"qm,e   °C",{"$f":"IF(Room!F9=\"\",\"\",Room!F9)","v":""},null,null,null,null,null,null,{"$f":"IF(AA13=\"\",\"\",MAX(Z$10:Z12)+1)","v":""},{"$f":"IF(Wall!C11=\"\",\"\",Wall!C11)","v":""},{"$f":"IF(Wall!D11=\"\",\"\",Wall!D11)","v":""},{"$f":"IF(Wall!E11=\"\",\"\",Wall!E11)","v":""},{"$f":"IF(Wall!O11=\"\",\"\",Wall!O11)","v":false},{"$f":"IF(Wall!P11=\"\",\"\",Wall!P11)","v":false},"",{"$f":"IF(Wall!D36=\"\",\"\",Wall!D36)","v":""},{"$f":"IF(AI13=\"\",\"\",MAX(AH$10:AH12)+1)","v":""},{"$f":"IF(Room!C52=\"\",\"\",Room!C52)","v":""},{"$f":"IF(Room!D52=\"\",\"\",Room!D52)","v":""},null,null,null,null,3,"",""]
[null,null,null,null,null,"","","",null,"","","","","","","",null,"Gq,air,i  °C/m",{"$f":"IF(INDIRECT(\"Room!T\"&Y8)=\"\",\"\",INDIRECT(\"Room!T\"&Y8))","v":""},null,null,null,null,null,null,{"$f":"IF(AA14=\"\",\"\",MAX(Z$10:Z13)+1)","v":""},{"$f":"IF(Wall!C12=\"\",\"\",Wall!C12)","v":""},{"$f":"IF(Wall!D12=\"\",\"\",Wall!D12)","v":""},{"$f":"IF(Wall!E12=\"\",\"\",Wall!E12)","v":""},{"$f":"IF(Wall!O12=\"\",\"\",Wall!O12)","v":false},{"$f":"IF(Wall!P12=\"\",\"\",Wall!P12)","v":false},"",{"$f":"IF(Wall!D37=\"\",\"\",Wall!D37)","v":""},{"$f":"IF(AI14=\"\",\"\",MAX(AH$10:AH13)+1)","v":""},{"$f":"IF(Room!C53=\"\",\"\",Room!C53)","v":""},{"$f":"IF(Room!D53=\"\",\"\",Room!D53)","v":""},null,null,null,null,4,"",""]
[null,null,null,null,null,"","","",null,"","","","","","","",null,"hi   m",{"$f":"IF(INDIRECT(\"Room!Q\"&Y8)=\"\",\"\",INDIRECT(\"Room!Q\"&Y8))","v":""},null,null,null,null,null,null,{"$f":"IF(AA15=\"\",\"\",MAX(Z$10:Z14)+1)","v":""},{"$f":"IF(Wall!C13=\"\",\"\",Wall!C13)","v":""},{"$f":"IF(Wall!D13=\"\",\"\",Wall!D13)","v":""},{"$f":"IF(Wall!E13=\"\",\"\",Wall!E13)","v":""},{"$f":"IF(Wall!O13=\"\",\"\",Wall!O13)","v":false},{"$f":"IF(Wall!P13=\"\",\"\",Wall!P13)","v":false},"",{"$f":"IF(Wall!D38=\"\",\"\",Wall!D38)","v":""},{"$f":"IF(AI15=\"\",\"\",MAX(AH$10:AH14)+1)","v":""},{"$f":"IF(Room!C54=\"\",\"\",Room!C54)","v":""},{"$f":"IF(Room!D54=\"\",\"\",Room!D54)","v":""},null,null,null,null,5,"",""]
[null,null,null,null,null,"","","",null,"","","","","","","",null,null,null,null,null,null,null,null,null,{"$f":"IF(AA16=\"\",\"\",MAX(Z$10:Z15)+1)","v":""},{"$f":"IF(Wall!C14=\"\",\"\",Wall!C14)","v":""},{"$f":"IF(Wall!D14=\"\",\"\",Wall!D14)","v":""},{"$f":"IF(Wall!E14=\"\",\"\",Wall!E14)","v":""},{"$f":"IF(Wall!O14=\"\",\"\",Wall!O14)","v":false},{"$f":"IF(Wall!P14=\"\",\"\",Wall!P14)","v":false},"",{"$f":"IF(Wall!D39=\"\",\"\",Wall!D39)","v":""},{"$f":"IF(AI16=\"\",\"\",MAX(AH$10:AH15)+1)","v":""},{"$f":"IF(Room!C55=\"\",\"\",Room!C55)","v":""},{"$f":"IF(Room!D55=\"\",\"\",Room!D55)","v":""},null,null,null,null,6,"",""]
[null,null,null,null,null,"","","",null,"","","","","","","",null,null,null,null,null,null,null,null,null,{"$f":"IF(AA17=\"\",\"\",MAX(Z$10:Z16)+1)","v":""},{"$f":"IF(Wall!C15=\"\",\"\",Wall!C15)","v":""},{"$f":"IF(Wall!D15=\"\",\"\",Wall!D15)","v":""},{"$f":"IF(Wall!E15=\"\",\"\",Wall!E15)","v":""},{"$f":"IF(Wall!O15=\"\",\"\",Wall!O15)","v":false},{"$f":"IF(Wall!P15=\"\",\"\",Wall!P15)","v":false},"",{"$f":"IF(Wall!D40=\"\",\"\",Wall!D40)","v":""},{"$f":"IF(AI17=\"\",\"\",MAX(AH$10:AH16)+1)","v":""},{"$f":"IF(Room!C56=\"\",\"\",Room!C56)","v":""},{"$f":"IF(Room!D56=\"\",\"\",Room!D56)","v":""},null,null,null,null,7,"",""]
[null,null,null,null,null,"","","",null,"","","","","","","",null,null,null,null,null,null,null,null,null,{"$f":"IF(AA18=\"\",\"\",MAX(Z$10:Z17)+1)","v":""},{"$f":"IF(Wall!C16=\"\",\"\",Wall!C16)","v":""},{"$f":"IF(Wall!D16=\"\",\"\",Wall!D16)","v":""},{"$f":"IF(Wall!E16=\"\",\"\",Wall!E16)","v":""},{"$f":"IF(Wall!O16=\"\",\"\",Wall!O16)","v":false},{"$f":"IF(Wall!P16=\"\",\"\",Wall!P16)","v":false},"",{"$f":"IF(Wall!D41=\"\",\"\",Wall!D41)","v":""},{"$f":"IF(AI18=\"\",\"\",MAX(AH$10:AH17)+1)","v":""},{"$f":"IF(Room!C61=\"\",\"\",Room!C61)","v":""},{"$f":"IF(Room!D61=\"\",\"\",Room!D61)","v":""},null,null,null,null,8,"",""]
[null,null,null,null,null,"","","",null,"","","","","","","",null,null,null,null,null,null,null,null,null,{"$f":"IF(AA19=\"\",\"\",MAX(Z$10:Z18)+1)","v":""},{"$f":"IF(Wall!C17=\"\",\"\",Wall!C17)","v":""},{"$f":"IF(Wall!D17=\"\",\"\",Wall!D17)","v":""},{"$f":"IF(Wall!E17=\"\",\"\",Wall!E17)","v":""},{"$f":"IF(Wall!O17=\"\",\"\",Wall!O17)","v":false},{"$f":"IF(Wall!P17=\"\",\"\",Wall!P17)","v":false},"",{"$f":"IF(Wall!D42=\"\",\"\",Wall!D42)","v":""},{"$f":"IF(AI19=\"\",\"\",MAX(AH$10:AH18)+1)","v":""},{"$f":"IF(Room!C62=\"\",\"\",Room!C62)","v":""},{"$f":"IF(Room!D62=\"\",\"\",Room!D62)","v":""},null,null,null,null,9,"",{"$f":"IF(AO19>AH$45,\"\",VLOOKUP(AO19,AH19:AI49,2,FALSE))","v":""}]
[null,null,null,null,null,"","","",null,{"$f":"IF(C20=\"\",\"\",VLOOKUP(C20,AI$11:AJ$42,2,FALSE))","v":""},"",{"$f":"IF(C20=\"\",\"\",IF(VLOOKUP(C20,AI$11:AL$42,3,FALSE)=\"\",\"\",VLOOKUP(C20,AI$11:AL$42,3,FALSE)))","v":""},{"$f":"IF(C20=\"\",\"\",IF(VLOOKUP(C20,AI$11:AL$42,4,FALSE)=\"\",\"\",VLOOKUP(C20,AI$11:AL$42,4,FALSE)))","v":""},"","","",null,null,null,null,null,null,null,null,null,{"$f":"IF(AA20=\"\",\"\",MAX(Z$10:Z19)+1)","v":""},{"$f":"IF(Wall!C18=\"\",\"\",Wall!C18)","v":""},{"$f":"IF(Wall!D18=\"\",\"\",Wall!D18)","v":""},{"$f":"IF(Wall!E18=\"\",\"\",Wall!E18)","v":""},{"$f":"IF(Wall!O18=\"\",\"\",Wall!O18)","v":false},{"$f":"IF(Wall!P18=\"\",\"\",Wall!P18)","v":false},"",{"$f":"IF(Wall!D43=\"\",\"\",Wall!D43)","v":""},{"$f":"IF(AI20=\"\",\"\",MAX(AH$10:AH19)+1)","v":""},{"$f":"IF(Room!C63=\"\",\"\",Room!C63)","v":""},{"$f":"IF(Room!D63=\"\",\"\",Room!D63)","v":""},null,null,null,null,10,"",{"$f":"IF(AO20>AH$45,\"\",VLOOKUP(AO20,AH20:AI49,2,FALSE))","v":""}]
[null,null,null,null,null,"","","",null,"","","","","","","",null,null,null,null,null,null,null,null,null,{"$f":"IF(AA21=\"\",\"\",MAX(Z$10:Z20)+1)","v":""},{"$f":"IF(Wall!C19=\"\",\"\",Wall!C19)","v":""},{"$f":"IF(Wall!D19=\"\",\"\",Wall!D19)","v":""},{"$f":"IF(Wall!E19=\"\",\"\",Wall!E19)","v":""},{"$f":"IF(Wall!O19=\"\",\"\",Wall!O19)","v":false},{"$f":"IF(Wall!P19=\"\",\"\",Wall!P19)","v":false},"",{"$f":"IF(Wall!D44=\"\",\"\",Wall!D44)","v":""},{"$f":"IF(AI21=\"\",\"\",MAX(AH$10:AH20)+1)","v":""},{"$f":"IF(Room!C64=\"\",\"\",Room!C64)","v":""},{"$f":"IF(Room!D64=\"\",\"\",Room!D64)","v":""},null,null,null,null,11,"",{"$f":"IF(AO21>AH$45,\"\",VLOOKUP(AO21,AH21:AI49,2,FALSE))","v":""}]
[null,null,null,null,null,"","","",null,"","","","","","","",null,null,null,null,null,null,null,null,null,{"$f":"IF(AA22=\"\",\"\",MAX(Z$10:Z21)+1)","v":""},{"$f":"IF(Wall!C20=\"\",\"\",Wall!C20)","v":""},{"$f":"IF(Wall!D20=\"\",\"\",Wall!D20)","v":""},{"$f":"IF(Wall!E20=\"\",\"\",Wall!E20)","v":""},{"$f":"IF(Wall!O20=\"\",\"\",Wall!O20)","v":false},{"$f":"IF(Wall!P20=\"\",\"\",Wall!P20)","v":false},"",{"$f":"IF(Wall!D45=\"\",\"\",Wall!D45)","v":""},{"$f":"IF(AI22=\"\",\"\",MAX(AH$10:AH21)+1)","v":""},{"$f":"IF(Room!C65=\"\",\"\",Room!C65)","v":""},{"$f":"IF(Room!D65=\"\",\"\",Room!D65)","v":""},null,null,null,null,12,"",{"$f":"IF(AO22>AH$45,\"\",VLOOKUP(AO22,AH22:AI49,2,FALSE))","v":""}]
[null,null,null,null,null,"","","",null,"","","","","","","",null,null,null,null,null,null,null,null,null,{"$f":"IF(AA23=\"\",\"\",MAX(Z$10:Z22)+1)","v":""},{"$f":"IF(Wall!C21=\"\",\"\",Wall!C21)","v":""},{"$f":"IF(Wall!D21=\"\",\"\",Wall!D21)","v":""},{"$f":"IF(Wall!E21=\"\",\"\",Wall!E21)","v":""},{"$f":"IF(Wall!O21=\"\",\"\",Wall!O21)","v":false},{"$f":"IF(Wall!P21=\"\",\"\",Wall!P21)","v":false},"",{"$f":"IF(Wall!D46=\"\",\"\",Wall!D46)","v":""},{"$f":"IF(AI23=\"\",\"\",MAX(AH$10:AH22)+1)","v":""},{"$f":"IF(Room!C17=\"\",\"\",Room!C17)","v":""},{"$f":"IF(Room!D17=\"\",\"\",Room!D17)","v":""},null,null,null,null,13,"",{"$f":"IF(AO23>AH$45,\"\",VLOOKUP(AO23,AH23:AI49,2,FALSE))","v":""}]
[null,null,null,null,null,"","","",null,"","","","","","","",null,null,null,null,null,null,null,null,null,{"$f":"IF(AA24=\"\",\"\",MAX(Z$10:Z23)+1)","v":""},{"$f":"IF(Wall!C22=\"\",\"\",Wall!C22)","v":""},{"$f":"IF(Wall!D22=\"\",\"\",Wall!D22)","v":""},{"$f":"IF(Wall!E22=\"\",\"\",Wall!E22)","v":""},{"$f":"IF(Wall!O22=\"\",\"\",Wall!O22)","v":false},{"$f":"IF(Wall!P22=\"\",\"\",Wall!P22)","v":false},"",{"$f":"IF(Wall!D47=\"\",\"\",Wall!D47)","v":""},{"$f":"IF(AI24=\"\",\"\",MAX(AH$10:AH23)+1)","v":""},{"$f":"IF(Room!C18=\"\",\"\",Room!C18)","v":""},{"$f":"IF(Room!D18=\"\",\"\",Room!D18)","v":""},null,null,null,null,14,"",{"$f":"IF(AO24>AH$45,\"\",VLOOKUP(AO24,AH24:AI49,2,FALSE))","v":""}]
[null,null,null,null,null,"","","",null,"","","","","","","",null,null,null,null,null,null,null,null,null,{"$f":"IF(AA25=\"\",\"\",MAX(Z$10:Z24)+1)","v":""},{"$f":"IF(Wall!C23=\"\",\"\",Wall!C23)","v":""},{"$f":"IF(Wall!D23=\"\",\"\",Wall!D23)","v":""},{"$f":"IF(Wall!E23=\"\",\"\",Wall!E23)","v":""},{"$f":"IF(Wall!O23=\"\",\"\",Wall!O23)","v":false},{"$f":"IF(Wall!P23=\"\",\"\",Wall!P23)","v":false},"",{"$f":"IF(Wall!D48=\"\",\"\",Wall!D48)","v":""},{"$f":"IF(AI25=\"\",\"\",MAX(AH$10:AH24)+1)","v":""},{"$f":"IF(Room!C19=\"\",\"\",Room!C19)","v":""},{"$f":"IF(Room!D19=\"\",\"\",Room!D19)","v":""},null,null,null,null,15,"",{"$f":"IF(AO25>AH$45,\"\",VLOOKUP(AO25,AH25:AI49,2,FALSE))","v":""}]
[null,null,null,null,null,"","","",null,"","","","","","","",null,null,null,null,null,null,null,null,null,{"$f":"IF(AA26=\"\",\"\",MAX(Z$10:Z25)+1)","v":""},{"$f":"IF(Wall!C24=\"\",\"\",Wall!C24)","v":""},{"$f":"IF(Wall!D24=\"\",\"\",Wall!D24)","v":""},{"$f":"IF(Wall!E24=\"\",\"\",Wall!E24)","v":""},{"$f":"IF(Wall!O24=\"\",\"\",Wall!O24)","v":false},{"$f":"IF(Wall!P24=\"\",\"\",Wall!P24)","v":false},"",{"$f":"IF(Wall!D49=\"\",\"\",Wall!D49)","v":""},{"$f":"IF(AI26=\"\",\"\",MAX(AH$10:AH25)+1)","v":""},{"$f":"IF(Room!C20=\"\",\"\",Room!C20)","v":""},{"$f":"IF(Room!D20=\"\",\"\",Room!D20)","v":""},null,null,null,null,16,"",{"$f":"IF(AO26>AH$45,\"\",VLOOKUP(AO26,AH26:AI49,2,FALSE))","v":""}]
[null,null,null,null,null,"","","",null,"","","","","","","",null,null,null,null,null,null,null,null,null,{"$f":"IF(AA27=\"\",\"\",MAX(Z$10:Z26)+1)","v":""},{"$f":"IF(Wall!C25=\"\",\"\",Wall!C25)","v":""},{"$f":"IF(Wall!D25=\"\",\"\",Wall!D25)","v":""},{"$f":"IF(Wall!E25=\"\",\"\",Wall!E25)","v":""},{"$f":"IF(Wall!O25=\"\",\"\",Wall!O25)","v":false},{"$f":"IF(Wall!P25=\"\",\"\",Wall!P25)","v":false},"",{"$f":"IF(Wall!D50=\"\",\"\",Wall!D50)","v":""},{"$f":"IF(AI27=\"\",\"\",MAX(AH$10:AH26)+1)","v":""},{"$f":"IF(Room!C21=\"\",\"\",Room!C21)","v":""},{"$f":"IF(Room!D21=\"\",\"\",Room!D21)","v":""},null,null,null,null,17,"",{"$f":"IF(AO27>AH$45,\"\",VLOOKUP(AO27,AH27:AI49,2,FALSE))","v":""}]
[null,null,null,null,null,"","","",null,"","","","","","","",null,null,null,null,null,null,null,null,null,{"$f":"IF(AA28=\"\",\"\",MAX(Z$10:Z27)+1)","v":""},{"$f":"IF(Wall!C26=\"\",\"\",Wall!C26)","v":""},{"$f":"IF(Wall!D26=\"\",\"\",Wall!D26)","v":""},{"$f":"IF(Wall!E26=\"\",\"\",Wall!E26)","v":""},{"$f":"IF(Wall!O26=\"\",\"\",Wall!O26)","v":false},{"$f":"IF(Wall!P26=\"\",\"\",Wall!P26)","v":false},"",{"$f":"IF(Wall!D51=\"\",\"\",Wall!D51)","v":""},{"$f":"IF(AI28=\"\",\"\",MAX(AH$10:AH27)+1)","v":""},{"$f":"IF(Room!C22=\"\",\"\",Room!C22)","v":""},{"$f":"IF(Room!D22=\"\",\"\",Room!D22)","v":""},null,null,null,null,18,"",""]
[null,null,null,null,null,"","","",null,"","","","","","","",null,null,null,null,null,null,null,null,null,{"$f":"IF(AA29=\"\",\"\",MAX(Z$10:Z28)+1)","v":""},{"$f":"IF(Wall!C27=\"\",\"\",Wall!C27)","v":""},{"$f":"IF(Wall!D27=\"\",\"\",Wall!D27)","v":""},{"$f":"IF(Wall!E27=\"\",\"\",Wall!E27)","v":""},{"$f":"IF(Wall!O27=\"\",\"\",Wall!O27)","v":false},{"$f":"IF(Wall!P27=\"\",\"\",Wall!P27)","v":false},"",{"$f":"IF(Wall!D52=\"\",\"\",Wall!D52)","v":""},{"$f":"IF(AI29=\"\",\"\",MAX(AH$10:AH28)+1)","v":""},{"$f":"IF(Room!C23=\"\",\"\",Room!C23)","v":""},{"$f":"IF(Room!D23=\"\",\"\",Room!D23)","v":""},null,null,null,null,19,"",""]
[null,null,null,null,null,"","","",null,"","","","","","","",null,null,null,null,null,null,null,null,null,{"$f":"IF(AA30=\"\",\"\",MAX(Z$10:Z29)+1)","v":""},{"$f":"IF(Wall!C28=\"\",\"\",Wall!C28)","v":""},{"$f":"IF(Wall!D28=\"\",\"\",Wall!D28)","v":""},{"$f":"IF(Wall!E28=\"\",\"\",Wall!E28)","v":""},{"$f":"IF(Wall!O28=\"\",\"\",Wall!O28)","v":false},{"$f":"IF(Wall!P28=\"\",\"\",Wall!P28)","v":false},"",{"$f":"IF(Wall!D53=\"\",\"\",Wall!D53)","v":""},{"$f":"IF(AI30=\"\",\"\",MAX(AH$10:AH29)+1)","v":""},{"$f":"IF(Room!C24=\"\",\"\",Room!C24)","v":""},{"$f":"IF(Room!D24=\"\",\"\",Room!D24)","v":""},null,null,null,null,20,"",""]
[null,null,null,null,null,"","","",null,"","","","","","","",null,null,null,null,null,null,null,null,null,null,null,null,null,null,null,null,null,{"$f":"IF(AI31=\"\",\"\",MAX(AH$10:AH30)+1)","v":""},{"$f":"IF(Room!C25=\"\",\"\",Room!C25)","v":""},{"$f":"IF(Room!D25=\"\",\"\",Room!D25)","v":""},null,null,null,null,21,{"$f":"IF(AO31>Z$45,\"\",VLOOKUP(AO31,Z31:AA49,2,FALSE))","v":""},""]
[null,null,null,null,null,"","","",null,"","","","","","","",null,null,null,null,null,null,null,null,null,null,null,null,null,null,null,null,null,{"$f":"IF(AI32=\"\",\"\",MAX(AH$10:AH31)+1)","v":""},{"$f":"IF(Room!C26=\"\",\"\",Room!C26)","v":""},{"$f":"IF(Room!D26=\"\",\"\",Room!D26)","v":""},null,null,null,null,22,{"$f":"IF(AO32>Z$45,\"\",VLOOKUP(AO32,Z32:AA49,2,FALSE))","v":""},""]
[null,null,null,null,null,"","","",null,"","","","","","","",null,null,null,null,null,null,null,null,null,null,null,null,null,null,null,null,null,{"$f":"IF(AI33=\"\",\"\",MAX(AH$10:AH32)+1)","v":""},{"$f":"IF(Room!C27=\"\",\"\",Room!C27)","v":""},{"$f":"IF(Room!D27=\"\",\"\",Room!D27)","v":""},null,null,null,null,23,{"$f":"IF(AO33>Z$45,\"\",VLOOKUP(AO33,Z33:AA49,2,FALSE))","v":""},""]
[null,null,null,null,null,"","","",null,"","","","","","","",null,null,null,null,null,null,null,null,null,null,null,null,null,null,null,null,null,{"$f":"IF(AI34=\"\",\"\",MAX(AH$10:AH33)+1)","v":""},{"$f":"IF(Room!C28=\"\",\"\",Room!C28)","v":""},{"$f":"IF(Room!D28=\"\",\"\",Room!D28)","v":""},null,null,null,null,24,{"$f":"IF(AO34>Z$45,\"\",VLOOKUP(AO34,Z34:AA49,2,FALSE))","v":""},""]
[null,null,null,null,null,"","","",null,"","","","","","","",null,null,null,null,null,null,null,null,null,null,null,null,null,null,null,null,null,{"$f":"IF(AI35=\"\",\"\",MAX(AH$10:AH34)+1)","v":""},{"$f":"IF(Room!C29=\"\",\"\",Room!C29)","v":""},{"$f":"IF(Room!D29=\"\",\"\",Room!D29)","v":""},null,null,null,null,25,{"$f":"IF(AO35>Z$45,\"\",VLOOKUP(AO35,Z35:AA49,2,FALSE))","v":""},""]
[null,null,null,null,null,"","","",null,"","","","","","","",null,null,null,null,null,null,null,null,null,null,null,null,null,null,null,null,null,{"$f":"IF(AI36=\"\",\"\",MAX(AH$10:AH35)+1)","v":""},{"$f":"IF(Room!C30=\"\",\"\",Room!C30)","v":""},{"$f":"IF(Room!D30=\"\",\"\",Room!D30)","v":""},null,null,null,null,26,{"$f":"IF(AO36>Z$45,\"\",VLOOKUP(AO36,Z36:AA49,2,FALSE))","v":""},""]
[null,null,null,null,null,"","","",null,"","","","","","","",null,null,null,null,null,null,null,null,null,null,null,null,null,null,null,null,null,{"$f":"IF(AI37=\"\",\"\",MAX(AH$10:AH36)+1)","v":""},{"$f":"IF(Room!C31=\"\",\"\",Room!C31)","v":""},{"$f":"IF(Room!D31=\"\",\"\",Room!D31)","v":""},null,null,null,null,27,{"$f":"IF(AO37>Z$45,\"\",VLOOKUP(AO37,Z37:AA49,2,FALSE))","v":""},""]
[null,null,null,null,null,"","","",null,"","","","","","","",null,null,null,null,null,null,null,null,null,null,null,null,null,null,null,null,null,{"$f":"IF(AI38=\"\",\"\",MAX(AH$10:AH37)+1)","v":""},{"$f":"IF(Room!C32=\"\",\"\",Room!C32)","v":""},{"$f":"IF(Room!D32=\"\",\"\",Room!D32)","v":""},null,null,null,null,28,{"$f":"IF(AO38>Z$45,\"\",VLOOKUP(AO38,Z38:AA49,2,FALSE))","v":""},""]
[null,null,null,null,null,"","","",null,"","","","","","","",null,null,null,null,null,null,null,null,null,null,null,null,null,null,null,null,null,{"$f":"IF(AI39=\"\",\"\",MAX(AH$10:AH38)+1)","v":""},{"$f":"IF(Room!C33=\"\",\"\",Room!C33)","v":""},{"$f":"IF(Room!D33=\"\",\"\",Room!D33)","v":""},null,null,null,null,29,{"$f":"IF(AO39>Z$45,\"\",VLOOKUP(AO39,Z39:AA49,2,FALSE))","v":""},""]
[null,null,null,null,null,"","","",null,"","","","","","","",null,null,null,null,null,null,null,null,null,null,null,null,null,null,null,null,null,{"$f":"IF(AI40=\"\",\"\",MAX(AH$10:AH39)+1)","v":""},{"$f":"IF(Room!C34=\"\",\"\",Room!C34)","v":""},{"$f":"IF(Room!D34=\"\",\"\",Room!D34)","v":""},null,null,null,null,30,{"$f":"IF(AO40>Z$45,\"\",VLOOKUP(AO40,Z40:AA50,2,FALSE))","v":""},""]
[null,null,null,null,null,"","","",null,"","","","","","","",null,null,null,null,null,null,null,null,null,null,null,null,null,null,null,null,null,{"$f":"IF(AI41=\"\",\"\",MAX(AH$10:AH40)+1)","v":""},{"$f":"IF(Room!C35=\"\",\"\",Room!C35)","v":""},{"$f":"IF(Room!D35=\"\",\"\",Room!D35)","v":""},null,null,null,null,31,{"$f":"IF(AO41>Z$45,\"\",VLOOKUP(AO41,Z41:AA51,2,FALSE))","v":""},""]
[null,null,null,null,null,null,null,null,null,null,null,null,null,null,null,null,null,null,null,null,null,null,null,null,null,null,null,null,null,null,null,null,null,{"$f":"IF(AI42=\"\",\"\",MAX(AH$10:AH41)+1)","v":""},{"$f":"IF(Room!C36=\"\",\"\",Room!C36)","v":""},{"$f":"IF(Room!D36=\"\",\"\",Room!D36)","v":""},null,null,null,null,32,{"$f":"IF(AO42>Z$45,\"\",VLOOKUP(AO42,Z42:AA52,2,FALSE))","v":""},""]
[]
[]
[null,null,null,null,null,null,null,null,null,null,null,null,null,null,null,null,null,null,null,null,null,null,null,null,"Max",{"$f":"MAX(Z11:Z30)","v":0},null,null,null,null,null,null,"Max",{"$f":"MAX(AH11:AH42)","v":0}]

{"sheet":"T15","index":21,"n_rows":45,"n_cols":43,"rows_kept":45,"cut":false,"hidden":false,"merged":[[3,1,3,7],[7,1,7,7]]}
[]
[]
[]
[null,{"$f":"Langage!A54","v":"Perte thermique par transmission"}]
[]
[null,{"$f":"IF(S10=\"\",\"\",S10)","v":""},{"$f":"IF(S11=\"\",\"\",S11)","v":""},"°C",null,null,"FT,i   W",{"$f":"IF(C6=\"\",\"\",SUM(H12:H41))","v":""},null,null,null,null,null,"FT,i   W",null,{"$f":"IF(C6=\"\",\"\",SUM(P12:P40))","v":""},null,"Ceci reprend les valeurs dans les les autres onglets de façon à pouvoir les utiliser dans le présent onglet.",null,null,null,null,null,null,null,null,null,null,null,null,null,null,null,null,null,null,null,null,null,null,"Ceci recrée des listes sans vides pour les menus déroulants"]
[]
[null,null,null,null,null,null,null,null,null,null,null,null,null,null,null,null,null,"N° onglet",15,"Valeur à changer dans toutes les feuilles T",null,null,null,null,{"$f":"16+S8","v":31}]
[]
[null,null,null,"Ak","hm,k","Uk","DT","FT,i,k",null,"Tout","Tin","fqann","fGW","Chff sol","Chff mur","FT,i,k",null,"Espace",{"$f":"IF(INDIRECT(\"Room!C\"&Y8)=\"\",\"\",CONCATENATE(INDIRECT(\"Room!B\"&Y8),\". \",INDIRECT(\"Room!C\"&Y8)))","v":""},null,null,null,null,null,null,null,"Parois","U","DUTB","Chff sol","Chff mur","Utot",null,null,"Espaces",null,null,null,null,null,null,"Parois","Espace"]
[null,{"$f":"Langage!A20","v":"Parois"},{"$f":"Langage!A24","v":"Espace"},"m²","m","W/m².K","°C","W",null,null,null,null,null,null,"W",null,null,"qint   °C",{"$f":"IF(INDIRECT(\"Room!D\"&Y8)=\"\",\"\",INDIRECT(\"Room!D\"&Y8))","v":""},null,null,null,null,null,null,{"$f":"IF(AA11=\"\",\"\",MAX(Z$10:Z10)+1)","v":""},{"$f":"IF(Wall!C9=\"\",\"\",Wall!C9)","v":""},{"$f":"IF(Wall!D9=\"\",\"\",Wall!D9)","v":""},{"$f":"IF(Wall!E9=\"\",\"\",Wall!E9)","v":""},{"$f":"IF(Wall!O9=\"\",\"\",Wall!O9)","v":false},{"$f":"IF(Wall!P9=\"\",\"\",Wall!P9)","v":false},{"$f":"IF(AB11=\"\",\"\",(IF(AC11=\"\",AB11,AB11+AC11)))","v":""},{"$f":"IF(Wall!D34=\"\",\"\",Wall!D34)","v":""},{"$f":"IF(AI11=\"\",\"\",MAX(AH$10:AH10)+1)","v":""},{"$f":"IF(Room!C42=\"\",\"\",Room!C42)","v":""},{"$f":"IF(Room!D42=\"\",\"\",Room!D42)","v":""},null,null,null,null,1,{"$f":"IF(AO11>Z$45,\"\",VLOOKUP(AO11,Z11:AA30,2,FALSE))","v":""},{"$f":"IF(AO11>AH$45,\"\",VLOOKUP(AO11,AH11:AI42,2,FALSE))","v":""}]
[null,null,null,null,null,{"$f":"IF(B12=\"\",\"\",VLOOKUP(B12,AA$11:AF$30,6,FALSE))","v":""},{"$f":"IF(OR(K12=\"\",J12=\"\"),\"\",K12-J12)","v":""},{"$f":"IF(P12=\"\",\"\",P12)","v":""},null,{"$f":"IF(C12=\"\",\"\",VLOOKUP(C12,AI$11:AJ$42,2,FALSE))","v":""},{"$f":"IF(B12=\"\",\"\",IF(S$15<4,C$6,IF(E12=\"\",\"\",C$6+S$14*(E12-1))))","v":""},{"$f":"IF(C12=\"\",\"\",IF(VLOOKUP(C12,AI$11:AL$42,3,FALSE)=\"\",\"\",VLOOKUP(C12,AI$11:AL$42,3,FALSE)))","v":""},{"$f":"IF(C12=\"\",\"\",IF(VLOOKUP(C12,AI$11:AL$42,4,FALSE)=\"\",\"\",VLOOKUP(C12,AI$11:AL$42,4,FALSE)))","v":""},{"$f":"IF(B12=\"\",\"\",VLOOKUP(B12,AA$11:AF$30,4,FALSE))","v":""},{"$f":"IF(B12=\"\",\"\",VLOOKUP(B12,AA$11:AF$30,5,FALSE))","v":""},{"$f":"IF(OR(N12=TRUE,O12=TRUE),\"///\",IF(OR(D12=\"\",F12=\"\",G12=\"\"),\"\",IF(OR(L12=\"\",M12=\"\"),D12*F12*G12,D12*F12*G12*L12*M12)))","v":""},null,"qe   °C",{"$f":"IF(Room!F8=\"\",\"\",Room!F8)","v":""},null,null,null,null,null,null,{"$f":"IF(AA12=\"\",\"\",MAX(Z$10:Z11)+1)","v":""},{"$f":"IF(Wall!C10=\"\",\"\",Wall!C10)","v":""},{"$f":"IF(Wall!D10=\"\",\"\",Wall!D10)","v":""},{"$f":"IF(Wall!E10=\"\",\"\",Wall!E10)","v":""},{"$f":"IF(Wall!O10=\"\",\"\",Wall!O10)","v":false},{"$f":"IF(Wall!P10=\"\",\"\",Wall!P10)","v":false},{"$f":"IF(AB12=\"\",\"\",(IF(AC12=\"\",AB12,AB12+AC12)))","v":""},{"$f":"IF(Wall!D35=\"\",\"\",Wall!D35)","v":""},{"$f":"IF(AI12=\"\",\"\",MAX(AH$10:AH11)+1)","v":""},{"$f":"IF(Room!C47=\"\",\"\",Room!C47)","v":""},{"$f":"IF(Room!D47=\"\",\"\",Room!D47)","v":""},{"$f":"IF(Room!E47=\"\",\"\",Room!E47)","v":1.45},{"$f":"IF(Room!F47=\"\",\"\",Room!F47)","v":1.1499999999999999},null,null,2,{"$f":"IF(AO12>Z$45,\"\",VLOOKUP(AO12,Z12:AA31,2,FALSE))","v":""},{"$f":"IF(AO12>AH$45,\"\",VLOOKUP(AO12,AH12:AI43,2,FALSE))","v":""}]
[null,null,null,null,null,{"$f":"IF(B13=\"\",\"\",VLOOKUP(B13,AA$11:AF$30,6,FALSE))","v":""},{"$f":"IF(OR(K13=\"\",J13=\"\"),\"\",K13-J13)","v":""},{"$f":"IF(P13=\"\",\"\",P13)","v":""},null,"",{"$f":"IF(B13=\"\",\"\",IF(S$15<4,C$6,IF(E13=\"\",\"\",C$6+S$14*(E13-1))))","v":""},"","","",{"$f":"IF(B13=\"\",\"\",VLOOKUP(B13,AA$11:AF$30,5,FALSE))","v":""},{"$f":"IF(OR(N13=TRUE,O13=TRUE),\"///\",IF(OR(D13=\"\",F13=\"\",G13=\"\"),\"\",IF(OR(L13=\"\",M13=\"\"),D13*F13*G13,D13*F13*G13*L13*M13)))","v":""},null,"qm,e   °C",{"$f":"IF(Room!F9=\"\",\"\",Room!F9)","v":""},null,null,null,null,null,null,{"$f":"IF(AA13=\"\",\"\",MAX(Z$10:Z12)+1)","v":""},{"$f":"IF(Wall!C11=\"\",\"\",Wall!C11)","v":""},{"$f":"IF(Wall!D11=\"\",\"\",Wall!D11)","v":""},{"$f":"IF(Wall!E11=\"\",\"\",Wall!E11)","v":""},{"$f":"IF(Wall!O11=\"\",\"\",Wall!O11)","v":false},{"$f":"IF(Wall!P11=\"\",\"\",Wall!P11)","v":false},"",{"$f":"IF(Wall!D36=\"\",\"\",Wall!D36)","v":""},{"$f":"IF(AI13=\"\",\"\",MAX(AH$10:AH12)+1)","v":""},{"$f":"IF(Room!C52=\"\",\"\",Room!C52)","v":""},{"$f":"IF(Room!D52=\"\",\"\",Room!D52)","v":""},null,null,null,null,3,"",""]
[null,null,null,null,null,"","","",null,"","","","","","","",null,"Gq,air,i  °C/m",{"$f":"IF(INDIRECT(\"Room!T\"&Y8)=\"\",\"\",INDIRECT(\"Room!T\"&Y8))","v":""},null,null,null,null,null,null,{"$f":"IF(AA14=\"\",\"\",MAX(Z$10:Z13)+1)","v":""},{"$f":"IF(Wall!C12=\"\",\"\",Wall!C12)","v":""},{"$f":"IF(Wall!D12=\"\",\"\",Wall!D12)","v":""},{"$f":"IF(Wall!E12=\"\",\"\",Wall!E12)","v":""},{"$f":"IF(Wall!O12=\"\",\"\",Wall!O12)","v":false},{"$f":"IF(Wall!P12=\"\",\"\",Wall!P12)","v":false},"",{"$f":"IF(Wall!D37=\"\",\"\",Wall!D37)","v":""},{"$f":"IF(AI14=\"\",\"\",MAX(AH$10:AH13)+1)","v":""},{"$f":"IF(Room!C53=\"\",\"\",Room!C53)","v":""},{"$f":"IF(Room!D53=\"\",\"\",Room!D53)","v":""},null,null,null,null,4,"",""]
[null,null,null,null,null,"","","",null,"","","","","","","",null,"hi   m",{"$f":"IF(INDIRECT(\"Room!Q\"&Y8)=\"\",\"\",INDIRECT(\"Room!Q\"&Y8))","v":""},null,null,null,null,null,null,{"$f":"IF(AA15=\"\",\"\",MAX(Z$10:Z14)+1)","v":""},{"$f":"IF(Wall!C13=\"\",\"\",Wall!C13)","v":""},{"$f":"IF(Wall!D13=\"\",\"\",Wall!D13)","v":""},{"$f":"IF(Wall!E13=\"\",\"\",Wall!E13)","v":""},{"$f":"IF(Wall!O13=\"\",\"\",Wall!O13)","v":false},{"$f":"IF(Wall!P13=\"\",\"\",Wall!P13)","v":false},"",{"$f":"IF(Wall!D38=\"\",\"\",Wall!D38)","v":""},{"$f":"IF(AI15=\"\",\"\",MAX(AH$10:AH14)+1)","v":""},{"$f":"IF(Room!C54=\"\",\"\",Room!C54)","v":""},{"$f":"IF(Room!D54=\"\",\"\",Room!D54)","v":""},null,null,null,null,5,"",""]
[null,null,null,null,null,"","","",null,"","","","","","","",null,null,null,null,null,null,null,null,null,{"$f":"IF(AA16=\"\",\"\",MAX(Z$10:Z15)+1)","v":""},{"$f":"IF(Wall!C14=\"\",\"\",Wall!C14)","v":""},{"$f":"IF(Wall!D14=\"\",\"\",Wall!D14)","v":""},{"$f":"IF(Wall!E14=\"\",\"\",Wall!E14)","v":""},{"$f":"IF(Wall!O14=\"\",\"\",Wall!O14)","v":false},{"$f":"IF(Wall!P14=\"\",\"\",Wall!P14)","v":false},"",{"$f":"IF(Wall!D39=\"\",\"\",Wall!D39)","v":""},{"$f":"IF(AI16=\"\",\"\",MAX(AH$10:AH15)+1)","v":""},{"$f":"IF(Room!C55=\"\",\"\",Room!C55)","v":""},{"$f":"IF(Room!D55=\"\",\"\",Room!D55)","v":""},null,null,null,null,6,"",""]
[null,null,null,null,null,"","","",null,"","","","","","","",null,null,null,null,null,null,null,null,null,{"$f":"IF(AA17=\"\",\"\",MAX(Z$10:Z16)+1)","v":""},{"$f":"IF(Wall!C15=\"\",\"\",Wall!C15)","v":""},{"$f":"IF(Wall!D15=\"\",\"\",Wall!D15)","v":""},{"$f":"IF(Wall!E15=\"\",\"\",Wall!E15)","v":""},{"$f":"IF(Wall!O15=\"\",\"\",Wall!O15)","v":false},{"$f":"IF(Wall!P15=\"\",\"\",Wall!P15)","v":false},"",{"$f":"IF(Wall!D40=\"\",\"\",Wall!D40)","v":""},{"$f":"IF(AI17=\"\",\"\",MAX(AH$10:AH16)+1)","v":""},{"$f":"IF(Room!C56=\"\",\"\",Room!C56)","v":""},{"$f":"IF(Room!D56=\"\",\"\",Room!D56)","v":""},null,null,null,null,7,"",""]
[null,null,null,null,null,"","","",null,"","","","","","","",null,null,null,null,null,null,null,null,null,{"$f":"IF(AA18=\"\",\"\",MAX(Z$10:Z17)+1)","v":""},{"$f":"IF(Wall!C16=\"\",\"\",Wall!C16)","v":""},{"$f":"IF(Wall!D16=\"\",\"\",Wall!D16)","v":""},{"$f":"IF(Wall!E16=\"\",\"\",Wall!E16)","v":""},{"$f":"IF(Wall!O16=\"\",\"\",Wall!O16)","v":false},{"$f":"IF(Wall!P16=\"\",\"\",Wall!P16)","v":false},"",{"$f":"IF(Wall!D41=\"\",\"\",Wall!D41)","v":""},{"$f":"IF(AI18=\"\",\"\",MAX(AH$10:AH17)+1)","v":""},{"$f":"IF(Room!C61=\"\",\"\",Room!C61)","v":""},{"$f":"IF(Room!D61=\"\",\"\",Room!D61)","v":""},null,null,null,null,8,"",""]
[null,null,null,null,null,"","","",null,"","","","","","","",null,null,null,null,null,null,null,null,null,{"$f":"IF(AA19=\"\",\"\",MAX(Z$10:Z18)+1)","v":""},{"$f":"IF(Wall!C17=\"\",\"\",Wall!C17)","v":""},{"$f":"IF(Wall!D17=\"\",\"\",Wall!D17)","v":""},{"$f":"IF(Wall!E17=\"\",\"\",Wall!E17)","v":""},{"$f":"IF(Wall!O17=\"\",\"\",Wall!O17)","v":false},{"$f":"IF(Wall!P17=\"\",\"\",Wall!P17)","v":false},"",{"$f":"IF(Wall!D42=\"\",\"\",Wall!D42)","v":""},{"$f":"IF(AI19=\"\",\"\",MAX(AH$10:AH18)+1)","v":""},{"$f":"IF(Room!C62=\"\",\"\",Room!C62)","v":""},{"$f":"IF(Room!D62=\"\",\"\",Room!D62)","v":""},null,null,null,null,9,"",{"$f":"IF(AO19>AH$45,\"\",VLOOKUP(AO19,AH19:AI49,2,FALSE))","v":""}]
[null,null,null,null,null,"","","",null,"","","","","","","",null,null,null,null,null,null,null,null,null,{"$f":"IF(AA20=\"\",\"\",MAX(Z$10:Z19)+1)","v":""},{"$f":"IF(Wall!C18=\"\",\"\",Wall!C18)","v":""},{"$f":"IF(Wall!D18=\"\",\"\",Wall!D18)","v":""},{"$f":"IF(Wall!E18=\"\",\"\",Wall!E18)","v":""},{"$f":"IF(Wall!O18=\"\",\"\",Wall!O18)","v":false},{"$f":"IF(Wall!P18=\"\",\"\",Wall!P18)","v":false},"",{"$f":"IF(Wall!D43=\"\",\"\",Wall!D43)","v":""},{"$f":"IF(AI20=\"\",\"\",MAX(AH$10:AH19)+1)","v":""},{"$f":"IF(Room!C63=\"\",\"\",Room!C63)","v":""},{"$f":"IF(Room!D63=\"\",\"\",Room!D63)","v":""},null,null,null,null,10,"",{"$f":"IF(AO20>AH$45,\"\",VLOOKUP(AO20,AH20:AI49,2,FALSE))","v":""}]
[null,null,null,null,null,"","","",null,"","","","","","","",null,null,null,null,null,null,null,null,null,{"$f":"IF(AA21=\"\",\"\",MAX(Z$10:Z20)+1)","v":""},{"$f":"IF(Wall!C19=\"\",\"\",Wall!C19)","v":""},{"$f":"IF(Wall!D19=\"\",\"\",Wall!D19)","v":""},{"$f":"IF(Wall!E19=\"\",\"\",Wall!E19)","v":""},{"$f":"IF(Wall!O19=\"\",\"\",Wall!O19)","v":false},{"$f":"IF(Wall!P19=\"\",\"\",Wall!P19)","v":false},"",{"$f":"IF(Wall!D44=\"\",\"\",Wall!D44)","v":""},{"$f":"IF(AI21=\"\",\"\",MAX(AH$10:AH20)+1)","v":""},{"$f":"IF(Room!C64=\"\",\"\",Room!C64)","v":""},{"$f":"IF(Room!D64=\"\",\"\",Room!D64)","v":""},null,null,null,null,11,"",{"$f":"IF(AO21>AH$45,\"\",VLOOKUP(AO21,AH21:AI49,2,FALSE))","v":""}]
[null,null,null,null,null,"","","",null,"","","","","","","",null,null,null,null,null,null,null,null,null,{"$f":"IF(AA22=\"\",\"\",MAX(Z$10:Z21)+1)","v":""},{"$f":"IF(Wall!C20=\"\",\"\",Wall!C20)","v":""},{"$f":"IF(Wall!D20=\"\",\"\",Wall!D20)","v":""},{"$f":"IF(Wall!E20=\"\",\"\",Wall!E20)","v":""},{"$f":"IF(Wall!O20=\"\",\"\",Wall!O20)","v":false},{"$f":"IF(Wall!P20=\"\",\"\",Wall!P20)","v":false},"",{"$f":"IF(Wall!D45=\"\",\"\",Wall!D45)","v":""},{"$f":"IF(AI22=\"\",\"\",MAX(AH$10:AH21)+1)","v":""},{"$f":"IF(Room!C65=\"\",\"\",Room!C65)","v":""},{"$f":"IF(Room!D65=\"\",\"\",Room!D65)","v":""},null,null,null,null,12,"",{"$f":"IF(AO22>AH$45,\"\",VLOOKUP(AO22,AH22:AI49,2,FALSE))","v":""}]
[null,null,null,null,null,"","","",null,"","","","","","","",null,null,null,null,null,null,null,null,null,{"$f":"IF(AA23=\"\",\"\",MAX(Z$10:Z22)+1)","v":""},{"$f":"IF(Wall!C21=\"\",\"\",Wall!C21)","v":""},{"$f":"IF(Wall!D21=\"\",\"\",Wall!D21)","v":""},{"$f":"IF(Wall!E21=\"\",\"\",Wall!E21)","v":""},{"$f":"IF(Wall!O21=\"\",\"\",Wall!O21)","v":false},{"$f":"IF(Wall!P21=\"\",\"\",Wall!P21)","v":false},"",{"$f":"IF(Wall!D46=\"\",\"\",Wall!D46)","v":""},{"$f":"IF(AI23=\"\",\"\",MAX(AH$10:AH22)+1)","v":""},{"$f":"IF(Room!C17=\"\",\"\",Room!C17)","v":""},{"$f":"IF(Room!D17=\"\",\"\",Room!D17)","v":""},null,null,null,null,13,"",{"$f":"IF(AO23>AH$45,\"\",VLOOKUP(AO23,AH23:AI49,2,FALSE))","v":""}]
[null,null,null,null,null,"","","",null,"","","","","","","",null,null,null,null,null,null,null,null,null,{"$f":"IF(AA24=\"\",\"\",MAX(Z$10:Z23)+1)","v":""},{"$f":"IF(Wall!C22=\"\",\"\",Wall!C22)","v":""},{"$f":"IF(Wall!D22=\"\",\"\",Wall!D22)","v":""},{"$f":"IF(Wall!E22=\"\",\"\",Wall!E22)","v":""},{"$f":"IF(Wall!O22=\"\",\"\",Wall!O22)","v":false},{"$f":"IF(Wall!P22=\"\",\"\",Wall!P22)","v":false},"",{"$f":"IF(Wall!D47=\"\",\"\",Wall!D47)","v":""},{"$f":"IF(AI24=\"\",\"\",MAX(AH$10:AH23)+1)","v":""},{"$f":"IF(Room!C18=\"\",\"\",Room!C18)","v":""},{"$f":"IF(Room!D18=\"\",\"\",Room!D18)","v":""},null,null,null,null,14,"",{"$f":"IF(AO24>AH$45,\"\",VLOOKUP(AO24,AH24:AI49,2,FALSE))","v":""}]
[null,null,null,null,null,"","","",null,"","","","","","","",null,null,null,null,null,null,null,null,null,{"$f":"IF(AA25=\"\",\"\",MAX(Z$10:Z24)+1)","v":""},{"$f":"IF(Wall!C23=\"\",\"\",Wall!C23)","v":""},{"$f":"IF(Wall!D23=\"\",\"\",Wall!D23)","v":""},{"$f":"IF(Wall!E23=\"\",\"\",Wall!E23)","v":""},{"$f":"IF(Wall!O23=\"\",\"\",Wall!O23)","v":false},{"$f":"IF(Wall!P23=\"\",\"\",Wall!P23)","v":false},"",{"$f":"IF(Wall!D48=\"\",\"\",Wall!D48)","v":""},{"$f":"IF(AI25=\"\",\"\",MAX(AH$10:AH24)+1)","v":""},{"$f":"IF(Room!C19=\"\",\"\",Room!C19)","v":""},{"$f":"IF(Room!D19=\"\",\"\",Room!D19)","v":""},null,null,null,null,15,"",{"$f":"IF(AO25>AH$45,\"\",VLOOKUP(AO25,AH25:AI49,2,FALSE))","v":""}]
[null,null,null,null,null,"","","",null,"","","","","","","",null,null,null,null,null,null,null,null,null,{"$f":"IF(AA26=\"\",\"\",MAX(Z$10:Z25)+1)","v":""},{"$f":"IF(Wall!C24=\"\",\"\",Wall!C24)","v":""},{"$f":"IF(Wall!D24=\"\",\"\",Wall!D24)","v":""},{"$f":"IF(Wall!E24=\"\",\"\",Wall!E24)","v":""},{"$f":"IF(Wall!O24=\"\",\"\",Wall!O24)","v":false},{"$f":"IF(Wall!P24=\"\",\"\",Wall!P24)","v":false},"",{"$f":"IF(Wall!D49=\"\",\"\",Wall!D49)","v":""},{"$f":"IF(AI26=\"\",\"\",MAX(AH$10:AH25)+1)","v":""},{"$f":"IF(Room!C20=\"\",\"\",Room!C20)","v":""},{"$f":"IF(Room!D20=\"\",\"\",Room!D20)","v":""},null,null,null,null,16,"",{"$f":"IF(AO26>AH$45,\"\",VLOOKUP(AO26,AH26:AI49,2,FALSE))","v":""}]
[null,null,null,null,null,"","","",null,"","","","","","","",null,null,null,null,null,null,null,null,null,{"$f":"IF(AA27=\"\",\"\",MAX(Z$10:Z26)+1)","v":""},{"$f":"IF(Wall!C25=\"\",\"\",Wall!C25)","v":""},{"$f":"IF(Wall!D25=\"\",\"\",Wall!D25)","v":""},{"$f":"IF(Wall!E25=\"\",\"\",Wall!E25)","v":""},{"$f":"IF(Wall!O25=\"\",\"\",Wall!O25)","v":false},{"$f":"IF(Wall!P25=\"\",\"\",Wall!P25)","v":false},"",{"$f":"IF(Wall!D50=\"\",\"\",Wall!D50)","v":""},{"$f":"IF(AI27=\"\",\"\",MAX(AH$10:AH26)+1)","v":""},{"$f":"IF(Room!C21=\"\",\"\",Room!C21)","v":""},{"$f":"IF(Room!D21=\"\",\"\",Room!D21)","v":""},null,null,null,null,17,"",{"$f":"IF(AO27>AH$45,\"\",VLOOKUP(AO27,AH27:AI49,2,FALSE))","v":""}]
[null,null,null,null,null,"","","",null,"","","","","","","",null,null,null,null,null,null,null,null,null,{"$f":"IF(AA28=\"\",\"\",MAX(Z$10:Z27)+1)","v":""},{"$f":"IF(Wall!C26=\"\",\"\",Wall!C26)","v":""},{"$f":"IF(Wall!D26=\"\",\"\",Wall!D26)","v":""},{"$f":"IF(Wall!E26=\"\",\"\",Wall!E26)","v":""},{"$f":"IF(Wall!O26=\"\",\"\",Wall!O26)","v":false},{"$f":"IF(Wall!P26=\"\",\"\",Wall!P26)","v":false},"",{"$f":"IF(Wall!D51=\"\",\"\",Wall!D51)","v":""},{"$f":"IF(AI28=\"\",\"\",MAX(AH$10:AH27)+1)","v":""},{"$f":"IF(Room!C22=\"\",\"\",Room!C22)","v":""},{"$f":"IF(Room!D22=\"\",\"\",Room!D22)","v":""},null,null,null,null,18,"",""]
[null,null,null,null,null,"","","",null,"","","","","","","",null,null,null,null,null,null,null,null,null,{"$f":"IF(AA29=\"\",\"\",MAX(Z$10:Z28)+1)","v":""},{"$f":"IF(Wall!C27=\"\",\"\",Wall!C27)","v":""},{"$f":"IF(Wall!D27=\"\",\"\",Wall!D27)","v":""},{"$f":"IF(Wall!E27=\"\",\"\",Wall!E27)","v":""},{"$f":"IF(Wall!O27=\"\",\"\",Wall!O27)","v":false},{"$f":"IF(Wall!P27=\"\",\"\",Wall!P27)","v":false},"",{"$f":"IF(Wall!D52=\"\",\"\",Wall!D52)","v":""},{"$f":"IF(AI29=\"\",\"\",MAX(AH$10:AH28)+1)","v":""},{"$f":"IF(Room!C23=\"\",\"\",Room!C23)","v":""},{"$f":"IF(Room!D23=\"\",\"\",Room!D23)","v":""},null,null,null,null,19,"",""]
[null,null,null,null,null,"","","",null,"","","","","","","",null,null,null,null,null,null,null,null,null,{"$f":"IF(AA30=\"\",\"\",MAX(Z$10:Z29)+1)","v":""},{"$f":"IF(Wall!C28=\"\",\"\",Wall!C28)","v":""},{"$f":"IF(Wall!D28=\"\",\"\",Wall!D28)","v":""},{"$f":"IF(Wall!E28=\"\",\"\",Wall!E28)","v":""},{"$f":"IF(Wall!O28=\"\",\"\",Wall!O28)","v":false},{"$f":"IF(Wall!P28=\"\",\"\",Wall!P28)","v":false},"",{"$f":"IF(Wall!D53=\"\",\"\",Wall!D53)","v":""},{"$f":"IF(AI30=\"\",\"\",MAX(AH$10:AH29)+1)","v":""},{"$f":"IF(Room!C24=\"\",\"\",Room!C24)","v":""},{"$f":"IF(Room!D24=\"\",\"\",Room!D24)","v":""},null,null,null,null,20,"",""]
[null,null,null,null,null,"","","",null,"","","","","","","",null,null,null,null,null,null,null,null,null,null,null,null,null,null,null,null,null,{"$f":"IF(AI31=\"\",\"\",MAX(AH$10:AH30)+1)","v":""},{"$f":"IF(Room!C25=\"\",\"\",Room!C25)","v":""},{"$f":"IF(Room!D25=\"\",\"\",Room!D25)","v":""},null,null,null,null,21,{"$f":"IF(AO31>Z$45,\"\",VLOOKUP(AO31,Z31:AA49,2,FALSE))","v":""},""]
[null,null,null,null,null,"","","",null,"","","","","","","",null,null,null,null,null,null,null,null,null,null,null,null,null,null,null,null,null,{"$f":"IF(AI32=\"\",\"\",MAX(AH$10:AH31)+1)","v":""},{"$f":"IF(Room!C26=\"\",\"\",Room!C26)","v":""},{"$f":"IF(Room!D26=\"\",\"\",Room!D26)","v":""},null,null,null,null,22,{"$f":"IF(AO32>Z$45,\"\",VLOOKUP(AO32,Z32:AA49,2,FALSE))","v":""},""]
[null,null,null,null,null,"","","",null,"","","","","","","",null,null,null,null,null,null,null,null,null,null,null,null,null,null,null,null,null,{"$f":"IF(AI33=\"\",\"\",MAX(AH$10:AH32)+1)","v":""},{"$f":"IF(Room!C27=\"\",\"\",Room!C27)","v":""},{"$f":"IF(Room!D27=\"\",\"\",Room!D27)","v":""},null,null,null,null,23,{"$f":"IF(AO33>Z$45,\"\",VLOOKUP(AO33,Z33:AA49,2,FALSE))","v":""},""]
[null,null,null,null,null,"","","",null,"","","","","","","",null,null,null,null,null,null,null,null,null,null,null,null,null,null,null,null,null,{"$f":"IF(AI34=\"\",\"\",MAX(AH$10:AH33)+1)","v":""},{"$f":"IF(Room!C28=\"\",\"\",Room!C28)","v":""},{"$f":"IF(Room!D28=\"\",\"\",Room!D28)","v":""},null,null,null,null,24,{"$f":"IF(AO34>Z$45,\"\",VLOOKUP(AO34,Z34:AA49,2,FALSE))","v":""},""]
[null,null,null,null,null,"","","",null,"","","","","","","",null,null,null,null,null,null,null,null,null,null,null,null,null,null,null,null,null,{"$f":"IF(AI35=\"\",\"\",MAX(AH$10:AH34)+1)","v":""},{"$f":"IF(Room!C29=\"\",\"\",Room!C29)","v":""},{"$f":"IF(Room!D29=\"\",\"\",Room!D29)","v":""},null,null,null,null,25,{"$f":"IF(AO35>Z$45,\"\",VLOOKUP(AO35,Z35:AA49,2,FALSE))","v":""},""]
[null,null,null,null,null,"","","",null,"","","","","","","",null,null,null,null,null,null,null,null,null,null,null,null,null,null,null,null,null,{"$f":"IF(AI36=\"\",\"\",MAX(AH$10:AH35)+1)","v":""},{"$f":"IF(Room!C30=\"\",\"\",Room!C30)","v":""},{"$f":"IF(Room!D30=\"\",\"\",Room!D30)","v":""},null,null,null,null,26,{"$f":"IF(AO36>Z$45,\"\",VLOOKUP(AO36,Z36:AA49,2,FALSE))","v":""},""]
[null,null,null,null,null,"","","",null,"","","","","","","",null,null,null,null,null,null,null,null,null,null,null,null,null,null,null,null,null,{"$f":"IF(AI37=\"\",\"\",MAX(AH$10:AH36)+1)","v":""},{"$f":"IF(Room!C31=\"\",\"\",Room!C31)","v":""},{"$f":"IF(Room!D31=\"\",\"\",Room!D31)","v":""},null,null,null,null,27,{"$f":"IF(AO37>Z$45,\"\",VLOOKUP(AO37,Z37:AA49,2,FALSE))","v":""},""]
[null,null,null,null,null,"","","",null,"","","","","","","",null,null,null,null,null,null,null,null,null,null,null,null,null,null,null,null,null,{"$f":"IF(AI38=\"\",\"\",MAX(AH$10:AH37)+1)","v":""},{"$f":"IF(Room!C32=\"\",\"\",Room!C32)","v":""},{"$f":"IF(Room!D32=\"\",\"\",Room!D32)","v":""},null,null,null,null,28,{"$f":"IF(AO38>Z$45,\"\",VLOOKUP(AO38,Z38:AA49,2,FALSE))","v":""},""]
[null,null,null,null,null,"","","",null,"","","","","","","",null,null,null,null,null,null,null,null,null,null,null,null,null,null,null,null,null,{"$f":"IF(AI39=\"\",\"\",MAX(AH$10:AH38)+1)","v":""},{"$f":"IF(Room!C33=\"\",\"\",Room!C33)","v":""},{"$f":"IF(Room!D33=\"\",\"\",Room!D33)","v":""},null,null,null,null,29,{"$f":"IF(AO39>Z$45,\"\",VLOOKUP(AO39,Z39:AA49,2,FALSE))","v":""},""]
[null,null,null,null,null,"","","",null,"","","","","","","",null,null,null,null,null,null,null,null,null,null,null,null,null,null,null,null,null,{"$f":"IF(AI40=\"\",\"\",MAX(AH$10:AH39)+1)","v":""},{"$f":"IF(Room!C34=\"\",\"\",Room!C34)","v":""},{"$f":"IF(Room!D34=\"\",\"\",Room!D34)","v":""},null,null,null,null,30,{"$f":"IF(AO40>Z$45,\"\",VLOOKUP(AO40,Z40:AA50,2,FALSE))","v":""},""]
[null,null,null,null,null,"","","",null,"","","","","","","",null,null,null,null,null,null,null,null,null,null,null,null,null,null,null,null,null,{"$f":"IF(AI41=\"\",\"\",MAX(AH$10:AH40)+1)","v":""},{"$f":"IF(Room!C35=\"\",\"\",Room!C35)","v":""},{"$f":"IF(Room!D35=\"\",\"\",Room!D35)","v":""},null,null,null,null,31,{"$f":"IF(AO41>Z$45,\"\",VLOOKUP(AO41,Z41:AA51,2,FALSE))","v":""},""]
[null,null,null,null,null,null,null,null,null,null,null,null,null,null,null,null,null,null,null,null,null,null,null,null,null,null,null,null,null,null,null,null,null,{"$f":"IF(AI42=\"\",\"\",MAX(AH$10:AH41)+1)","v":""},{"$f":"IF(Room!C36=\"\",\"\",Room!C36)","v":""},{"$f":"IF(Room!D36=\"\",\"\",Room!D36)","v":""},null,null,null,null,32,{"$f":"IF(AO42>Z$45,\"\",VLOOKUP(AO42,Z42:AA52,2,FALSE))","v":""},""]
[]
[]
[null,null,null,null,null,null,null,null,null,null,null,null,null,null,null,null,null,null,null,null,null,null,null,null,"Max",{"$f":"MAX(Z11:Z30)","v":0},null,null,null,null,null,null,"Max",{"$f":"MAX(AH11:AH42)","v":0}]

{"sheet":"T16","index":22,"n_rows":45,"n_cols":43,"rows_kept":45,"cut":false,"hidden":false,"merged":[[3,1,3,7],[7,1,7,7]]}
[]
[]
[]
[null,{"$f":"Langage!A54","v":"Perte thermique par transmission"}]
[]
[null,{"$f":"IF(S10=\"\",\"\",S10)","v":""},{"$f":"IF(S11=\"\",\"\",S11)","v":""},"°C",null,null,"FT,i   W",{"$f":"IF(C6=\"\",\"\",SUM(H12:H41))","v":""},null,null,null,null,null,"FT,i   W",null,{"$f":"IF(C6=\"\",\"\",SUM(P12:P40))","v":""},null,"Ceci reprend les valeurs dans les les autres onglets de façon à pouvoir les utiliser dans le présent onglet.",null,null,null,null,null,null,null,null,null,null,null,null,null,null,null,null,null,null,null,null,null,null,"Ceci recrée des listes sans vides pour les menus déroulants"]
[]
[null,null,null,null,null,null,null,null,null,null,null,null,null,null,null,null,null,"N° onglet",16,"Valeur à changer dans toutes les feuilles T",null,null,null,null,{"$f":"16+S8","v":32}]
[]
[null,null,null,"Ak","hm,k","Uk","DT","FT,i,k",null,"Tout","Tin","fqann","fGW","Chff sol","Chff mur","FT,i,k",null,"Espace",{"$f":"IF(INDIRECT(\"Room!C\"&Y8)=\"\",\"\",CONCATENATE(INDIRECT(\"Room!B\"&Y8),\". \",INDIRECT(\"Room!C\"&Y8)))","v":""},null,null,null,null,null,null,null,"Parois","U","DUTB","Chff sol","Chff mur","Utot",null,null,"Espaces",null,null,null,null,null,null,"Parois","Espace"]
[null,{"$f":"Langage!A20","v":"Parois"},{"$f":"Langage!A24","v":"Espace"},"m²","m","W/m².K","°C","W",null,null,null,null,null,null,"W",null,null,"qint   °C",{"$f":"IF(INDIRECT(\"Room!D\"&Y8)=\"\",\"\",INDIRECT(\"Room!D\"&Y8))","v":""},null,null,null,null,null,null,{"$f":"IF(AA11=\"\",\"\",MAX(Z$10:Z10)+1)","v":""},{"$f":"IF(Wall!C9=\"\",\"\",Wall!C9)","v":""},{"$f":"IF(Wall!D9=\"\",\"\",Wall!D9)","v":""},{"$f":"IF(Wall!E9=\"\",\"\",Wall!E9)","v":""},{"$f":"IF(Wall!O9=\"\",\"\",Wall!O9)","v":false},{"$f":"IF(Wall!P9=\"\",\"\",Wall!P9)","v":false},{"$f":"IF(AB11=\"\",\"\",(IF(AC11=\"\",AB11,AB11+AC11)))","v":""},{"$f":"IF(Wall!D34=\"\",\"\",Wall!D34)","v":""},{"$f":"IF(AI11=\"\",\"\",MAX(AH$10:AH10)+1)","v":""},{"$f":"IF(Room!C42=\"\",\"\",Room!C42)","v":""},{"$f":"IF(Room!D42=\"\",\"\",Room!D42)","v":""},null,null,null,null,1,{"$f":"IF(AO11>Z$45,\"\",VLOOKUP(AO11,Z11:AA30,2,FALSE))","v":""},{"$f":"IF(AO11>AH$45,\"\",VLOOKUP(AO11,AH11:AI42,2,FALSE))","v":""}]
[null,null,null,null,null,{"$f":"IF(B12=\"\",\"\",VLOOKUP(B12,AA$11:AF$30,6,FALSE))","v":""},{"$f":"IF(OR(K12=\"\",J12=\"\"),\"\",K12-J12)","v":""},{"$f":"IF(P12=\"\",\"\",P12)","v":""},null,{"$f":"IF(C12=\"\",\"\",VLOOKUP(C12,AI$11:AJ$42,2,FALSE))","v":""},{"$f":"IF(B12=\"\",\"\",IF(S$15<4,C$6,IF(E12=\"\",\"\",C$6+S$14*(E12-1))))","v":""},{"$f":"IF(C12=\"\",\"\",IF(VLOOKUP(C12,AI$11:AL$42,3,FALSE)=\"\",\"\",VLOOKUP(C12,AI$11:AL$42,3,FALSE)))","v":""},{"$f":"IF(C12=\"\",\"\",IF(VLOOKUP(C12,AI$11:AL$42,4,FALSE)=\"\",\"\",VLOOKUP(C12,AI$11:AL$42,4,FALSE)))","v":""},{"$f":"IF(B12=\"\",\"\",VLOOKUP(B12,AA$11:AF$30,4,FALSE))","v":""},{"$f":"IF(B12=\"\",\"\",VLOOKUP(B12,AA$11:AF$30,5,FALSE))","v":""},{"$f":"IF(OR(N12=TRUE,O12=TRUE),\"///\",IF(OR(D12=\"\",F12=\"\",G12=\"\"),\"\",IF(OR(L12=\"\",M12=\"\"),D12*F12*G12,D12*F12*G12*L12*M12)))","v":""},null,"qe   °C",{"$f":"IF(Room!F8=\"\",\"\",Room!F8)","v":""},null,null,null,null,null,null,{"$f":"IF(AA12=\"\",\"\",MAX(Z$10:Z11)+1)","v":""},{"$f":"IF(Wall!C10=\"\",\"\",Wall!C10)","v":""},{"$f":"IF(Wall!D10=\"\",\"\",Wall!D10)","v":""},{"$f":"IF(Wall!E10=\"\",\"\",Wall!E10)","v":""},{"$f":"IF(Wall!O10=\"\",\"\",Wall!O10)","v":false},{"$f":"IF(Wall!P10=\"\",\"\",Wall!P10)","v":false},{"$f":"IF(AB12=\"\",\"\",(IF(AC12=\"\",AB12,AB12+AC12)))","v":""},{"$f":"IF(Wall!D35=\"\",\"\",Wall!D35)","v":""},{"$f":"IF(AI12=\"\",\"\",MAX(AH$10:AH11)+1)","v":""},{"$f":"IF(Room!C47=\"\",\"\",Room!C47)","v":""},{"$f":"IF(Room!D47=\"\",\"\",Room!D47)","v":""},{"$f":"IF(Room!E47=\"\",\"\",Room!E47)","v":1.45},{"$f":"IF(Room!F47=\"\",\"\",Room!F47)","v":1.1499999999999999},null,null,2,{"$f":"IF(AO12>Z$45,\"\",VLOOKUP(AO12,Z12:AA31,2,FALSE))","v":""},{"$f":"IF(AO12>AH$45,\"\",VLOOKUP(AO12,AH12:AI43,2,FALSE))","v":""}]
[null,null,null,null,null,{"$f":"IF(B13=\"\",\"\",VLOOKUP(B13,AA$11:AF$30,6,FALSE))","v":""},{"$f":"IF(OR(K13=\"\",J13=\"\"),\"\",K13-J13)","v":""},{"$f":"IF(P13=\"\",\"\",P13)","v":""},null,"",{"$f":"IF(B13=\"\",\"\",IF(S$15<4,C$6,IF(E13=\"\",\"\",C$6+S$14*(E13-1))))","v":""},"","","",{"$f":"IF(B13=\"\",\"\",VLOOKUP(B13,AA$11:AF$30,5,FALSE))","v":""},{"$f":"IF(OR(N13=TRUE,O13=TRUE),\"///\",IF(OR(D13=\"\",F13=\"\",G13=\"\"),\"\",IF(OR(L13=\"\",M13=\"\"),D13*F13*G13,D13*F13*G13*L13*M13)))","v":""},null,"qm,e   °C",{"$f":"IF(Room!F9=\"\",\"\",Room!F9)","v":""},null,null,null,null,null,null,{"$f":"IF(AA13=\"\",\"\",MAX(Z$10:Z12)+1)","v":""},{"$f":"IF(Wall!C11=\"\",\"\",Wall!C11)","v":""},{"$f":"IF(Wall!D11=\"\",\"\",Wall!D11)","v":""},{"$f":"IF(Wall!E11=\"\",\"\",Wall!E11)","v":""},{"$f":"IF(Wall!O11=\"\",\"\",Wall!O11)","v":false},{"$f":"IF(Wall!P11=\"\",\"\",Wall!P11)","v":false},"",{"$f":"IF(Wall!D36=\"\",\"\",Wall!D36)","v":""},{"$f":"IF(AI13=\"\",\"\",MAX(AH$10:AH12)+1)","v":""},{"$f":"IF(Room!C52=\"\",\"\",Room!C52)","v":""},{"$f":"IF(Room!D52=\"\",\"\",Room!D52)","v":""},null,null,null,null,3,"",""]
[null,null,null,null,null,"","","",null,"","","","","","","",null,"Gq,air,i  °C/m",{"$f":"IF(INDIRECT(\"Room!T\"&Y8)=\"\",\"\",INDIRECT(\"Room!T\"&Y8))","v":""},null,null,null,null,null,null,{"$f":"IF(AA14=\"\",\"\",MAX(Z$10:Z13)+1)","v":""},{"$f":"IF(Wall!C12=\"\",\"\",Wall!C12)","v":""},{"$f":"IF(Wall!D12=\"\",\"\",Wall!D12)","v":""},{"$f":"IF(Wall!E12=\"\",\"\",Wall!E12)","v":""},{"$f":"IF(Wall!O12=\"\",\"\",Wall!O12)","v":false},{"$f":"IF(Wall!P12=\"\",\"\",Wall!P12)","v":false},"",{"$f":"IF(Wall!D37=\"\",\"\",Wall!D37)","v":""},{"$f":"IF(AI14=\"\",\"\",MAX(AH$10:AH13)+1)","v":""},{"$f":"IF(Room!C53=\"\",\"\",Room!C53)","v":""},{"$f":"IF(Room!D53=\"\",\"\",Room!D53)","v":""},null,null,null,null,4,"",""]
[null,null,null,null,null,"","","",null,"","","","","","","",null,"hi   m",{"$f":"IF(INDIRECT(\"Room!Q\"&Y8)=\"\",\"\",INDIRECT(\"Room!Q\"&Y8))","v":""},null,null,null,null,null,null,{"$f":"IF(AA15=\"\",\"\",MAX(Z$10:Z14)+1)","v":""},{"$f":"IF(Wall!C13=\"\",\"\",Wall!C13)","v":""},{"$f":"IF(Wall!D13=\"\",\"\",Wall!D13)","v":""},{"$f":"IF(Wall!E13=\"\",\"\",Wall!E13)","v":""},{"$f":"IF(Wall!O13=\"\",\"\",Wall!O13)","v":false},{"$f":"IF(Wall!P13=\"\",\"\",Wall!P13)","v":false},"",{"$f":"IF(Wall!D38=\"\",\"\",Wall!D38)","v":""},{"$f":"IF(AI15=\"\",\"\",MAX(AH$10:AH14)+1)","v":""},{"$f":"IF(Room!C54=\"\",\"\",Room!C54)","v":""},{"$f":"IF(Room!D54=\"\",\"\",Room!D54)","v":""},null,null,null,null,5,"",""]
[null,null,null,null,null,"","","",null,"","","","","","","",null,null,null,null,null,null,null,null,null,{"$f":"IF(AA16=\"\",\"\",MAX(Z$10:Z15)+1)","v":""},{"$f":"IF(Wall!C14=\"\",\"\",Wall!C14)","v":""},{"$f":"IF(Wall!D14=\"\",\"\",Wall!D14)","v":""},{"$f":"IF(Wall!E14=\"\",\"\",Wall!E14)","v":""},{"$f":"IF(Wall!O14=\"\",\"\",Wall!O14)","v":false},{"$f":"IF(Wall!P14=\"\",\"\",Wall!P14)","v":false},"",{"$f":"IF(Wall!D39=\"\",\"\",Wall!D39)","v":""},{"$f":"IF(AI16=\"\",\"\",MAX(AH$10:AH15)+1)","v":""},{"$f":"IF(Room!C55=\"\",\"\",Room!C55)","v":""},{"$f":"IF(Room!D55=\"\",\"\",Room!D55)","v":""},null,null,null,null,6,"",""]
[null,null,null,null,null,"","","",null,"","","","","","","",null,null,null,null,null,null,null,null,null,{"$f":"IF(AA17=\"\",\"\",MAX(Z$10:Z16)+1)","v":""},{"$f":"IF(Wall!C15=\"\",\"\",Wall!C15)","v":""},{"$f":"IF(Wall!D15=\"\",\"\",Wall!D15)","v":""},{"$f":"IF(Wall!E15=\"\",\"\",Wall!E15)","v":""},{"$f":"IF(Wall!O15=\"\",\"\",Wall!O15)","v":false},{"$f":"IF(Wall!P15=\"\",\"\",Wall!P15)","v":false},"",{"$f":"IF(Wall!D40=\"\",\"\",Wall!D40)","v":""},{"$f":"IF(AI17=\"\",\"\",MAX(AH$10:AH16)+1)","v":""},{"$f":"IF(Room!C56=\"\",\"\",Room!C56)","v":""},{"$f":"IF(Room!D56=\"\",\"\",Room!D56)","v":""},null,null,null,null,7,"",""]
[null,null,null,null,null,"","","",null,"","","","","","","",null,null,null,null,null,null,null,null,null,{"$f":"IF(AA18=\"\",\"\",MAX(Z$10:Z17)+1)","v":""},{"$f":"IF(Wall!C16=\"\",\"\",Wall!C16)","v":""},{"$f":"IF(Wall!D16=\"\",\"\",Wall!D16)","v":""},{"$f":"IF(Wall!E16=\"\",\"\",Wall!E16)","v":""},{"$f":"IF(Wall!O16=\"\",\"\",Wall!O16)","v":false},{"$f":"IF(Wall!P16=\"\",\"\",Wall!P16)","v":false},"",{"$f":"IF(Wall!D41=\"\",\"\",Wall!D41)","v":""},{"$f":"IF(AI18=\"\",\"\",MAX(AH$10:AH17)+1)","v":""},{"$f":"IF(Room!C61=\"\",\"\",Room!C61)","v":""},{"$f":"IF(Room!D61=\"\",\"\",Room!D61)","v":""},null,null,null,null,8,"",""]
[null,null,null,null,null,"","","",null,"","","","","","","",null,null,null,null,null,null,null,null,null,{"$f":"IF(AA19=\"\",\"\",MAX(Z$10:Z18)+1)","v":""},{"$f":"IF(Wall!C17=\"\",\"\",Wall!C17)","v":""},{"$f":"IF(Wall!D17=\"\",\"\",Wall!D17)","v":""},{"$f":"IF(Wall!E17=\"\",\"\",Wall!E17)","v":""},{"$f":"IF(Wall!O17=\"\",\"\",Wall!O17)","v":false},{"$f":"IF(Wall!P17=\"\",\"\",Wall!P17)","v":false},"",{"$f":"IF(Wall!D42=\"\",\"\",Wall!D42)","v":""},{"$f":"IF(AI19=\"\",\"\",MAX(AH$10:AH18)+1)","v":""},{"$f":"IF(Room!C62=\"\",\"\",Room!C62)","v":""},{"$f":"IF(Room!D62=\"\",\"\",Room!D62)","v":""},null,null,null,null,9,"",{"$f":"IF(AO19>AH$45,\"\",VLOOKUP(AO19,AH19:AI49,2,FALSE))","v":""}]
[null,null,null,null,null,"","","",null,"","","","","","","",null,null,null,null,null,null,null,null,null,{"$f":"IF(AA20=\"\",\"\",MAX(Z$10:Z19)+1)","v":""},{"$f":"IF(Wall!C18=\"\",\"\",Wall!C18)","v":""},{"$f":"IF(Wall!D18=\"\",\"\",Wall!D18)","v":""},{"$f":"IF(Wall!E18=\"\",\"\",Wall!E18)","v":""},{"$f":"IF(Wall!O18=\"\",\"\",Wall!O18)","v":false},{"$f":"IF(Wall!P18=\"\",\"\",Wall!P18)","v":false},"",{"$f":"IF(Wall!D43=\"\",\"\",Wall!D43)","v":""},{"$f":"IF(AI20=\"\",\"\",MAX(AH$10:AH19)+1)","v":""},{"$f":"IF(Room!C63=\"\",\"\",Room!C63)","v":""},{"$f":"IF(Room!D63=\"\",\"\",Room!D63)","v":""},null,null,null,null,10,"",{"$f":"IF(AO20>AH$45,\"\",VLOOKUP(AO20,AH20:AI49,2,FALSE))","v":""}]
[null,null,null,null,null,"","","",null,"","","","","","","",null,null,null,null,null,null,null,null,null,{"$f":"IF(AA21=\"\",\"\",MAX(Z$10:Z20)+1)","v":""},{"$f":"IF(Wall!C19=\"\",\"\",Wall!C19)","v":""},{"$f":"IF(Wall!D19=\"\",\"\",Wall!D19)","v":""},{"$f":"IF(Wall!E19=\"\",\"\",Wall!E19)","v":""},{"$f":"IF(Wall!O19=\"\",\"\",Wall!O19)","v":false},{"$f":"IF(Wall!P19=\"\",\"\",Wall!P19)","v":false},"",{"$f":"IF(Wall!D44=\"\",\"\",Wall!D44)","v":""},{"$f":"IF(AI21=\"\",\"\",MAX(AH$10:AH20)+1)","v":""},{"$f":"IF(Room!C64=\"\",\"\",Room!C64)","v":""},{"$f":"IF(Room!D64=\"\",\"\",Room!D64)","v":""},null,null,null,null,11,"",{"$f":"IF(AO21>AH$45,\"\",VLOOKUP(AO21,AH21:AI49,2,FALSE))","v":""}]
[null,null,null,null,null,"","","",null,"","","","","","","",null,null,null,null,null,null,null,null,null,{"$f":"IF(AA22=\"\",\"\",MAX(Z$10:Z21)+1)","v":""},{"$f":"IF(Wall!C20=\"\",\"\",Wall!C20)","v":""},{"$f":"IF(Wall!D20=\"\",\"\",Wall!D20)","v":""},{"$f":"IF(Wall!E20=\"\",\"\",Wall!E20)","v":""},{"$f":"IF(Wall!O20=\"\",\"\",Wall!O20)","v":false},{"$f":"IF(Wall!P20=\"\",\"\",Wall!P20)","v":false},"",{"$f":"IF(Wall!D45=\"\",\"\",Wall!D45)","v":""},{"$f":"IF(AI22=\"\",\"\",MAX(AH$10:AH21)+1)","v":""},{"$f":"IF(Room!C65=\"\",\"\",Room!C65)","v":""},{"$f":"IF(Room!D65=\"\",\"\",Room!D65)","v":""},null,null,null,null,12,"",{"$f":"IF(AO22>AH$45,\"\",VLOOKUP(AO22,AH22:AI49,2,FALSE))","v":""}]
[null,null,null,null,null,"","","",null,"","","","","","","",null,null,null,null,null,null,null,null,null,{"$f":"IF(AA23=\"\",\"\",MAX(Z$10:Z22)+1)","v":""},{"$f":"IF(Wall!C21=\"\",\"\",Wall!C21)","v":""},{"$f":"IF(Wall!D21=\"\",\"\",Wall!D21)","v":""},{"$f":"IF(Wall!E21=\"\",\"\",Wall!E21)","v":""},{"$f":"IF(Wall!O21=\"\",\"\",Wall!O21)","v":false},{"$f":"IF(Wall!P21=\"\",\"\",Wall!P21)","v":false},"",{"$f":"IF(Wall!D46=\"\",\"\",Wall!D46)","v":""},{"$f":"IF(AI23=\"\",\"\",MAX(AH$10:AH22)+1)","v":""},{"$f":"IF(Room!C17=\"\",\"\",Room!C17)","v":""},{"$f":"IF(Room!D17=\"\",\"\",Room!D17)","v":""},null,null,null,null,13,"",{"$f":"IF(AO23>AH$45,\"\",VLOOKUP(AO23,AH23:AI49,2,FALSE))","v":""}]
[null,null,null,null,null,"","","",null,"","","","","","","",null,null,null,null,null,null,null,null,null,{"$f":"IF(AA24=\"\",\"\",MAX(Z$10:Z23)+1)","v":""},{"$f":"IF(Wall!C22=\"\",\"\",Wall!C22)","v":""},{"$f":"IF(Wall!D22=\"\",\"\",Wall!D22)","v":""},{"$f":"IF(Wall!E22=\"\",\"\",Wall!E22)","v":""},{"$f":"IF(Wall!O22=\"\",\"\",Wall!O22)","v":false},{"$f":"IF(Wall!P22=\"\",\"\",Wall!P22)","v":false},"",{"$f":"IF(Wall!D47=\"\",\"\",Wall!D47)","v":""},{"$f":"IF(AI24=\"\",\"\",MAX(AH$10:AH23)+1)","v":""},{"$f":"IF(Room!C18=\"\",\"\",Room!C18)","v":""},{"$f":"IF(Room!D18=\"\",\"\",Room!D18)","v":""},null,null,null,null,14,"",{"$f":"IF(AO24>AH$45,\"\",VLOOKUP(AO24,AH24:AI49,2,FALSE))","v":""}]
[null,null,null,null,null,"","","",null,"","","","","","","",null,null,null,null,null,null,null,null,null,{"$f":"IF(AA25=\"\",\"\",MAX(Z$10:Z24)+1)","v":""},{"$f":"IF(Wall!C23=\"\",\"\",Wall!C23)","v":""},{"$f":"IF(Wall!D23=\"\",\"\",Wall!D23)","v":""},{"$f":"IF(Wall!E23=\"\",\"\",Wall!E23)","v":""},{"$f":"IF(Wall!O23=\"\",\"\",Wall!O23)","v":false},{"$f":"IF(Wall!P23=\"\",\"\",Wall!P23)","v":false},"",{"$f":"IF(Wall!D48=\"\",\"\",Wall!D48)","v":""},{"$f":"IF(AI25=\"\",\"\",MAX(AH$10:AH24)+1)","v":""},{"$f":"IF(Room!C19=\"\",\"\",Room!C19)","v":""},{"$f":"IF(Room!D19=\"\",\"\",Room!D19)","v":""},null,null,null,null,15,"",{"$f":"IF(AO25>AH$45,\"\",VLOOKUP(AO25,AH25:AI49,2,FALSE))","v":""}]
[null,null,null,null,null,"","","",null,"","","","","","","",null,null,null,null,null,null,null,null,null,{"$f":"IF(AA26=\"\",\"\",MAX(Z$10:Z25)+1)","v":""},{"$f":"IF(Wall!C24=\"\",\"\",Wall!C24)","v":""},{"$f":"IF(Wall!D24=\"\",\"\",Wall!D24)","v":""},{"$f":"IF(Wall!E24=\"\",\"\",Wall!E24)","v":""},{"$f":"IF(Wall!O24=\"\",\"\",Wall!O24)","v":false},{"$f":"IF(Wall!P24=\"\",\"\",Wall!P24)","v":false},"",{"$f":"IF(Wall!D49=\"\",\"\",Wall!D49)","v":""},{"$f":"IF(AI26=\"\",\"\",MAX(AH$10:AH25)+1)","v":""},{"$f":"IF(Room!C20=\"\",\"\",Room!C20)","v":""},{"$f":"IF(Room!D20=\"\",\"\",Room!D20)","v":""},null,null,null,null,16,"",{"$f":"IF(AO26>AH$45,\"\",VLOOKUP(AO26,AH26:AI49,2,FALSE))","v":""}]
[null,null,null,null,null,"","","",null,"","","","","","","",null,null,null,null,null,null,null,null,null,{"$f":"IF(AA27=\"\",\"\",MAX(Z$10:Z26)+1)","v":""},{"$f":"IF(Wall!C25=\"\",\"\",Wall!C25)","v":""},{"$f":"IF(Wall!D25=\"\",\"\",Wall!D25)","v":""},{"$f":"IF(Wall!E25=\"\",\"\",Wall!E25)","v":""},{"$f":"IF(Wall!O25=\"\",\"\",Wall!O25)","v":false},{"$f":"IF(Wall!P25=\"\",\"\",Wall!P25)","v":false},"",{"$f":"IF(Wall!D50=\"\",\"\",Wall!D50)","v":""},{"$f":"IF(AI27=\"\",\"\",MAX(AH$10:AH26)+1)","v":""},{"$f":"IF(Room!C21=\"\",\"\",Room!C21)","v":""},{"$f":"IF(Room!D21=\"\",\"\",Room!D21)","v":""},null,null,null,null,17,"",{"$f":"IF(AO27>AH$45,\"\",VLOOKUP(AO27,AH27:AI49,2,FALSE))","v":""}]
[null,null,null,null,null,"","","",null,"","","","","","","",null,null,null,null,null,null,null,null,null,{"$f":"IF(AA28=\"\",\"\",MAX(Z$10:Z27)+1)","v":""},{"$f":"IF(Wall!C26=\"\",\"\",Wall!C26)","v":""},{"$f":"IF(Wall!D26=\"\",\"\",Wall!D26)","v":""},{"$f":"IF(Wall!E26=\"\",\"\",Wall!E26)","v":""},{"$f":"IF(Wall!O26=\"\",\"\",Wall!O26)","v":false},{"$f":"IF(Wall!P26=\"\",\"\",Wall!P26)","v":false},"",{"$f":"IF(Wall!D51=\"\",\"\",Wall!D51)","v":""},{"$f":"IF(AI28=\"\",\"\",MAX(AH$10:AH27)+1)","v":""},{"$f":"IF(Room!C22=\"\",\"\",Room!C22)","v":""},{"$f":"IF(Room!D22=\"\",\"\",Room!D22)","v":""},null,null,null,null,18,"",""]
[null,null,null,null,null,"","","",null,"","","","","","","",null,null,null,null,null,null,null,null,null,{"$f":"IF(AA29=\"\",\"\",MAX(Z$10:Z28)+1)","v":""},{"$f":"IF(Wall!C27=\"\",\"\",Wall!C27)","v":""},{"$f":"IF(Wall!D27=\"\",\"\",Wall!D27)","v":""},{"$f":"IF(Wall!E27=\"\",\"\",Wall!E27)","v":""},{"$f":"IF(Wall!O27=\"\",\"\",Wall!O27)","v":false},{"$f":"IF(Wall!P27=\"\",\"\",Wall!P27)","v":false},"",{"$f":"IF(Wall!D52=\"\",\"\",Wall!D52)","v":""},{"$f":"IF(AI29=\"\",\"\",MAX(AH$10:AH28)+1)","v":""},{"$f":"IF(Room!C23=\"\",\"\",Room!C23)","v":""},{"$f":"IF(Room!D23=\"\",\"\",Room!D23)","v":""},null,null,null,null,19,"",""]
[null,null,null,null,null,"","","",null,"","","","","","","",null,null,null,null,null,null,null,null,null,{"$f":"IF(AA30=\"\",\"\",MAX(Z$10:Z29)+1)","v":""},{"$f":"IF(Wall!C28=\"\",\"\",Wall!C28)","v":""},{"$f":"IF(Wall!D28=\"\",\"\",Wall!D28)","v":""},{"$f":"IF(Wall!E28=\"\",\"\",Wall!E28)","v":""},{"$f":"IF(Wall!O28=\"\",\"\",Wall!O28)","v":false},{"$f":"IF(Wall!P28=\"\",\"\",Wall!P28)","v":false},"",{"$f":"IF(Wall!D53=\"\",\"\",Wall!D53)","v":""},{"$f":"IF(AI30=\"\",\"\",MAX(AH$10:AH29)+1)","v":""},{"$f":"IF(Room!C24=\"\",\"\",Room!C24)","v":""},{"$f":"IF(Room!D24=\"\",\"\",Room!D24)","v":""},null,null,null,null,20,"",""]
[null,null,null,null,null,"","","",null,"","","","","","","",null,null,null,null,null,null,null,null,null,null,null,null,null,null,null,null,null,{"$f":"IF(AI31=\"\",\"\",MAX(AH$10:AH30)+1)","v":""},{"$f":"IF(Room!C25=\"\",\"\",Room!C25)","v":""},{"$f":"IF(Room!D25=\"\",\"\",Room!D25)","v":""},null,null,null,null,21,{"$f":"IF(AO31>Z$45,\"\",VLOOKUP(AO31,Z31:AA49,2,FALSE))","v":""},""]
[null,null,null,null,null,"","","",null,"","","","","","","",null,null,null,null,null,null,null,null,null,null,null,null,null,null,null,null,null,{"$f":"IF(AI32=\"\",\"\",MAX(AH$10:AH31)+1)","v":""},{"$f":"IF(Room!C26=\"\",\"\",Room!C26)","v":""},{"$f":"IF(Room!D26=\"\",\"\",Room!D26)","v":""},null,null,null,null,22,{"$f":"IF(AO32>Z$45,\"\",VLOOKUP(AO32,Z32:AA49,2,FALSE))","v":""},""]
[null,null,null,null,null,"","","",null,"","","","","","","",null,null,null,null,null,null,null,null,null,null,null,null,null,null,null,null,null,{"$f":"IF(AI33=\"\",\"\",MAX(AH$10:AH32)+1)","v":""},{"$f":"IF(Room!C27=\"\",\"\",Room!C27)","v":""},{"$f":"IF(Room!D27=\"\",\"\",Room!D27)","v":""},null,null,null,null,23,{"$f":"IF(AO33>Z$45,\"\",VLOOKUP(AO33,Z33:AA49,2,FALSE))","v":""},""]
[null,null,null,null,null,"","","",null,"","","","","","","",null,null,null,null,null,null,null,null,null,null,null,null,null,null,null,null,null,{"$f":"IF(AI34=\"\",\"\",MAX(AH$10:AH33)+1)","v":""},{"$f":"IF(Room!C28=\"\",\"\",Room!C28)","v":""},{"$f":"IF(Room!D28=\"\",\"\",Room!D28)","v":""},null,null,null,null,24,{"$f":"IF(AO34>Z$45,\"\",VLOOKUP(AO34,Z34:AA49,2,FALSE))","v":""},""]
[null,null,null,null,null,"","","",null,"","","","","","","",null,null,null,null,null,null,null,null,null,null,null,null,null,null,null,null,null,{"$f":"IF(AI35=\"\",\"\",MAX(AH$10:AH34)+1)","v":""},{"$f":"IF(Room!C29=\"\",\"\",Room!C29)","v":""},{"$f":"IF(Room!D29=\"\",\"\",Room!D29)","v":""},null,null,null,null,25,{"$f":"IF(AO35>Z$45,\"\",VLOOKUP(AO35,Z35:AA49,2,FALSE))","v":""},""]
[null,null,null,null,null,"","","",null,"","","","","","","",null,null,null,null,null,null,null,null,null,null,null,null,null,null,null,null,null,{"$f":"IF(AI36=\"\",\"\",MAX(AH$10:AH35)+1)","v":""},{"$f":"IF(Room!C30=\"\",\"\",Room!C30)","v":""},{"$f":"IF(Room!D30=\"\",\"\",Room!D30)","v":""},null,null,null,null,26,{"$f":"IF(AO36>Z$45,\"\",VLOOKUP(AO36,Z36:AA49,2,FALSE))","v":""},""]
[null,null,null,null,null,"","","",null,"","","","","","","",null,null,null,null,null,null,null,null,null,null,null,null,null,null,null,null,null,{"$f":"IF(AI37=\"\",\"\",MAX(AH$10:AH36)+1)","v":""},{"$f":"IF(Room!C31=\"\",\"\",Room!C31)","v":""},{"$f":"IF(Room!D31=\"\",\"\",Room!D31)","v":""},null,null,null,null,27,{"$f":"IF(AO37>Z$45,\"\",VLOOKUP(AO37,Z37:AA49,2,FALSE))","v":""},""]
[null,null,null,null,null,"","","",null,"","","","","","","",null,null,null,null,null,null,null,null,null,null,null,null,null,null,null,null,null,{"$f":"IF(AI38=\"\",\"\",MAX(AH$10:AH37)+1)","v":""},{"$f":"IF(Room!C32=\"\",\"\",Room!C32)","v":""},{"$f":"IF(Room!D32=\"\",\"\",Room!D32)","v":""},null,null,null,null,28,{"$f":"IF(AO38>Z$45,\"\",VLOOKUP(AO38,Z38:AA49,2,FALSE))","v":""},""]
[null,null,null,null,null,"","","",null,"","","","","","","",null,null,null,null,null,null,null,null,null,null,null,null,null,null,null,null,null,{"$f":"IF(AI39=\"\",\"\",MAX(AH$10:AH38)+1)","v":""},{"$f":"IF(Room!C33=\"\",\"\",Room!C33)","v":""},{"$f":"IF(Room!D33=\"\",\"\",Room!D33)","v":""},null,null,null,null,29,{"$f":"IF(AO39>Z$45,\"\",VLOOKUP(AO39,Z39:AA49,2,FALSE))","v":""},""]
[null,null,null,null,null,"","","",null,"","","","","","","",null,null,null,null,null,null,null,null,null,null,null,null,null,null,null,null,null,{"$f":"IF(AI40=\"\",\"\",MAX(AH$10:AH39)+1)","v":""},{"$f":"IF(Room!C34=\"\",\"\",Room!C34)","v":""},{"$f":"IF(Room!D34=\"\",\"\",Room!D34)","v":""},null,null,null,null,30,{"$f":"IF(AO40>Z$45,\"\",VLOOKUP(AO40,Z40:AA50,2,FALSE))","v":""},""]
[null,null,null,null,null,"","","",null,"","","","","","","",null,null,null,null,null,null,null,null,null,null,null,null,null,null,null,null,null,{"$f":"IF(AI41=\"\",\"\",MAX(AH$10:AH40)+1)","v":""},{"$f":"IF(Room!C35=\"\",\"\",Room!C35)","v":""},{"$f":"IF(Room!D35=\"\",\"\",Room!D35)","v":""},null,null,null,null,31,{"$f":"IF(AO41>Z$45,\"\",VLOOKUP(AO41,Z41:AA51,2,FALSE))","v":""},""]
[null,null,null,null,null,null,null,null,null,null,null,null,null,null,null,null,null,null,null,null,null,null,null,null,null,null,null,null,null,null,null,null,null,{"$f":"IF(AI42=\"\",\"\",MAX(AH$10:AH41)+1)","v":""},{"$f":"IF(Room!C36=\"\",\"\",Room!C36)","v":""},{"$f":"IF(Room!D36=\"\",\"\",Room!D36)","v":""},null,null,null,null,32,{"$f":"IF(AO42>Z$45,\"\",VLOOKUP(AO42,Z42:AA52,2,FALSE))","v":""},""]
[]
[]
[null,null,null,null,null,null,null,null,null,null,null,null,null,null,null,null,null,null,null,null,null,null,null,null,"Max",{"$f":"MAX(Z11:Z30)","v":0},null,null,null,null,null,null,"Max",{"$f":"MAX(AH11:AH42)","v":0}]

{"sheet":"T17","index":23,"n_rows":45,"n_cols":43,"rows_kept":45,"cut":false,"hidden":false,"merged":[[3,1,3,7],[7,1,7,7]]}
[]
[]
[]
[null,{"$f":"Langage!A54","v":"Perte thermique par transmission"}]
[]
[null,{"$f":"IF(S10=\"\",\"\",S10)","v":""},{"$f":"IF(S11=\"\",\"\",S11)","v":""},"°C",null,null,"FT,i   W",{"$f":"IF(C6=\"\",\"\",SUM(H12:H41))","v":""},null,null,null,null,null,"FT,i   W",null,{"$f":"IF(C6=\"\",\"\",SUM(P12:P40))","v":""},null,"Ceci reprend les valeurs dans les les autres onglets de façon à pouvoir les utiliser dans le présent onglet.",null,null,null,null,null,null,null,null,null,null,null,null,null,null,null,null,null,null,null,null,null,null,"Ceci recrée des listes sans vides pour les menus déroulants"]
[]
[null,null,null,null,null,null,null,null,null,null,null,null,null,null,null,null,null,"N° onglet",17,"Valeur à changer dans toutes les feuilles T",null,null,null,null,{"$f":"16+S8","v":33}]
[]
[null,null,null,"Ak","hm,k","Uk","DT","FT,i,k",null,"Tout","Tin","fqann","fGW","Chff sol","Chff mur","FT,i,k",null,"Espace",{"$f":"IF(INDIRECT(\"Room!C\"&Y8)=\"\",\"\",CONCATENATE(INDIRECT(\"Room!B\"&Y8),\". \",INDIRECT(\"Room!C\"&Y8)))","v":""},null,null,null,null,null,null,null,"Parois","U","DUTB","Chff sol","Chff mur","Utot",null,null,"Espaces",null,null,null,null,null,null,"Parois","Espace"]
[null,{"$f":"Langage!A20","v":"Parois"},{"$f":"Langage!A24","v":"Espace"},"m²","m","W/m².K","°C","W",null,null,null,null,null,null,"W",null,null,"qint   °C",{"$f":"IF(INDIRECT(\"Room!D\"&Y8)=\"\",\"\",INDIRECT(\"Room!D\"&Y8))","v":""},null,null,null,null,null,null,{"$f":"IF(AA11=\"\",\"\",MAX(Z$10:Z10)+1)","v":""},{"$f":"IF(Wall!C9=\"\",\"\",Wall!C9)","v":""},{"$f":"IF(Wall!D9=\"\",\"\",Wall!D9)","v":""},{"$f":"IF(Wall!E9=\"\",\"\",Wall!E9)","v":""},{"$f":"IF(Wall!O9=\"\",\"\",Wall!O9)","v":false},{"$f":"IF(Wall!P9=\"\",\"\",Wall!P9)","v":false},{"$f":"IF(AB11=\"\",\"\",(IF(AC11=\"\",AB11,AB11+AC11)))","v":""},{"$f":"IF(Wall!D34=\"\",\"\",Wall!D34)","v":""},{"$f":"IF(AI11=\"\",\"\",MAX(AH$10:AH10)+1)","v":""},{"$f":"IF(Room!C42=\"\",\"\",Room!C42)","v":""},{"$f":"IF(Room!D42=\"\",\"\",Room!D42)","v":""},null,null,null,null,1,{"$f":"IF(AO11>Z$45,\"\",VLOOKUP(AO11,Z11:AA30,2,FALSE))","v":""},{"$f":"IF(AO11>AH$45,\"\",VLOOKUP(AO11,AH11:AI42,2,FALSE))","v":""}]
[null,null,null,null,null,{"$f":"IF(B12=\"\",\"\",VLOOKUP(B12,AA$11:AF$30,6,FALSE))","v":""},{"$f":"IF(OR(K12=\"\",J12=\"\"),\"\",K12-J12)","v":""},{"$f":"IF(P12=\"\",\"\",P12)","v":""},null,{"$f":"IF(C12=\"\",\"\",VLOOKUP(C12,AI$11:AJ$42,2,FALSE))","v":""},{"$f":"IF(B12=\"\",\"\",IF(S$15<4,C$6,IF(E12=\"\",\"\",C$6+S$14*(E12-1))))","v":""},{"$f":"IF(C12=\"\",\"\",IF(VLOOKUP(C12,AI$11:AL$42,3,FALSE)=\"\",\"\",VLOOKUP(C12,AI$11:AL$42,3,FALSE)))","v":""},{"$f":"IF(C12=\"\",\"\",IF(VLOOKUP(C12,AI$11:AL$42,4,FALSE)=\"\",\"\",VLOOKUP(C12,AI$11:AL$42,4,FALSE)))","v":""},{"$f":"IF(B12=\"\",\"\",VLOOKUP(B12,AA$11:AF$30,4,FALSE))","v":""},{"$f":"IF(B12=\"\",\"\",VLOOKUP(B12,AA$11:AF$30,5,FALSE))","v":""},{"$f":"IF(OR(N12=TRUE,O12=TRUE),\"///\",IF(OR(D12=\"\",F12=\"\",G12=\"\"),\"\",IF(OR(L12=\"\",M12=\"\"),D12*F12*G12,D12*F12*G12*L12*M12)))","v":""},null,"qe   °C",{"$f":"IF(Room!F8=\"\",\"\",Room!F8)","v":""},null,null,null,null,null,null,{"$f":"IF(AA12=\"\",\"\",MAX(Z$10:Z11)+1)","v":""},{"$f":"IF(Wall!C10=\"\",\"\",Wall!C10)","v":""},{"$f":"IF(Wall!D10=\"\",\"\",Wall!D10)","v":""},{"$f":"IF(Wall!E10=\"\",\"\",Wall!E10)","v":""},{"$f":"IF(Wall!O10=\"\",\"\",Wall!O10)","v":false},{"$f":"IF(Wall!P10=\"\",\"\",Wall!P10)","v":false},{"$f":"IF(AB12=\"\",\"\",(IF(AC12=\"\",AB12,AB12+AC12)))","v":""},{"$f":"IF(Wall!D35=\"\",\"\",Wall!D35)","v":""},{"$f":"IF(AI12=\"\",\"\",MAX(AH$10:AH11)+1)","v":""},{"$f":"IF(Room!C47=\"\",\"\",Room!C47)","v":""},{"$f":"IF(Room!D47=\"\",\"\",Room!D47)","v":""},{"$f":"IF(Room!E47=\"\",\"\",Room!E47)","v":1.45},{"$f":"IF(Room!F47=\"\",\"\",Room!F47)","v":1.1499999999999999},null,null,2,{"$f":"IF(AO12>Z$45,\"\",VLOOKUP(AO12,Z12:AA31,2,FALSE))","v":""},{"$f":"IF(AO12>AH$45,\"\",VLOOKUP(AO12,AH12:AI43,2,FALSE))","v":""}]
[null,null,null,null,null,{"$f":"IF(B13=\"\",\"\",VLOOKUP(B13,AA$11:AF$30,6,FALSE))","v":""},{"$f":"IF(OR(K13=\"\",J13=\"\"),\"\",K13-J13)","v":""},{"$f":"IF(P13=\"\",\"\",P13)","v":""},null,"",{"$f":"IF(B13=\"\",\"\",IF(S$15<4,C$6,IF(E13=\"\",\"\",C$6+S$14*(E13-1))))","v":""},"","","",{"$f":"IF(B13=\"\",\"\",VLOOKUP(B13,AA$11:AF$30,5,FALSE))","v":""},{"$f":"IF(OR(N13=TRUE,O13=TRUE),\"///\",IF(OR(D13=\"\",F13=\"\",G13=\"\"),\"\",IF(OR(L13=\"\",M13=\"\"),D13*F13*G13,D13*F13*G13*L13*M13)))","v":""},null,"qm,e   °C",{"$f":"IF(Room!F9=\"\",\"\",Room!F9)","v":""},null,null,null,null,null,null,{"$f":"IF(AA13=\"\",\"\",MAX(Z$10:Z12)+1)","v":""},{"$f":"IF(Wall!C11=\"\",\"\",Wall!C11)","v":""},{"$f":"IF(Wall!D11=\"\",\"\",Wall!D11)","v":""},{"$f":"IF(Wall!E11=\"\",\"\",Wall!E11)","v":""},{"$f":"IF(Wall!O11=\"\",\"\",Wall!O11)","v":false},{"$f":"IF(Wall!P11=\"\",\"\",Wall!P11)","v":false},"",{"$f":"IF(Wall!D36=\"\",\"\",Wall!D36)","v":""},{"$f":"IF(AI13=\"\",\"\",MAX(AH$10:AH12)+1)","v":""},{"$f":"IF(Room!C52=\"\",\"\",Room!C52)","v":""},{"$f":"IF(Room!D52=\"\",\"\",Room!D52)","v":""},null,null,null,null,3,"",""]
[null,null,null,null,null,"","","",null,"","","","","","","",null,"Gq,air,i  °C/m",{"$f":"IF(INDIRECT(\"Room!T\"&Y8)=\"\",\"\",INDIRECT(\"Room!T\"&Y8))","v":""},null,null,null,null,null,null,{"$f":"IF(AA14=\"\",\"\",MAX(Z$10:Z13)+1)","v":""},{"$f":"IF(Wall!C12=\"\",\"\",Wall!C12)","v":""},{"$f":"IF(Wall!D12=\"\",\"\",Wall!D12)","v":""},{"$f":"IF(Wall!E12=\"\",\"\",Wall!E12)","v":""},{"$f":"IF(Wall!O12=\"\",\"\",Wall!O12)","v":false},{"$f":"IF(Wall!P12=\"\",\"\",Wall!P12)","v":false},"",{"$f":"IF(Wall!D37=\"\",\"\",Wall!D37)","v":""},{"$f":"IF(AI14=\"\",\"\",MAX(AH$10:AH13)+1)","v":""},{"$f":"IF(Room!C53=\"\",\"\",Room!C53)","v":""},{"$f":"IF(Room!D53=\"\",\"\",Room!D53)","v":""},null,null,null,null,4,"",""]
[null,null,null,null,null,"","","",null,"","","","","","","",null,"hi   m",{"$f":"IF(INDIRECT(\"Room!Q\"&Y8)=\"\",\"\",INDIRECT(\"Room!Q\"&Y8))","v":""},null,null,null,null,null,null,{"$f":"IF(AA15=\"\",\"\",MAX(Z$10:Z14)+1)","v":""},{"$f":"IF(Wall!C13=\"\",\"\",Wall!C13)","v":""},{"$f":"IF(Wall!D13=\"\",\"\",Wall!D13)","v":""},{"$f":"IF(Wall!E13=\"\",\"\",Wall!E13)","v":""},{"$f":"IF(Wall!O13=\"\",\"\",Wall!O13)","v":false},{"$f":"IF(Wall!P13=\"\",\"\",Wall!P13)","v":false},"",{"$f":"IF(Wall!D38=\"\",\"\",Wall!D38)","v":""},{"$f":"IF(AI15=\"\",\"\",MAX(AH$10:AH14)+1)","v":""},{"$f":"IF(Room!C54=\"\",\"\",Room!C54)","v":""},{"$f":"IF(Room!D54=\"\",\"\",Room!D54)","v":""},null,null,null,null,5,"",""]
[null,null,null,null,null,"","","",null,"","","","","","","",null,null,null,null,null,null,null,null,null,{"$f":"IF(AA16=\"\",\"\",MAX(Z$10:Z15)+1)","v":""},{"$f":"IF(Wall!C14=\"\",\"\",Wall!C14)","v":""},{"$f":"IF(Wall!D14=\"\",\"\",Wall!D14)","v":""},{"$f":"IF(Wall!E14=\"\",\"\",Wall!E14)","v":""},{"$f":"IF(Wall!O14=\"\",\"\",Wall!O14)","v":false},{"$f":"IF(Wall!P14=\"\",\"\",Wall!P14)","v":false},"",{"$f":"IF(Wall!D39=\"\",\"\",Wall!D39)","v":""},{"$f":"IF(AI16=\"\",\"\",MAX(AH$10:AH15)+1)","v":""},{"$f":"IF(Room!C55=\"\",\"\",Room!C55)","v":""},{"$f":"IF(Room!D55=\"\",\"\",Room!D55)","v":""},null,null,null,null,6,"",""]
[null,null,null,null,null,"","","",null,"","","","","","","",null,null,null,null,null,null,null,null,null,{"$f":"IF(AA17=\"\",\"\",MAX(Z$10:Z16)+1)","v":""},{"$f":"IF(Wall!C15=\"\",\"\",Wall!C15)","v":""},{"$f":"IF(Wall!D15=\"\",\"\",Wall!D15)","v":""},{"$f":"IF(Wall!E15=\"\",\"\",Wall!E15)","v":""},{"$f":"IF(Wall!O15=\"\",\"\",Wall!O15)","v":false},{"$f":"IF(Wall!P15=\"\",\"\",Wall!P15)","v":false},"",{"$f":"IF(Wall!D40=\"\",\"\",Wall!D40)","v":""},{"$f":"IF(AI17=\"\",\"\",MAX(AH$10:AH16)+1)","v":""},{"$f":"IF(Room!C56=\"\",\"\",Room!C56)","v":""},{"$f":"IF(Room!D56=\"\",\"\",Room!D56)","v":""},null,null,null,null,7,"",""]
[null,null,null,null,null,"","","",null,"","","","","","","",null,null,null,null,null,null,null,null,null,{"$f":"IF(AA18=\"\",\"\",MAX(Z$10:Z17)+1)","v":""},{"$f":"IF(Wall!C16=\"\",\"\",Wall!C16)","v":""},{"$f":"IF(Wall!D16=\"\",\"\",Wall!D16)","v":""},{"$f":"IF(Wall!E16=\"\",\"\",Wall!E16)","v":""},{"$f":"IF(Wall!O16=\"\",\"\",Wall!O16)","v":false},{"$f":"IF(Wall!P16=\"\",\"\",Wall!P16)","v":false},"",{"$f":"IF(Wall!D41=\"\",\"\",Wall!D41)","v":""},{"$f":"IF(AI18=\"\",\"\",MAX(AH$10:AH17)+1)","v":""},{"$f":"IF(Room!C61=\"\",\"\",Room!C61)","v":""},{"$f":"IF(Room!D61=\"\",\"\",Room!D61)","v":""},null,null,null,null,8,"",""]
[null,null,null,null,null,"","","",null,"","","","","","","",null,null,null,null,null,null,null,null,null,{"$f":"IF(AA19=\"\",\"\",MAX(Z$10:Z18)+1)","v":""},{"$f":"IF(Wall!C17=\"\",\"\",Wall!C17)","v":""},{"$f":"IF(Wall!D17=\"\",\"\",Wall!D17)","v":""},{"$f":"IF(Wall!E17=\"\",\"\",Wall!E17)","v":""},{"$f":"IF(Wall!O17=\"\",\"\",Wall!O17)","v":false},{"$f":"IF(Wall!P17=\"\",\"\",Wall!P17)","v":false},"",{"$f":"IF(Wall!D42=\"\",\"\",Wall!D42)","v":""},{"$f":"IF(AI19=\"\",\"\",MAX(AH$10:AH18)+1)","v":""},{"$f":"IF(Room!C62=\"\",\"\",Room!C62)","v":""},{"$f":"IF(Room!D62=\"\",\"\",Room!D62)","v":""},null,null,null,null,9,"",{"$f":"IF(AO19>AH$45,\"\",VLOOKUP(AO19,AH19:AI49,2,FALSE))","v":""}]
[null,null,null,null,null,"","","",null,"","","","","","","",null,null,null,null,null,null,null,null,null,{"$f":"IF(AA20=\"\",\"\",MAX(Z$10:Z19)+1)","v":""},{"$f":"IF(Wall!C18=\"\",\"\",Wall!C18)","v":""},{"$f":"IF(Wall!D18=\"\",\"\",Wall!D18)","v":""},{"$f":"IF(Wall!E18=\"\",\"\",Wall!E18)","v":""},{"$f":"IF(Wall!O18=\"\",\"\",Wall!O18)","v":false},{"$f":"IF(Wall!P18=\"\",\"\",Wall!P18)","v":false},"",{"$f":"IF(Wall!D43=\"\",\"\",Wall!D43)","v":""},{"$f":"IF(AI20=\"\",\"\",MAX(AH$10:AH19)+1)","v":""},{"$f":"IF(Room!C63=\"\",\"\",Room!C63)","v":""},{"$f":"IF(Room!D63=\"\",\"\",Room!D63)","v":""},null,null,null,null,10,"",{"$f":"IF(AO20>AH$45,\"\",VLOOKUP(AO20,AH20:AI49,2,FALSE))","v":""}]
[null,null,null,null,null,"","","",null,"","","","","","","",null,null,null,null,null,null,null,null,null,{"$f":"IF(AA21=\"\",\"\",MAX(Z$10:Z20)+1)","v":""},{"$f":"IF(Wall!C19=\"\",\"\",Wall!C19)","v":""},{"$f":"IF(Wall!D19=\"\",\"\",Wall!D19)","v":""},{"$f":"IF(Wall!E19=\"\",\"\",Wall!E19)","v":""},{"$f":"IF(Wall!O19=\"\",\"\",Wall!O19)","v":false},{"$f":"IF(Wall!P19=\"\",\"\",Wall!P19)","v":false},"",{"$f":"IF(Wall!D44=\"\",\"\",Wall!D44)","v":""},{"$f":"IF(AI21=\"\",\"\",MAX(AH$10:AH20)+1)","v":""},{"$f":"IF(Room!C64=\"\",\"\",Room!C64)","v":""},{"$f":"IF(Room!D64=\"\",\"\",Room!D64)","v":""},null,null,null,null,11,"",{"$f":"IF(AO21>AH$45,\"\",VLOOKUP(AO21,AH21:AI49,2,FALSE))","v":""}]
[null,null,null,null,null,"","","",null,"","","","","","","",null,null,null,null,null,null,null,null,null,{"$f":"IF(AA22=\"\",\"\",MAX(Z$10:Z21)+1)","v":""},{"$f":"IF(Wall!C20=\"\",\"\",Wall!C20)","v":""},{"$f":"IF(Wall!D20=\"\",\"\",Wall!D20)","v":""},{"$f":"IF(Wall!E20=\"\",\"\",Wall!E20)","v":""},{"$f":"IF(Wall!O20=\"\",\"\",Wall!O20)","v":false},{"$f":"IF(Wall!P20=\"\",\"\",Wall!P20)","v":false},"",{"$f":"IF(Wall!D45=\"\",\"\",Wall!D45)","v":""},{"$f":"IF(AI22=\"\",\"\",MAX(AH$10:AH21)+1)","v":""},{"$f":"IF(Room!C65=\"\",\"\",Room!C65)","v":""},{"$f":"IF(Room!D65=\"\",\"\",Room!D65)","v":""},null,null,null,null,12,"",{"$f":"IF(AO22>AH$45,\"\",VLOOKUP(AO22,AH22:AI49,2,FALSE))","v":""}]
[null,null,null,null,null,"","","",null,"","","","","","","",null,null,null,null,null,null,null,null,null,{"$f":"IF(AA23=\"\",\"\",MAX(Z$10:Z22)+1)","v":""},{"$f":"IF(Wall!C21=\"\",\"\",Wall!C21)","v":""},{"$f":"IF(Wall!D21=\"\",\"\",Wall!D21)","v":""},{"$f":"IF(Wall!E21=\"\",\"\",Wall!E21)","v":""},{"$f":"IF(Wall!O21=\"\",\"\",Wall!O21)","v":false},{"$f":"IF(Wall!P21=\"\",\"\",Wall!P21)","v":false},"",{"$f":"IF(Wall!D46=\"\",\"\",Wall!D46)","v":""},{"$f":"IF(AI23=\"\",\"\",MAX(AH$10:AH22)+1)","v":""},{"$f":"IF(Room!C17=\"\",\"\",Room!C17)","v":""},{"$f":"IF(Room!D17=\"\",\"\",Room!D17)","v":""},null,null,null,null,13,"",{"$f":"IF(AO23>AH$45,\"\",VLOOKUP(AO23,AH23:AI49,2,FALSE))","v":""}]
[null,null,null,null,null,"","","",null,"","","","","","","",null,null,null,null,null,null,null,null,null,{"$f":"IF(AA24=\"\",\"\",MAX(Z$10:Z23)+1)","v":""},{"$f":"IF(Wall!C22=\"\",\"\",Wall!C22)","v":""},{"$f":"IF(Wall!D22=\"\",\"\",Wall!D22)","v":""},{"$f":"IF(Wall!E22=\"\",\"\",Wall!E22)","v":""},{"$f":"IF(Wall!O22=\"\",\"\",Wall!O22)","v":false},{"$f":"IF(Wall!P22=\"\",\"\",Wall!P22)","v":false},"",{"$f":"IF(Wall!D47=\"\",\"\",Wall!D47)","v":""},{"$f":"IF(AI24=\"\",\"\",MAX(AH$10:AH23)+1)","v":""},{"$f":"IF(Room!C18=\"\",\"\",Room!C18)","v":""},{"$f":"IF(Room!D18=\"\",\"\",Room!D18)","v":""},null,null,null,null,14,"",{"$f":"IF(AO24>AH$45,\"\",VLOOKUP(AO24,AH24:AI49,2,FALSE))","v":""}]
[null,null,null,null,null,"","","",null,"","","","","","","",null,null,null,null,null,null,null,null,null,{"$f":"IF(AA25=\"\",\"\",MAX(Z$10:Z24)+1)","v":""},{"$f":"IF(Wall!C23=\"\",\"\",Wall!C23)","v":""},{"$f":"IF(Wall!D23=\"\",\"\",Wall!D23)","v":""},{"$f":"IF(Wall!E23=\"\",\"\",Wall!E23)","v":""},{"$f":"IF(Wall!O23=\"\",\"\",Wall!O23)","v":false},{"$f":"IF(Wall!P23=\"\",\"\",Wall!P23)","v":false},"",{"$f":"IF(Wall!D48=\"\",\"\",Wall!D48)","v":""},{"$f":"IF(AI25=\"\",\"\",MAX(AH$10:AH24)+1)","v":""},{"$f":"IF(Room!C19=\"\",\"\",Room!C19)","v":""},{"$f":"IF(Room!D19=\"\",\"\",Room!D19)","v":""},null,null,null,null,15,"",{"$f":"IF(AO25>AH$45,\"\",VLOOKUP(AO25,AH25:AI49,2,FALSE))","v":""}]
[null,null,null,null,null,"","","",null,"","","","","","","",null,null,null,null,null,null,null,null,null,{"$f":"IF(AA26=\"\",\"\",MAX(Z$10:Z25)+1)","v":""},{"$f":"IF(Wall!C24=\"\",\"\",Wall!C24)","v":""},{"$f":"IF(Wall!D24=\"\",\"\",Wall!D24)","v":""},{"$f":"IF(Wall!E24=\"\",\"\",Wall!E24)","v":""},{"$f":"IF(Wall!O24=\"\",\"\",Wall!O24)","v":false},{"$f":"IF(Wall!P24=\"\",\"\",Wall!P24)","v":false},"",{"$f":"IF(Wall!D49=\"\",\"\",Wall!D49)","v":""},{"$f":"IF(AI26=\"\",\"\",MAX(AH$10:AH25)+1)","v":""},{"$f":"IF(Room!C20=\"\",\"\",Room!C20)","v":""},{"$f":"IF(Room!D20=\"\",\"\",Room!D20)","v":""},null,null,null,null,16,"",{"$f":"IF(AO26>AH$45,\"\",VLOOKUP(AO26,AH26:AI49,2,FALSE))","v":""}]
[null,null,null,null,null,"","","",null,"","","","","","","",null,null,null,null,null,null,null,null,null,{"$f":"IF(AA27=\"\",\"\",MAX(Z$10:Z26)+1)","v":""},{"$f":"IF(Wall!C25=\"\",\"\",Wall!C25)","v":""},{"$f":"IF(Wall!D25=\"\",\"\",Wall!D25)","v":""},{"$f":"IF(Wall!E25=\"\",\"\",Wall!E25)","v":""},{"$f":"IF(Wall!O25=\"\",\"\",Wall!O25)","v":false},{"$f":"IF(Wall!P25=\"\",\"\",Wall!P25)","v":false},"",{"$f":"IF(Wall!D50=\"\",\"\",Wall!D50)","v":""},{"$f":"IF(AI27=\"\",\"\",MAX(AH$10:AH26)+1)","v":""},{"$f":"IF(Room!C21=\"\",\"\",Room!C21)","v":""},{"$f":"IF(Room!D21=\"\",\"\",Room!D21)","v":""},null,null,null,null,17,"",{"$f":"IF(AO27>AH$45,\"\",VLOOKUP(AO27,AH27:AI49,2,FALSE))","v":""}]
[null,null,null,null,null,"","","",null,"","","","","","","",null,null,null,null,null,null,null,null,null,{"$f":"IF(AA28=\"\",\"\",MAX(Z$10:Z27)+1)","v":""},{"$f":"IF(Wall!C26=\"\",\"\",Wall!C26)","v":""},{"$f":"IF(Wall!D26=\"\",\"\",Wall!D26)","v":""},{"$f":"IF(Wall!E26=\"\",\"\",Wall!E26)","v":""},{"$f":"IF(Wall!O26=\"\",\"\",Wall!O26)","v":false},{"$f":"IF(Wall!P26=\"\",\"\",Wall!P26)","v":false},"",{"$f":"IF(Wall!D51=\"\",\"\",Wall!D51)","v":""},{"$f":"IF(AI28=\"\",\"\",MAX(AH$10:AH27)+1)","v":""},{"$f":"IF(Room!C22=\"\",\"\",Room!C22)","v":""},{"$f":"IF(Room!D22=\"\",\"\",Room!D22)","v":""},null,null,null,null,18,"",""]
[null,null,null,null,null,"","","",null,"","","","","","","",null,null,null,null,null,null,null,null,null,{"$f":"IF(AA29=\"\",\"\",MAX(Z$10:Z28)+1)","v":""},{"$f":"IF(Wall!C27=\"\",\"\",Wall!C27)","v":""},{"$f":"IF(Wall!D27=\"\",\"\",Wall!D27)","v":""},{"$f":"IF(Wall!E27=\"\",\"\",Wall!E27)","v":""},{"$f":"IF(Wall!O27=\"\",\"\",Wall!O27)","v":false},{"$f":"IF(Wall!P27=\"\",\"\",Wall!P27)","v":false},"",{"$f":"IF(Wall!D52=\"\",\"\",Wall!D52)","v":""},{"$f":"IF(AI29=\"\",\"\",MAX(AH$10:AH28)+1)","v":""},{"$f":"IF(Room!C23=\"\",\"\",Room!C23)","v":""},{"$f":"IF(Room!D23=\"\",\"\",Room!D23)","v":""},null,null,null,null,19,"",""]
[null,null,null,null,null,"","","",null,"","","","","","","",null,null,null,null,null,null,null,null,null,{"$f":"IF(AA30=\"\",\"\",MAX(Z$10:Z29)+1)","v":""},{"$f":"IF(Wall!C28=\"\",\"\",Wall!C28)","v":""},{"$f":"IF(Wall!D28=\"\",\"\",Wall!D28)","v":""},{"$f":"IF(Wall!E28=\"\",\"\",Wall!E28)","v":""},{"$f":"IF(Wall!O28=\"\",\"\",Wall!O28)","v":false},{"$f":"IF(Wall!P28=\"\",\"\",Wall!P28)","v":false},"",{"$f":"IF(Wall!D53=\"\",\"\",Wall!D53)","v":""},{"$f":"IF(AI30=\"\",\"\",MAX(AH$10:AH29)+1)","v":""},{"$f":"IF(Room!C24=\"\",\"\",Room!C24)","v":""},{"$f":"IF(Room!D24=\"\",\"\",Room!D24)","v":""},null,null,null,null,20,"",""]
[null,null,null,null,null,"","","",null,"","","","","","","",null,null,null,null,null,null,null,null,null,null,null,null,null,null,null,null,null,{"$f":"IF(AI31=\"\",\"\",MAX(AH$10:AH30)+1)","v":""},{"$f":"IF(Room!C25=\"\",\"\",Room!C25)","v":""},{"$f":"IF(Room!D25=\"\",\"\",Room!D25)","v":""},null,null,null,null,21,{"$f":"IF(AO31>Z$45,\"\",VLOOKUP(AO31,Z31:AA49,2,FALSE))","v":""},""]
[null,null,null,null,null,"","","",null,"","","","","","","",null,null,null,null,null,null,null,null,null,null,null,null,null,null,null,null,null,{"$f":"IF(AI32=\"\",\"\",MAX(AH$10:AH31)+1)","v":""},{"$f":"IF(Room!C26=\"\",\"\",Room!C26)","v":""},{"$f":"IF(Room!D26=\"\",\"\",Room!D26)","v":""},null,null,null,null,22,{"$f":"IF(AO32>Z$45,\"\",VLOOKUP(AO32,Z32:AA49,2,FALSE))","v":""},""]
[null,null,null,null,null,"","","",null,"","","","","","","",null,null,null,null,null,null,null,null,null,null,null,null,null,null,null,null,null,{"$f":"IF(AI33=\"\",\"\",MAX(AH$10:AH32)+1)","v":""},{"$f":"IF(Room!C27=\"\",\"\",Room!C27)","v":""},{"$f":"IF(Room!D27=\"\",\"\",Room!D27)","v":""},null,null,null,null,23,{"$f":"IF(AO33>Z$45,\"\",VLOOKUP(AO33,Z33:AA49,2,FALSE))","v":""},""]
[null,null,null,null,null,"","","",null,"","","","","","","",null,null,null,null,null,null,null,null,null,null,null,null,null,null,null,null,null,{"$f":"IF(AI34=\"\",\"\",MAX(AH$10:AH33)+1)","v":""},{"$f":"IF(Room!C28=\"\",\"\",Room!C28)","v":""},{"$f":"IF(Room!D28=\"\",\"\",Room!D28)","v":""},null,null,null,null,24,{"$f":"IF(AO34>Z$45,\"\",VLOOKUP(AO34,Z34:AA49,2,FALSE))","v":""},""]
[null,null,null,null,null,"","","",null,"","","","","","","",null,null,null,null,null,null,null,null,null,null,null,null,null,null,null,null,null,{"$f":"IF(AI35=\"\",\"\",MAX(AH$10:AH34)+1)","v":""},{"$f":"IF(Room!C29=\"\",\"\",Room!C29)","v":""},{"$f":"IF(Room!D29=\"\",\"\",Room!D29)","v":""},null,null,null,null,25,{"$f":"IF(AO35>Z$45,\"\",VLOOKUP(AO35,Z35:AA49,2,FALSE))","v":""},""]
[null,null,null,null,null,"","","",null,"","","","","","","",null,null,null,null,null,null,null,null,null,null,null,null,null,null,null,null,null,{"$f":"IF(AI36=\"\",\"\",MAX(AH$10:AH35)+1)","v":""},{"$f":"IF(Room!C30=\"\",\"\",Room!C30)","v":""},{"$f":"IF(Room!D30=\"\",\"\",Room!D30)","v":""},null,null,null,null,26,{"$f":"IF(AO36>Z$45,\"\",VLOOKUP(AO36,Z36:AA49,2,FALSE))","v":""},""]
[null,null,null,null,null,"","","",null,"","","","","","","",null,null,null,null,null,null,null,null,null,null,null,null,null,null,null,null,null,{"$f":"IF(AI37=\"\",\"\",MAX(AH$10:AH36)+1)","v":""},{"$f":"IF(Room!C31=\"\",\"\",Room!C31)","v":""},{"$f":"IF(Room!D31=\"\",\"\",Room!D31)","v":""},null,null,null,null,27,{"$f":"IF(AO37>Z$45,\"\",VLOOKUP(AO37,Z37:AA49,2,FALSE))","v":""},""]
[null,null,null,null,null,"","","",null,"","","","","","","",null,null,null,null,null,null,null,null,null,null,null,null,null,null,null,null,null,{"$f":"IF(AI38=\"\",\"\",MAX(AH$10:AH37)+1)","v":""},{"$f":"IF(Room!C32=\"\",\"\",Room!C32)","v":""},{"$f":"IF(Room!D32=\"\",\"\",Room!D32)","v":""},null,null,null,null,28,{"$f":"IF(AO38>Z$45,\"\",VLOOKUP(AO38,Z38:AA49,2,FALSE))","v":""},""]
[null,null,null,null,null,"","","",null,"","","","","","","",null,null,null,null,null,null,null,null,null,null,null,null,null,null,null,null,null,{"$f":"IF(AI39=\"\",\"\",MAX(AH$10:AH38)+1)","v":""},{"$f":"IF(Room!C33=\"\",\"\",Room!C33)","v":""},{"$f":"IF(Room!D33=\"\",\"\",Room!D33)","v":""},null,null,null,null,29,{"$f":"IF(AO39>Z$45,\"\",VLOOKUP(AO39,Z39:AA49,2,FALSE))","v":""},""]
[null,null,null,null,null,"","","",null,"","","","","","","",null,null,null,null,null,null,null,null,null,null,null,null,null,null,null,null,null,{"$f":"IF(AI40=\"\",\"\",MAX(AH$10:AH39)+1)","v":""},{"$f":"IF(Room!C34=\"\",\"\",Room!C34)","v":""},{"$f":"IF(Room!D34=\"\",\"\",Room!D34)","v":""},null,null,null,null,30,{"$f":"IF(AO40>Z$45,\"\",VLOOKUP(AO40,Z40:AA50,2,FALSE))","v":""},""]
[null,null,null,null,null,"","","",null,"","","","","","","",null,null,null,null,null,null,null,null,null,null,null,null,null,null,null,null,null,{"$f":"IF(AI41=\"\",\"\",MAX(AH$10:AH40)+1)","v":""},{"$f":"IF(Room!C35=\"\",\"\",Room!C35)","v":""},{"$f":"IF(Room!D35=\"\",\"\",Room!D35)","v":""},null,null,null,null,31,{"$f":"IF(AO41>Z$45,\"\",VLOOKUP(AO41,Z41:AA51,2,FALSE))","v":""},""]
[null,null,null,null,null,null,null,null,null,null,null,null,null,null,null,null,null,null,null,null,null,null,null,null,null,null,null,null,null,null,null,null,null,{"$f":"IF(AI42=\"\",\"\",MAX(AH$10:AH41)+1)","v":""},{"$f":"IF(Room!C36=\"\",\"\",Room!C36)","v":""},{"$f":"IF(Room!D36=\"\",\"\",Room!D36)","v":""},null,null,null,null,32,{"$f":"IF(AO42>Z$45,\"\",VLOOKUP(AO42,Z42:AA52,2,FALSE))","v":""},""]
[]
[]
[null,null,null,null,null,null,null,null,null,null,null,null,null,null,null,null,null,null,null,null,null,null,null,null,"Max",{"$f":"MAX(Z11:Z30)","v":0},null,null,null,null,null,null,"Max",{"$f":"MAX(AH11:AH42)","v":0}]

{"sheet":"T18","index":24,"n_rows":45,"n_cols":43,"rows_kept":45,"cut":false,"hidden":false,"merged":[[3,1,3,7],[7,1,7,7]]}
[]
[]
[]
[null,{"$f":"Langage!A54","v":"Perte thermique par transmission"}]
[]
[null,{"$f":"IF(S10=\"\",\"\",S10)","v":""},{"$f":"IF(S11=\"\",\"\",S11)","v":""},"°C",null,null,"FT,i   W",{"$f":"IF(C6=\"\",\"\",SUM(H12:H41))","v":""},null,null,null,null,null,"FT,i   W",null,{"$f":"IF(C6=\"\",\"\",SUM(P12:P40))","v":""},null,"Ceci reprend les valeurs dans les les autres onglets de façon à pouvoir les utiliser dans le présent onglet.",null,null,null,null,null,null,null,null,null,null,null,null,null,null,null,null,null,null,null,null,null,null,"Ceci recrée des listes sans vides pour les menus déroulants"]
[]
[null,null,null,null,null,null,null,null,null,null,null,null,null,null,null,null,null,"N° onglet",18,"Valeur à changer dans toutes les feuilles T",null,null,null,null,{"$f":"16+S8","v":34}]
[]
[null,null,null,"Ak","hm,k","Uk","DT","FT,i,k",null,"Tout","Tin","fqann","fGW","Chff sol","Chff mur","FT,i,k",null,"Espace",{"$f":"IF(INDIRECT(\"Room!C\"&Y8)=\"\",\"\",CONCATENATE(INDIRECT(\"Room!B\"&Y8),\". \",INDIRECT(\"Room!C\"&Y8)))","v":""},null,null,null,null,null,null,null,"Parois","U","DUTB","Chff sol","Chff mur","Utot",null,null,"Espaces",null,null,null,null,null,null,"Parois","Espace"]
[null,{"$f":"Langage!A20","v":"Parois"},{"$f":"Langage!A24","v":"Espace"},"m²","m","W/m².K","°C","W",null,null,null,null,null,null,"W",null,null,"qint   °C",{"$f":"IF(INDIRECT(\"Room!D\"&Y8)=\"\",\"\",INDIRECT(\"Room!D\"&Y8))","v":""},null,null,null,null,null,null,{"$f":"IF(AA11=\"\",\"\",MAX(Z$10:Z10)+1)","v":""},{"$f":"IF(Wall!C9=\"\",\"\",Wall!C9)","v":""},{"$f":"IF(Wall!D9=\"\",\"\",Wall!D9)","v":""},{"$f":"IF(Wall!E9=\"\",\"\",Wall!E9)","v":""},{"$f":"IF(Wall!O9=\"\",\"\",Wall!O9)","v":false},{"$f":"IF(Wall!P9=\"\",\"\",Wall!P9)","v":false},{"$f":"IF(AB11=\"\",\"\",(IF(AC11=\"\",AB11,AB11+AC11)))","v":""},{"$f":"IF(Wall!D34=\"\",\"\",Wall!D34)","v":""},{"$f":"IF(AI11=\"\",\"\",MAX(AH$10:AH10)+1)","v":""},{"$f":"IF(Room!C42=\"\",\"\",Room!C42)","v":""},{"$f":"IF(Room!D42=\"\",\"\",Room!D42)","v":""},null,null,null,null,1,{"$f":"IF(AO11>Z$45,\"\",VLOOKUP(AO11,Z11:AA30,2,FALSE))","v":""},{"$f":"IF(AO11>AH$45,\"\",VLOOKUP(AO11,AH11:AI42,2,FALSE))","v":""}]
[null,null,null,null,null,{"$f":"IF(B12=\"\",\"\",VLOOKUP(B12,AA$11:AF$30,6,FALSE))","v":""},{"$f":"IF(OR(K12=\"\",J12=\"\"),\"\",K12-J12)","v":""},{"$f":"IF(P12=\"\",\"\",P12)","v":""},null,{"$f":"IF(C12=\"\",\"\",VLOOKUP(C12,AI$11:AJ$42,2,FALSE))","v":""},{"$f":"IF(B12=\"\",\"\",IF(S$15<4,C$6,IF(E12=\"\",\"\",C$6+S$14*(E12-1))))","v":""},{"$f":"IF(C12=\"\",\"\",IF(VLOOKUP(C12,AI$11:AL$42,3,FALSE)=\"\",\"\",VLOOKUP(C12,AI$11:AL$42,3,FALSE)))","v":""},{"$f":"IF(C12=\"\",\"\",IF(VLOOKUP(C12,AI$11:AL$42,4,FALSE)=\"\",\"\",VLOOKUP(C12,AI$11:AL$42,4,FALSE)))","v":""},{"$f":"IF(B12=\"\",\"\",VLOOKUP(B12,AA$11:AF$30,4,FALSE))","v":""},{"$f":"IF(B12=\"\",\"\",VLOOKUP(B12,AA$11:AF$30,5,FALSE))","v":""},{"$f":"IF(OR(N12=TRUE,O12=TRUE),\"///\",IF(OR(D12=\"\",F12=\"\",G12=\"\"),\"\",IF(OR(L12=\"\",M12=\"\"),D12*F12*G12,D12*F12*G12*L12*M12)))","v":""},null,"qe   °C",{"$f":"IF(Room!F8=\"\",\"\",Room!F8)","v":""},null,null,null,null,null,null,{"$f":"IF(AA12=\"\",\"\",MAX(Z$10:Z11)+1)","v":""},{"$f":"IF(Wall!C10=\"\",\"\",Wall!C10)","v":""},{"$f":"IF(Wall!D10=\"\",\"\",Wall!D10)","v":""},{"$f":"IF(Wall!E10=\"\",\"\",Wall!E10)","v":""},{"$f":"IF(Wall!O10=\"\",\"\",Wall!O10)","v":false},{"$f":"IF(Wall!P10=\"\",\"\",Wall!P10)","v":false},{"$f":"IF(AB12=\"\",\"\",(IF(AC12=\"\",AB12,AB12+AC12)))","v":""},{"$f":"IF(Wall!D35=\"\",\"\",Wall!D35)","v":""},{"$f":"IF(AI12=\"\",\"\",MAX(AH$10:AH11)+1)","v":""},{"$f":"IF(Room!C47=\"\",\"\",Room!C47)","v":""},{"$f":"IF(Room!D47=\"\",\"\",Room!D47)","v":""},{"$f":"IF(Room!E47=\"\",\"\",Room!E47)","v":1.45},{"$f":"IF(Room!F47=\"\",\"\",Room!F47)","v":1.1499999999999999},null,null,2,{"$f":"IF(AO12>Z$45,\"\",VLOOKUP(AO12,Z12:AA31,2,FALSE))","v":""},{"$f":"IF(AO12>AH$45,\"\",VLOOKUP(AO12,AH12:AI43,2,FALSE))","v":""}]
[null,null,null,null,null,{"$f":"IF(B13=\"\",\"\",VLOOKUP(B13,AA$11:AF$30,6,FALSE))","v":""},{"$f":"IF(OR(K13=\"\",J13=\"\"),\"\",K13-J13)","v":""},{"$f":"IF(P13=\"\",\"\",P13)","v":""},null,"",{"$f":"IF(B13=\"\",\"\",IF(S$15<4,C$6,IF(E13=\"\",\"\",C$6+S$14*(E13-1))))","v":""},"","","",{"$f":"IF(B13=\"\",\"\",VLOOKUP(B13,AA$11:AF$30,5,FALSE))","v":""},{"$f":"IF(OR(N13=TRUE,O13=TRUE),\"///\",IF(OR(D13=\"\",F13=\"\",G13=\"\"),\"\",IF(OR(L13=\"\",M13=\"\"),D13*F13*G13,D13*F13*G13*L13*M13)))","v":""},null,"qm,e   °C",{"$f":"IF(Room!F9=\"\",\"\",Room!F9)","v":""},null,null,null,null,null,null,{"$f":"IF(AA13=\"\",\"\",MAX(Z$10:Z12)+1)","v":""},{"$f":"IF(Wall!C11=\"\",\"\",Wall!C11)","v":""},{"$f":"IF(Wall!D11=\"\",\"\",Wall!D11)","v":""},{"$f":"IF(Wall!E11=\"\",\"\",Wall!E11)","v":""},{"$f":"IF(Wall!O11=\"\",\"\",Wall!O11)","v":false},{"$f":"IF(Wall!P11=\"\",\"\",Wall!P11)","v":false},"",{"$f":"IF(Wall!D36=\"\",\"\",Wall!D36)","v":""},{"$f":"IF(AI13=\"\",\"\",MAX(AH$10:AH12)+1)","v":""},{"$f":"IF(Room!C52=\"\",\"\",Room!C52)","v":""},{"$f":"IF(Room!D52=\"\",\"\",Room!D52)","v":""},null,null,null,null,3,"",""]
[null,null,null,null,null,"","","",null,"","","","","","","",null,"Gq,air,i  °C/m",{"$f":"IF(INDIRECT(\"Room!T\"&Y8)=\"\",\"\",INDIRECT(\"Room!T\"&Y8))","v":""},null,null,null,null,null,null,{"$f":"IF(AA14=\"\",\"\",MAX(Z$10:Z13)+1)","v":""},{"$f":"IF(Wall!C12=\"\",\"\",Wall!C12)","v":""},{"$f":"IF(Wall!D12=\"\",\"\",Wall!D12)","v":""},{"$f":"IF(Wall!E12=\"\",\"\",Wall!E12)","v":""},{"$f":"IF(Wall!O12=\"\",\"\",Wall!O12)","v":false},{"$f":"IF(Wall!P12=\"\",\"\",Wall!P12)","v":false},"",{"$f":"IF(Wall!D37=\"\",\"\",Wall!D37)","v":""},{"$f":"IF(AI14=\"\",\"\",MAX(AH$10:AH13)+1)","v":""},{"$f":"IF(Room!C53=\"\",\"\",Room!C53)","v":""},{"$f":"IF(Room!D53=\"\",\"\",Room!D53)","v":""},null,null,null,null,4,"",""]
[null,null,null,null,null,"","","",null,"","","","","","","",null,"hi   m",{"$f":"IF(INDIRECT(\"Room!Q\"&Y8)=\"\",\"\",INDIRECT(\"Room!Q\"&Y8))","v":""},null,null,null,null,null,null,{"$f":"IF(AA15=\"\",\"\",MAX(Z$10:Z14)+1)","v":""},{"$f":"IF(Wall!C13=\"\",\"\",Wall!C13)","v":""},{"$f":"IF(Wall!D13=\"\",\"\",Wall!D13)","v":""},{"$f":"IF(Wall!E13=\"\",\"\",Wall!E13)","v":""},{"$f":"IF(Wall!O13=\"\",\"\",Wall!O13)","v":false},{"$f":"IF(Wall!P13=\"\",\"\",Wall!P13)","v":false},"",{"$f":"IF(Wall!D38=\"\",\"\",Wall!D38)","v":""},{"$f":"IF(AI15=\"\",\"\",MAX(AH$10:AH14)+1)","v":""},{"$f":"IF(Room!C54=\"\",\"\",Room!C54)","v":""},{"$f":"IF(Room!D54=\"\",\"\",Room!D54)","v":""},null,null,null,null,5,"",""]
[null,null,null,null,null,"","","",null,"","","","","","","",null,null,null,null,null,null,null,null,null,{"$f":"IF(AA16=\"\",\"\",MAX(Z$10:Z15)+1)","v":""},{"$f":"IF(Wall!C14=\"\",\"\",Wall!C14)","v":""},{"$f":"IF(Wall!D14=\"\",\"\",Wall!D14)","v":""},{"$f":"IF(Wall!E14=\"\",\"\",Wall!E14)","v":""},{"$f":"IF(Wall!O14=\"\",\"\",Wall!O14)","v":false},{"$f":"IF(Wall!P14=\"\",\"\",Wall!P14)","v":false},"",{"$f":"IF(Wall!D39=\"\",\"\",Wall!D39)","v":""},{"$f":"IF(AI16=\"\",\"\",MAX(AH$10:AH15)+1)","v":""},{"$f":"IF(Room!C55=\"\",\"\",Room!C55)","v":""},{"$f":"IF(Room!D55=\"\",\"\",Room!D55)","v":""},null,null,null,null,6,"",""]
[null,null,null,null,null,"","","",null,"","","","","","","",null,null,null,null,null,null,null,null,null,{"$f":"IF(AA17=\"\",\"\",MAX(Z$10:Z16)+1)","v":""},{"$f":"IF(Wall!C15=\"\",\"\",Wall!C15)","v":""},{"$f":"IF(Wall!D15=\"\",\"\",Wall!D15)","v":""},{"$f":"IF(Wall!E15=\"\",\"\",Wall!E15)","v":""},{"$f":"IF(Wall!O15=\"\",\"\",Wall!O15)","v":false},{"$f":"IF(Wall!P15=\"\",\"\",Wall!P15)","v":false},"",{"$f":"IF(Wall!D40=\"\",\"\",Wall!D40)","v":""},{"$f":"IF(AI17=\"\",\"\",MAX(AH$10:AH16)+1)","v":""},{"$f":"IF(Room!C56=\"\",\"\",Room!C56)","v":""},{"$f":"IF(Room!D56=\"\",\"\",Room!D56)","v":""},null,null,null,null,7,"",""]
[null,null,null,null,null,"","","",null,"","","","","","","",null,null,null,null,null,null,null,null,null,{"$f":"IF(AA18=\"\",\"\",MAX(Z$10:Z17)+1)","v":""},{"$f":"IF(Wall!C16=\"\",\"\",Wall!C16)","v":""},{"$f":"IF(Wall!D16=\"\",\"\",Wall!D16)","v":""},{"$f":"IF(Wall!E16=\"\",\"\",Wall!E16)","v":""},{"$f":"IF(Wall!O16=\"\",\"\",Wall!O16)","v":false},{"$f":"IF(Wall!P16=\"\",\"\",Wall!P16)","v":false},"",{"$f":"IF(Wall!D41=\"\",\"\",Wall!D41)","v":""},{"$f":"IF(AI18=\"\",\"\",MAX(AH$10:AH17)+1)","v":""},{"$f":"IF(Room!C61=\"\",\"\",Room!C61)","v":""},{"$f":"IF(Room!D61=\"\",\"\",Room!D61)","v":""},null,null,null,null,8,"",""]
[null,null,null,null,null,"","","",null,"","","","","","","",null,null,null,null,null,null,null,null,null,{"$f":"IF(AA19=\"\",\"\",MAX(Z$10:Z18)+1)","v":""},{"$f":"IF(Wall!C17=\"\",\"\",Wall!C17)","v":""},{"$f":"IF(Wall!D17=\"\",\"\",Wall!D17)","v":""},{"$f":"IF(Wall!E17=\"\",\"\",Wall!E17)","v":""},{"$f":"IF(Wall!O17=\"\",\"\",Wall!O17)","v":false},{"$f":"IF(Wall!P17=\"\",\"\",Wall!P17)","v":false},"",{"$f":"IF(Wall!D42=\"\",\"\",Wall!D42)","v":""},{"$f":"IF(AI19=\"\",\"\",MAX(AH$10:AH18)+1)","v":""},{"$f":"IF(Room!C62=\"\",\"\",Room!C62)","v":""},{"$f":"IF(Room!D62=\"\",\"\",Room!D62)","v":""},null,null,null,null,9,"",{"$f":"IF(AO19>AH$45,\"\",VLOOKUP(AO19,AH19:AI49,2,FALSE))","v":""}]
[null,null,null,null,null,"","","",null,"","","","","","","",null,null,null,null,null,null,null,null,null,{"$f":"IF(AA20=\"\",\"\",MAX(Z$10:Z19)+1)","v":""},{"$f":"IF(Wall!C18=\"\",\"\",Wall!C18)","v":""},{"$f":"IF(Wall!D18=\"\",\"\",Wall!D18)","v":""},{"$f":"IF(Wall!E18=\"\",\"\",Wall!E18)","v":""},{"$f":"IF(Wall!O18=\"\",\"\",Wall!O18)","v":false},{"$f":"IF(Wall!P18=\"\",\"\",Wall!P18)","v":false},"",{"$f":"IF(Wall!D43=\"\",\"\",Wall!D43)","v":""},{"$f":"IF(AI20=\"\",\"\",MAX(AH$10:AH19)+1)","v":""},{"$f":"IF(Room!C63=\"\",\"\",Room!C63)","v":""},{"$f":"IF(Room!D63=\"\",\"\",Room!D63)","v":""},null,null,null,null,10,"",{"$f":"IF(AO20>AH$45,\"\",VLOOKUP(AO20,AH20:AI49,2,FALSE))","v":""}]
[null,null,null,null,null,"","","",null,"","","","","","","",null,null,null,null,null,null,null,null,null,{"$f":"IF(AA21=\"\",\"\",MAX(Z$10:Z20)+1)","v":""},{"$f":"IF(Wall!C19=\"\",\"\",Wall!C19)","v":""},{"$f":"IF(Wall!D19=\"\",\"\",Wall!D19)","v":""},{"$f":"IF(Wall!E19=\"\",\"\",Wall!E19)","v":""},{"$f":"IF(Wall!O19=\"\",\"\",Wall!O19)","v":false},{"$f":"IF(Wall!P19=\"\",\"\",Wall!P19)","v":false},"",{"$f":"IF(Wall!D44=\"\",\"\",Wall!D44)","v":""},{"$f":"IF(AI21=\"\",\"\",MAX(AH$10:AH20)+1)","v":""},{"$f":"IF(Room!C64=\"\",\"\",Room!C64)","v":""},{"$f":"IF(Room!D64=\"\",\"\",Room!D64)","v":""},null,null,null,null,11,"",{"$f":"IF(AO21>AH$45,\"\",VLOOKUP(AO21,AH21:AI49,2,FALSE))","v":""}]
[null,null,null,null,null,"","","",null,"","","","","","","",null,null,null,null,null,null,null,null,null,{"$f":"IF(AA22=\"\",\"\",MAX(Z$10:Z21)+1)","v":""},{"$f":"IF(Wall!C20=\"\",\"\",Wall!C20)","v":""},{"$f":"IF(Wall!D20=\"\",\"\",Wall!D20)","v":""},{"$f":"IF(Wall!E20=\"\",\"\",Wall!E20)","v":""},{"$f":"IF(Wall!O20=\"\",\"\",Wall!O20)","v":false},{"$f":"IF(Wall!P20=\"\",\"\",Wall!P20)","v":false},"",{"$f":"IF(Wall!D45=\"\",\"\",Wall!D45)","v":""},{"$f":"IF(AI22=\"\",\"\",MAX(AH$10:AH21)+1)","v":""},{"$f":"IF(Room!C65=\"\",\"\",Room!C65)","v":""},{"$f":"IF(Room!D65=\"\",\"\",Room!D65)","v":""},null,null,null,null,12,"",{"$f":"IF(AO22>AH$45,\"\",VLOOKUP(AO22,AH22:AI49,2,FALSE))","v":""}]
[null,null,null,null,null,"","","",null,"","","","","","","",null,null,null,null,null,null,null,null,null,{"$f":"IF(AA23=\"\",\"\",MAX(Z$10:Z22)+1)","v":""},{"$f":"IF(Wall!C21=\"\",\"\",Wall!C21)","v":""},{"$f":"IF(Wall!D21=\"\",\"\",Wall!D21)","v":""},{"$f":"IF(Wall!E21=\"\",\"\",Wall!E21)","v":""},{"$f":"IF(Wall!O21=\"\",\"\",Wall!O21)","v":false},{"$f":"IF(Wall!P21=\"\",\"\",Wall!P21)","v":false},"",{"$f":"IF(Wall!D46=\"\",\"\",Wall!D46)","v":""},{"$f":"IF(AI23=\"\",\"\",MAX(AH$10:AH22)+1)","v":""},{"$f":"IF(Room!C17=\"\",\"\",Room!C17)","v":""},{"$f":"IF(Room!D17=\"\",\"\",Room!D17)","v":""},null,null,null,null,13,"",{"$f":"IF(AO23>AH$45,\"\",VLOOKUP(AO23,AH23:AI49,2,FALSE))","v":""}]
[null,null,null,null,null,"","","",null,"","","","","","","",null,null,null,null,null,null,null,null,null,{"$f":"IF(AA24=\"\",\"\",MAX(Z$10:Z23)+1)","v":""},{"$f":"IF(Wall!C22=\"\",\"\",Wall!C22)","v":""},{"$f":"IF(Wall!D22=\"\",\"\",Wall!D22)","v":""},{"$f":"IF(Wall!E22=\"\",\"\",Wall!E22)","v":""},{"$f":"IF(Wall!O22=\"\",\"\",Wall!O22)","v":false},{"$f":"IF(Wall!P22=\"\",\"\",Wall!P22)","v":false},"",{"$f":"IF(Wall!D47=\"\",\"\",Wall!D47)","v":""},{"$f":"IF(AI24=\"\",\"\",MAX(AH$10:AH23)+1)","v":""},{"$f":"IF(Room!C18=\"\",\"\",Room!C18)","v":""},{"$f":"IF(Room!D18=\"\",\"\",Room!D18)","v":""},null,null,null,null,14,"",{"$f":"IF(AO24>AH$45,\"\",VLOOKUP(AO24,AH24:AI49,2,FALSE))","v":""}]
[null,null,null,null,null,"","","",null,"","","","","","","",null,null,null,null,null,null,null,null,null,{"$f":"IF(AA25=\"\",\"\",MAX(Z$10:Z24)+1)","v":""},{"$f":"IF(Wall!C23=\"\",\"\",Wall!C23)","v":""},{"$f":"IF(Wall!D23=\"\",\"\",Wall!D23)","v":""},{"$f":"IF(Wall!E23=\"\",\"\",Wall!E23)","v":""},{"$f":"IF(Wall!O23=\"\",\"\",Wall!O23)","v":false},{"$f":"IF(Wall!P23=\"\",\"\",Wall!P23)","v":false},"",{"$f":"IF(Wall!D48=\"\",\"\",Wall!D48)","v":""},{"$f":"IF(AI25=\"\",\"\",MAX(AH$10:AH24)+1)","v":""},{"$f":"IF(Room!C19=\"\",\"\",Room!C19)","v":""},{"$f":"IF(Room!D19=\"\",\"\",Room!D19)","v":""},null,null,null,null,15,"",{"$f":"IF(AO25>AH$45,\"\",VLOOKUP(AO25,AH25:AI49,2,FALSE))","v":""}]
[null,null,null,null,null,"","","",null,"","","","","","","",null,null,null,null,null,null,null,null,null,{"$f":"IF(AA26=\"\",\"\",MAX(Z$10:Z25)+1)","v":""},{"$f":"IF(Wall!C24=\"\",\"\",Wall!C24)","v":""},{"$f":"IF(Wall!D24=\"\",\"\",Wall!D24)","v":""},{"$f":"IF(Wall!E24=\"\",\"\",Wall!E24)","v":""},{"$f":"IF(Wall!O24=\"\",\"\",Wall!O24)","v":false},{"$f":"IF(Wall!P24=\"\",\"\",Wall!P24)","v":false},"",{"$f":"IF(Wall!D49=\"\",\"\",Wall!D49)","v":""},{"$f":"IF(AI26=\"\",\"\",MAX(AH$10:AH25)+1)","v":""},{"$f":"IF(Room!C20=\"\",\"\",Room!C20)","v":""},{"$f":"IF(Room!D20=\"\",\"\",Room!D20)","v":""},null,null,null,null,16,"",{"$f":"IF(AO26>AH$45,\"\",VLOOKUP(AO26,AH26:AI49,2,FALSE))","v":""}]
[null,null,null,null,null,"","","",null,"","","","","","","",null,null,null,null,null,null,null,null,null,{"$f":"IF(AA27=\"\",\"\",MAX(Z$10:Z26)+1)","v":""},{"$f":"IF(Wall!C25=\"\",\"\",Wall!C25)","v":""},{"$f":"IF(Wall!D25=\"\",\"\",Wall!D25)","v":""},{"$f":"IF(Wall!E25=\"\",\"\",Wall!E25)","v":""},{"$f":"IF(Wall!O25=\"\",\"\",Wall!O25)","v":false},{"$f":"IF(Wall!P25=\"\",\"\",Wall!P25)","v":false},"",{"$f":"IF(Wall!D50=\"\",\"\",Wall!D50)","v":""},{"$f":"IF(AI27=\"\",\"\",MAX(AH$10:AH26)+1)","v":""},{"$f":"IF(Room!C21=\"\",\"\",Room!C21)","v":""},{"$f":"IF(Room!D21=\"\",\"\",Room!D21)","v":""},null,null,null,null,17,"",{"$f":"IF(AO27>AH$45,\"\",VLOOKUP(AO27,AH27:AI49,2,FALSE))","v":""}]
[null,null,null,null,null,"","","",null,"","","","","","","",null,null,null,null,null,null,null,null,null,{"$f":"IF(AA28=\"\",\"\",MAX(Z$10:Z27)+1)","v":""},{"$f":"IF(Wall!C26=\"\",\"\",Wall!C26)","v":""},{"$f":"IF(Wall!D26=\"\",\"\",Wall!D26)","v":""},{"$f":"IF(Wall!E26=\"\",\"\",Wall!E26)","v":""},{"$f":"IF(Wall!O26=\"\",\"\",Wall!O26)","v":false},{"$f":"IF(Wall!P26=\"\",\"\",Wall!P26)","v":false},"",{"$f":"IF(Wall!D51=\"\",\"\",Wall!D51)","v":""},{"$f":"IF(AI28=\"\",\"\",MAX(AH$10:AH27)+1)","v":""},{"$f":"IF(Room!C22=\"\",\"\",Room!C22)","v":""},{"$f":"IF(Room!D22=\"\",\"\",Room!D22)","v":""},null,null,null,null,18,"",""]
[null,null,null,null,null,"","","",null,"","","","","","","",null,null,null,null,null,null,null,null,null,{"$f":"IF(AA29=\"\",\"\",MAX(Z$10:Z28)+1)","v":""},{"$f":"IF(Wall!C27=\"\",\"\",Wall!C27)","v":""},{"$f":"IF(Wall!D27=\"\",\"\",Wall!D27)","v":""},{"$f":"IF(Wall!E27=\"\",\"\",Wall!E27)","v":""},{"$f":"IF(Wall!O27=\"\",\"\",Wall!O27)","v":false},{"$f":"IF(Wall!P27=\"\",\"\",Wall!P27)","v":false},"",{"$f":"IF(Wall!D52=\"\",\"\",Wall!D52)","v":""},{"$f":"IF(AI29=\"\",\"\",MAX(AH$10:AH28)+1)","v":""},{"$f":"IF(Room!C23=\"\",\"\",Room!C23)","v":""},{"$f":"IF(Room!D23=\"\",\"\",Room!D23)","v":""},null,null,null,null,19,"",""]
[null,null,null,null,null,"","","",null,"","","","","","","",null,null,null,null,null,null,null,null,null,{"$f":"IF(AA30=\"\",\"\",MAX(Z$10:Z29)+1)","v":""},{"$f":"IF(Wall!C28=\"\",\"\",Wall!C28)","v":""},{"$f":"IF(Wall!D28=\"\",\"\",Wall!D28)","v":""},{"$f":"IF(Wall!E28=\"\",\"\",Wall!E28)","v":""},{"$f":"IF(Wall!O28=\"\",\"\",Wall!O28)","v":false},{"$f":"IF(Wall!P28=\"\",\"\",Wall!P28)","v":false},"",{"$f":"IF(Wall!D53=\"\",\"\",Wall!D53)","v":""},{"$f":"IF(AI30=\"\",\"\",MAX(AH$10:AH29)+1)","v":""},{"$f":"IF(Room!C24=\"\",\"\",Room!C24)","v":""},{"$f":"IF(Room!D24=\"\",\"\",Room!D24)","v":""},null,null,null,null,20,"",""]
[null,null,null,null,null,"","","",null,"","","","","","","",null,null,null,null,null,null,null,null,null,null,null,null,null,null,null,null,null,{"$f":"IF(AI31=\"\",\"\",MAX(AH$10:AH30)+1)","v":""},{"$f":"IF(Room!C25=\"\",\"\",Room!C25)","v":""},{"$f":"IF(Room!D25=\"\",\"\",Room!D25)","v":""},null,null,null,null,21,{"$f":"IF(AO31>Z$45,\"\",VLOOKUP(AO31,Z31:AA49,2,FALSE))","v":""},""]
[null,null,null,null,null,"","","",null,"","","","","","","",null,null,null,null,null,null,null,null,null,null,null,null,null,null,null,null,null,{"$f":"IF(AI32=\"\",\"\",MAX(AH$10:AH31)+1)","v":""},{"$f":"IF(Room!C26=\"\",\"\",Room!C26)","v":""},{"$f":"IF(Room!D26=\"\",\"\",Room!D26)","v":""},null,null,null,null,22,{"$f":"IF(AO32>Z$45,\"\",VLOOKUP(AO32,Z32:AA49,2,FALSE))","v":""},""]
[null,null,null,null,null,"","","",null,"","","","","","","",null,null,null,null,null,null,null,null,null,null,null,null,null,null,null,null,null,{"$f":"IF(AI33=\"\",\"\",MAX(AH$10:AH32)+1)","v":""},{"$f":"IF(Room!C27=\"\",\"\",Room!C27)","v":""},{"$f":"IF(Room!D27=\"\",\"\",Room!D27)","v":""},null,null,null,null,23,{"$f":"IF(AO33>Z$45,\"\",VLOOKUP(AO33,Z33:AA49,2,FALSE))","v":""},""]
[null,null,null,null,null,"","","",null,"","","","","","","",null,null,null,null,null,null,null,null,null,null,null,null,null,null,null,null,null,{"$f":"IF(AI34=\"\",\"\",MAX(AH$10:AH33)+1)","v":""},{"$f":"IF(Room!C28=\"\",\"\",Room!C28)","v":""},{"$f":"IF(Room!D28=\"\",\"\",Room!D28)","v":""},null,null,null,null,24,{"$f":"IF(AO34>Z$45,\"\",VLOOKUP(AO34,Z34:AA49,2,FALSE))","v":""},""]
[null,null,null,null,null,"","","",null,"","","","","","","",null,null,null,null,null,null,null,null,null,null,null,null,null,null,null,null,null,{"$f":"IF(AI35=\"\",\"\",MAX(AH$10:AH34)+1)","v":""},{"$f":"IF(Room!C29=\"\",\"\",Room!C29)","v":""},{"$f":"IF(Room!D29=\"\",\"\",Room!D29)","v":""},null,null,null,null,25,{"$f":"IF(AO35>Z$45,\"\",VLOOKUP(AO35,Z35:AA49,2,FALSE))","v":""},""]
[null,null,null,null,null,"","","",null,"","","","","","","",null,null,null,null,null,null,null,null,null,null,null,null,null,null,null,null,null,{"$f":"IF(AI36=\"\",\"\",MAX(AH$10:AH35)+1)","v":""},{"$f":"IF(Room!C30=\"\",\"\",Room!C30)","v":""},{"$f":"IF(Room!D30=\"\",\"\",Room!D30)","v":""},null,null,null,null,26,{"$f":"IF(AO36>Z$45,\"\",VLOOKUP(AO36,Z36:AA49,2,FALSE))","v":""},""]
[null,null,null,null,null,"","","",null,"","","","","","","",null,null,null,null,null,null,null,null,null,null,null,null,null,null,null,null,null,{"$f":"IF(AI37=\"\",\"\",MAX(AH$10:AH36)+1)","v":""},{"$f":"IF(Room!C31=\"\",\"\",Room!C31)","v":""},{"$f":"IF(Room!D31=\"\",\"\",Room!D31)","v":""},null,null,null,null,27,{"$f":"IF(AO37>Z$45,\"\",VLOOKUP(AO37,Z37:AA49,2,FALSE))","v":""},""]
[null,null,null,null,null,"","","",null,"","","","","","","",null,null,null,null,null,null,null,null,null,null,null,null,null,null,null,null,null,{"$f":"IF(AI38=\"\",\"\",MAX(AH$10:AH37)+1)","v":""},{"$f":"IF(Room!C32=\"\",\"\",Room!C32)","v":""},{"$f":"IF(Room!D32=\"\",\"\",Room!D32)","v":""},null,null,null,null,28,{"$f":"IF(AO38>Z$45,\"\",VLOOKUP(AO38,Z38:AA49,2,FALSE))","v":""},""]
[null,null,null,null,null,"","","",null,"","","","","","","",null,null,null,null,null,null,null,null,null,null,null,null,null,null,null,null,null,{"$f":"IF(AI39=\"\",\"\",MAX(AH$10:AH38)+1)","v":""},{"$f":"IF(Room!C33=\"\",\"\",Room!C33)","v":""},{"$f":"IF(Room!D33=\"\",\"\",Room!D33)","v":""},null,null,null,null,29,{"$f":"IF(AO39>Z$45,\"\",VLOOKUP(AO39,Z39:AA49,2,FALSE))","v":""},""]
[null,null,null,null,null,"","","",null,"","","","","","","",null,null,null,null,null,null,null,null,null,null,null,null,null,null,null,null,null,{"$f":"IF(AI40=\"\",\"\",MAX(AH$10:AH39)+1)","v":""},{"$f":"IF(Room!C34=\"\",\"\",Room!C34)","v":""},{"$f":"IF(Room!D34=\"\",\"\",Room!D34)","v":""},null,null,null,null,30,{"$f":"IF(AO40>Z$45,\"\",VLOOKUP(AO40,Z40:AA50,2,FALSE))","v":""},""]
[null,null,null,null,null,"","","",null,"","","","","","","",null,null,null,null,null,null,null,null,null,null,null,null,null,null,null,null,null,{"$f":"IF(AI41=\"\",\"\",MAX(AH$10:AH40)+1)","v":""},{"$f":"IF(Room!C35=\"\",\"\",Room!C35)","v":""},{"$f":"IF(Room!D35=\"\",\"\",Room!D35)","v":""},null,null,null,null,31,{"$f":"IF(AO41>Z$45,\"\",VLOOKUP(AO41,Z41:AA51,2,FALSE))","v":""},""]
[null,null,null,null,null,null,null,null,null,null,null,null,null,null,null,null,null,null,null,null,null,null,null,null,null,null,null,null,null,null,null,null,null,{"$f":"IF(AI42=\"\",\"\",MAX(AH$10:AH41)+1)","v":""},{"$f":"IF(Room!C36=\"\",\"\",Room!C36)","v":""},{"$f":"IF(Room!D36=\"\",\"\",Room!D36)","v":""},null,null,null,null,32,{"$f":"IF(AO42>Z$45,\"\",VLOOKUP(AO42,Z42:AA52,2,FALSE))","v":""},""]
[]
[]
[null,null,null,null,null,null,null,null,null,null,null,null,null,null,null,null,null,null,null,null,null,null,null,null,"Max",{"$f":"MAX(Z11:Z30)","v":0},null,null,null,null,null,null,"Max",{"$f":"MAX(AH11:AH42)","v":0}]

{"sheet":"T19","index":25,"n_rows":45,"n_cols":43,"rows_kept":45,"cut":false,"hidden":false,"merged":[[3,1,3,7],[7,1,7,7]]}
[]
[]
[]
[null,{"$f":"Langage!A54","v":"Perte thermique par transmission"}]
[]
[null,{"$f":"IF(S10=\"\",\"\",S10)","v":""},{"$f":"IF(S11=\"\",\"\",S11)","v":""},"°C",null,null,"FT,i   W",{"$f":"IF(C6=\"\",\"\",SUM(H12:H41))","v":""},null,null,null,null,null,"FT,i   W",null,{"$f":"IF(C6=\"\",\"\",SUM(P12:P40))","v":""},null,"Ceci reprend les valeurs dans les les autres onglets de façon à pouvoir les utiliser dans le présent onglet.",null,null,null,null,null,null,null,null,null,null,null,null,null,null,null,null,null,null,null,null,null,null,"Ceci recrée des listes sans vides pour les menus déroulants"]
[]
[null,null,null,null,null,null,null,null,null,null,null,null,null,null,null,null,null,"N° onglet",19,"Valeur à changer dans toutes les feuilles T",null,null,null,null,{"$f":"16+S8","v":35}]
[]
[null,null,null,"Ak","hm,k","Uk","DT","FT,i,k",null,"Tout","Tin","fqann","fGW","Chff sol","Chff mur","FT,i,k",null,"Espace",{"$f":"IF(INDIRECT(\"Room!C\"&Y8)=\"\",\"\",CONCATENATE(INDIRECT(\"Room!B\"&Y8),\". \",INDIRECT(\"Room!C\"&Y8)))","v":""},null,null,null,null,null,null,null,"Parois","U","DUTB","Chff sol","Chff mur","Utot",null,null,"Espaces",null,null,null,null,null,null,"Parois","Espace"]
[null,{"$f":"Langage!A20","v":"Parois"},{"$f":"Langage!A24","v":"Espace"},"m²","m","W/m².K","°C","W",null,null,null,null,null,null,"W",null,null,"qint   °C",{"$f":"IF(INDIRECT(\"Room!D\"&Y8)=\"\",\"\",INDIRECT(\"Room!D\"&Y8))","v":""},null,null,null,null,null,null,{"$f":"IF(AA11=\"\",\"\",MAX(Z$10:Z10)+1)","v":""},{"$f":"IF(Wall!C9=\"\",\"\",Wall!C9)","v":""},{"$f":"IF(Wall!D9=\"\",\"\",Wall!D9)","v":""},{"$f":"IF(Wall!E9=\"\",\"\",Wall!E9)","v":""},{"$f":"IF(Wall!O9=\"\",\"\",Wall!O9)","v":false},{"$f":"IF(Wall!P9=\"\",\"\",Wall!P9)","v":false},{"$f":"IF(AB11=\"\",\"\",(IF(AC11=\"\",AB11,AB11+AC11)))","v":""},{"$f":"IF(Wall!D34=\"\",\"\",Wall!D34)","v":""},{"$f":"IF(AI11=\"\",\"\",MAX(AH$10:AH10)+1)","v":""},{"$f":"IF(Room!C42=\"\",\"\",Room!C42)","v":""},{"$f":"IF(Room!D42=\"\",\"\",Room!D42)","v":""},null,null,null,null,1,{"$f":"IF(AO11>Z$45,\"\",VLOOKUP(AO11,Z11:AA30,2,FALSE))","v":""},{"$f":"IF(AO11>AH$45,\"\",VLOOKUP(AO11,AH11:AI42,2,FALSE))","v":""}]
[null,null,null,null,null,{"$f":"IF(B12=\"\",\"\",VLOOKUP(B12,AA$11:AF$30,6,FALSE))","v":""},{"$f":"IF(OR(K12=\"\",J12=\"\"),\"\",K12-J12)","v":""},{"$f":"IF(P12=\"\",\"\",P12)","v":""},null,{"$f":"IF(C12=\"\",\"\",VLOOKUP(C12,AI$11:AJ$42,2,FALSE))","v":""},{"$f":"IF(B12=\"\",\"\",IF(S$15<4,C$6,IF(E12=\"\",\"\",C$6+S$14*(E12-1))))","v":""},{"$f":"IF(C12=\"\",\"\",IF(VLOOKUP(C12,AI$11:AL$42,3,FALSE)=\"\",\"\",VLOOKUP(C12,AI$11:AL$42,3,FALSE)))","v":""},{"$f":"IF(C12=\"\",\"\",IF(VLOOKUP(C12,AI$11:AL$42,4,FALSE)=\"\",\"\",VLOOKUP(C12,AI$11:AL$42,4,FALSE)))","v":""},{"$f":"IF(B12=\"\",\"\",VLOOKUP(B12,AA$11:AF$30,4,FALSE))","v":""},{"$f":"IF(B12=\"\",\"\",VLOOKUP(B12,AA$11:AF$30,5,FALSE))","v":""},{"$f":"IF(OR(N12=TRUE,O12=TRUE),\"///\",IF(OR(D12=\"\",F12=\"\",G12=\"\"),\"\",IF(OR(L12=\"\",M12=\"\"),D12*F12*G12,D12*F12*G12*L12*M12)))","v":""},null,"qe   °C",{"$f":"IF(Room!F8=\"\",\"\",Room!F8)","v":""},null,null,null,null,null,null,{"$f":"IF(AA12=\"\",\"\",MAX(Z$10:Z11)+1)","v":""},{"$f":"IF(Wall!C10=\"\",\"\",Wall!C10)","v":""},{"$f":"IF(Wall!D10=\"\",\"\",Wall!D10)","v":""},{"$f":"IF(Wall!E10=\"\",\"\",Wall!E10)","v":""},{"$f":"IF(Wall!O10=\"\",\"\",Wall!O10)","v":false},{"$f":"IF(Wall!P10=\"\",\"\",Wall!P10)","v":false},{"$f":"IF(AB12=\"\",\"\",(IF(AC12=\"\",AB12,AB12+AC12)))","v":""},{"$f":"IF(Wall!D35=\"\",\"\",Wall!D35)","v":""},{"$f":"IF(AI12=\"\",\"\",MAX(AH$10:AH11)+1)","v":""},{"$f":"IF(Room!C47=\"\",\"\",Room!C47)","v":""},{"$f":"IF(Room!D47=\"\",\"\",Room!D47)","v":""},{"$f":"IF(Room!E47=\"\",\"\",Room!E47)","v":1.45},{"$f":"IF(Room!F47=\"\",\"\",Room!F47)","v":1.1499999999999999},null,null,2,{"$f":"IF(AO12>Z$45,\"\",VLOOKUP(AO12,Z12:AA31,2,FALSE))","v":""},{"$f":"IF(AO12>AH$45,\"\",VLOOKUP(AO12,AH12:AI43,2,FALSE))","v":""}]
[null,null,null,null,null,{"$f":"IF(B13=\"\",\"\",VLOOKUP(B13,AA$11:AF$30,6,FALSE))","v":""},{"$f":"IF(OR(K13=\"\",J13=\"\"),\"\",K13-J13)","v":""},{"$f":"IF(P13=\"\",\"\",P13)","v":""},null,"",{"$f":"IF(B13=\"\",\"\",IF(S$15<4,C$6,IF(E13=\"\",\"\",C$6+S$14*(E13-1))))","v":""},"","","",{"$f":"IF(B13=\"\",\"\",VLOOKUP(B13,AA$11:AF$30,5,FALSE))","v":""},{"$f":"IF(OR(N13=TRUE,O13=TRUE),\"///\",IF(OR(D13=\"\",F13=\"\",G13=\"\"),\"\",IF(OR(L13=\"\",M13=\"\"),D13*F13*G13,D13*F13*G13*L13*M13)))","v":""},null,"qm,e   °C",{"$f":"IF(Room!F9=\"\",\"\",Room!F9)","v":""},null,null,null,null,null,null,{"$f":"IF(AA13=\"\",\"\",MAX(Z$10:Z12)+1)","v":""},{"$f":"IF(Wall!C11=\"\",\"\",Wall!C11)","v":""},{"$f":"IF(Wall!D11=\"\",\"\",Wall!D11)","v":""},{"$f":"IF(Wall!E11=\"\",\"\",Wall!E11)","v":""},{"$f":"IF(Wall!O11=\"\",\"\",Wall!O11)","v":false},{"$f":"IF(Wall!P11=\"\",\"\",Wall!P11)","v":false},"",{"$f":"IF(Wall!D36=\"\",\"\",Wall!D36)","v":""},{"$f":"IF(AI13=\"\",\"\",MAX(AH$10:AH12)+1)","v":""},{"$f":"IF(Room!C52=\"\",\"\",Room!C52)","v":""},{"$f":"IF(Room!D52=\"\",\"\",Room!D52)","v":""},null,null,null,null,3,"",""]
[null,null,null,null,null,"","","",null,"","","","","","","",null,"Gq,air,i  °C/m",{"$f":"IF(INDIRECT(\"Room!T\"&Y8)=\"\",\"\",INDIRECT(\"Room!T\"&Y8))","v":""},null,null,null,null,null,null,{"$f":"IF(AA14=\"\",\"\",MAX(Z$10:Z13)+1)","v":""},{"$f":"IF(Wall!C12=\"\",\"\",Wall!C12)","v":""},{"$f":"IF(Wall!D12=\"\",\"\",Wall!D12)","v":""},{"$f":"IF(Wall!E12=\"\",\"\",Wall!E12)","v":""},{"$f":"IF(Wall!O12=\"\",\"\",Wall!O12)","v":false},{"$f":"IF(Wall!P12=\"\",\"\",Wall!P12)","v":false},"",{"$f":"IF(Wall!D37=\"\",\"\",Wall!D37)","v":""},{"$f":"IF(AI14=\"\",\"\",MAX(AH$10:AH13)+1)","v":""},{"$f":"IF(Room!C53=\"\",\"\",Room!C53)","v":""},{"$f":"IF(Room!D53=\"\",\"\",Room!D53)","v":""},null,null,null,null,4,"",""]
[null,null,null,null,null,"","","",null,"","","","","","","",null,"hi   m",{"$f":"IF(INDIRECT(\"Room!Q\"&Y8)=\"\",\"\",INDIRECT(\"Room!Q\"&Y8))","v":""},null,null,null,null,null,null,{"$f":"IF(AA15=\"\",\"\",MAX(Z$10:Z14)+1)","v":""},{"$f":"IF(Wall!C13=\"\",\"\",Wall!C13)","v":""},{"$f":"IF(Wall!D13=\"\",\"\",Wall!D13)","v":""},{"$f":"IF(Wall!E13=\"\",\"\",Wall!E13)","v":""},{"$f":"IF(Wall!O13=\"\",\"\",Wall!O13)","v":false},{"$f":"IF(Wall!P13=\"\",\"\",Wall!P13)","v":false},"",{"$f":"IF(Wall!D38=\"\",\"\",Wall!D38)","v":""},{"$f":"IF(AI15=\"\",\"\",MAX(AH$10:AH14)+1)","v":""},{"$f":"IF(Room!C54=\"\",\"\",Room!C54)","v":""},{"$f":"IF(Room!D54=\"\",\"\",Room!D54)","v":""},null,null,null,null,5,"",""]
[null,null,null,null,null,"","","",null,"","","","","","","",null,null,null,null,null,null,null,null,null,{"$f":"IF(AA16=\"\",\"\",MAX(Z$10:Z15)+1)","v":""},{"$f":"IF(Wall!C14=\"\",\"\",Wall!C14)","v":""},{"$f":"IF(Wall!D14=\"\",\"\",Wall!D14)","v":""},{"$f":"IF(Wall!E14=\"\",\"\",Wall!E14)","v":""},{"$f":"IF(Wall!O14=\"\",\"\",Wall!O14)","v":false},{"$f":"IF(Wall!P14=\"\",\"\",Wall!P14)","v":false},"",{"$f":"IF(Wall!D39=\"\",\"\",Wall!D39)","v":""},{"$f":"IF(AI16=\"\",\"\",MAX(AH$10:AH15)+1)","v":""},{"$f":"IF(Room!C55=\"\",\"\",Room!C55)","v":""},{"$f":"IF(Room!D55=\"\",\"\",Room!D55)","v":""},null,null,null,null,6,"",""]
[null,null,null,null,null,"","","",null,"","","","","","","",null,null,null,null,null,null,null,null,null,{"$f":"IF(AA17=\"\",\"\",MAX(Z$10:Z16)+1)","v":""},{"$f":"IF(Wall!C15=\"\",\"\",Wall!C15)","v":""},{"$f":"IF(Wall!D15=\"\",\"\",Wall!D15)","v":""},{"$f":"IF(Wall!E15=\"\",\"\",Wall!E15)","v":""},{"$f":"IF(Wall!O15=\"\",\"\",Wall!O15)","v":false},{"$f":"IF(Wall!P15=\"\",\"\",Wall!P15)","v":false},"",{"$f":"IF(Wall!D40=\"\",\"\",Wall!D40)","v":""},{"$f":"IF(AI17=\"\",\"\",MAX(AH$10:AH16)+1)","v":""},{"$f":"IF(Room!C56=\"\",\"\",Room!C56)","v":""},{"$f":"IF(Room!D56=\"\",\"\",Room!D56)","v":""},null,null,null,null,7,"",""]
[null,null,null,null,null,"","","",null,"","","","","","","",null,null,null,null,null,null,null,null,null,{"$f":"IF(AA18=\"\",\"\",MAX(Z$10:Z17)+1)","v":""},{"$f":"IF(Wall!C16=\"\",\"\",Wall!C16)","v":""},{"$f":"IF(Wall!D16=\"\",\"\",Wall!D16)","v":""},{"$f":"IF(Wall!E16=\"\",\"\",Wall!E16)","v":""},{"$f":"IF(Wall!O16=\"\",\"\",Wall!O16)","v":false},{"$f":"IF(Wall!P16=\"\",\"\",Wall!P16)","v":false},"",{"$f":"IF(Wall!D41=\"\",\"\",Wall!D41)","v":""},{"$f":"IF(AI18=\"\",\"\",MAX(AH$10:AH17)+1)","v":""},{"$f":"IF(Room!C61=\"\",\"\",Room!C61)","v":""},{"$f":"IF(Room!D61=\"\",\"\",Room!D61)","v":""},null,null,null,null,8,"",""]
[null,null,null,null,null,"","","",null,"","","","","","","",null,null,null,null,null,null,null,null,null,{"$f":"IF(AA19=\"\",\"\",MAX(Z$10:Z18)+1)","v":""},{"$f":"IF(Wall!C17=\"\",\"\",Wall!C17)","v":""},{"$f":"IF(Wall!D17=\"\",\"\",Wall!D17)","v":""},{"$f":"IF(Wall!E17=\"\",\"\",Wall!E17)","v":""},{"$f":"IF(Wall!O17=\"\",\"\",Wall!O17)","v":false},{"$f":"IF(Wall!P17=\"\",\"\",Wall!P17)","v":false},"",{"$f":"IF(Wall!D42=\"\",\"\",Wall!D42)","v":""},{"$f":"IF(AI19=\"\",\"\",MAX(AH$10:AH18)+1)","v":""},{"$f":"IF(Room!C62=\"\",\"\",Room!C62)","v":""},{"$f":"IF(Room!D62=\"\",\"\",Room!D62)","v":""},null,null,null,null,9,"",{"$f":"IF(AO19>AH$45,\"\",VLOOKUP(AO19,AH19:AI49,2,FALSE))","v":""}]
[null,null,null,null,null,"","","",null,"","","","","","","",null,null,null,null,null,null,null,null,null,{"$f":"IF(AA20=\"\",\"\",MAX(Z$10:Z19)+1)","v":""},{"$f":"IF(Wall!C18=\"\",\"\",Wall!C18)","v":""},{"$f":"IF(Wall!D18=\"\",\"\",Wall!D18)","v":""},{"$f":"IF(Wall!E18=\"\",\"\",Wall!E18)","v":""},{"$f":"IF(Wall!O18=\"\",\"\",Wall!O18)","v":false},{"$f":"IF(Wall!P18=\"\",\"\",Wall!P18)","v":false},"",{"$f":"IF(Wall!D43=\"\",\"\",Wall!D43)","v":""},{"$f":"IF(AI20=\"\",\"\",MAX(AH$10:AH19)+1)","v":""},{"$f":"IF(Room!C63=\"\",\"\",Room!C63)","v":""},{"$f":"IF(Room!D63=\"\",\"\",Room!D63)","v":""},null,null,null,null,10,"",{"$f":"IF(AO20>AH$45,\"\",VLOOKUP(AO20,AH20:AI49,2,FALSE))","v":""}]
[null,null,null,null,null,"","","",null,"","","","","","","",null,null,null,null,null,null,null,null,null,{"$f":"IF(AA21=\"\",\"\",MAX(Z$10:Z20)+1)","v":""},{"$f":"IF(Wall!C19=\"\",\"\",Wall!C19)","v":""},{"$f":"IF(Wall!D19=\"\",\"\",Wall!D19)","v":""},{"$f":"IF(Wall!E19=\"\",\"\",Wall!E19)","v":""},{"$f":"IF(Wall!O19=\"\",\"\",Wall!O19)","v":false},{"$f":"IF(Wall!P19=\"\",\"\",Wall!P19)","v":false},"",{"$f":"IF(Wall!D44=\"\",\"\",Wall!D44)","v":""},{"$f":"IF(AI21=\"\",\"\",MAX(AH$10:AH20)+1)","v":""},{"$f":"IF(Room!C64=\"\",\"\",Room!C64)","v":""},{"$f":"IF(Room!D64=\"\",\"\",Room!D64)","v":""},null,null,null,null,11,"",{"$f":"IF(AO21>AH$45,\"\",VLOOKUP(AO21,AH21:AI49,2,FALSE))","v":""}]
[null,null,null,null,null,"","","",null,"","","","","","","",null,null,null,null,null,null,null,null,null,{"$f":"IF(AA22=\"\",\"\",MAX(Z$10:Z21)+1)","v":""},{"$f":"IF(Wall!C20=\"\",\"\",Wall!C20)","v":""},{"$f":"IF(Wall!D20=\"\",\"\",Wall!D20)","v":""},{"$f":"IF(Wall!E20=\"\",\"\",Wall!E20)","v":""},{"$f":"IF(Wall!O20=\"\",\"\",Wall!O20)","v":false},{"$f":"IF(Wall!P20=\"\",\"\",Wall!P20)","v":false},"",{"$f":"IF(Wall!D45=\"\",\"\",Wall!D45)","v":""},{"$f":"IF(AI22=\"\",\"\",MAX(AH$10:AH21)+1)","v":""},{"$f":"IF(Room!C65=\"\",\"\",Room!C65)","v":""},{"$f":"IF(Room!D65=\"\",\"\",Room!D65)","v":""},null,null,null,null,12,"",{"$f":"IF(AO22>AH$45,\"\",VLOOKUP(AO22,AH22:AI49,2,FALSE))","v":""}]
[null,null,null,null,null,"","","",null,"","","","","","","",null,null,null,null,null,null,null,null,null,{"$f":"IF(AA23=\"\",\"\",MAX(Z$10:Z22)+1)","v":""},{"$f":"IF(Wall!C21=\"\",\"\",Wall!C21)","v":""},{"$f":"IF(Wall!D21=\"\",\"\",Wall!D21)","v":""},{"$f":"IF(Wall!E21=\"\",\"\",Wall!E21)","v":""},{"$f":"IF(Wall!O21=\"\",\"\",Wall!O21)","v":false},{"$f":"IF(Wall!P21=\"\",\"\",Wall!P21)","v":false},"",{"$f":"IF(Wall!D46=\"\",\"\",Wall!D46)","v":""},{"$f":"IF(AI23=\"\",\"\",MAX(AH$10:AH22)+1)","v":""},{"$f":"IF(Room!C17=\"\",\"\",Room!C17)","v":""},{"$f":"IF(Room!D17=\"\",\"\",Room!D17)","v":""},null,null,null,null,13,"",{"$f":"IF(AO23>AH$45,\"\",VLOOKUP(AO23,AH23:AI49,2,FALSE))","v":""}]
[null,null,null,null,null,"","","",null,"","","","","","","",null,null,null,null,null,null,null,null,null,{"$f":"IF(AA24=\"\",\"\",MAX(Z$10:Z23)+1)","v":""},{"$f":"IF(Wall!C22=\"\",\"\",Wall!C22)","v":""},{"$f":"IF(Wall!D22=\"\",\"\",Wall!D22)","v":""},{"$f":"IF(Wall!E22=\"\",\"\",Wall!E22)","v":""},{"$f":"IF(Wall!O22=\"\",\"\",Wall!O22)","v":false},{"$f":"IF(Wall!P22=\"\",\"\",Wall!P22)","v":false},"",{"$f":"IF(Wall!D47=\"\",\"\",Wall!D47)","v":""},{"$f":"IF(AI24=\"\",\"\",MAX(AH$10:AH23)+1)","v":""},{"$f":"IF(Room!C18=\"\",\"\",Room!C18)","v":""},{"$f":"IF(Room!D18=\"\",\"\",Room!D18)","v":""},null,null,null,null,14,"",{"$f":"IF(AO24>AH$45,\"\",VLOOKUP(AO24,AH24:AI49,2,FALSE))","v":""}]
[null,null,null,null,null,"","","",null,"","","","","","","",null,null,null,null,null,null,null,null,null,{"$f":"IF(AA25=\"\",\"\",MAX(Z$10:Z24)+1)","v":""},{"$f":"IF(Wall!C23=\"\",\"\",Wall!C23)","v":""},{"$f":"IF(Wall!D23=\"\",\"\",Wall!D23)","v":""},{"$f":"IF(Wall!E23=\"\",\"\",Wall!E23)","v":""},{"$f":"IF(Wall!O23=\"\",\"\",Wall!O23)","v":false},{"$f":"IF(Wall!P23=\"\",\"\",Wall!P23)","v":false},"",{"$f":"IF(Wall!D48=\"\",\"\",Wall!D48)","v":""},{"$f":"IF(AI25=\"\",\"\",MAX(AH$10:AH24)+1)","v":""},{"$f":"IF(Room!C19=\"\",\"\",Room!C19)","v":""},{"$f":"IF(Room!D19=\"\",\"\",Room!D19)","v":""},null,null,null,null,15,"",{"$f":"IF(AO25>AH$45,\"\",VLOOKUP(AO25,AH25:AI49,2,FALSE))","v":""}]
[null,null,null,null,null,"","","",null,"","","","","","","",null,null,null,null,null,null,null,null,null,{"$f":"IF(AA26=\"\",\"\",MAX(Z$10:Z25)+1)","v":""},{"$f":"IF(Wall!C24=\"\",\"\",Wall!C24)","v":""},{"$f":"IF(Wall!D24=\"\",\"\",Wall!D24)","v":""},{"$f":"IF(Wall!E24=\"\",\"\",Wall!E24)","v":""},{"$f":"IF(Wall!O24=\"\",\"\",Wall!O24)","v":false},{"$f":"IF(Wall!P24=\"\",\"\",Wall!P24)","v":false},"",{"$f":"IF(Wall!D49=\"\",\"\",Wall!D49)","v":""},{"$f":"IF(AI26=\"\",\"\",MAX(AH$10:AH25)+1)","v":""},{"$f":"IF(Room!C20=\"\",\"\",Room!C20)","v":""},{"$f":"IF(Room!D20=\"\",\"\",Room!D20)","v":""},null,null,null,null,16,"",{"$f":"IF(AO26>AH$45,\"\",VLOOKUP(AO26,AH26:AI49,2,FALSE))","v":""}]
[null,null,null,null,null,"","","",null,"","","","","","","",null,null,null,null,null,null,null,null,null,{"$f":"IF(AA27=\"\",\"\",MAX(Z$10:Z26)+1)","v":""},{"$f":"IF(Wall!C25=\"\",\"\",Wall!C25)","v":""},{"$f":"IF(Wall!D25=\"\",\"\",Wall!D25)","v":""},{"$f":"IF(Wall!E25=\"\",\"\",Wall!E25)","v":""},{"$f":"IF(Wall!O25=\"\",\"\",Wall!O25)","v":false},{"$f":"IF(Wall!P25=\"\",\"\",Wall!P25)","v":false},"",{"$f":"IF(Wall!D50=\"\",\"\",Wall!D50)","v":""},{"$f":"IF(AI27=\"\",\"\",MAX(AH$10:AH26)+1)","v":""},{"$f":"IF(Room!C21=\"\",\"\",Room!C21)","v":""},{"$f":"IF(Room!D21=\"\",\"\",Room!D21)","v":""},null,null,null,null,17,"",{"$f":"IF(AO27>AH$45,\"\",VLOOKUP(AO27,AH27:AI49,2,FALSE))","v":""}]
[null,null,null,null,null,"","","",null,"","","","","","","",null,null,null,null,null,null,null,null,null,{"$f":"IF(AA28=\"\",\"\",MAX(Z$10:Z27)+1)","v":""},{"$f":"IF(Wall!C26=\"\",\"\",Wall!C26)","v":""},{"$f":"IF(Wall!D26=\"\",\"\",Wall!D26)","v":""},{"$f":"IF(Wall!E26=\"\",\"\",Wall!E26)","v":""},{"$f":"IF(Wall!O26=\"\",\"\",Wall!O26)","v":false},{"$f":"IF(Wall!P26=\"\",\"\",Wall!P26)","v":false},"",{"$f":"IF(Wall!D51=\"\",\"\",Wall!D51)","v":""},{"$f":"IF(AI28=\"\",\"\",MAX(AH$10:AH27)+1)","v":""},{"$f":"IF(Room!C22=\"\",\"\",Room!C22)","v":""},{"$f":"IF(Room!D22=\"\",\"\",Room!D22)","v":""},null,null,null,null,18,"",""]
[null,null,null,null,null,"","","",null,"","","","","","","",null,null,null,null,null,null,null,null,null,{"$f":"IF(AA29=\"\",\"\",MAX(Z$10:Z28)+1)","v":""},{"$f":"IF(Wall!C27=\"\",\"\",Wall!C27)","v":""},{"$f":"IF(Wall!D27=\"\",\"\",Wall!D27)","v":""},{"$f":"IF(Wall!E27=\"\",\"\",Wall!E27)","v":""},{"$f":"IF(Wall!O27=\"\",\"\",Wall!O27)","v":false},{"$f":"IF(Wall!P27=\"\",\"\",Wall!P27)","v":false},"",{"$f":"IF(Wall!D52=\"\",\"\",Wall!D52)","v":""},{"$f":"IF(AI29=\"\",\"\",MAX(AH$10:AH28)+1)","v":""},{"$f":"IF(Room!C23=\"\",\"\",Room!C23)","v":""},{"$f":"IF(Room!D23=\"\",\"\",Room!D23)","v":""},null,null,null,null,19,"",""]
[null,null,null,null,null,"","","",null,"","","","","","","",null,null,null,null,null,null,null,null,null,{"$f":"IF(AA30=\"\",\"\",MAX(Z$10:Z29)+1)","v":""},{"$f":"IF(Wall!C28=\"\",\"\",Wall!C28)","v":""},{"$f":"IF(Wall!D28=\"\",\"\",Wall!D28)","v":""},{"$f":"IF(Wall!E28=\"\",\"\",Wall!E28)","v":""},{"$f":"IF(Wall!O28=\"\",\"\",Wall!O28)","v":false},{"$f":"IF(Wall!P28=\"\",\"\",Wall!P28)","v":false},"",{"$f":"IF(Wall!D53=\"\",\"\",Wall!D53)","v":""},{"$f":"IF(AI30=\"\",\"\",MAX(AH$10:AH29)+1)","v":""},{"$f":"IF(Room!C24=\"\",\"\",Room!C24)","v":""},{"$f":"IF(Room!D24=\"\",\"\",Room!D24)","v":""},null,null,null,null,20,"",""]
[null,null,null,null,null,"","","",null,"","","","","","","",null,null,null,null,null,null,null,null,null,null,null,null,null,null,null,null,null,{"$f":"IF(AI31=\"\",\"\",MAX(AH$10:AH30)+1)","v":""},{"$f":"IF(Room!C25=\"\",\"\",Room!C25)","v":""},{"$f":"IF(Room!D25=\"\",\"\",Room!D25)","v":""},null,null,null,null,21,{"$f":"IF(AO31>Z$45,\"\",VLOOKUP(AO31,Z31:AA49,2,FALSE))","v":""},""]
[null,null,null,null,null,"","","",null,"","","","","","","",null,null,null,null,null,null,null,null,null,null,null,null,null,null,null,null,null,{"$f":"IF(AI32=\"\",\"\",MAX(AH$10:AH31)+1)","v":""},{"$f":"IF(Room!C26=\"\",\"\",Room!C26)","v":""},{"$f":"IF(Room!D26=\"\",\"\",Room!D26)","v":""},null,null,null,null,22,{"$f":"IF(AO32>Z$45,\"\",VLOOKUP(AO32,Z32:AA49,2,FALSE))","v":""},""]
[null,null,null,null,null,"","","",null,"","","","","","","",null,null,null,null,null,null,null,null,null,null,null,null,null,null,null,null,null,{"$f":"IF(AI33=\"\",\"\",MAX(AH$10:AH32)+1)","v":""},{"$f":"IF(Room!C27=\"\",\"\",Room!C27)","v":""},{"$f":"IF(Room!D27=\"\",\"\",Room!D27)","v":""},null,null,null,null,23,{"$f":"IF(AO33>Z$45,\"\",VLOOKUP(AO33,Z33:AA49,2,FALSE))","v":""},""]
[null,null,null,null,null,"","","",null,"","","","","","","",null,null,null,null,null,null,null,null,null,null,null,null,null,null,null,null,null,{"$f":"IF(AI34=\"\",\"\",MAX(AH$10:AH33)+1)","v":""},{"$f":"IF(Room!C28=\"\",\"\",Room!C28)","v":""},{"$f":"IF(Room!D28=\"\",\"\",Room!D28)","v":""},null,null,null,null,24,{"$f":"IF(AO34>Z$45,\"\",VLOOKUP(AO34,Z34:AA49,2,FALSE))","v":""},""]
[null,null,null,null,null,"","","",null,"","","","","","","",null,null,null,null,null,null,null,null,null,null,null,null,null,null,null,null,null,{"$f":"IF(AI35=\"\",\"\",MAX(AH$10:AH34)+1)","v":""},{"$f":"IF(Room!C29=\"\",\"\",Room!C29)","v":""},{"$f":"IF(Room!D29=\"\",\"\",Room!D29)","v":""},null,null,null,null,25,{"$f":"IF(AO35>Z$45,\"\",VLOOKUP(AO35,Z35:AA49,2,FALSE))","v":""},""]
[null,null,null,null,null,"","","",null,"","","","","","","",null,null,null,null,null,null,null,null,null,null,null,null,null,null,null,null,null,{"$f":"IF(AI36=\"\",\"\",MAX(AH$10:AH35)+1)","v":""},{"$f":"IF(Room!C30=\"\",\"\",Room!C30)","v":""},{"$f":"IF(Room!D30=\"\",\"\",Room!D30)","v":""},null,null,null,null,26,{"$f":"IF(AO36>Z$45,\"\",VLOOKUP(AO36,Z36:AA49,2,FALSE))","v":""},""]
[null,null,null,null,null,"","","",null,"","","","","","","",null,null,null,null,null,null,null,null,null,null,null,null,null,null,null,null,null,{"$f":"IF(AI37=\"\",\"\",MAX(AH$10:AH36)+1)","v":""},{"$f":"IF(Room!C31=\"\",\"\",Room!C31)","v":""},{"$f":"IF(Room!D31=\"\",\"\",Room!D31)","v":""},null,null,null,null,27,{"$f":"IF(AO37>Z$45,\"\",VLOOKUP(AO37,Z37:AA49,2,FALSE))","v":""},""]
[null,null,null,null,null,"","","",null,"","","","","","","",null,null,null,null,null,null,null,null,null,null,null,null,null,null,null,null,null,{"$f":"IF(AI38=\"\",\"\",MAX(AH$10:AH37)+1)","v":""},{"$f":"IF(Room!C32=\"\",\"\",Room!C32)","v":""},{"$f":"IF(Room!D32=\"\",\"\",Room!D32)","v":""},null,null,null,null,28,{"$f":"IF(AO38>Z$45,\"\",VLOOKUP(AO38,Z38:AA49,2,FALSE))","v":""},""]
[null,null,null,null,null,"","","",null,"","","","","","","",null,null,null,null,null,null,null,null,null,null,null,null,null,null,null,null,null,{"$f":"IF(AI39=\"\",\"\",MAX(AH$10:AH38)+1)","v":""},{"$f":"IF(Room!C33=\"\",\"\",Room!C33)","v":""},{"$f":"IF(Room!D33=\"\",\"\",Room!D33)","v":""},null,null,null,null,29,{"$f":"IF(AO39>Z$45,\"\",VLOOKUP(AO39,Z39:AA49,2,FALSE))","v":""},""]
[null,null,null,null,null,"","","",null,"","","","","","","",null,null,null,null,null,null,null,null,null,null,null,null,null,null,null,null,null,{"$f":"IF(AI40=\"\",\"\",MAX(AH$10:AH39)+1)","v":""},{"$f":"IF(Room!C34=\"\",\"\",Room!C34)","v":""},{"$f":"IF(Room!D34=\"\",\"\",Room!D34)","v":""},null,null,null,null,30,{"$f":"IF(AO40>Z$45,\"\",VLOOKUP(AO40,Z40:AA50,2,FALSE))","v":""},""]
[null,null,null,null,null,"","","",null,"","","","","","","",null,null,null,null,null,null,null,null,null,null,null,null,null,null,null,null,null,{"$f":"IF(AI41=\"\",\"\",MAX(AH$10:AH40)+1)","v":""},{"$f":"IF(Room!C35=\"\",\"\",Room!C35)","v":""},{"$f":"IF(Room!D35=\"\",\"\",Room!D35)","v":""},null,null,null,null,31,{"$f":"IF(AO41>Z$45,\"\",VLOOKUP(AO41,Z41:AA51,2,FALSE))","v":""},""]
[null,null,null,null,null,null,null,null,null,null,null,null,null,null,null,null,null,null,null,null,null,null,null,null,null,null,null,null,null,null,null,null,null,{"$f":"IF(AI42=\"\",\"\",MAX(AH$10:AH41)+1)","v":""},{"$f":"IF(Room!C36=\"\",\"\",Room!C36)","v":""},{"$f":"IF(Room!D36=\"\",\"\",Room!D36)","v":""},null,null,null,null,32,{"$f":"IF(AO42>Z$45,\"\",VLOOKUP(AO42,Z42:AA52,2,FALSE))","v":""},""]
[]
[]
[null,null,null,null,null,null,null,null,null,null,null,null,null,null,null,null,null,null,null,null,null,null,null,null,"Max",{"$f":"MAX(Z11:Z30)","v":0},null,null,null,null,null,null,"Max",{"$f":"MAX(AH11:AH42)","v":0}]

{"sheet":"T20","index":26,"n_rows":45,"n_cols":43,"rows_kept":45,"cut":false,"hidden":false,"merged":[[3,1,3,7],[7,1,7,7]]}
[]
[]
[]
[null,{"$f":"Langage!A54","v":"Perte thermique par transmission"}]
[]
[null,{"$f":"IF(S10=\"\",\"\",S10)","v":""},{"$f":"IF(S11=\"\",\"\",S11)","v":""},"°C",null,null,"FT,i   W",{"$f":"IF(C6=\"\",\"\",SUM(H12:H41))","v":""},null,null,null,null,null,"FT,i   W",null,{"$f":"IF(C6=\"\",\"\",SUM(P12:P40))","v":""},null,"Ceci reprend les valeurs dans les les autres onglets de façon à pouvoir les utiliser dans le présent onglet.",null,null,null,null,null,null,null,null,null,null,null,null,null,null,null,null,null,null,null,null,null,null,"Ceci recrée des listes sans vides pour les menus déroulants"]
[]
[null,null,null,null,null,null,null,null,null,null,null,null,null,null,null,null,null,"N° onglet",20,"Valeur à changer dans toutes les feuilles T",null,null,null,null,{"$f":"16+S8","v":36}]
[]
[null,null,null,"Ak","hm,k","Uk","DT","FT,i,k",null,"Tout","Tin","fqann","fGW","Chff sol","Chff mur","FT,i,k",null,"Espace",{"$f":"IF(INDIRECT(\"Room!C\"&Y8)=\"\",\"\",CONCATENATE(INDIRECT(\"Room!B\"&Y8),\". \",INDIRECT(\"Room!C\"&Y8)))","v":""},null,null,null,null,null,null,null,"Parois","U","DUTB","Chff sol","Chff mur","Utot",null,null,"Espaces",null,null,null,null,null,null,"Parois","Espace"]
[null,{"$f":"Langage!A20","v":"Parois"},{"$f":"Langage!A24","v":"Espace"},"m²","m","W/m².K","°C","W",null,null,null,null,null,null,"W",null,null,"qint   °C",{"$f":"IF(INDIRECT(\"Room!D\"&Y8)=\"\",\"\",INDIRECT(\"Room!D\"&Y8))","v":""},null,null,null,null,null,null,{"$f":"IF(AA11=\"\",\"\",MAX(Z$10:Z10)+1)","v":""},{"$f":"IF(Wall!C9=\"\",\"\",Wall!C9)","v":""},{"$f":"IF(Wall!D9=\"\",\"\",Wall!D9)","v":""},{"$f":"IF(Wall!E9=\"\",\"\",Wall!E9)","v":""},{"$f":"IF(Wall!O9=\"\",\"\",Wall!O9)","v":false},{"$f":"IF(Wall!P9=\"\",\"\",Wall!P9)","v":false},{"$f":"IF(AB11=\"\",\"\",(IF(AC11=\"\",AB11,AB11+AC11)))","v":""},{"$f":"IF(Wall!D34=\"\",\"\",Wall!D34)","v":""},{"$f":"IF(AI11=\"\",\"\",MAX(AH$10:AH10)+1)","v":""},{"$f":"IF(Room!C42=\"\",\"\",Room!C42)","v":""},{"$f":"IF(Room!D42=\"\",\"\",Room!D42)","v":""},null,null,null,null,1,{"$f":"IF(AO11>Z$45,\"\",VLOOKUP(AO11,Z11:AA30,2,FALSE))","v":""},{"$f":"IF(AO11>AH$45,\"\",VLOOKUP(AO11,AH11:AI42,2,FALSE))","v":""}]
[null,null,null,null,null,{"$f":"IF(B12=\"\",\"\",VLOOKUP(B12,AA$11:AF$30,6,FALSE))","v":""},{"$f":"IF(OR(K12=\"\",J12=\"\"),\"\",K12-J12)","v":""},{"$f":"IF(P12=\"\",\"\",P12)","v":""},null,{"$f":"IF(C12=\"\",\"\",VLOOKUP(C12,AI$11:AJ$42,2,FALSE))","v":""},{"$f":"IF(B12=\"\",\"\",IF(S$15<4,C$6,IF(E12=\"\",\"\",C$6+S$14*(E12-1))))","v":""},{"$f":"IF(C12=\"\",\"\",IF(VLOOKUP(C12,AI$11:AL$42,3,FALSE)=\"\",\"\",VLOOKUP(C12,AI$11:AL$42,3,FALSE)))","v":""},{"$f":"IF(C12=\"\",\"\",IF(VLOOKUP(C12,AI$11:AL$42,4,FALSE)=\"\",\"\",VLOOKUP(C12,AI$11:AL$42,4,FALSE)))","v":""},{"$f":"IF(B12=\"\",\"\",VLOOKUP(B12,AA$11:AF$30,4,FALSE))","v":""},{"$f":"IF(B12=\"\",\"\",VLOOKUP(B12,AA$11:AF$30,5,FALSE))","v":""},{"$f":"IF(OR(N12=TRUE,O12=TRUE),\"///\",IF(OR(D12=\"\",F12=\"\",G12=\"\"),\"\",IF(OR(L12=\"\",M12=\"\"),D12*F12*G12,D12*F12*G12*L12*M12)))","v":""},null,"qe   °C",{"$f":"IF(Room!F8=\"\",\"\",Room!F8)","v":""},null,null,null,null,null,null,{"$f":"IF(AA12=\"\",\"\",MAX(Z$10:Z11)+1)","v":""},{"$f":"IF(Wall!C10=\"\",\"\",Wall!C10)","v":""},{"$f":"IF(Wall!D10=\"\",\"\",Wall!D10)","v":""},{"$f":"IF(Wall!E10=\"\",\"\",Wall!E10)","v":""},{"$f":"IF(Wall!O10=\"\",\"\",Wall!O10)","v":false},{"$f":"IF(Wall!P10=\"\",\"\",Wall!P10)","v":false},{"$f":"IF(AB12=\"\",\"\",(IF(AC12=\"\",AB12,AB12+AC12)))","v":""},{"$f":"IF(Wall!D35=\"\",\"\",Wall!D35)","v":""},{"$f":"IF(AI12=\"\",\"\",MAX(AH$10:AH11)+1)","v":""},{"$f":"IF(Room!C47=\"\",\"\",Room!C47)","v":""},{"$f":"IF(Room!D47=\"\",\"\",Room!D47)","v":""},{"$f":"IF(Room!E47=\"\",\"\",Room!E47)","v":1.45},{"$f":"IF(Room!F47=\"\",\"\",Room!F47)","v":1.1499999999999999},null,null,2,{"$f":"IF(AO12>Z$45,\"\",VLOOKUP(AO12,Z12:AA31,2,FALSE))","v":""},{"$f":"IF(AO12>AH$45,\"\",VLOOKUP(AO12,AH12:AI43,2,FALSE))","v":""}]
[null,null,null,null,null,{"$f":"IF(B13=\"\",\"\",VLOOKUP(B13,AA$11:AF$30,6,FALSE))","v":""},{"$f":"IF(OR(K13=\"\",J13=\"\"),\"\",K13-J13)","v":""},{"$f":"IF(P13=\"\",\"\",P13)","v":""},null,"",{"$f":"IF(B13=\"\",\"\",IF(S$15<4,C$6,IF(E13=\"\",\"\",C$6+S$14*(E13-1))))","v":""},"","","",{"$f":"IF(B13=\"\",\"\",VLOOKUP(B13,AA$11:AF$30,5,FALSE))","v":""},{"$f":"IF(OR(N13=TRUE,O13=TRUE),\"///\",IF(OR(D13=\"\",F13=\"\",G13=\"\"),\"\",IF(OR(L13=\"\",M13=\"\"),D13*F13*G13,D13*F13*G13*L13*M13)))","v":""},null,"qm,e   °C",{"$f":"IF(Room!F9=\"\",\"\",Room!F9)","v":""},null,null,null,null,null,null,{"$f":"IF(AA13=\"\",\"\",MAX(Z$10:Z12)+1)","v":""},{"$f":"IF(Wall!C11=\"\",\"\",Wall!C11)","v":""},{"$f":"IF(Wall!D11=\"\",\"\",Wall!D11)","v":""},{"$f":"IF(Wall!E11=\"\",\"\",Wall!E11)","v":""},{"$f":"IF(Wall!O11=\"\",\"\",Wall!O11)","v":false},{"$f":"IF(Wall!P11=\"\",\"\",Wall!P11)","v":false},"",{"$f":"IF(Wall!D36=\"\",\"\",Wall!D36)","v":""},{"$f":"IF(AI13=\"\",\"\",MAX(AH$10:AH12)+1)","v":""},{"$f":"IF(Room!C52=\"\",\"\",Room!C52)","v":""},{"$f":"IF(Room!D52=\"\",\"\",Room!D52)","v":""},null,null,null,null,3,"",""]
[null,null,null,null,null,"","","",null,"","","","","","","",null,"Gq,air,i  °C/m",{"$f":"IF(INDIRECT(\"Room!T\"&Y8)=\"\",\"\",INDIRECT(\"Room!T\"&Y8))","v":""},null,null,null,null,null,null,{"$f":"IF(AA14=\"\",\"\",MAX(Z$10:Z13)+1)","v":""},{"$f":"IF(Wall!C12=\"\",\"\",Wall!C12)","v":""},{"$f":"IF(Wall!D12=\"\",\"\",Wall!D12)","v":""},{"$f":"IF(Wall!E12=\"\",\"\",Wall!E12)","v":""},{"$f":"IF(Wall!O12=\"\",\"\",Wall!O12)","v":false},{"$f":"IF(Wall!P12=\"\",\"\",Wall!P12)","v":false},"",{"$f":"IF(Wall!D37=\"\",\"\",Wall!D37)","v":""},{"$f":"IF(AI14=\"\",\"\",MAX(AH$10:AH13)+1)","v":""},{"$f":"IF(Room!C53=\"\",\"\",Room!C53)","v":""},{"$f":"IF(Room!D53=\"\",\"\",Room!D53)","v":""},null,null,null,null,4,"",""]
[null,null,null,null,null,"","","",null,"","","","","","","",null,"hi   m",{"$f":"IF(INDIRECT(\"Room!Q\"&Y8)=\"\",\"\",INDIRECT(\"Room!Q\"&Y8))","v":""},null,null,null,null,null,null,{"$f":"IF(AA15=\"\",\"\",MAX(Z$10:Z14)+1)","v":""},{"$f":"IF(Wall!C13=\"\",\"\",Wall!C13)","v":""},{"$f":"IF(Wall!D13=\"\",\"\",Wall!D13)","v":""},{"$f":"IF(Wall!E13=\"\",\"\",Wall!E13)","v":""},{"$f":"IF(Wall!O13=\"\",\"\",Wall!O13)","v":false},{"$f":"IF(Wall!P13=\"\",\"\",Wall!P13)","v":false},"",{"$f":"IF(Wall!D38=\"\",\"\",Wall!D38)","v":""},{"$f":"IF(AI15=\"\",\"\",MAX(AH$10:AH14)+1)","v":""},{"$f":"IF(Room!C54=\"\",\"\",Room!C54)","v":""},{"$f":"IF(Room!D54=\"\",\"\",Room!D54)","v":""},null,null,null,null,5,"",""]
[null,null,null,null,null,"","","",null,"","","","","","","",null,null,null,null,null,null,null,null,null,{"$f":"IF(AA16=\"\",\"\",MAX(Z$10:Z15)+1)","v":""},{"$f":"IF(Wall!C14=\"\",\"\",Wall!C14)","v":""},{"$f":"IF(Wall!D14=\"\",\"\",Wall!D14)","v":""},{"$f":"IF(Wall!E14=\"\",\"\",Wall!E14)","v":""},{"$f":"IF(Wall!O14=\"\",\"\",Wall!O14)","v":false},{"$f":"IF(Wall!P14=\"\",\"\",Wall!P14)","v":false},"",{"$f":"IF(Wall!D39=\"\",\"\",Wall!D39)","v":""},{"$f":"IF(AI16=\"\",\"\",MAX(AH$10:AH15)+1)","v":""},{"$f":"IF(Room!C55=\"\",\"\",Room!C55)","v":""},{"$f":"IF(Room!D55=\"\",\"\",Room!D55)","v":""},null,null,null,null,6,"",""]
[null,null,null,null,null,"","","",null,"","","","","","","",null,null,null,null,null,null,null,null,null,{"$f":"IF(AA17=\"\",\"\",MAX(Z$10:Z16)+1)","v":""},{"$f":"IF(Wall!C15=\"\",\"\",Wall!C15)","v":""},{"$f":"IF(Wall!D15=\"\",\"\",Wall!D15)","v":""},{"$f":"IF(Wall!E15=\"\",\"\",Wall!E15)","v":""},{"$f":"IF(Wall!O15=\"\",\"\",Wall!O15)","v":false},{"$f":"IF(Wall!P15=\"\",\"\",Wall!P15)","v":false},"",{"$f":"IF(Wall!D40=\"\",\"\",Wall!D40)","v":""},{"$f":"IF(AI17=\"\",\"\",MAX(AH$10:AH16)+1)","v":""},{"$f":"IF(Room!C56=\"\",\"\",Room!C56)","v":""},{"$f":"IF(Room!D56=\"\",\"\",Room!D56)","v":""},null,null,null,null,7,"",""]
[null,null,null,null,null,"","","",null,"","","","","","","",null,null,null,null,null,null,null,null,null,{"$f":"IF(AA18=\"\",\"\",MAX(Z$10:Z17)+1)","v":""},{"$f":"IF(Wall!C16=\"\",\"\",Wall!C16)","v":""},{"$f":"IF(Wall!D16=\"\",\"\",Wall!D16)","v":""},{"$f":"IF(Wall!E16=\"\",\"\",Wall!E16)","v":""},{"$f":"IF(Wall!O16=\"\",\"\",Wall!O16)","v":false},{"$f":"IF(Wall!P16=\"\",\"\",Wall!P16)","v":false},"",{"$f":"IF(Wall!D41=\"\",\"\",Wall!D41)","v":""},{"$f":"IF(AI18=\"\",\"\",MAX(AH$10:AH17)+1)","v":""},{"$f":"IF(Room!C61=\"\",\"\",Room!C61)","v":""},{"$f":"IF(Room!D61=\"\",\"\",Room!D61)","v":""},null,null,null,null,8,"",""]
[null,null,null,null,null,"","","",null,"","","","","","","",null,null,null,null,null,null,null,null,null,{"$f":"IF(AA19=\"\",\"\",MAX(Z$10:Z18)+1)","v":""},{"$f":"IF(Wall!C17=\"\",\"\",Wall!C17)","v":""},{"$f":"IF(Wall!D17=\"\",\"\",Wall!D17)","v":""},{"$f":"IF(Wall!E17=\"\",\"\",Wall!E17)","v":""},{"$f":"IF(Wall!O17=\"\",\"\",Wall!O17)","v":false},{"$f":"IF(Wall!P17=\"\",\"\",Wall!P17)","v":false},"",{"$f":"IF(Wall!D42=\"\",\"\",Wall!D42)","v":""},{"$f":"IF(AI19=\"\",\"\",MAX(AH$10:AH18)+1)","v":""},{"$f":"IF(Room!C62=\"\",\"\",Room!C62)","v":""},{"$f":"IF(Room!D62=\"\",\"\",Room!D62)","v":""},null,null,null,null,9,"",{"$f":"IF(AO19>AH$45,\"\",VLOOKUP(AO19,AH19:AI49,2,FALSE))","v":""}]
[null,null,null,null,null,"","","",null,"","","","","","","",null,null,null,null,null,null,null,null,null,{"$f":"IF(AA20=\"\",\"\",MAX(Z$10:Z19)+1)","v":""},{"$f":"IF(Wall!C18=\"\",\"\",Wall!C18)","v":""},{"$f":"IF(Wall!D18=\"\",\"\",Wall!D18)","v":""},{"$f":"IF(Wall!E18=\"\",\"\",Wall!E18)","v":""},{"$f":"IF(Wall!O18=\"\",\"\",Wall!O18)","v":false},{"$f":"IF(Wall!P18=\"\",\"\",Wall!P18)","v":false},"",{"$f":"IF(Wall!D43=\"\",\"\",Wall!D43)","v":""},{"$f":"IF(AI20=\"\",\"\",MAX(AH$10:AH19)+1)","v":""},{"$f":"IF(Room!C63=\"\",\"\",Room!C63)","v":""},{"$f":"IF(Room!D63=\"\",\"\",Room!D63)","v":""},null,null,null,null,10,"",{"$f":"IF(AO20>AH$45,\"\",VLOOKUP(AO20,AH20:AI49,2,FALSE))","v":""}]
[null,null,null,null,null,"","","",null,"","","","","","","",null,null,null,null,null,null,null,null,null,{"$f":"IF(AA21=\"\",\"\",MAX(Z$10:Z20)+1)","v":""},{"$f":"IF(Wall!C19=\"\",\"\",Wall!C19)","v":""},{"$f":"IF(Wall!D19=\"\",\"\",Wall!D19)","v":""},{"$f":"IF(Wall!E19=\"\",\"\",Wall!E19)","v":""},{"$f":"IF(Wall!O19=\"\",\"\",Wall!O19)","v":false},{"$f":"IF(Wall!P19=\"\",\"\",Wall!P19)","v":false},"",{"$f":"IF(Wall!D44=\"\",\"\",Wall!D44)","v":""},{"$f":"IF(AI21=\"\",\"\",MAX(AH$10:AH20)+1)","v":""},{"$f":"IF(Room!C64=\"\",\"\",Room!C64)","v":""},{"$f":"IF(Room!D64=\"\",\"\",Room!D64)","v":""},null,null,null,null,11,"",{"$f":"IF(AO21>AH$45,\"\",VLOOKUP(AO21,AH21:AI49,2,FALSE))","v":""}]
[null,null,null,null,null,"","","",null,"","","","","","","",null,null,null,null,null,null,null,null,null,{"$f":"IF(AA22=\"\",\"\",MAX(Z$10:Z21)+1)","v":""},{"$f":"IF(Wall!C20=\"\",\"\",Wall!C20)","v":""},{"$f":"IF(Wall!D20=\"\",\"\",Wall!D20)","v":""},{"$f":"IF(Wall!E20=\"\",\"\",Wall!E20)","v":""},{"$f":"IF(Wall!O20=\"\",\"\",Wall!O20)","v":false},{"$f":"IF(Wall!P20=\"\",\"\",Wall!P20)","v":false},"",{"$f":"IF(Wall!D45=\"\",\"\",Wall!D45)","v":""},{"$f":"IF(AI22=\"\",\"\",MAX(AH$10:AH21)+1)","v":""},{"$f":"IF(Room!C65=\"\",\"\",Room!C65)","v":""},{"$f":"IF(Room!D65=\"\",\"\",Room!D65)","v":""},null,null,null,null,12,"",{"$f":"IF(AO22>AH$45,\"\",VLOOKUP(AO22,AH22:AI49,2,FALSE))","v":""}]
[null,null,null,null,null,"","","",null,"","","","","","","",null,null,null,null,null,null,null,null,null,{"$f":"IF(AA23=\"\",\"\",MAX(Z$10:Z22)+1)","v":""},{"$f":"IF(Wall!C21=\"\",\"\",Wall!C21)","v":""},{"$f":"IF(Wall!D21=\"\",\"\",Wall!D21)","v":""},{"$f":"IF(Wall!E21=\"\",\"\",Wall!E21)","v":""},{"$f":"IF(Wall!O21=\"\",\"\",Wall!O21)","v":false},{"$f":"IF(Wall!P21=\"\",\"\",Wall!P21)","v":false},"",{"$f":"IF(Wall!D46=\"\",\"\",Wall!D46)","v":""},{"$f":"IF(AI23=\"\",\"\",MAX(AH$10:AH22)+1)","v":""},{"$f":"IF(Room!C17=\"\",\"\",Room!C17)","v":""},{"$f":"IF(Room!D17=\"\",\"\",Room!D17)","v":""},null,null,null,null,13,"",{"$f":"IF(AO23>AH$45,\"\",VLOOKUP(AO23,AH23:AI49,2,FALSE))","v":""}]
[null,null,null,null,null,"","","",null,"","","","","","","",null,null,null,null,null,null,null,null,null,{"$f":"IF(AA24=\"\",\"\",MAX(Z$10:Z23)+1)","v":""},{"$f":"IF(Wall!C22=\"\",\"\",Wall!C22)","v":""},{"$f":"IF(Wall!D22=\"\",\"\",Wall!D22)","v":""},{"$f":"IF(Wall!E22=\"\",\"\",Wall!E22)","v":""},{"$f":"IF(Wall!O22=\"\",\"\",Wall!O22)","v":false},{"$f":"IF(Wall!P22=\"\",\"\",Wall!P22)","v":false},"",{"$f":"IF(Wall!D47=\"\",\"\",Wall!D47)","v":""},{"$f":"IF(AI24=\"\",\"\",MAX(AH$10:AH23)+1)","v":""},{"$f":"IF(Room!C18=\"\",\"\",Room!C18)","v":""},{"$f":"IF(Room!D18=\"\",\"\",Room!D18)","v":""},null,null,null,null,14,"",{"$f":"IF(AO24>AH$45,\"\",VLOOKUP(AO24,AH24:AI49,2,FALSE))","v":""}]
[null,null,null,null,null,"","","",null,"","","","","","","",null,null,null,null,null,null,null,null,null,{"$f":"IF(AA25=\"\",\"\",MAX(Z$10:Z24)+1)","v":""},{"$f":"IF(Wall!C23=\"\",\"\",Wall!C23)","v":""},{"$f":"IF(Wall!D23=\"\",\"\",Wall!D23)","v":""},{"$f":"IF(Wall!E23=\"\",\"\",Wall!E23)","v":""},{"$f":"IF(Wall!O23=\"\",\"\",Wall!O23)","v":false},{"$f":"IF(Wall!P23=\"\",\"\",Wall!P23)","v":false},"",{"$f":"IF(Wall!D48=\"\",\"\",Wall!D48)","v":""},{"$f":"IF(AI25=\"\",\"\",MAX(AH$10:AH24)+1)","v":""},{"$f":"IF(Room!C19=\"\",\"\",Room!C19)","v":""},{"$f":"IF(Room!D19=\"\",\"\",Room!D19)","v":""},null,null,null,null,15,"",{"$f":"IF(AO25>AH$45,\"\",VLOOKUP(AO25,AH25:AI49,2,FALSE))","v":""}]
[null,null,null,null,null,"","","",null,"","","","","","","",null,null,null,null,null,null,null,null,null,{"$f":"IF(AA26=\"\",\"\",MAX(Z$10:Z25)+1)","v":""},{"$f":"IF(Wall!C24=\"\",\"\",Wall!C24)","v":""},{"$f":"IF(Wall!D24=\"\",\"\",Wall!D24)","v":""},{"$f":"IF(Wall!E24=\"\",\"\",Wall!E24)","v":""},{"$f":"IF(Wall!O24=\"\",\"\",Wall!O24)","v":false},{"$f":"IF(Wall!P24=\"\",\"\",Wall!P24)","v":false},"",{"$f":"IF(Wall!D49=\"\",\"\",Wall!D49)","v":""},{"$f":"IF(AI26=\"\",\"\",MAX(AH$10:AH25)+1)","v":""},{"$f":"IF(Room!C20=\"\",\"\",Room!C20)","v":""},{"$f":"IF(Room!D20=\"\",\"\",Room!D20)","v":""},null,null,null,null,16,"",{"$f":"IF(AO26>AH$45,\"\",VLOOKUP(AO26,AH26:AI49,2,FALSE))","v":""}]
[null,null,null,null,null,"","","",null,"","","","","","","",null,null,null,null,null,null,null,null,null,{"$f":"IF(AA27=\"\",\"\",MAX(Z$10:Z26)+1)","v":""},{"$f":"IF(Wall!C25=\"\",\"\",Wall!C25)","v":""},{"$f":"IF(Wall!D25=\"\",\"\",Wall!D25)","v":""},{"$f":"IF(Wall!E25=\"\",\"\",Wall!E25)","v":""},{"$f":"IF(Wall!O25=\"\",\"\",Wall!O25)","v":false},{"$f":"IF(Wall!P25=\"\",\"\",Wall!P25)","v":false},"",{"$f":"IF(Wall!D50=\"\",\"\",Wall!D50)","v":""},{"$f":"IF(AI27=\"\",\"\",MAX(AH$10:AH26)+1)","v":""},{"$f":"IF(Room!C21=\"\",\"\",Room!C21)","v":""},{"$f":"IF(Room!D21=\"\",\"\",Room!D21)","v":""},null,null,null,null,17,"",{"$f":"IF(AO27>AH$45,\"\",VLOOKUP(AO27,AH27:AI49,2,FALSE))","v":""}]
[null,null,null,null,null,"","","",null,"","","","","","","",null,null,null,null,null,null,null,null,null,{"$f":"IF(AA28=\"\",\"\",MAX(Z$10:Z27)+1)","v":""},{"$f":"IF(Wall!C26=\"\",\"\",Wall!C26)","v":""},{"$f":"IF(Wall!D26=\"\",\"\",Wall!D26)","v":""},{"$f":"IF(Wall!E26=\"\",\"\",Wall!E26)","v":""},{"$f":"IF(Wall!O26=\"\",\"\",Wall!O26)","v":false},{"$f":"IF(Wall!P26=\"\",\"\",Wall!P26)","v":false},"",{"$f":"IF(Wall!D51=\"\",\"\",Wall!D51)","v":""},{"$f":"IF(AI28=\"\",\"\",MAX(AH$10:AH27)+1)","v":""},{"$f":"IF(Room!C22=\"\",\"\",Room!C22)","v":""},{"$f":"IF(Room!D22=\"\",\"\",Room!D22)","v":""},null,null,null,null,18,"",""]
[null,null,null,null,null,"","","",null,"","","","","","","",null,null,null,null,null,null,null,null,null,{"$f":"IF(AA29=\"\",\"\",MAX(Z$10:Z28)+1)","v":""},{"$f":"IF(Wall!C27=\"\",\"\",Wall!C27)","v":""},{"$f":"IF(Wall!D27=\"\",\"\",Wall!D27)","v":""},{"$f":"IF(Wall!E27=\"\",\"\",Wall!E27)","v":""},{"$f":"IF(Wall!O27=\"\",\"\",Wall!O27)","v":false},{"$f":"IF(Wall!P27=\"\",\"\",Wall!P27)","v":false},"",{"$f":"IF(Wall!D52=\"\",\"\",Wall!D52)","v":""},{"$f":"IF(AI29=\"\",\"\",MAX(AH$10:AH28)+1)","v":""},{"$f":"IF(Room!C23=\"\",\"\",Room!C23)","v":""},{"$f":"IF(Room!D23=\"\",\"\",Room!D23)","v":""},null,null,null,null,19,"",""]
[null,null,null,null,null,"","","",null,"","","","","","","",null,null,null,null,null,null,null,null,null,{"$f":"IF(AA30=\"\",\"\",MAX(Z$10:Z29)+1)","v":""},{"$f":"IF(Wall!C28=\"\",\"\",Wall!C28)","v":""},{"$f":"IF(Wall!D28=\"\",\"\",Wall!D28)","v":""},{"$f":"IF(Wall!E28=\"\",\"\",Wall!E28)","v":""},{"$f":"IF(Wall!O28=\"\",\"\",Wall!O28)","v":false},{"$f":"IF(Wall!P28=\"\",\"\",Wall!P28)","v":false},"",{"$f":"IF(Wall!D53=\"\",\"\",Wall!D53)","v":""},{"$f":"IF(AI30=\"\",\"\",MAX(AH$10:AH29)+1)","v":""},{"$f":"IF(Room!C24=\"\",\"\",Room!C24)","v":""},{"$f":"IF(Room!D24=\"\",\"\",Room!D24)","v":""},null,null,null,null,20,"",""]
[null,null,null,null,null,"","","",null,"","","","","","","",null,null,null,null,null,null,null,null,null,null,null,null,null,null,null,null,null,{"$f":"IF(AI31=\"\",\"\",MAX(AH$10:AH30)+1)","v":""},{"$f":"IF(Room!C25=\"\",\"\",Room!C25)","v":""},{"$f":"IF(Room!D25=\"\",\"\",Room!D25)","v":""},null,null,null,null,21,{"$f":"IF(AO31>Z$45,\"\",VLOOKUP(AO31,Z31:AA49,2,FALSE))","v":""},""]
[null,null,null,null,null,"","","",null,"","","","","","","",null,null,null,null,null,null,null,null,null,null,null,null,null,null,null,null,null,{"$f":"IF(AI32=\"\",\"\",MAX(AH$10:AH31)+1)","v":""},{"$f":"IF(Room!C26=\"\",\"\",Room!C26)","v":""},{"$f":"IF(Room!D26=\"\",\"\",Room!D26)","v":""},null,null,null,null,22,{"$f":"IF(AO32>Z$45,\"\",VLOOKUP(AO32,Z32:AA49,2,FALSE))","v":""},""]
[null,null,null,null,null,"","","",null,"","","","","","","",null,null,null,null,null,null,null,null,null,null,null,null,null,null,null,null,null,{"$f":"IF(AI33=\"\",\"\",MAX(AH$10:AH32)+1)","v":""},{"$f":"IF(Room!C27=\"\",\"\",Room!C27)","v":""},{"$f":"IF(Room!D27=\"\",\"\",Room!D27)","v":""},null,null,null,null,23,{"$f":"IF(AO33>Z$45,\"\",VLOOKUP(AO33,Z33:AA49,2,FALSE))","v":""},""]
[null,null,null,null,null,"","","",null,"","","","","","","",null,null,null,null,null,null,null,null,null,null,null,null,null,null,null,null,null,{"$f":"IF(AI34=\"\",\"\",MAX(AH$10:AH33)+1)","v":""},{"$f":"IF(Room!C28=\"\",\"\",Room!C28)","v":""},{"$f":"IF(Room!D28=\"\",\"\",Room!D28)","v":""},null,null,null,null,24,{"$f":"IF(AO34>Z$45,\"\",VLOOKUP(AO34,Z34:AA49,2,FALSE))","v":""},""]
[null,null,null,null,null,"","","",null,"","","","","","","",null,null,null,null,null,null,null,null,null,null,null,null,null,null,null,null,null,{"$f":"IF(AI35=\"\",\"\",MAX(AH$10:AH34)+1)","v":""},{"$f":"IF(Room!C29=\"\",\"\",Room!C29)","v":""},{"$f":"IF(Room!D29=\"\",\"\",Room!D29)","v":""},null,null,null,null,25,{"$f":"IF(AO35>Z$45,\"\",VLOOKUP(AO35,Z35:AA49,2,FALSE))","v":""},""]
[null,null,null,null,null,"","","",null,"","","","","","","",null,null,null,null,null,null,null,null,null,null,null,null,null,null,null,null,null,{"$f":"IF(AI36=\"\",\"\",MAX(AH$10:AH35)+1)","v":""},{"$f":"IF(Room!C30=\"\",\"\",Room!C30)","v":""},{"$f":"IF(Room!D30=\"\",\"\",Room!D30)","v":""},null,null,null,null,26,{"$f":"IF(AO36>Z$45,\"\",VLOOKUP(AO36,Z36:AA49,2,FALSE))","v":""},""]
[null,null,null,null,null,"","","",null,"","","","","","","",null,null,null,null,null,null,null,null,null,null,null,null,null,null,null,null,null,{"$f":"IF(AI37=\"\",\"\",MAX(AH$10:AH36)+1)","v":""},{"$f":"IF(Room!C31=\"\",\"\",Room!C31)","v":""},{"$f":"IF(Room!D31=\"\",\"\",Room!D31)","v":""},null,null,null,null,27,{"$f":"IF(AO37>Z$45,\"\",VLOOKUP(AO37,Z37:AA49,2,FALSE))","v":""},""]
[null,null,null,null,null,"","","",null,"","","","","","","",null,null,null,null,null,null,null,null,null,null,null,null,null,null,null,null,null,{"$f":"IF(AI38=\"\",\"\",MAX(AH$10:AH37)+1)","v":""},{"$f":"IF(Room!C32=\"\",\"\",Room!C32)","v":""},{"$f":"IF(Room!D32=\"\",\"\",Room!D32)","v":""},null,null,null,null,28,{"$f":"IF(AO38>Z$45,\"\",VLOOKUP(AO38,Z38:AA49,2,FALSE))","v":""},""]
[null,null,null,null,null,"","","",null,"","","","","","","",null,null,null,null,null,null,null,null,null,null,null,null,null,null,null,null,null,{"$f":"IF(AI39=\"\",\"\",MAX(AH$10:AH38)+1)","v":""},{"$f":"IF(Room!C33=\"\",\"\",Room!C33)","v":""},{"$f":"IF(Room!D33=\"\",\"\",Room!D33)","v":""},null,null,null,null,29,{"$f":"IF(AO39>Z$45,\"\",VLOOKUP(AO39,Z39:AA49,2,FALSE))","v":""},""]
[null,null,null,null,null,"","","",null,"","","","","","","",null,null,null,null,null,null,null,null,null,null,null,null,null,null,null,null,null,{"$f":"IF(AI40=\"\",\"\",MAX(AH$10:AH39)+1)","v":""},{"$f":"IF(Room!C34=\"\",\"\",Room!C34)","v":""},{"$f":"IF(Room!D34=\"\",\"\",Room!D34)","v":""},null,null,null,null,30,{"$f":"IF(AO40>Z$45,\"\",VLOOKUP(AO40,Z40:AA50,2,FALSE))","v":""},""]
[null,null,null,null,null,"","","",null,"","","","","","","",null,null,null,null,null,null,null,null,null,null,null,null,null,null,null,null,null,{"$f":"IF(AI41=\"\",\"\",MAX(AH$10:AH40)+1)","v":""},{"$f":"IF(Room!C35=\"\",\"\",Room!C35)","v":""},{"$f":"IF(Room!D35=\"\",\"\",Room!D35)","v":""},null,null,null,null,31,{"$f":"IF(AO41>Z$45,\"\",VLOOKUP(AO41,Z41:AA51,2,FALSE))","v":""},""]
[null,null,null,null,null,null,null,null,null,null,null,null,null,null,null,null,null,null,null,null,null,null,null,null,null,null,null,null,null,null,null,null,null,{"$f":"IF(AI42=\"\",\"\",MAX(AH$10:AH41)+1)","v":""},{"$f":"IF(Room!C36=\"\",\"\",Room!C36)","v":""},{"$f":"IF(Room!D36=\"\",\"\",Room!D36)","v":""},null,null,null,null,32,{"$f":"IF(AO42>Z$45,\"\",VLOOKUP(AO42,Z42:AA52,2,FALSE))","v":""},""]
[]
[]
[null,null,null,null,null,null,null,null,null,null,null,null,null,null,null,null,null,null,null,null,null,null,null,null,"Max",{"$f":"MAX(Z11:Z30)","v":0},null,null,null,null,null,null,"Max",{"$f":"MAX(AH11:AH42)","v":0}]

{"sheet":"Tab NA1","index":27,"n_rows":605,"n_cols":13,"rows_kept":605,"cut":false,"hidden":true,"merged":[]}
["EN 12831-1 - Tableau NA.1"]
[null,"Code postal","Commune","qe","qmin","qe,m","Code postal",null,"Code postal","Commune","qe","qmin","qe,m"]
[]
[null,9300,"Aalst",-7,0,10,9300,null,1000,"Bruxelles / Brussel",-7,0,10]
[null,9880,"Aalter",-7,0,10,9880,null,1030,"Schaarbeek",-7,0,10]
[null,3200,"Aarschot",-7,0,10,3200,null,1030,"Schaerbeek",-7,0,10]
[null,2630,"Aartselaar",-7,0,10,2630,null,1040,"Etterbeek",-7,0,10]
[null,1790,"Affligem",-7,0,10,1790,null,1050,"Elsene",-7,0,10]
[null,6250,"Aiseau-Presles",-8,-1,10,6250,null,1050,"Ixelles",-7,0,10]
[null,3570,"Alken",-7,0,10,3570,null,1060,"Sint-Gillis",-7,0,10]
[null,8690,"Alveringem",-7,0,10,8690,null,1060,"Saint-Gilles",-7,0,10]
[null,4540,"Amay",-8,-1,10,4540,null,1070,"Anderlecht",-7,0,10]
[null,4770,"Amel",-10,-3,8,4770,null,1080,"Sint-Jans-Molenbeek",-7,0,10]
[null,5300,"Andenne",-8,-1,10,5300,null,1080,"Molenbeek-Saint-Jean",-7,0,10]
[null,1070,"Anderlecht",-7,0,10,1070,null,1081,"Koekelberg",-7,0,10]
[null,6150,"Anderlues",-8,-1,10,6150,null,1082,"Sint-Agatha-Berchem",-7,0,10]
[null,5537,"Anhée",-9,-2,9,5537,null,1082,"Berchem-Sainte-Agathe",-7,0,10]
[null,4430,"Ans",-8,-1,10,4430,null,1083,"Ganshoren",-7,0,10]
[null,4160,"Anthisnes",-9,-2,9,4160,null,1090,"Jette",-7,0,10]
[null,7640,"Antoing",-7,0,10,7640,null,1140,"Evere",-7,0,10]
[null,2000,"Antwerpen",-7,0,10,2000,null,1150,"Sint-Pieters-Woluwe",-7,0,10]
[null,8570,"Anzegem",-7,0,10,8570,null,1150,"Woluwe-Saint-Pierre",-7,0,10]
[null,8850,"Ardooie",-7,0,10,8850,null,1160,"Oudergem",-7,0,10]
[null,2370,"Arendonk",-8,-1,10,2370,null,1160,"Auderghem",-7,0,10]
[null,6700,"Arlon",-10,-3,8,6700,null,1170,"Watermaal-Bosvoorde",-7,0,10]
[null,3665,"As",-8,-1,10,3665,null,1170,"Watermael-Boitsfort",-7,0,10]
[null,1730,"Asse",-7,0,10,1730,null,1180,"Ukkel",-7,0,10]
[null,9960,"Assenede",-7,0,10,9960,null,1180,"Uccle",-7,0,10]
[null,5330,"Assesse",-9,-2,9,5330,null,1190,"Vorst",-7,0,10]
[null,7800,"Ath",-7,0,10,7800,null,1190,"Forest",-7,0,10]
[null,6717,"Attert",-10,-3,8,6717,null,1200,"Sint-Lambrechts-Woluwe",-7,0,10]
[null,6790,"Aubange",-9,-2,9,6790,null,1200,"Woluwé-Saint-Lambert",-7,0,10]
[null,4880,"Aubel",-9,-2,9,4880,null,1210,"Sint-Joost-ten-Node",-7,0,10]
[null,1160,"Auderghem",-7,0,10,1160,null,1210,"Saint-Josse-ten-Noode",-7,0,10]
[null,8580,"Avelgem",-7,0,10,8580,null,1300,"Wavre",-7,0,10]
[null,4340,"Awans",-8,-1,10,4340,null,1310,"La Hulpe",-7,0,10]
[null,4920,"Aywaille",-9,-2,9,4920,null,1315,"Incourt",-8,-1,10]
[null,2387,"Baarle-Hertog",-8,-1,10,2387,null,1320,"Beauvechain",-7,0,10]
[null,4837,"Baelen",-9,-2,9,4837,null,1325,"Chaumont-Gistoux",-8,-1,10]
[null,2490,"Balen",-8,-1,10,2490,null,1330,"Rixensart",-7,0,10]
[null,4690,"Bassenge",-7,0,10,4690,null,1340,"Ottignies-Louvain-la-Neuve",-7,0,10]
[null,6600,"Bastogne",-10,-3,8,6600,null,1350,"Orp-Jauche",-7,0,10]
[null,6500,"Beaumont",-8,-1,10,6500,null,1357,"Hélécine",-7,0,10]
[null,5570,"Beauraing",-9,-2,9,5570,null,1360,"Perwez",-8,-1,10]
[null,1320,"Beauvechain",-7,0,10,1320,null,1367,"Ramillies",-8,-1,10]
[null,8730,"Beernem",-7,0,10,8730,null,1370,"Jodoigne",-7,0,10]
[null,2340,"Beerse",-8,-1,10,2340,null,1380,"Lasne",-8,-1,10]
[null,1650,"Beersel",-7,0,10,1650,null,1390,"Grez-Doiceau",-7,0,10]
[null,3130,"Begijnendijk",-7,0,10,3130,null,1400,"Nivelles",-8,-1,10]
[null,3460,"Bekkevoort",-8,-1,10,3460,null,1410,"Waterloo",-8,-1,10]
[null,7970,"Beloeil",-7,0,10,7970,null,1420,"Braine-l'Alleud",-8,-1,10]
[null,1082,"Berchem-Sainte-Agathe",-7,0,10,1082,null,1430,"Rebecq",-7,0,10]
[null,3580,"Beringen",-8,-1,10,3580,null,1435,"Mont-Saint-Guibert",-8,-1,10]
[null,2590,"Berlaar",-7,0,10,2590,null,1440,"Braine-le-Château",-7,0,10]
[null,9290,"Berlare",-7,0,10,9290,null,1450,"Chastre",-8,-1,10]
[null,4257,"Berloz",-8,-1,10,4257,null,1457,"Walhain",-8,-1,10]
[null,7320,"Bernissart",-7,0,10,7320,null,1460,"Ittre",-8,-1,10]
[null,3060,"Bertem",-7,0,10,3060,null,1470,"Genappe",-8,-1,10]
[null,6687,"Bertogne",-10,-3,8,6687,null,1480,"Tubize",-7,0,10]
[null,6880,"Bertrix",-10,-3,8,6880,null,1490,"Court-Saint-Etienne",-7,0,10]
[null,1547,"Bever",-7,0,10,1547,null,1495,"Villers-la-Ville",-8,-1,10]
[null,9120,"Beveren",-7,0,10,9120,null,1500,"Halle",-7,0,10]
[null,4610,"Beyne-Heusay",-9,-2,9,4610,null,1540,"Herne",-7,0,10]
[null,3360,"Bierbeek",-7,0,10,3360,null,1547,"Bever",-7,0,10]
[null,5555,"Bièvre",-10,-3,8,5555,null,1560,"Hoeilaart",-7,0,10]
[null,3740,"Bilzen",-7,0,10,3740,null,1570,"Galmaarden",-7,0,10]
[null,7130,"Binche",-8,-1,10,7130,null,1600,"Sint-Pieters-Leeuw",-7,0,10]
[null,8370,"Blankenberge",-6,0,10,8370,null,1620,"Drogenbos",-7,0,10]
[null,4670,"Blegny",-8,-1,10,4670,null,1630,"Linkebeek",-7,0,10]
[null,3950,"Bocholt",-8,-1,10,3950,null,1640,"Sint-Genesius-Rode",-7,0,10]
[null,2530,"Boechout",-7,0,10,2530,null,1650,"Beersel",-7,0,10]
[null,2820,"Bonheiden",-7,0,10,2820,null,1670,"Pepingen",-7,0,10]
[null,2850,"Boom",-7,0,10,2850,null,1700,"Dilbeek",-7,0,10]
[null,3190,"Boortmeerbeek",-7,0,10,3190,null,1730,"Asse",-7,0,10]
[null,3840,"Borgloon",-7,0,10,3840,null,1740,"Ternat",-7,0,10]
[null,2880,"Bornem",-7,0,10,2880,null,1745,"Opwijk",-7,0,10]
[null,2150,"Borsbeek",-7,0,10,2150,null,1750,"Lennik",-7,0,10]
[null,6830,"Bouillon",-9,-2,9,6830,null,1755,"Gooik",-7,0,10]
[null,7300,"Boussu",-7,0,10,7300,null,1760,"Roosdaal",-7,0,10]
[null,3370,"Boutersem",-7,0,10,3370,null,1770,"Liedekerke",-7,0,10]
[null,1420,"Braine-l'Alleud",-8,-1,10,1420,null,1780,"Wemmel",-7,0,10]
[null,1440,"Braine-le-Château",-7,0,10,1440,null,1785,"Merchtem",-7,0,10]
[null,7090,"Braine-le-Comte",-7,0,10,7090,null,1790,"Affligem",-7,0,10]
[null,4260,"Braives",-8,-1,10,4260,null,1800,"Vilvoorde",-7,0,10]
[null,9660,"Brakel",-7,0,10,9660,null,1820,"Steenokkerzeel",-7,0,10]
[null,2930,"Brasschaat",-8,-1,10,2930,null,1830,"Machelen",-7,0,10]
[null,2960,"Brecht",-8,-1,10,2960,null,1840,"Londerzeel",-7,0,10]
[null,8450,"Bredene",-6,0,10,8450,null,1850,"Grimbergen",-7,0,10]
[null,3960,"Bree",-8,-1,10,3960,null,1860,"Meise",-7,0,10]
[null,7940,"Brugelette",-7,0,10,7940,null,1880,"Kapelle-op-den-Bos",-7,0,10]
[null,8000,"Brugge (beh./sauf Zeebrugge)",-7,0,10,8000,null,1910,"Kampenhout",-7,0,10]
[null,7620,"Brunehaut",-7,0,10,7620,null,1930,"Zaventem",-7,0,10]
[null,1000,"Bruxelles / Brussel",-7,0,10,1000,null,1950,"Kraainem",-7,0,10]
[null,9255,"Buggenhout",-7,0,10,9255,null,1970,"Wezembeek-Oppem",-7,0,10]
[null,4760,"Büllingen",-11,-3,7,4760,null,1980,"Zemst",-7,0,10]
[null,4210,"Burdinne",-8,-1,10,4210,null,2000,"Antwerpen",-7,0,10]
[null,4790,"Burg-Reuland",-10,-3,8,4790,null,2070,"Zwijndrecht",-7,0,10]
[null,4750,"Bütgenbach",-11,-3,7,4750,null,2110,"Wijnegem",-7,0,10]
[null,7760,"Celles",-7,0,10,7760,null,2150,"Borsbeek",-7,0,10]
[null,5630,"Cerfontaine",-9,-2,9,5630,null,2160,"Wommelgem",-7,0,10]
[null,7160,"Chapelle-lez-Herlaimont",-8,-1,10,7160,null,2200,"Herentals",-8,-1,10]
[null,6000,"Charleroi",-8,-1,10,6000,null,2220,"Heist-op-den-Berg",-7,0,10]
[null,1450,"Chastre",-8,-1,10,1450,null,2230,"Herselt",-8,-1,10]
[null,6200,"Châtelet",-8,-1,10,6200,null,2235,"Hulshout",-8,-1,10]
[null,4050,"Chaudfontaine",-8,-1,10,4050,null,2240,"Zandhoven",-8,-1,10]
[null,1325,"Chaumont-Gistoux",-8,-1,10,1325,null,2250,"Olen",-8,-1,10]
[null,7950,"Chièvres",-7,0,10,7950,null,2260,"Westerlo",-8,-1,10]
[null,6460,"Chimay",-9,-2,9,6460,null,2270,"Herenthout",-8,-1,10]
[null,6810,"Chiny",-9,-2,9,6810,null,2275,"Lille",-8,-1,10]
[null,5590,"Ciney",-9,-2,9,5590,null,2280,"Grobbendonk",-8,-1,10]
[null,4560,"Clavier",-9,-2,9,4560,null,2290,"Vorselaar",-8,-1,10]
[null,7340,"Colfontaine",-7,0,10,7340,null,2300,"Turnhout",-8,-1,10]
[null,4170,"Comblain-au-Pont",-8,-1,10,4170,null,2310,"Rijkevorsel",-8,-1,10]
[null,7780,"Comines-Warneton",-7,0,10,7780,null,2320,"Hoogstraten",-8,-1,10]
[null,6180,"Courcelles",-8,-1,10,6180,null,2330,"Merksplas",-8,-1,10]
[null,1490,"Court-Saint-Etienne",-7,0,10,1490,null,2340,"Beerse",-8,-1,10]
[null,5660,"Couvin",-9,-2,9,5660,null,2350,"Vosselaar",-8,-1,10]
[null,4367,"Crisnée",-8,-1,10,4367,null,2360,"Oud-Turnhout",-8,-1,10]
[null,4607,"Dalhem",-8,-1,10,4607,null,2370,"Arendonk",-8,-1,10]
[null,8340,"Damme",-7,0,10,8340,null,2380,"Ravels",-8,-1,10]
[null,6929,"Daverdisse",-10,-3,8,6929,null,2387,"Baarle-Hertog",-8,-1,10]
[null,8420,"De Haan",-6,0,10,8420,null,2390,"Malle",-8,-1,10]
[null,8660,"De Panne",-6,0,10,8660,null,2400,"Mol",-8,-1,10]
[null,9840,"De Pinte",-7,0,10,9840,null,2430,"Laakdal",-8,-1,10]
[null,8540,"Deerlijk",-7,0,10,8540,null,2440,"Geel",-8,-1,10]
[null,9800,"Deinze",-7,0,10,9800,null,2450,"Meerhout",-8,-1,10]
[null,9470,"Denderleeuw",-7,0,10,9470,null,2460,"Kasterlee",-8,-1,10]
[null,9200,"Dendermonde",-7,0,10,9200,null,2470,"Retie",-8,-1,10]
[null,8720,"Dentergem",-7,0,10,8720,null,2480,"Dessel",-8,-1,10]
[null,2480,"Dessel",-8,-1,10,2480,null,2490,"Balen",-8,-1,10]
[null,9070,"Destelbergen",-7,0,10,9070,null,2500,"Lier",-7,0,10]
[null,3590,"Diepenbeek",-7,0,10,3590,null,2520,"Ranst",-7,0,10]
[null,3290,"Diest",-8,-1,10,3290,null,2530,"Boechout",-7,0,10]
[null,8600,"Diksmuide",-7,0,10,8600,null,2540,"Hove",-7,0,10]
[null,1700,"Dilbeek",-7,0,10,1700,null,2547,"Lint",-7,0,10]
[null,3650,"Dilsen-Stokkem",-8,-1,10,3650,null,2550,"Kontich",-7,0,10]
[null,5500,"Dinant",-7,0,10,5500,null,2560,"Nijlen",-7,0,10]
[null,4820,"Dison",-9,-2,9,4820,null,2570,"Duffel",-7,0,10]
[null,5680,"Doische",-9,-2,9,5680,null,2580,"Putte",-7,0,10]
[null,4357,"Donceel",-9,-2,9,4357,null,2590,"Berlaar",-7,0,10]
[null,7370,"Dour",-7,0,10,7370,null,2620,"Hemiksem",-7,0,10]
[null,1620,"Drogenbos",-7,0,10,1620,null,2627,"Schelle",-7,0,10]
[null,2570,"Duffel",-7,0,10,2570,null,2630,"Aartselaar",-7,0,10]
[null,6940,"Durbuy",-9,-2,9,6940,null,2640,"Mortsel",-7,0,10]
[null,7190,"Ecaussinnes",-8,-1,10,7190,null,2650,"Edegem",-7,0,10]
[null,2650,"Edegem",-7,0,10,2650,null,2800,"Mechelen",-7,0,10]
[null,9900,"Eeklo",-7,0,10,9900,null,2820,"Bonheiden",-7,0,10]
[null,5310,"Eghezée",-8,-1,10,5310,null,2830,"Willebroek",-7,0,10]
[null,7890,"Ellezelles",-7,0,10,7890,null,2840,"Rumst",-7,0,10]
[null,1050,"Elsene",-7,0,10,1050,null,2845,"Niel",-7,0,10]
[null,7850,"Enghien",-7,0,10,7850,null,2850,"Boom",-7,0,10]
[null,4480,"Engis",-8,-1,10,4480,null,2860,"Sint-Katelijne-Waver",-7,0,10]
[null,6997,"Erezée",-9,-2,9,6997,null,2870,"Puurs",-7,0,10]
[null,9420,"Erpe-Mere",-7,0,10,9420,null,2880,"Bornem",-7,0,10]
[null,6560,"Erquelinnes",-8,-1,10,6560,null,2890,"Sint-Amands",-7,0,10]
[null,4130,"Esneux",-8,-1,10,4130,null,2900,"Schoten",-8,-1,10]
[null,2910,"Essen",-8,-1,10,2910,null,2910,"Essen",-8,-1,10]
[null,7730,"Estaimpuis",-7,0,10,7730,null,2920,"Kalmthout",-8,-1,10]
[null,7120,"Estinnes",-8,-1,10,7120,null,2930,"Brasschaat",-8,-1,10]
[null,6740,"Etalle",-9,-2,9,6740,null,2940,"Stabroek",-7,0,10]
[null,1040,"Etterbeek",-7,0,10,1040,null,2950,"Kapellen",-8,-1,10]
[null,4700,"Eupen",-9,-2,9,4700,null,2960,"Brecht",-8,-1,10]
[null,1140,"Evere",-7,0,10,1140,null,2970,"Schilde",-8,-1,10]
[null,9940,"Evergem",-7,0,10,9940,null,2980,"Zoersel",-8,-1,10]
[null,4317,"Faimes",-8,-1,10,4317,null,2990,"Wuustwezel",-8,-1,10]
[null,6240,"Farciennes",-8,-1,10,6240,null,3000,"Leuven",-7,0,10]
[null,6637,"Fauvillers",-10,-3,8,6637,null,3020,"Herent",-7,0,10]
[null,5380,"Fernelmont",-8,-1,10,5380,null,3040,"Huldenberg",-7,0,10]
[null,4190,"Ferrières",-9,-2,9,4190,null,3050,"Oud-Heverlee",-7,0,10]
[null,4347,"Fexhe-le-Haut-Clocher",-8,-1,10,4347,null,3060,"Bertem",-7,0,10]
[null,4400,"Flémalle",-8,-1,10,4400,null,3070,"Kortenberg",-7,0,10]
[null,4620,"Fléron",-9,-2,9,4620,null,3080,"Tervuren",-7,0,10]
[null,6220,"Fleurus",-8,-1,10,6220,null,3090,"Overijse",-7,0,10]
[null,7880,"Flobecq",-7,0,10,7880,null,3110,"Rotselaar",-7,0,10]
[null,5150,"Floreffe",-8,-1,10,5150,null,3120,"Tremelo",-7,0,10]
[null,5620,"Florennes",-9,-2,9,5620,null,3130,"Begijnendijk",-7,0,10]
[null,6820,"Florenville",-9,-2,9,6820,null,3140,"Keerbergen",-7,0,10]
[null,6140,"Fontaine-l'Evêque",-8,-1,10,6140,null,3150,"Haacht",-7,0,10]
[null,1190,"Forest",-7,0,10,1190,null,3190,"Boortmeerbeek",-7,0,10]
[null,5070,"Fosses-la-Ville",-8,-1,10,5070,null,3200,"Aarschot",-7,0,10]
[null,7080,"Frameries",-8,-1,10,7080,null,3210,"Lubbeek",-7,0,10]
[null,7910,"Frasnes-lez-Anvaing",-7,0,10,7910,null,3220,"Holsbeek",-7,0,10]
[null,6440,"Froidchapelle",-9,-2,9,6440,null,3270,"Scherpenheuvel-Zichem",-8,-1,10]
[null,1570,"Galmaarden",-7,0,10,1570,null,3290,"Diest",-8,-1,10]
[null,1083,"Ganshoren",-7,0,10,1083,null,3300,"Tienen",-7,0,10]
[null,9890,"Gavere",-7,0,10,9890,null,3320,"Hoegaarden",-7,0,10]
[null,5575,"Gedinne",-10,-3,8,5575,null,3350,"Linter",-7,0,10]
[null,2440,"Geel",-8,-1,10,2440,null,3360,"Bierbeek",-7,0,10]
[null,4250,"Geer",-8,-1,10,4250,null,3370,"Boutersem",-7,0,10]
[null,3450,"Geetbets",-7,0,10,3450,null,3380,"Glabbeek",-7,0,10]
[null,5030,"Gembloux",-8,-1,10,5030,null,3390,"Tielt-Winge",-7,0,10]
[null,1470,"Genappe",-8,-1,10,1470,null,3400,"Landen",-7,0,10]
[null,3600,"Genk",-8,-1,10,3600,null,3440,"Zoutleeuw",-7,0,10]
[null,9000,"Gent",-7,0,10,9000,null,3450,"Geetbets",-7,0,10]
[null,9500,"Geraardsbergen",-7,0,10,9500,null,3460,"Bekkevoort",-8,-1,10]
[null,6280,"Gerpinnes",-8,-1,10,6280,null,3470,"Kortenaken",-7,0,10]
[null,5340,"Gesves",-9,-2,9,5340,null,3500,"Hasselt",-7,0,10]
[null,3890,"Gingelom",-8,-1,10,3890,null,3520,"Zonhoven",-8,-1,10]
[null,8470,"Gistel",-7,0,10,8470,null,3530,"Houthalen-Helchteren",-8,-1,10]
[null,3380,"Glabbeek",-7,0,10,3380,null,3540,"Herk-de-Stad",-7,0,10]
[null,1755,"Gooik",-7,0,10,1755,null,3545,"Halen",-8,-1,10]
[null,6670,"Gouvy",-10,-3,8,6670,null,3550,"Heusden-Zolder",-8,-1,10]
[null,4460,"Grâce-Hollogne",-8,-1,10,4460,null,3560,"Lummen",-8,-1,10]
[null,1390,"Grez-Doiceau",-7,0,10,1390,null,3570,"Alken",-7,0,10]
[null,1850,"Grimbergen",-7,0,10,1850,null,3580,"Beringen",-8,-1,10]
[null,2280,"Grobbendonk",-8,-1,10,2280,null,3590,"Diepenbeek",-7,0,10]
[null,3150,"Haacht",-7,0,10,3150,null,3600,"Genk",-8,-1,10]
[null,9450,"Haaltert",-7,0,10,9450,null,3620,"Lanaken",-7,0,10]
[null,6720,"Habay",-10,-3,8,6720,null,3630,"Maasmechelen",-7,0,10]
[null,3545,"Halen",-8,-1,10,3545,null,3640,"Kinrooi",-8,-1,10]
[null,1500,"Halle",-7,0,10,1500,null,3650,"Dilsen-Stokkem",-8,-1,10]
[null,3945,"Ham",-8,-1,10,3945,null,3660,"Opglabbeek",-8,-1,10]
[null,9220,"Hamme",-7,0,10,9220,null,3665,"As",-8,-1,10]
[null,4180,"Hamoir",-9,-2,9,4180,null,3670,"Meeuwen-Gruitrode",-8,-1,10]
[null,5360,"Hamois",-9,-2,9,5360,null,3680,"Maaseik",-8,-1,10]
[null,3930,"Hamont-Achel",-8,-1,10,3930,null,3690,"Zutendaal",-8,-1,10]
[null,6120,"Ham-sur-Heure-Nalinnes",-8,-1,10,6120,null,3700,"Tongeren",-7,0,10]
[null,4280,"Hannut",-8,-1,10,4280,null,3717,"Herstappe",-8,-1,10]
[null,8530,"Harelbeke",-7,0,10,8530,null,3720,"Kortessem",-7,0,10]
[null,3500,"Hasselt",-7,0,10,3500,null,3730,"Hoeselt",-7,0,10]
[null,5540,"Hastière",-9,-2,9,5540,null,3740,"Bilzen",-7,0,10]
[null,5370,"Havelange",-9,-2,9,5370,null,3770,"Riemst",-7,0,10]
[null,3940,"Hechtel-Eksel",-8,-1,10,3940,null,3790,"Voeren",-8,-1,10]
[null,3870,"Heers",-7,0,10,3870,null,3800,"Sint-Truiden",-7,0,10]
[null,2220,"Heist-op-den-Berg",-7,0,10,2220,null,3830,"Wellen",-7,0,10]
[null,1357,"Hélécine",-7,0,10,1357,null,3840,"Borgloon",-7,0,10]
[null,2620,"Hemiksem",-7,0,10,2620,null,3850,"Nieuwerkerken",-7,0,10]
[null,7350,"Hensies",-7,0,10,7350,null,3870,"Heers",-7,0,10]
[null,6887,"Herbeumont",-10,-3,8,6887,null,3890,"Gingelom",-8,-1,10]
[null,3020,"Herent",-7,0,10,3020,null,3900,"Overpelt",-8,-1,10]
[null,2200,"Herentals",-8,-1,10,2200,null,3910,"Neerpelt",-8,-1,10]
[null,2270,"Herenthout",-8,-1,10,2270,null,3920,"Lommel",-8,-1,10]
[null,3540,"Herk-de-Stad",-7,0,10,3540,null,3930,"Hamont-Achel",-8,-1,10]
[null,1540,"Herne",-7,0,10,1540,null,3940,"Hechtel-Eksel",-8,-1,10]
[null,4217,"Héron",-8,-1,10,4217,null,3945,"Ham",-8,-1,10]
[null,2230,"Herselt",-8,-1,10,2230,null,3950,"Bocholt",-8,-1,10]
[null,4040,"Herstal",-8,-1,10,4040,null,3960,"Bree",-8,-1,10]
[null,3717,"Herstappe",-8,-1,10,3717,null,3970,"Leopoldsburg",-8,-1,10]
[null,4650,"Herve",-9,-2,9,4650,null,3980,"Tessenderlo",-8,-1,10]
[null,9550,"Herzele",-7,0,10,9550,null,3990,"Peer",-8,-1,10]
[null,3550,"Heusden-Zolder",-8,-1,10,3550,null,4000,"Liège",-8,-1,10]
[null,8950,"Heuvelland",-7,0,10,8950,null,4040,"Herstal",-8,-1,10]
[null,3320,"Hoegaarden",-7,0,10,3320,null,4050,"Chaudfontaine",-8,-1,10]
[null,1560,"Hoeilaart",-7,0,10,1560,null,4100,"Seraing",-8,-1,10]
[null,3730,"Hoeselt",-7,0,10,3730,null,4120,"Neupré",-9,-2,9]
[null,3220,"Holsbeek",-7,0,10,3220,null,4130,"Esneux",-8,-1,10]
[null,7387,"Honnelles",-7,0,10,7387,null,4140,"Sprimont",-9,-2,9]
[null,8830,"Hooglede",-7,0,10,8830,null,4160,"Anthisnes",-9,-2,9]
[null,2320,"Hoogstraten",-8,-1,10,2320,null,4170,"Comblain-au-Pont",-8,-1,10]
[null,9667,"Horebeke",-7,0,10,9667,null,4180,"Hamoir",-9,-2,9]
[null,6990,"Hotton",-9,-2,9,6990,null,4190,"Ferrières",-9,-2,9]
[null,6660,"Houffalize",-10,-3,8,6660,null,4210,"Burdinne",-8,-1,10]
[null,3530,"Houthalen-Helchteren",-8,-1,10,3530,null,4217,"Héron",-8,-1,10]
[null,8650,"Houthulst",-7,0,10,8650,null,4219,"Wasseiges",-8,-1,10]
[null,5560,"Houyet",-9,-2,9,5560,null,4250,"Geer",-8,-1,10]
[null,2540,"Hove",-7,0,10,2540,null,4257,"Berloz",-8,-1,10]
[null,3040,"Huldenberg",-7,0,10,3040,null,4260,"Braives",-8,-1,10]
[null,2235,"Hulshout",-8,-1,10,2235,null,4280,"Hannut",-8,-1,10]
[null,4500,"Huy",-8,-1,10,4500,null,4287,"Lincent",-7,0,10]
[null,8480,"Ichtegem",-7,0,10,8480,null,4300,"Waremme",-8,-1,10]
[null,8900,"Ieper",-7,0,10,8900,null,4317,"Faimes",-8,-1,10]
[null,1315,"Incourt",-8,-1,10,1315,null,4340,"Awans",-8,-1,10]
[null,8770,"Ingelmunster",-7,0,10,8770,null,4347,"Fexhe-le-Haut-Clocher",-8,-1,10]
[null,1460,"Ittre",-8,-1,10,1460,null,4350,"Remicourt",-8,-1,10]
[null,1050,"Ixelles",-7,0,10,1050,null,4357,"Donceel",-9,-2,9]
[null,8870,"Izegem",-7,0,10,8870,null,4360,"Oreye",-8,-1,10]
[null,8490,"Jabbeke",-7,0,10,8490,null,4367,"Crisnée",-8,-1,10]
[null,4845,"Jalhay",-10,-3,8,4845,null,4400,"Flémalle",-8,-1,10]
[null,5190,"Jemeppe-sur-Sambre",-8,-1,10,5190,null,4420,"Saint-Nicolas",-8,-1,10]
[null,1090,"Jette",-7,0,10,1090,null,4430,"Ans",-8,-1,10]
[null,1370,"Jodoigne",-7,0,10,1370,null,4450,"Juprelle",-8,-1,10]
[null,4450,"Juprelle",-8,-1,10,4450,null,4460,"Grâce-Hollogne",-8,-1,10]
[null,7050,"Jurbise",-7,0,10,7050,null,4470,"Saint-Georges-sur-Meuse",-8,-1,10]
[null,2920,"Kalmthout",-8,-1,10,2920,null,4480,"Engis",-8,-1,10]
[null,1910,"Kampenhout",-7,0,10,1910,null,4500,"Huy",-8,-1,10]
[null,2950,"Kapellen",-8,-1,10,2950,null,4520,"Wanze",-8,-1,10]
[null,1880,"Kapelle-op-den-Bos",-7,0,10,1880,null,4530,"Villers-le-Bouillet",-8,-1,10]
[null,9970,"Kaprijke",-7,0,10,9970,null,4537,"Verlaine",-8,-1,10]
[null,2460,"Kasterlee",-8,-1,10,2460,null,4540,"Amay",-8,-1,10]
[null,3140,"Keerbergen",-7,0,10,3140,null,4550,"Nandrin",-9,-2,9]
[null,4720,"Kelmis",-9,-2,9,4720,null,4557,"Tinlot",-9,-2,9]
[null,3640,"Kinrooi",-8,-1,10,3640,null,4560,"Clavier",-9,-2,9]
[null,9690,"Kluisbergen",-7,0,10,9690,null,4570,"Marchin",-9,-2,9]
[null,9910,"Knesselare",-7,0,10,9910,null,4577,"Modave",-9,-2,9]
[null,8300,"Knokke-Heist",-6,0,10,8300,null,4590,"Ouffet",-9,-2,9]
[null,8680,"Koekelare",-7,0,10,8680,null,4600,"Visé",-7,0,10]
[null,1081,"Koekelberg",-7,0,10,1081,null,4607,"Dalhem",-8,-1,10]
[null,8670,"Koksijde",-6,0,10,8670,null,4610,"Beyne-Heusay",-9,-2,9]
[null,2550,"Kontich",-7,0,10,2550,null,4620,"Fléron",-9,-2,9]
[null,8610,"Kortemark",-7,0,10,8610,null,4630,"Soumagne",-9,-2,9]
[null,3470,"Kortenaken",-7,0,10,3470,null,4650,"Herve",-9,-2,9]
[null,3070,"Kortenberg",-7,0,10,3070,null,4670,"Blegny",-8,-1,10]
[null,3720,"Kortessem",-7,0,10,3720,null,4680,"Oupeye",-7,0,10]
[null,8500,"Kortrijk",-7,0,10,8500,null,4690,"Bassenge",-7,0,10]
[null,1950,"Kraainem",-7,0,10,1950,null,4700,"Eupen",-9,-2,9]
[null,9150,"Kruibeke",-7,0,10,9150,null,4710,"Lontzen",-9,-2,9]
[null,9770,"Kruishoutem",-7,0,10,9770,null,4720,"Kelmis",-9,-2,9]
[null,8520,"Kuurne",-7,0,10,8520,null,4730,"Raeren",-9,-2,9]
[null,5080,"La Bruyère",-8,-1,10,5080,null,4750,"Bütgenbach",-11,-3,7]
[null,1310,"La Hulpe",-7,0,10,1310,null,4760,"Büllingen",-11,-3,7]
[null,7100,"La Louvière",-7,0,10,7100,null,4770,"Amel",-10,-3,8]
[null,6980,"La Roche-en-Ardenne",-10,-3,8,6980,null,4780,"Sankt Vith",-10,-3,8]
[null,2430,"Laakdal",-8,-1,10,2430,null,4790,"Burg-Reuland",-10,-3,8]
[null,9270,"Laarne",-7,0,10,9270,null,4800,"Verviers",-9,-2,9]
[null,3620,"Lanaken",-7,0,10,3620,null,4820,"Dison",-9,-2,9]
[null,3400,"Landen",-7,0,10,3400,null,4830,"Limbourg",-9,-2,9]
[null,8920,"Langemark-Poelkapelle",-7,0,10,8920,null,4837,"Baelen",-9,-2,9]
[null,1380,"Lasne",-8,-1,10,1380,null,4840,"Welkenraedt",-9,-2,9]
[null,7070,"Le Roeulx",-7,0,10,7070,null,4845,"Jalhay",-10,-3,8]
[null,9280,"Lebbeke",-7,0,10,9280,null,4850,"Plombières",-9,-2,9]
[null,9340,"Lede",-7,0,10,9340,null,4860,"Pepinster",-9,-2,9]
[null,8880,"Ledegem",-7,0,10,8880,null,4870,"Trooz",-8,-1,10]
[null,6860,"Léglise",-10,-3,8,6860,null,4877,"Olne",-9,-2,9]
[null,8860,"Lendelede",-7,0,10,8860,null,4880,"Aubel",-9,-2,9]
[null,1750,"Lennik",-7,0,10,1750,null,4890,"Thimister-Clermont",-9,-2,9]
[null,7870,"Lens",-7,0,10,7870,null,4900,"Spa",-9,-2,9]
[null,3970,"Leopoldsburg",-8,-1,10,3970,null,4910,"Theux",-9,-2,9]
[null,6210,"Les Bons Villers",-8,-1,10,6210,null,4920,"Aywaille",-9,-2,9]
[null,7860,"Lessines",-7,0,10,7860,null,4950,"Waimes",-11,-3,7]
[null,3000,"Leuven",-7,0,10,3000,null,4960,"Malmedy",-10,-3,8]
[null,7900,"Leuze-en-Hainaut",-7,0,10,7900,null,4970,"Stavelot",-10,-3,8]
[null,6890,"Libin",-10,-3,8,6890,null,4980,"Trois-Ponts",-10,-3,8]
[null,6800,"Libramont-Chevigny",-10,-3,8,6800,null,4987,"Stoumont",-9,-2,9]
[null,8810,"Lichtervelde",-7,0,10,8810,null,4990,"Lierneux",-10,-3,8]
[null,1770,"Liedekerke",-7,0,10,1770,null,5000,"Namur",-8,-1,10]
[null,4000,"Liège",-8,-1,10,4000,null,5030,"Gembloux",-8,-1,10]
[null,2500,"Lier",-7,0,10,2500,null,5060,"Sambreville",-8,-1,10]
[null,9570,"Lierde",-7,0,10,9570,null,5070,"Fosses-la-Ville",-8,-1,10]
[null,4990,"Lierneux",-10,-3,8,4990,null,5080,"La Bruyère",-8,-1,10]
[null,2275,"Lille",-8,-1,10,2275,null,5140,"Sombreffe",-8,-1,10]
[null,4830,"Limbourg",-9,-2,9,4830,null,5150,"Floreffe",-8,-1,10]
[null,4287,"Lincent",-7,0,10,4287,null,5170,"Profondeville",-8,-1,10]
[null,1630,"Linkebeek",-7,0,10,1630,null,5190,"Jemeppe-sur-Sambre",-8,-1,10]
[null,2547,"Lint",-7,0,10,2547,null,5300,"Andenne",-8,-1,10]
[null,3350,"Linter",-7,0,10,3350,null,5310,"Eghezée",-8,-1,10]
[null,6540,"Lobbes",-8,-1,10,6540,null,5330,"Assesse",-9,-2,9]
[null,9080,"Lochristi",-7,0,10,9080,null,5340,"Gesves",-9,-2,9]
[null,9160,"Lokeren",-7,0,10,9160,null,5350,"Ohey",-9,-2,9]
[null,3920,"Lommel",-8,-1,10,3920,null,5360,"Hamois",-9,-2,9]
[null,1840,"Londerzeel",-7,0,10,1840,null,5370,"Havelange",-9,-2,9]
[null,4710,"Lontzen",-9,-2,9,4710,null,5377,"Somme-Leuze",-9,-2,9]
[null,8647,"Lo-Reninge",-7,0,10,8647,null,5380,"Fernelmont",-8,-1,10]
[null,9920,"Lovendegem",-7,0,10,9920,null,5500,"Dinant",-7,0,10]
[null,3210,"Lubbeek",-7,0,10,3210,null,5520,"Onhaye",-9,-2,9]
[null,3560,"Lummen",-8,-1,10,3560,null,5530,"Yvoir",-9,-2,9]
[null,9680,"Maarkedal",-7,0,10,9680,null,5537,"Anhée",-9,-2,9]
[null,3680,"Maaseik",-8,-1,10,3680,null,5540,"Hastière",-9,-2,9]
[null,3630,"Maasmechelen",-7,0,10,3630,null,5550,"Vresse-sur-Semois",-10,-3,8]
[null,1830,"Machelen",-7,0,10,1830,null,5555,"Bièvre",-10,-3,8]
[null,9990,"Maldegem",-7,0,10,9990,null,5560,"Houyet",-9,-2,9]
[null,2390,"Malle",-8,-1,10,2390,null,5570,"Beauraing",-9,-2,9]
[null,4960,"Malmedy",-10,-3,8,4960,null,5575,"Gedinne",-10,-3,8]
[null,7170,"Manage",-8,-1,10,7170,null,5580,"Rochefort",-9,-2,9]
[null,6960,"Manhay",-10,-3,8,6960,null,5590,"Ciney",-9,-2,9]
[null,6900,"Marche-en-Famenne",-9,-2,9,6900,null,5600,"Philippeville",-9,-2,9]
[null,4570,"Marchin",-9,-2,9,4570,null,5620,"Florennes",-9,-2,9]
[null,6630,"Martelange",-10,-3,8,6630,null,5630,"Cerfontaine",-9,-2,9]
[null,2800,"Mechelen",-7,0,10,2800,null,5640,"Mettet",-9,-2,9]
[null,2450,"Meerhout",-8,-1,10,2450,null,5650,"Walcourt",-8,-1,10]
[null,3670,"Meeuwen-Gruitrode",-8,-1,10,3670,null,5660,"Couvin",-9,-2,9]
[null,1860,"Meise",-7,0,10,1860,null,5670,"Viroinval",-9,-2,9]
[null,6769,"Meix-devant-Virton",-9,-2,9,6769,null,5680,"Doische",-9,-2,9]
[null,9090,"Melle",-7,0,10,9090,null,6000,"Charleroi",-8,-1,10]
[null,8930,"Menen",-7,0,10,8930,null,6110,"Montigny-le-Tilleul",-8,-1,10]
[null,6567,"Merbes-le-Château",-8,-1,10,6567,null,6120,"Ham-sur-Heure-Nalinnes",-8,-1,10]
[null,1785,"Merchtem",-7,0,10,1785,null,6140,"Fontaine-l'Evêque",-8,-1,10]
[null,9820,"Merelbeke",-7,0,10,9820,null,6150,"Anderlues",-8,-1,10]
[null,2330,"Merksplas",-8,-1,10,2330,null,6180,"Courcelles",-8,-1,10]
[null,8957,"Mesen",-7,0,10,8957,null,6200,"Châtelet",-8,-1,10]
[null,6780,"Messancy",-9,-2,9,6780,null,6210,"Les Bons Villers",-8,-1,10]
[null,5640,"Mettet",-9,-2,9,5640,null,6220,"Fleurus",-8,-1,10]
[null,8760,"Meulebeke",-7,0,10,8760,null,6230,"Pont-à-Celles",-8,-1,10]
[null,8430,"Middelkerke",-6,0,10,8430,null,6240,"Farciennes",-8,-1,10]
[null,4577,"Modave",-9,-2,9,4577,null,6250,"Aiseau-Presles",-8,-1,10]
[null,9500,"Moerbeke",-7,0,10,9500,null,6280,"Gerpinnes",-8,-1,10]
[null,2400,"Mol",-8,-1,10,2400,null,6440,"Froidchapelle",-9,-2,9]
[null,1080,"Molenbeek-Saint-Jean",-7,0,10,1080,null,6460,"Chimay",-9,-2,9]
[null,6590,"Momignies",-9,-2,9,6590,null,6470,"Sivry-Rance",-9,-2,9]
[null,7000,"Mons",-7,0,10,7000,null,6500,"Beaumont",-8,-1,10]
[null,7750,"Mont-de-l'Enclus",-7,0,10,7750,null,6530,"Thuin",-8,-1,10]
[null,6110,"Montigny-le-Tilleul",-8,-1,10,6110,null,6540,"Lobbes",-8,-1,10]
[null,1435,"Mont-Saint-Guibert",-8,-1,10,1435,null,6560,"Erquelinnes",-8,-1,10]
[null,8890,"Moorslede",-7,0,10,8890,null,6567,"Merbes-le-Château",-8,-1,10]
[null,7140,"Morlanwelz",-8,-1,10,7140,null,6590,"Momignies",-9,-2,9]
[null,2640,"Mortsel",-7,0,10,2640,null,6600,"Bastogne",-10,-3,8]
[null,7700,"Mouscron",-7,0,10,7700,null,6630,"Martelange",-10,-3,8]
[null,6750,"Musson",-9,-2,9,6750,null,6637,"Fauvillers",-10,-3,8]
[null,5000,"Namur",-8,-1,10,5000,null,6640,"Vaux-sur-Sûre",-10,-3,8]
[null,4550,"Nandrin",-9,-2,9,4550,null,6660,"Houffalize",-10,-3,8]
[null,6950,"Nassogne",-9,-2,9,6950,null,6670,"Gouvy",-10,-3,8]
[null,9810,"Nazareth",-7,0,10,9810,null,6680,"Sainte-Ode",-10,-3,8]
[null,3910,"Neerpelt",-8,-1,10,3910,null,6687,"Bertogne",-10,-3,8]
[null,6840,"Neufchâteau",-10,-3,8,6840,null,6690,"Vielsalm",-10,-3,8]
[null,4120,"Neupré",-9,-2,9,4120,null,6700,"Arlon",-10,-3,8]
[null,9850,"Nevele",-7,0,10,9850,null,6717,"Attert",-10,-3,8]
[null,2845,"Niel",-7,0,10,2845,null,6720,"Habay",-10,-3,8]
[null,3850,"Nieuwerkerken",-7,0,10,3850,null,6730,"Tintigny",-10,-3,8]
[null,8620,"Nieuwpoort",-6,0,10,8620,null,6740,"Etalle",-9,-2,9]
[null,2560,"Nijlen",-7,0,10,2560,null,6747,"Saint-Léger",-9,-2,9]
[null,9400,"Ninove",-7,0,10,9400,null,6750,"Musson",-9,-2,9]
[null,1400,"Nivelles",-8,-1,10,1400,null,6760,"Virton",-9,-2,9]
[null,5350,"Ohey",-9,-2,9,5350,null,6767,"Rouvroy",-9,-2,9]
[null,2250,"Olen",-8,-1,10,2250,null,6769,"Meix-devant-Virton",-9,-2,9]
[null,4877,"Olne",-9,-2,9,4877,null,6780,"Messancy",-9,-2,9]
[null,5520,"Onhaye",-9,-2,9,5520,null,6790,"Aubange",-9,-2,9]
[null,8400,"Oostende",-6,0,10,8400,null,6800,"Libramont-Chevigny",-10,-3,8]
[null,9860,"Oosterzele",-7,0,10,9860,null,6810,"Chiny",-9,-2,9]
[null,8020,"Oostkamp",-7,0,10,8020,null,6820,"Florenville",-9,-2,9]
[null,8780,"Oostrozebeke",-7,0,10,8780,null,6830,"Bouillon",-9,-2,9]
[null,3660,"Opglabbeek",-8,-1,10,3660,null,6840,"Neufchâteau",-10,-3,8]
[null,1745,"Opwijk",-7,0,10,1745,null,6850,"Paliseul",-10,-3,8]
[null,4360,"Oreye",-8,-1,10,4360,null,6860,"Léglise",-10,-3,8]
[null,1350,"Orp-Jauche",-7,0,10,1350,null,6870,"Saint-Hubert",-10,-3,8]
[null,1340,"Ottignies-Louvain-la-Neuve",-7,0,10,1340,null,6880,"Bertrix",-10,-3,8]
[null,9700,"Oudenaarde",-7,0,10,9700,null,6887,"Herbeumont",-10,-3,8]
[null,8460,"Oudenburg",-7,0,10,8460,null,6890,"Libin",-10,-3,8]
[null,1160,"Oudergem",-7,0,10,1160,null,6900,"Marche-en-Famenne",-9,-2,9]
[null,3050,"Oud-Heverlee",-7,0,10,3050,null,6920,"Wellin",-9,-2,9]
[null,2360,"Oud-Turnhout",-8,-1,10,2360,null,6927,"Tellin",-9,-2,9]
[null,4590,"Ouffet",-9,-2,9,4590,null,6929,"Daverdisse",-10,-3,8]
[null,4680,"Oupeye",-7,0,10,4680,null,6940,"Durbuy",-9,-2,9]
[null,3090,"Overijse",-7,0,10,3090,null,6950,"Nassogne",-9,-2,9]
[null,3900,"Overpelt",-8,-1,10,3900,null,6960,"Manhay",-10,-3,8]
[null,6850,"Paliseul",-10,-3,8,6850,null,6970,"Tenneville",-10,-3,8]
[null,7740,"Pecq",-7,0,10,7740,null,6980,"La Roche-en-Ardenne",-10,-3,8]
[null,3990,"Peer",-8,-1,10,3990,null,6987,"Rendeux",-9,-2,9]
[null,1670,"Pepingen",-7,0,10,1670,null,6990,"Hotton",-9,-2,9]
[null,4860,"Pepinster",-9,-2,9,4860,null,6997,"Erezée",-9,-2,9]
[null,7600,"Peruwelz",-7,0,10,7600,null,7000,"Mons",-7,0,10]
[null,1360,"Perwez",-8,-1,10,1360,null,7040,"Quévy",-8,-1,10]
[null,5600,"Philippeville",-9,-2,9,5600,null,7050,"Jurbise",-7,0,10]
[null,8740,"Pittem",-7,0,10,8740,null,7060,"Soignies",-7,0,10]
[null,4850,"Plombières",-9,-2,9,4850,null,7070,"Le Roeulx",-7,0,10]
[null,6230,"Pont-à-Celles",-8,-1,10,6230,null,7080,"Frameries",-8,-1,10]
[null,8970,"Poperinge",-7,0,10,8970,null,7090,"Braine-le-Comte",-7,0,10]
[null,5170,"Profondeville",-8,-1,10,5170,null,7100,"La Louvière",-7,0,10]
[null,2580,"Putte",-7,0,10,2580,null,7120,"Estinnes",-8,-1,10]
[null,2870,"Puurs",-7,0,10,2870,null,7130,"Binche",-8,-1,10]
[null,7390,"Quaregnon",-7,0,10,7390,null,7140,"Morlanwelz",-8,-1,10]
[null,7040,"Quévy",-8,-1,10,7040,null,7160,"Chapelle-lez-Herlaimont",-8,-1,10]
[null,7380,"Quiévrain",-7,0,10,7380,null,7170,"Manage",-8,-1,10]
[null,4730,"Raeren",-9,-2,9,4730,null,7180,"Seneffe",-8,-1,10]
[null,1367,"Ramillies",-8,-1,10,1367,null,7190,"Ecaussinnes",-8,-1,10]
[null,2520,"Ranst",-7,0,10,2520,null,7300,"Boussu",-7,0,10]
[null,2380,"Ravels",-8,-1,10,2380,null,7320,"Bernissart",-7,0,10]
[null,1430,"Rebecq",-7,0,10,1430,null,7330,"Saint-Ghislain",-7,0,10]
[null,4350,"Remicourt",-8,-1,10,4350,null,7340,"Colfontaine",-7,0,10]
[null,6987,"Rendeux",-9,-2,9,6987,null,7350,"Hensies",-7,0,10]
[null,2470,"Retie",-8,-1,10,2470,null,7370,"Dour",-7,0,10]
[null,3770,"Riemst",-7,0,10,3770,null,7380,"Quiévrain",-7,0,10]
[null,2310,"Rijkevorsel",-8,-1,10,2310,null,7387,"Honnelles",-7,0,10]
[null,1330,"Rixensart",-7,0,10,1330,null,7390,"Quaregnon",-7,0,10]
[null,5580,"Rochefort",-9,-2,9,5580,null,7500,"Tournai",-7,0,10]
[null,8800,"Roeselare",-7,0,10,8800,null,7600,"Peruwelz",-7,0,10]
[null,9600,"Ronse",-7,0,10,9600,null,7610,"Rumes",-7,0,10]
[null,1760,"Roosdaal",-7,0,10,1760,null,7620,"Brunehaut",-7,0,10]
[null,3110,"Rotselaar",-7,0,10,3110,null,7640,"Antoing",-7,0,10]
[null,6767,"Rouvroy",-9,-2,9,6767,null,7700,"Mouscron",-7,0,10]
[null,8755,"Ruiselede",-7,0,10,8755,null,7730,"Estaimpuis",-7,0,10]
[null,7610,"Rumes",-7,0,10,7610,null,7740,"Pecq",-7,0,10]
[null,2840,"Rumst",-7,0,10,2840,null,7750,"Mont-de-l'Enclus",-7,0,10]
[null,6680,"Sainte-Ode",-10,-3,8,6680,null,7760,"Celles",-7,0,10]
[null,4470,"Saint-Georges-sur-Meuse",-8,-1,10,4470,null,7780,"Comines-Warneton",-7,0,10]
[null,7330,"Saint-Ghislain",-7,0,10,7330,null,7800,"Ath",-7,0,10]
[null,1060,"Saint-Gilles",-7,0,10,1060,null,7830,"Silly",-7,0,10]
[null,6870,"Saint-Hubert",-10,-3,8,6870,null,7850,"Enghien",-7,0,10]
[null,1210,"Saint-Josse-ten-Noode",-7,0,10,1210,null,7860,"Lessines",-7,0,10]
[null,6747,"Saint-Léger",-9,-2,9,6747,null,7870,"Lens",-7,0,10]
[null,4420,"Saint-Nicolas",-8,-1,10,4420,null,7880,"Flobecq",-7,0,10]
[null,5060,"Sambreville",-8,-1,10,5060,null,7890,"Ellezelles",-7,0,10]
[null,4780,"Sankt Vith",-10,-3,8,4780,null,7900,"Leuze-en-Hainaut",-7,0,10]
[null,1030,"Schaarbeek",-7,0,10,1030,null,7910,"Frasnes-lez-Anvaing",-7,0,10]
[null,1030,"Schaerbeek",-7,0,10,1030,null,7940,"Brugelette",-7,0,10]
[null,2627,"Schelle",-7,0,10,2627,null,7950,"Chièvres",-7,0,10]
[null,3270,"Scherpenheuvel-Zichem",-8,-1,10,3270,null,7970,"Beloeil",-7,0,10]
[null,2970,"Schilde",-8,-1,10,2970,null,8000,"Brugge (beh./sauf Zeebrugge)",-7,0,10]
[null,2900,"Schoten",-8,-1,10,2900,null,8020,"Oostkamp",-7,0,10]
[null,7180,"Seneffe",-8,-1,10,7180,null,8210,"Zedelgem",-7,0,10]
[null,4100,"Seraing",-8,-1,10,4100,null,8300,"Knokke-Heist",-6,0,10]
[null,7830,"Silly",-7,0,10,7830,null,8340,"Damme",-7,0,10]
[null,1082,"Sint-Agatha-Berchem",-7,0,10,1082,null,8370,"Blankenberge",-6,0,10]
[null,2890,"Sint-Amands",-7,0,10,2890,null,8377,"Zuienkerke",-7,0,10]
[null,1640,"Sint-Genesius-Rode",-7,0,10,1640,null,8380,"Zeebrugge",-6,0,10]
[null,1060,"Sint-Gillis",-7,0,10,1060,null,8400,"Oostende",-6,0,10]
[null,9170,"Sint-Gillis-Waas",-7,0,10,9170,null,8420,"De Haan",-6,0,10]
[null,1080,"Sint-Jans-Molenbeek",-7,0,10,1080,null,8430,"Middelkerke",-6,0,10]
[null,1210,"Sint-Joost-ten-Node",-7,0,10,1210,null,8450,"Bredene",-6,0,10]
[null,2860,"Sint-Katelijne-Waver",-7,0,10,2860,null,8460,"Oudenburg",-7,0,10]
[null,1200,"Sint-Lambrechts-Woluwe",-7,0,10,1200,null,8470,"Gistel",-7,0,10]
[null,9980,"Sint-Laureins",-7,0,10,9980,null,8480,"Ichtegem",-7,0,10]
[null,9520,"Sint-Lievens-Houtem",-7,0,10,9520,null,8490,"Jabbeke",-7,0,10]
[null,9830,"Sint-Martens-Latem",-7,0,10,9830,null,8500,"Kortrijk",-7,0,10]
[null,9100,"Sint-Niklaas",-7,0,10,9100,null,8520,"Kuurne",-7,0,10]
[null,1600,"Sint-Pieters-Leeuw",-7,0,10,1600,null,8530,"Harelbeke",-7,0,10]
[null,1150,"Sint-Pieters-Woluwe",-7,0,10,1150,null,8540,"Deerlijk",-7,0,10]
[null,3800,"Sint-Truiden",-7,0,10,3800,null,8550,"Zwevegem",-7,0,10]
[null,6470,"Sivry-Rance",-9,-2,9,6470,null,8560,"Wevelgem",-7,0,10]
[null,7060,"Soignies",-7,0,10,7060,null,8570,"Anzegem",-7,0,10]
[null,5140,"Sombreffe",-8,-1,10,5140,null,8580,"Avelgem",-7,0,10]
[null,5377,"Somme-Leuze",-9,-2,9,5377,null,8587,"Spiere-Helkijn",-7,0,10]
[null,4630,"Soumagne",-9,-2,9,4630,null,8600,"Diksmuide",-7,0,10]
[null,4900,"Spa",-9,-2,9,4900,null,8610,"Kortemark",-7,0,10]
[null,8587,"Spiere-Helkijn",-7,0,10,8587,null,8620,"Nieuwpoort",-6,0,10]
[null,4140,"Sprimont",-9,-2,9,4140,null,8630,"Veurne",-7,0,10]
[null,2940,"Stabroek",-7,0,10,2940,null,8640,"Vleteren",-7,0,10]
[null,8840,"Staden",-7,0,10,8840,null,8647,"Lo-Reninge",-7,0,10]
[null,4970,"Stavelot",-10,-3,8,4970,null,8650,"Houthulst",-7,0,10]
[null,1820,"Steenokkerzeel",-7,0,10,1820,null,8660,"De Panne",-6,0,10]
[null,9190,"Stekene",-7,0,10,9190,null,8670,"Koksijde",-6,0,10]
[null,4987,"Stoumont",-9,-2,9,4987,null,8680,"Koekelare",-7,0,10]
[null,6927,"Tellin",-9,-2,9,6927,null,8690,"Alveringem",-7,0,10]
[null,9140,"Temse",-7,0,10,9140,null,8700,"Tielt",-7,0,10]
[null,6970,"Tenneville",-10,-3,8,6970,null,8710,"Wielsbeke",-7,0,10]
[null,1740,"Ternat",-7,0,10,1740,null,8720,"Dentergem",-7,0,10]
[null,3080,"Tervuren",-7,0,10,3080,null,8730,"Beernem",-7,0,10]
[null,3980,"Tessenderlo",-8,-1,10,3980,null,8740,"Pittem",-7,0,10]
[null,4910,"Theux",-9,-2,9,4910,null,8750,"Wingene",-7,0,10]
[null,4890,"Thimister-Clermont",-9,-2,9,4890,null,8755,"Ruiselede",-7,0,10]
[null,6530,"Thuin",-8,-1,10,6530,null,8760,"Meulebeke",-7,0,10]
[null,8700,"Tielt",-7,0,10,8700,null,8770,"Ingelmunster",-7,0,10]
[null,3390,"Tielt-Winge",-7,0,10,3390,null,8780,"Oostrozebeke",-7,0,10]
[null,3300,"Tienen",-7,0,10,3300,null,8790,"Waregem",-7,0,10]
[null,4557,"Tinlot",-9,-2,9,4557,null,8800,"Roeselare",-7,0,10]
[null,6730,"Tintigny",-10,-3,8,6730,null,8810,"Lichtervelde",-7,0,10]
[null,3700,"Tongeren",-7,0,10,3700,null,8820,"Torhout",-7,0,10]
[null,8820,"Torhout",-7,0,10,8820,null,8830,"Hooglede",-7,0,10]
[null,7500,"Tournai",-7,0,10,7500,null,8840,"Staden",-7,0,10]
[null,3120,"Tremelo",-7,0,10,3120,null,8850,"Ardooie",-7,0,10]
[null,4980,"Trois-Ponts",-10,-3,8,4980,null,8860,"Lendelede",-7,0,10]
[null,4870,"Trooz",-8,-1,10,4870,null,8870,"Izegem",-7,0,10]
[null,1480,"Tubize",-7,0,10,1480,null,8880,"Ledegem",-7,0,10]
[null,2300,"Turnhout",-8,-1,10,2300,null,8890,"Moorslede",-7,0,10]
[null,1180,"Uccle",-7,0,10,1180,null,8900,"Ieper",-7,0,10]
[null,1180,"Ukkel",-7,0,10,1180,null,8920,"Langemark-Poelkapelle",-7,0,10]
[null,6640,"Vaux-sur-Sûre",-10,-3,8,6640,null,8930,"Menen",-7,0,10]
[null,4537,"Verlaine",-8,-1,10,4537,null,8940,"Wervik",-7,0,10]
[null,4800,"Verviers",-9,-2,9,4800,null,8950,"Heuvelland",-7,0,10]
[null,8630,"Veurne",-7,0,10,8630,null,8957,"Mesen",-7,0,10]
[null,6690,"Vielsalm",-10,-3,8,6690,null,8970,"Poperinge",-7,0,10]
[null,1495,"Villers-la-Ville",-8,-1,10,1495,null,8980,"Zonnebeke",-7,0,10]
[null,4530,"Villers-le-Bouillet",-8,-1,10,4530,null,9000,"Gent",-7,0,10]
[null,1800,"Vilvoorde",-7,0,10,1800,null,9060,"Zelzate",-7,0,10]
[null,5670,"Viroinval",-9,-2,9,5670,null,9070,"Destelbergen",-7,0,10]
[null,6760,"Virton",-9,-2,9,6760,null,9080,"Lochristi",-7,0,10]
[null,4600,"Visé",-7,0,10,4600,null,9090,"Melle",-7,0,10]
[null,8640,"Vleteren",-7,0,10,8640,null,9100,"Sint-Niklaas",-7,0,10]
[null,3790,"Voeren",-8,-1,10,3790,null,9120,"Beveren",-7,0,10]
[null,2290,"Vorselaar",-8,-1,10,2290,null,9140,"Temse",-7,0,10]
[null,1190,"Vorst",-7,0,10,1190,null,9150,"Kruibeke",-7,0,10]
[null,2350,"Vosselaar",-8,-1,10,2350,null,9160,"Lokeren",-7,0,10]
[null,5550,"Vresse-sur-Semois",-10,-3,8,5550,null,9170,"Sint-Gillis-Waas",-7,0,10]
[null,9950,"Waarschoot",-7,0,10,9950,null,9185,"Wachtebeke",-7,0,10]
[null,9250,"Waasmunster",-7,0,10,9250,null,9190,"Stekene",-7,0,10]
[null,9185,"Wachtebeke",-7,0,10,9185,null,9200,"Dendermonde",-7,0,10]
[null,4950,"Waimes",-11,-3,7,4950,null,9220,"Hamme",-7,0,10]
[null,5650,"Walcourt",-8,-1,10,5650,null,9230,"Wetteren",-7,0,10]
[null,1457,"Walhain",-8,-1,10,1457,null,9240,"Zele",-7,0,10]
[null,4520,"Wanze",-8,-1,10,4520,null,9250,"Waasmunster",-7,0,10]
[null,8790,"Waregem",-7,0,10,8790,null,9255,"Buggenhout",-7,0,10]
[null,4300,"Waremme",-8,-1,10,4300,null,9260,"Wichelen",-7,0,10]
[null,4219,"Wasseiges",-8,-1,10,4219,null,9270,"Laarne",-7,0,10]
[null,1410,"Waterloo",-8,-1,10,1410,null,9280,"Lebbeke",-7,0,10]
[null,1170,"Watermaal-Bosvoorde",-7,0,10,1170,null,9290,"Berlare",-7,0,10]
[null,1170,"Watermael-Boitsfort",-7,0,10,1170,null,9300,"Aalst",-7,0,10]
[null,1300,"Wavre",-7,0,10,1300,null,9340,"Lede",-7,0,10]
[null,4840,"Welkenraedt",-9,-2,9,4840,null,9400,"Ninove",-7,0,10]
[null,3830,"Wellen",-7,0,10,3830,null,9420,"Erpe-Mere",-7,0,10]
[null,6920,"Wellin",-9,-2,9,6920,null,9450,"Haaltert",-7,0,10]
[null,1780,"Wemmel",-7,0,10,1780,null,9470,"Denderleeuw",-7,0,10]
[null,8940,"Wervik",-7,0,10,8940,null,9500,"Geraardsbergen",-7,0,10]
[null,2260,"Westerlo",-8,-1,10,2260,null,9500,"Moerbeke",-7,0,10]
[null,9230,"Wetteren",-7,0,10,9230,null,9520,"Sint-Lievens-Houtem",-7,0,10]
[null,8560,"Wevelgem",-7,0,10,8560,null,9550,"Herzele",-7,0,10]
[null,1970,"Wezembeek-Oppem",-7,0,10,1970,null,9570,"Lierde",-7,0,10]
[null,9260,"Wichelen",-7,0,10,9260,null,9600,"Ronse",-7,0,10]
[null,8710,"Wielsbeke",-7,0,10,8710,null,9620,"Zottegem",-7,0,10]
[null,2110,"Wijnegem",-7,0,10,2110,null,9630,"Zwalm",-7,0,10]
[null,2830,"Willebroek",-7,0,10,2830,null,9660,"Brakel",-7,0,10]
[null,8750,"Wingene",-7,0,10,8750,null,9667,"Horebeke",-7,0,10]
[null,1200,"Woluwé-Saint-Lambert",-7,0,10,1200,null,9680,"Maarkedal",-7,0,10]
[null,1150,"Woluwe-Saint-Pierre",-7,0,10,1150,null,9690,"Kluisbergen",-7,0,10]
[null,2160,"Wommelgem",-7,0,10,2160,null,9700,"Oudenaarde",-7,0,10]
[null,9790,"Wortegem-Petegem",-7,0,10,9790,null,9750,"Zingem",-7,0,10]
[null,2990,"Wuustwezel",-8,-1,10,2990,null,9770,"Kruishoutem",-7,0,10]
[null,5530,"Yvoir",-9,-2,9,5530,null,9790,"Wortegem-Petegem",-7,0,10]
[null,2240,"Zandhoven",-8,-1,10,2240,null,9800,"Deinze",-7,0,10]
[null,1930,"Zaventem",-7,0,10,1930,null,9810,"Nazareth",-7,0,10]
[null,8210,"Zedelgem",-7,0,10,8210,null,9820,"Merelbeke",-7,0,10]
[null,8380,"Zeebrugge",-6,0,10,8380,null,9830,"Sint-Martens-Latem",-7,0,10]
[null,9240,"Zele",-7,0,10,9240,null,9840,"De Pinte",-7,0,10]
[null,9060,"Zelzate",-7,0,10,9060,null,9850,"Nevele",-7,0,10]
[null,1980,"Zemst",-7,0,10,1980,null,9860,"Oosterzele",-7,0,10]
[null,9750,"Zingem",-7,0,10,9750,null,9870,"Zulte",-7,0,10]
[null,2980,"Zoersel",-8,-1,10,2980,null,9880,"Aalter",-7,0,10]
[null,9930,"Zomergem",-7,0,10,9930,null,9890,"Gavere",-7,0,10]
[null,3520,"Zonhoven",-8,-1,10,3520,null,9900,"Eeklo",-7,0,10]
[null,8980,"Zonnebeke",-7,0,10,8980,null,9910,"Knesselare",-7,0,10]
[null,9620,"Zottegem",-7,0,10,9620,null,9920,"Lovendegem",-7,0,10]
[null,3440,"Zoutleeuw",-7,0,10,3440,null,9930,"Zomergem",-7,0,10]
[null,8377,"Zuienkerke",-7,0,10,8377,null,9940,"Evergem",-7,0,10]
[null,9870,"Zulte",-7,0,10,9870,null,9950,"Waarschoot",-7,0,10]
[null,3690,"Zutendaal",-8,-1,10,3690,null,9960,"Assenede",-7,0,10]
[null,9630,"Zwalm",-7,0,10,9630,null,9970,"Kaprijke",-7,0,10]
[null,8550,"Zwevegem",-7,0,10,8550,null,9980,"Sint-Laureins",-7,0,10]
[null,2070,"Zwijndrecht",-7,0,10,2070,null,9990,"Maldegem",-7,0,10]

{"sheet":"Tab NA6","index":28,"n_rows":11,"n_cols":8,"rows_kept":11,"cut":false,"hidden":true,"merged":[]}
["EN 12831-1 - Tableau NA.6"]
["Système d’émission de chaleur","Acronyme","Gradient de température de l’air","Différence entre la température de l’air et la température opérative","Base de l'acronyme",null,null,"nom dans la langue sélectionnée"]
["Radiateurs","RH",1,0,"Radiator heating",null,null,{"$f":"Langage!A81","v":"Radiateurs"}]
["Émission de chaleur intégrée à la surface / Sol","FH",0.2,1.5,"Floor heating",null,null,{"$f":"Langage!A82","v":"Chauffage par le sol"}]
["Émission de chaleur intégrée à la surface / Mur","WH",0.2,1.5,"Wall heating",null,null,{"$f":"Langage!A83","v":"Chauffage par les murs"}]
["Chauffage air chaud sans déstratification supplémentaire","AS",1,0,"Air Stratification",null,null,{"$f":"Langage!A84","v":"Air sans déstratification"}]
["Chauffage air chaud avec déstratification supplémentaire","AD",0.35,0,"Air Destratification",null,null,{"$f":"Langage!A85","v":"Air avec déstratification"}]
["Panneaux radiants montés au plafond","CP",0.35,1.5,"Ceiling Pannels",null,null,{"$f":"Langage!A86","v":"Panneaux radiants au plafond"}]
["Chauffages radiants à infrarouge","LR",0.2,1.5,"Luminous Radiant",null,null,{"$f":"Langage!A87","v":"Radiants à infrarouge"}]
["Chauffage par tubes radiants","RT",0.2,1.5,"Radiant Tubes",null,null,{"$f":"Langage!A88","v":"Tubes radiants"}]
["Pas de système d'émission","NS",0,0,"No System",null,null,{"$f":"Langage!A89","v":"Pas de chauffage"}]

{"sheet":"Tab NA7","index":29,"n_rows":6,"n_cols":3,"rows_kept":6,"cut":false,"hidden":true,"merged":[]}
["EN 12831-1 - Tableau NA.7"]
[]
["Étanchéité à l’air"]
[null,"Acronyme","n50"]
["Bâtiment résidentiel","RE",6]
["Bâtiment non-résidentiel","NR",6]

{"sheet":"Tab NA8","index":30,"n_rows":6,"n_cols":3,"rows_kept":6,"cut":false,"hidden":true,"merged":[]}
["EN 12831-1 - Tableau NA.8"]
[]
["Taux minimal de renouvellement de l’air"]
[null,"Acronyme","nmin"]
["Bâtiment résidentiel","RE",0.5]
["Bâtiment non-résidentiel","NR",0.5]

{"sheet":"Radiators","index":31,"n_rows":37,"n_cols":28,"rows_kept":37,"cut":false,"hidden":false,"merged":[[3,1,3,7],[5,1,5,4],[5,7,5,9],[12,2,13,2],[12,3,13,3],[12,4,13,4],[10,1,10,4],[10,7,10,9],[12,8,12,9],[12,6,13,6],[12,5,13,5]]}
[]
[]
[]
[null,{"$f":"Langage!A81","v":"Radiateurs"},null,null,null,null,null,null,{"$f":"Langage!A140","v":"Info - Rapport CSTC n°14"}]
[]
[null,{"$f":"Langage!A123","v":"Régime de température"},null,null,null,null,null,null,null,null,null,null,null,"Régime",null,"Choix de température"]
[]
[null,null,{"$f":"Langage!A124","v":"Température de départ"},null,"°C",null,null,null,null,null,null,null,null,{"$f":"IF(D8=\"\",\"\",D8)","v":""},null,90,85,80,75,70,65,60,55,50,45]
[null,null,{"$f":"Langage!A125","v":"Température de retour"},null,"°C",null,null,null,null,null,null,null,null,{"$f":"IF(D9=\"\",\"\",D9)","v":""},{"$f":"IF(N9<N8,TRUE,FALSE)","v":false},{"$f":"N8-5","v":{"$error":"#VALUE!"}},{"$f":"IF(P9=\"\",\"\",IF(P9-5<30,\"\",P9-5))","v":{"$error":"#VALUE!"}},{"$f":"IF(Q9=\"\",\"\",IF(Q9-5<30,\"\",Q9-5))","v":{"$error":"#VALUE!"}},{"$error":"#VALUE!"},{"$error":"#VALUE!"},{"$error":"#VALUE!"},{"$error":"#VALUE!"},{"$error":"#VALUE!"},{"$error":"#VALUE!"},{"$error":"#VALUE!"},{"$error":"#VALUE!"},{"$error":"#VALUE!"},{"$f":"COUNT(P9:AA9)","v":0}]
[]
[null,{"$f":"Langage!A9","v":"Espaces chauffés"}]
[]
[null,null,{"$f":"Langage!A10","v":"Nom de l'espace"},{"$f":"Langage!A53","v":"Charge thermique nominale"},{"$f":"Langage!A11","v":"Température   int. de base"},{"$f":"Langage!A126","v":"Exposant"},{"$f":"Langage!A127","v":"Facteur de correction"},{"$f":"Langage!A128","v":"Emission de chaleur"},{"$f":"Langage!A129","v":"Débit d'eau"},null,null,null,null,"Dqm","F/Fn50",null,null,"Min n",1.1000000000000001]
[null,null,null,null,null,null,null,"EN 442-2   75/65/20","mH","mH",null,null,null,null,null,null,null,"Max n",1.4]
[null,null,null,"FHL,i   W","qint,i   °C","n   (-)","f   (-)","Fn50     W","kg/s","l/h"]
[null,1,{"$f":"IF(OR(Room!I17=\"RH\",AND(Room!I17=\"FH\",'Floor Heating'!J11<>\"\")),Room!C17,\"\")","v":""},{"$f":"IF(Room!I17=\"RH\",'Heat load'!G9,IF(AND(Room!I17=\"FH\",'Floor Heating'!J11<>\"\"),'Floor Heating'!J11,\"\"))","v":""},{"$f":"IF(OR(Room!I17=\"RH\",AND(Room!I17=\"FH\",'Floor Heating'!J11<>\"\")),Room!D17,\"\")","v":""},1.3,1,{"$f":"IF(OR(G16=\"\",O16=\"\"),\"\",D16/O16/G16)","v":""},{"$f":"IF(H16=\"\",\"\",J16/3600)","v":""},{"$f":"IF(H16=\"\",\"\",D16*3600/4190/(N$8-N$9))","v":""},null,null,null,{"$f":"IF(OR(N$8=\"\",N$9=\"\",E16=\"\",O$9=FALSE),\"\",(N$8-N$9)/LN((N$8-E16)/(N$9-E16)))","v":""},{"$f":"IF(OR(N16=\"\",F16=\"\"),\"\",(N16/49.83)^F16)","v":""},null,null,"Min f",0.7]
[null,2,{"$f":"IF(OR(Room!I18=\"RH\",AND(Room!I18=\"FH\",'Floor Heating'!J12<>\"\")),Room!C18,\"\")","v":""},{"$f":"IF(Room!I18=\"RH\",'Heat load'!G10,IF(AND(Room!I18=\"FH\",'Floor Heating'!J12<>\"\"),'Floor Heating'!J12,\"\"))","v":""},{"$f":"IF(OR(Room!I18=\"RH\",AND(Room!I18=\"FH\",'Floor Heating'!J12<>\"\")),Room!D18,\"\")","v":""},1.3,1,{"$f":"IF(OR(G17=\"\",O17=\"\"),\"\",D17/O17/G17)","v":""},{"$f":"IF(H17=\"\",\"\",J17/3600)","v":""},{"$f":"IF(H17=\"\",\"\",D17*3600/4190/(N$8-N$9))","v":""},null,null,null,"",{"$f":"IF(OR(N17=\"\",F17=\"\"),\"\",(N17/49.83)^F17)","v":""},null,null,"Max f",1]
[null,3,{"$f":"IF(OR(Room!I19=\"RH\",AND(Room!I19=\"FH\",'Floor Heating'!J13<>\"\")),Room!C19,\"\")","v":""},{"$f":"IF(Room!I19=\"RH\",'Heat load'!G11,IF(AND(Room!I19=\"FH\",'Floor Heating'!J13<>\"\"),'Floor Heating'!J13,\"\"))","v":""},{"$f":"IF(OR(Room!I19=\"RH\",AND(Room!I19=\"FH\",'Floor Heating'!J13<>\"\")),Room!D19,\"\")","v":""},1.3,1,"","","",null,null,null,"",""]
[null,4,{"$f":"IF(OR(Room!I20=\"RH\",AND(Room!I20=\"FH\",'Floor Heating'!J14<>\"\")),Room!C20,\"\")","v":""},{"$f":"IF(Room!I20=\"RH\",'Heat load'!G12,IF(AND(Room!I20=\"FH\",'Floor Heating'!J14<>\"\"),'Floor Heating'!J14,\"\"))","v":""},{"$f":"IF(OR(Room!I20=\"RH\",AND(Room!I20=\"FH\",'Floor Heating'!J14<>\"\")),Room!D20,\"\")","v":""},1.3,1,"","","",null,null,null,"",""]
[null,5,{"$f":"IF(OR(Room!I21=\"RH\",AND(Room!I21=\"FH\",'Floor Heating'!J15<>\"\")),Room!C21,\"\")","v":""},{"$f":"IF(Room!I21=\"RH\",'Heat load'!G13,IF(AND(Room!I21=\"FH\",'Floor Heating'!J15<>\"\"),'Floor Heating'!J15,\"\"))","v":""},{"$f":"IF(OR(Room!I21=\"RH\",AND(Room!I21=\"FH\",'Floor Heating'!J15<>\"\")),Room!D21,\"\")","v":""},1.3,1,"","","",null,null,null,"",""]
[null,6,{"$f":"IF(OR(Room!I22=\"RH\",AND(Room!I22=\"FH\",'Floor Heating'!J16<>\"\")),Room!C22,\"\")","v":""},{"$f":"IF(Room!I22=\"RH\",'Heat load'!G14,IF(AND(Room!I22=\"FH\",'Floor Heating'!J16<>\"\"),'Floor Heating'!J16,\"\"))","v":""},{"$f":"IF(OR(Room!I22=\"RH\",AND(Room!I22=\"FH\",'Floor Heating'!J16<>\"\")),Room!D22,\"\")","v":""},1.3,1,"","","",null,null,null,"",""]
[null,7,{"$f":"IF(OR(Room!I23=\"RH\",AND(Room!I23=\"FH\",'Floor Heating'!J17<>\"\")),Room!C23,\"\")","v":""},{"$f":"IF(Room!I23=\"RH\",'Heat load'!G15,IF(AND(Room!I23=\"FH\",'Floor Heating'!J17<>\"\"),'Floor Heating'!J17,\"\"))","v":""},{"$f":"IF(OR(Room!I23=\"RH\",AND(Room!I23=\"FH\",'Floor Heating'!J17<>\"\")),Room!D23,\"\")","v":""},1.3,1,"","",{"$f":"IF(H22=\"\",\"\",D22*3600/4190/(N$8-N$9))","v":""},null,null,null,"",""]
[null,8,{"$f":"IF(OR(Room!I24=\"RH\",AND(Room!I24=\"FH\",'Floor Heating'!J18<>\"\")),Room!C24,\"\")","v":""},{"$f":"IF(Room!I24=\"RH\",'Heat load'!G16,IF(AND(Room!I24=\"FH\",'Floor Heating'!J18<>\"\"),'Floor Heating'!J18,\"\"))","v":""},{"$f":"IF(OR(Room!I24=\"RH\",AND(Room!I24=\"FH\",'Floor Heating'!J18<>\"\")),Room!D24,\"\")","v":""},1.3,1,"","","",null,null,null,"",""]
[null,9,{"$f":"IF(OR(Room!I25=\"RH\",AND(Room!I25=\"FH\",'Floor Heating'!J19<>\"\")),Room!C25,\"\")","v":""},{"$f":"IF(Room!I25=\"RH\",'Heat load'!G17,IF(AND(Room!I25=\"FH\",'Floor Heating'!J19<>\"\"),'Floor Heating'!J19,\"\"))","v":""},{"$f":"IF(OR(Room!I25=\"RH\",AND(Room!I25=\"FH\",'Floor Heating'!J19<>\"\")),Room!D25,\"\")","v":""},1.3,1,"","","",null,null,null,"",""]
[null,10,{"$f":"IF(OR(Room!I26=\"RH\",AND(Room!I26=\"FH\",'Floor Heating'!J20<>\"\")),Room!C26,\"\")","v":""},{"$f":"IF(Room!I26=\"RH\",'Heat load'!G18,IF(AND(Room!I26=\"FH\",'Floor Heating'!J20<>\"\"),'Floor Heating'!J20,\"\"))","v":""},{"$f":"IF(OR(Room!I26=\"RH\",AND(Room!I26=\"FH\",'Floor Heating'!J20<>\"\")),Room!D26,\"\")","v":""},1.3,1,"","","",null,null,null,"",""]
[null,11,{"$f":"IF(OR(Room!I27=\"RH\",AND(Room!I27=\"FH\",'Floor Heating'!J21<>\"\")),Room!C27,\"\")","v":""},{"$f":"IF(Room!I27=\"RH\",'Heat load'!G19,IF(AND(Room!I27=\"FH\",'Floor Heating'!J21<>\"\"),'Floor Heating'!J21,\"\"))","v":""},{"$f":"IF(OR(Room!I27=\"RH\",AND(Room!I27=\"FH\",'Floor Heating'!J21<>\"\")),Room!D27,\"\")","v":""},1.3,1,"","","",null,null,null,"",""]
[null,12,{"$f":"IF(OR(Room!I28=\"RH\",AND(Room!I28=\"FH\",'Floor Heating'!J22<>\"\")),Room!C28,\"\")","v":""},{"$f":"IF(Room!I28=\"RH\",'Heat load'!G20,IF(AND(Room!I28=\"FH\",'Floor Heating'!J22<>\"\"),'Floor Heating'!J22,\"\"))","v":""},{"$f":"IF(OR(Room!I28=\"RH\",AND(Room!I28=\"FH\",'Floor Heating'!J22<>\"\")),Room!D28,\"\")","v":""},1.3,1,"","","",null,null,null,"",""]
[null,13,{"$f":"IF(OR(Room!I29=\"RH\",AND(Room!I29=\"FH\",'Floor Heating'!J23<>\"\")),Room!C29,\"\")","v":""},{"$f":"IF(Room!I29=\"RH\",'Heat load'!G21,IF(AND(Room!I29=\"FH\",'Floor Heating'!J23<>\"\"),'Floor Heating'!J23,\"\"))","v":""},{"$f":"IF(OR(Room!I29=\"RH\",AND(Room!I29=\"FH\",'Floor Heating'!J23<>\"\")),Room!D29,\"\")","v":""},1.3,1,"","","",null,null,null,"",""]
[null,14,{"$f":"IF(OR(Room!I30=\"RH\",AND(Room!I30=\"FH\",'Floor Heating'!J24<>\"\")),Room!C30,\"\")","v":""},{"$f":"IF(Room!I30=\"RH\",'Heat load'!G22,IF(AND(Room!I30=\"FH\",'Floor Heating'!J24<>\"\"),'Floor Heating'!J24,\"\"))","v":""},{"$f":"IF(OR(Room!I30=\"RH\",AND(Room!I30=\"FH\",'Floor Heating'!J24<>\"\")),Room!D30,\"\")","v":""},1.3,1,"","","",null,null,null,"",""]
[null,15,{"$f":"IF(OR(Room!I31=\"RH\",AND(Room!I31=\"FH\",'Floor Heating'!J25<>\"\")),Room!C31,\"\")","v":""},{"$f":"IF(Room!I31=\"RH\",'Heat load'!G23,IF(AND(Room!I31=\"FH\",'Floor Heating'!J25<>\"\"),'Floor Heating'!J25,\"\"))","v":""},{"$f":"IF(OR(Room!I31=\"RH\",AND(Room!I31=\"FH\",'Floor Heating'!J25<>\"\")),Room!D31,\"\")","v":""},1.3,1,"","","",null,null,null,"",""]
[null,16,{"$f":"IF(OR(Room!I32=\"RH\",AND(Room!I32=\"FH\",'Floor Heating'!J26<>\"\")),Room!C32,\"\")","v":""},{"$f":"IF(Room!I32=\"RH\",'Heat load'!G24,IF(AND(Room!I32=\"FH\",'Floor Heating'!J26<>\"\"),'Floor Heating'!J26,\"\"))","v":""},{"$f":"IF(OR(Room!I32=\"RH\",AND(Room!I32=\"FH\",'Floor Heating'!J26<>\"\")),Room!D32,\"\")","v":""},1.3,1,"","","",null,null,null,"",""]
[null,17,{"$f":"IF(OR(Room!I33=\"RH\",AND(Room!I33=\"FH\",'Floor Heating'!J27<>\"\")),Room!C33,\"\")","v":""},{"$f":"IF(Room!I33=\"RH\",'Heat load'!G25,IF(AND(Room!I33=\"FH\",'Floor Heating'!J27<>\"\"),'Floor Heating'!J27,\"\"))","v":""},{"$f":"IF(OR(Room!I33=\"RH\",AND(Room!I33=\"FH\",'Floor Heating'!J27<>\"\")),Room!D33,\"\")","v":""},1.3,1,"","","",null,null,null,"",""]
[null,18,{"$f":"IF(OR(Room!I34=\"RH\",AND(Room!I34=\"FH\",'Floor Heating'!J28<>\"\")),Room!C34,\"\")","v":""},{"$f":"IF(Room!I34=\"RH\",'Heat load'!G26,IF(AND(Room!I34=\"FH\",'Floor Heating'!J28<>\"\"),'Floor Heating'!J28,\"\"))","v":""},{"$f":"IF(OR(Room!I34=\"RH\",AND(Room!I34=\"FH\",'Floor Heating'!J28<>\"\")),Room!D34,\"\")","v":""},1.3,1,"","","",null,null,null,"",""]
[null,19,{"$f":"IF(OR(Room!I35=\"RH\",AND(Room!I35=\"FH\",'Floor Heating'!J29<>\"\")),Room!C35,\"\")","v":""},{"$f":"IF(Room!I35=\"RH\",'Heat load'!G27,IF(AND(Room!I35=\"FH\",'Floor Heating'!J29<>\"\"),'Floor Heating'!J29,\"\"))","v":""},{"$f":"IF(OR(Room!I35=\"RH\",AND(Room!I35=\"FH\",'Floor Heating'!J29<>\"\")),Room!D35,\"\")","v":""},1.3,1,"","","",null,null,null,"",""]
[null,20,{"$f":"IF(OR(Room!I36=\"RH\",AND(Room!I36=\"FH\",'Floor Heating'!J30<>\"\")),Room!C36,\"\")","v":""},{"$f":"IF(Room!I36=\"RH\",'Heat load'!G28,IF(AND(Room!I36=\"FH\",'Floor Heating'!J30<>\"\"),'Floor Heating'!J30,\"\"))","v":""},{"$f":"IF(OR(Room!I36=\"RH\",AND(Room!I36=\"FH\",'Floor Heating'!J30<>\"\")),Room!D36,\"\")","v":""},1.3,1,"","","",null,null,null,"",""]
[]
[null,null,{"$f":"Langage!A14","v":"Total"},{"$f":"IF(COUNT(D16:D35)>=1,SUM(D16:D35),\"\")","v":""},null,null,null,{"$f":"IF(COUNT(H16:H35)>=1,SUM(H16:H35),\"\")","v":""},{"$f":"IF(COUNT(I16:I35)>=1,SUM(I16:I35),\"\")","v":""},{"$f":"IF(COUNT(J16:J35)>=1,SUM(J16:J35),\"\")","v":""}]

{"sheet":"Floor Syst","index":32,"n_rows":63,"n_cols":16,"rows_kept":63,"cut":false,"hidden":false,"merged":[[5,3,6,3],[3,1,3,3],[3,4,3,7]]}
[]
[null,{"$f":"Langage!A122","v":"Information sous la responsabilité de l'utilisateur"}]
[]
[null,{"$f":"Langage!A116","v":"Systèmes de chauffage par le sol"},null,null,{"$f":"Langage!A136","v":"Gradient de la courbe caractéristique"}]
[]
[null,null,{"$f":"Langage!A117","v":"Système"},{"$f":"Langage!A118","v":"Pas du tube"},"Rl,B 0,00","Rl,B 0,05","Rl,B 0,10","Rl,B 0,15","(m²K)/W",null,{"$f":"Langage!A132","v":"Calcul de KH (Coefficient de transmission thermique équivalent)"}]
[null,null,null,null,"KH","KH","KH","KH",null,null,{"$f":"Langage!A133","v":"Prendre un point sur la courbe caractéristique"}]
[null,null,null,"cm","W/m².K","W/m².K","W/m².K","W/m².K",null,null,{"$f":"Langage!A134","v":"Température (axe horizontal)"},null,null,null,30,"K"]
[null,1,"Vitoset 16x2 45 mm",5,7.52,5.35,4.1322314049586781,3.3783783783783781,null,null,{"$f":"Langage!A135","v":"Emission de chaleur (axe vertical)"},null,null,null,102,"W/m²"]
[null,null,null,10,6.45,4.6900000000000004,3.7313432835820897,3.1055900621118009,null,null,{"$f":"Langage!A136","v":"Gradient de la courbe caractéristique"},null,null,null,{"$f":"IF(OR(O8=\"\",O9=\"\"),\"\",O9/O8)","v":3.4},"W/m².K"]
[null,null,null,15,5.52,4.1500000000000004,3.3333333333333335,2.8328611898017]
[null,null,null,20,4.8099999999999996,3.69,3.0487804878048781,2.5974025974025974,null,null,{"$f":"Langage!A137","v":"Exemple"}]
[null,null,null,25,4.12,3.27,2.7322404371584699,2.3752969121140142]
[null,null,null,30,3.61,2.91,2.4875621890547261,2.1739130434782608]
[null,2,"Begetube 16/2",5,7.5,5.37,4.166666666666667,3.4]
[null,null,null,10,6.43,4.7300000000000004,3.7333333333333334,3.1]
[null,null,null,15,5.53,4.17,3.3666666666666667,2.8333333333333335]
[null,null,null,20,4.8,3.7,3.0333333333333332,2.6]
[null,null,null,25,4.17,3.2666666666666666,2.7666666666666666,2.3666666666666667]
[null,null,null,30,3.63,2.9,2.4666666666666668,2.1666666666666665]
[null,3,"Rolljet & Clickjet",5,7.52,5.4,4.16,3.4]
[null,null,null,10,6.48,4.76,3.76,3.12]
[null,null,null,15,5.6,4.2,3.4,2.84]
[null,null,null,20,4.88,3.72,3.08,2.6]
[null,null,null,25,4.2,3.32,2.76,2.4]
[null,null,null,30,3.68,2.96,2.52,2.2000000000000002]
[null,4]
[]
[]
[]
[]
[]
[null,5]
[]
[]
[]
[]
[]
[null,6]
[]
[]
[]
[]
[]
[null,7]
[]
[]
[]
[]
[]
[null,8]
[]
[]
[]
[]
[]
[null,9]
[]
[]
[]
[]
[]
[null,10]

{"sheet":"Floor Heating","index":33,"n_rows":78,"n_cols":89,"rows_kept":78,"cut":false,"hidden":false,"merged":[[7,10,8,10],[40,14,40,15],[41,14,41,15],[45,15,46,15],[7,11,8,11],[7,12,8,12],[3,1,3,5],[5,1,5,4],[5,5,5,9],[39,2,40,2],[7,9,8,9],[7,2,8,2],[7,3,8,3],[7,4,8,4],[7,5,8,5],[7,6,8,6],[7,8,8,8],[7,7,8,7],[34,7,34,8],[35,7,35,8]]}
[]
[]
[]
[null,{"$f":"Langage!A82","v":"Chauffage par le sol"},null,null,null,null,null,null,{"$f":"Langage!A141","v":"Info - Rapport CSTC n°18"}]
[null,null,null,null,null,null,null,null,null,null,null,null,null,null,null,null,null,null,null,null,null,null,null,null,null,null,null,null,null,null,null,null,null,null,null,null,null,null,null,null,null,null,null,null,null,null,null,null,null,null,null,null,null,null,null,null,null,null,null,null,null,null,null,null,null,null,null,null,null,null,null,null,null,null,"Ceci recrée des listes sans vides pour les menus déroulants"]
[null,{"$f":"Langage!A9","v":"Espaces chauffés"}]
[]
[null,null,{"$f":"Langage!A10","v":"Nom de l'espace"},{"$f":"Langage!A53","v":"Charge thermique nominale"},{"$f":"Langage!A12","v":"Aire nette de plancher"},{"$f":"Langage!A108","v":"Aire de plancher chauffant"},{"$f":"Langage!A109","v":"Emission surfacique"},{"$f":"Langage!A111","v":"Groupement"},{"$f":"Langage!A110","v":"Nombre de boucles"},{"$f":"Langage!A81","v":"Radiateurs"},{"$f":"Langage!A142","v":"Choix des aires"},{"$f":"Langage!A143","v":"Boucle 1"},{"$f":"Langage!A144","v":"Boucle 2"}]
[null,null,null,null,null,null,null,null,null,null,null,null,null,null,null,null,null,null,null,null,null,null,null,null,null,null,null,null,null,null,null,null,null,null,null,null,null,null,null,null,null,null,null,null,null,null,null,null,null,null,null,null,null,null,null,null,null,null,null,null,null,null,null,null,null,null,null,null,"Espaces",null,null,null,null,null,null,"Espace"]
[null,null,null,"FHL,i   W","Ai   m²","AF   m²","qdes  W/m²",null,null,"W",null,"m²","m²",null,null,null,null,null,null,null,null,null,null,null,null,null,null,"Boucle","Additionnel","Total",null,null,null,"Aire répart","Charge","Temp.","Surface additionelle","Aire tot","1 / Périph",2,3,null,"Espaces",null,null,null,null,"Boucles","Surface","Charge","Temp.",null,null,"Boucles","Surface","Charge","Temp.",null,"Systèmes",null,"Choix",null,null,null,null,null,"Température départ",{"$f":"IF(BQ10=\"\",\"\",MAX(BP$9:BP9)+1)","v":""},{"$f":"IF(Room!C42=\"\",\"\",Room!C42)","v":""},{"$f":"IF(Room!D42=\"\",\"\",Room!D42)","v":""},null,null,null,null,1,{"$f":"IF(BW10>BP$44,\"\",VLOOKUP(BW10,BP10:BQ41,2,FALSE))","v":""},null,null,null,null,null,null,null,null,"1 / Périph",2,3]
[null,1,{"$f":"IF(Room!I17=\"FH\",Room!C17,\"\")","v":""},{"$f":"IF(Room!I17=\"FH\",'Heat load'!G9,\"\")","v":""},{"$f":"IF(Room!I17=\"FH\",Room!E17,\"\")","v":""},null,{"$f":"IF(OR(D11=\"\",F11=\"\"),\"\",MAX(0,(D11-J11)/F11))","v":""},null,null,null,null,null,null,null,null,null,null,null,null,null,null,null,null,null,null,null,null,{"$f":"IF(C11=\"\",\"\",ISERROR(MATCH(C11,CB$11:CB$30,0)))","v":""},{"$f":"IF(OR(C11=\"\",H11=\"\"),\"\",VLOOKUP(H11,C$11:D$30,2,FALSE))","v":""},{"$f":"IF(OR(C11=\"\",AB11=FALSE),\"\",IF(H11=\"\",MAX(0,D11-J11),MAX(0,D11-J11+AC11)))","v":""},{"$f":"IF(AB11<>TRUE,\"\",IF(I11>=1,CONCATENATE(C11,\" 1\"),\"\"))","v":""},{"$f":"IF(AB11<>TRUE,\"\",IF(I11>=2,CONCATENATE(C11,\" 2\"),\"\"))","v":""},{"$f":"IF(AB11<>TRUE,\"\",IF(I11>=3,CONCATENATE(C11,\" 3\"),\"\"))","v":""},{"$f":"IF(AB11=TRUE,IF(AK11=\"\",F11/I11,(F11+AK11)/I11),\"\")","v":""},{"$f":"IF(AB11=TRUE,AD11/I11,\"\")","v":""},{"$f":"IF(Room!I17=\"FH\",Room!D17,\"\")","v":""},{"$f":"IF(H11=\"\",\"\",VLOOKUP(H11,C$11:F$30,4,FALSE))","v":""},{"$f":"IF(AB11=TRUE,IF(AK11=\"\",F11,(F11+AK11)),\"\")","v":""},{"$f":"IF(OR(AB11<>TRUE,I11=\"\"),\"\",IF(I11=1,AL11,IF(K11=\"\",AH11,MIN(L11,AL11))))","v":""},{"$f":"IF(OR(AB11<>TRUE,I11=\"\"),\"\",IF(I11<=2,AL11-AM11,IF(K11=\"\",AH11,MIN(M11,AL11-AM11))))","v":""},{"$f":"IF(OR(AB11<>TRUE,I11=\"\"),\"\",AL11-AM11-AN11)","v":""},{"$f":"IF(AQ11=\"\",\"\",MAX(AP$9:AP10)+1)","v":""},{"$f":"IF(C11=\"\",\"\",C11)","v":""},1,{"$f":"IF(AR11>AP$33,\"\",VLOOKUP(AR11,AP$11:AQ$30,2,FALSE))","v":""},null,{"$f":"IF(AV11=\"\",\"\",MAX(AU$9:AU10)+1)","v":""},{"$f":"INDIRECT(\"AE\"&AZ11)","v":""},{"$f":"IF(AV11=\"\",\"\",INDIRECT(\"AM\"&AZ11))","v":""},{"$f":"IF(AV11=\"\",\"\",INDIRECT(\"CG\"&AZ11))","v":""},{"$f":"IF(AV11=\"\",\"\",INDIRECT(\"Aj\"&AZ11))","v":""},{"$f":"ROW()","v":11},1,{"$f":"IF(BA11>AU$72,\"\",VLOOKUP(BA11,AU$11:AX$70,2,FALSE))","v":""},{"$f":"IF(BA11>AU$72,\"\",VLOOKUP(BA11,AU$11:AX$70,3,FALSE))","v":""},{"$f":"IF(BA11>AU$72,\"\",VLOOKUP(BA11,AU$11:AX$70,4,FALSE))","v":""},{"$f":"IF(BA11>AU$72,\"\",VLOOKUP(BA11,AU$11:AY$70,5,FALSE))","v":""},1,{"$f":"IF('Floor Syst'!C9=\"\",\"\",'Floor Syst'!C9)","v":"Vitoset 16x2 45 mm"},null,{"$f":"IF(C36=\"\",\"\",C36)","v":""},"Pas",0,0.05,0.1,0.15,45,{"$f":"IF(BQ11=\"\",\"\",MAX(BP$9:BP10)+1)","v":""},{"$f":"IF(Room!C47=\"\",\"\",Room!C47)","v":""},{"$f":"IF(Room!D47=\"\",\"\",Room!D47)","v":""},{"$f":"IF(Room!AV47=\"\",\"\",Room!AV47)","v":""},{"$f":"IF(Room!AW47=\"\",\"\",Room!AW47)","v":""},null,null,2,{"$f":"IF(BW11>BP$44,\"\",VLOOKUP(BW11,BP11:BQ42,2,FALSE))","v":""},null,null,{"$f":"IF(C11=\"\",\"\",F11)","v":""},{"$f":"IF(C11=\"\",\"\",H11)","v":""},{"$f":"IF(C11=\"\",\"\",I11)","v":""},{"$f":"IF(C11=\"\",\"\",J11)","v":""},null,{"$f":"IF(AB11=TRUE,AD11/AL11,\"\")","v":""},{"$f":"IF(AB11<>TRUE,\"\",CK11)","v":""},{"$f":"IF(AB11<>TRUE,\"\",IF(CJ11=0,0,CJ11*AN11/(AN11+AO11)))","v":""},{"$f":"IF(AB11<>TRUE,\"\",IF(CJ11=0,0,CJ11*AO11/(AN11+AO11)))","v":""},{"$f":"IF(AB11<>TRUE,\"\",IF(AND(CF11>=95,I11>=2),95*(AN11+AO11),CF11*(AN11+AO11)))","v":""},{"$f":"IF(AB11<>TRUE,\"\",AD11-CJ11)","v":""}]
[null,2,{"$f":"IF(Room!I18=\"FH\",Room!C18,\"\")","v":""},{"$f":"IF(Room!I18=\"FH\",'Heat load'!G10,\"\")","v":""},{"$f":"IF(Room!I18=\"FH\",Room!E18,\"\")","v":""},null,{"$f":"IF(OR(D12=\"\",F12=\"\"),\"\",MAX(0,(D12-J12)/F12))","v":""},null,null,null,null,null,null,null,null,null,null,null,null,null,null,null,null,null,null,null,null,{"$f":"IF(C12=\"\",\"\",ISERROR(MATCH(C12,CB$11:CB$30,0)))","v":""},{"$f":"IF(OR(C12=\"\",H12=\"\"),\"\",VLOOKUP(H12,C$11:D$30,2,FALSE))","v":""},{"$f":"IF(OR(C12=\"\",AB12=FALSE),\"\",IF(H12=\"\",MAX(0,D12-J12),MAX(0,D12-J12+AC12)))","v":""},"","","",{"$f":"IF(AB12=TRUE,IF(AK12=\"\",F12/I12,(F12+AK12)/I12),\"\")","v":""},"",{"$f":"IF(Room!I18=\"FH\",Room!D18,\"\")","v":""},{"$f":"IF(H12=\"\",\"\",VLOOKUP(H12,C$11:F$30,4,FALSE))","v":""},{"$f":"IF(AB12=TRUE,IF(AK12=\"\",F12,(F12+AK12)),\"\")","v":""},{"$f":"IF(OR(AB12<>TRUE,I12=\"\"),\"\",IF(I12=1,AL12,IF(K12=\"\",AH12,MIN(L12,AL12))))","v":""},{"$f":"IF(OR(AB12<>TRUE,I12=\"\"),\"\",IF(I12<=2,AL12-AM12,IF(K12=\"\",AH12,MIN(M12,AL12-AM12))))","v":""},{"$f":"IF(OR(AB12<>TRUE,I12=\"\"),\"\",AL12-AM12-AN12)","v":""},{"$f":"IF(AQ12=\"\",\"\",MAX(AP$9:AP11)+1)","v":""},"",2,{"$f":"IF(AR12>AP$33,\"\",VLOOKUP(AR12,AP$11:AQ$30,2,FALSE))","v":""},null,{"$f":"IF(AV12=\"\",\"\",MAX(AU$9:AU11)+1)","v":""},{"$f":"INDIRECT(\"AF\"&AZ12)","v":""},{"$f":"IF(AV12=\"\",\"\",INDIRECT(\"AN\"&AZ12))","v":""},{"$f":"IF(AV12=\"\",\"\",INDIRECT(\"CH\"&AZ12))","v":""},{"$f":"IF(AV12=\"\",\"\",INDIRECT(\"Aj\"&AZ12))","v":""},{"$f":"AZ11","v":11},2,"","","",{"$f":"IF(BA12>AU$72,\"\",VLOOKUP(BA12,AU$11:AY$70,5,FALSE))","v":""},2,{"$f":"IF('Floor Syst'!C15=\"\",\"\",'Floor Syst'!C15)","v":"Begetube 16/2"},null,{"$f":"MATCH(BI11,'Floor Syst'!C9:C68,0)+8","v":{"$error":"#N/A"}},{"$f":"INDIRECT(\"'Floor Syst'!D\"&$BI12)","v":{"$error":"#N/A"}},{"$f":"INDIRECT(\"'Floor Syst'!E\"&$BI12)","v":{"$error":"#N/A"}},{"$f":"INDIRECT(\"'Floor Syst'!F\"&$BI12)","v":{"$error":"#N/A"}},{"$f":"INDIRECT(\"'Floor Syst'!G\"&$BI12)","v":{"$error":"#N/A"}},{"$f":"INDIRECT(\"'Floor Syst'!H\"&$BI12)","v":{"$error":"#N/A"}},44,{"$f":"IF(BQ12=\"\",\"\",MAX(BP$9:BP11)+1)","v":""},{"$f":"IF(Room!C52=\"\",\"\",Room!C52)","v":""},{"$f":"IF(Room!D52=\"\",\"\",Room!D52)","v":""},null,null,null,null,3,"",null,null,{"$f":"IF(C12=\"\",\"\",F12)","v":""},{"$f":"IF(C12=\"\",\"\",H12)","v":""},{"$f":"IF(C12=\"\",\"\",I12)","v":""},{"$f":"IF(C12=\"\",\"\",J12)","v":""},null,{"$f":"IF(AB12=TRUE,AD12/AL12,\"\")","v":""},{"$f":"IF(AB12<>TRUE,\"\",CK12)","v":""},{"$f":"IF(AB12<>TRUE,\"\",IF(CJ12=0,0,CJ12*AN12/(AN12+AO12)))","v":""},{"$f":"IF(AB12<>TRUE,\"\",IF(CJ12=0,0,CJ12*AO12/(AN12+AO12)))","v":""},{"$f":"IF(AB12<>TRUE,\"\",IF(AND(CF12>=95,I12>=2),95*(AN12+AO12),CF12*(AN12+AO12)))","v":""},{"$f":"IF(AB12<>TRUE,\"\",AD12-CJ12)","v":""}]
[null,3,{"$f":"IF(Room!I19=\"FH\",Room!C19,\"\")","v":""},{"$f":"IF(Room!I19=\"FH\",'Heat load'!G11,\"\")","v":""},{"$f":"IF(Room!I19=\"FH\",Room!E19,\"\")","v":""},null,"",null,null,null,null,null,null,null,null,null,null,null,null,null,null,null,null,null,null,null,null,"","","","","","","","",{"$f":"IF(Room!I19=\"FH\",Room!D19,\"\")","v":""},"","","","","",{"$f":"IF(AQ13=\"\",\"\",MAX(AP$9:AP12)+1)","v":""},"",3,"",null,{"$f":"IF(AV13=\"\",\"\",MAX(AU$9:AU12)+1)","v":""},{"$f":"INDIRECT(\"AG\"&AZ13)","v":""},{"$f":"IF(AV13=\"\",\"\",INDIRECT(\"AO\"&AZ13))","v":""},{"$f":"IF(AV13=\"\",\"\",INDIRECT(\"CI\"&AZ13))","v":""},{"$f":"IF(AV13=\"\",\"\",INDIRECT(\"Aj\"&AZ13))","v":""},{"$f":"AZ11","v":11},3,"","","","",3,{"$f":"IF('Floor Syst'!C21=\"\",\"\",'Floor Syst'!C21)","v":"Rolljet & Clickjet"},null,{"$f":"BI12+1","v":{"$error":"#N/A"}},{"$f":"INDIRECT(\"'Floor Syst'!D\"&$BI13)","v":{"$error":"#N/A"}},{"$f":"INDIRECT(\"'Floor Syst'!E\"&$BI13)","v":{"$error":"#N/A"}},{"$f":"INDIRECT(\"'Floor Syst'!F\"&$BI13)","v":{"$error":"#N/A"}},{"$f":"INDIRECT(\"'Floor Syst'!G\"&$BI13)","v":{"$error":"#N/A"}},{"$f":"INDIRECT(\"'Floor Syst'!H\"&$BI13)","v":{"$error":"#N/A"}},43,{"$f":"IF(BQ13=\"\",\"\",MAX(BP$9:BP12)+1)","v":""},{"$f":"IF(Room!C53=\"\",\"\",Room!C53)","v":""},{"$f":"IF(Room!D53=\"\",\"\",Room!D53)","v":""},null,null,null,null,4,"",null,null,"","","","",null,{"$f":"IF(AB13=TRUE,AD13/AL13,\"\")","v":""},"","","","",""]
[null,4,{"$f":"IF(Room!I20=\"FH\",Room!C20,\"\")","v":""},{"$f":"IF(Room!I20=\"FH\",'Heat load'!G12,\"\")","v":""},{"$f":"IF(Room!I20=\"FH\",Room!E20,\"\")","v":""},null,"",null,null,null,null,null,null,null,null,null,null,null,null,null,null,null,null,null,null,null,null,"","","","","","","","",{"$f":"IF(Room!I20=\"FH\",Room!D20,\"\")","v":""},"","","","","",{"$f":"IF(AQ14=\"\",\"\",MAX(AP$9:AP13)+1)","v":""},"",4,"",null,{"$f":"IF(AV14=\"\",\"\",MAX(AU$9:AU13)+1)","v":""},{"$f":"INDIRECT(\"AE\"&AZ14)","v":""},{"$f":"IF(AV14=\"\",\"\",INDIRECT(\"AM\"&AZ14))","v":""},{"$f":"IF(AV14=\"\",\"\",INDIRECT(\"CG\"&AZ14))","v":""},{"$f":"IF(AV14=\"\",\"\",INDIRECT(\"Aj\"&AZ14))","v":""},{"$f":"AZ11+1","v":12},4,"","","","",4,{"$f":"IF('Floor Syst'!C27=\"\",\"\",'Floor Syst'!C27)","v":""},null,{"$f":"BI13+1","v":{"$error":"#N/A"}},{"$f":"INDIRECT(\"'Floor Syst'!D\"&$BI14)","v":{"$error":"#N/A"}},{"$f":"INDIRECT(\"'Floor Syst'!E\"&$BI14)","v":{"$error":"#N/A"}},{"$f":"INDIRECT(\"'Floor Syst'!F\"&$BI14)","v":{"$error":"#N/A"}},{"$f":"INDIRECT(\"'Floor Syst'!G\"&$BI14)","v":{"$error":"#N/A"}},{"$f":"INDIRECT(\"'Floor Syst'!H\"&$BI14)","v":{"$error":"#N/A"}},42,{"$f":"IF(BQ14=\"\",\"\",MAX(BP$9:BP13)+1)","v":""},{"$f":"IF(Room!C54=\"\",\"\",Room!C54)","v":""},{"$f":"IF(Room!D54=\"\",\"\",Room!D54)","v":""},null,null,null,null,5,"",null,null,"","","","",null,"","","","","",""]
[null,5,{"$f":"IF(Room!I21=\"FH\",Room!C21,\"\")","v":""},{"$f":"IF(Room!I21=\"FH\",'Heat load'!G13,\"\")","v":""},{"$f":"IF(Room!I21=\"FH\",Room!E21,\"\")","v":""},null,"",null,null,null,null,null,null,null,null,null,null,null,null,null,null,null,null,null,null,null,null,"","","","","","","","",{"$f":"IF(Room!I21=\"FH\",Room!D21,\"\")","v":""},"","","","","",{"$f":"IF(AQ15=\"\",\"\",MAX(AP$9:AP14)+1)","v":""},"",5,"",null,{"$f":"IF(AV15=\"\",\"\",MAX(AU$9:AU14)+1)","v":""},{"$f":"INDIRECT(\"AF\"&AZ15)","v":""},{"$f":"IF(AV15=\"\",\"\",INDIRECT(\"AN\"&AZ15))","v":""},{"$f":"IF(AV15=\"\",\"\",INDIRECT(\"CH\"&AZ15))","v":""},{"$f":"IF(AV15=\"\",\"\",INDIRECT(\"Aj\"&AZ15))","v":""},12,5,"","","","",5,{"$f":"IF('Floor Syst'!C33=\"\",\"\",'Floor Syst'!C33)","v":""},null,{"$f":"BI14+1","v":{"$error":"#N/A"}},{"$f":"INDIRECT(\"'Floor Syst'!D\"&$BI15)","v":{"$error":"#N/A"}},{"$f":"INDIRECT(\"'Floor Syst'!E\"&$BI15)","v":{"$error":"#N/A"}},{"$f":"INDIRECT(\"'Floor Syst'!F\"&$BI15)","v":{"$error":"#N/A"}},{"$f":"INDIRECT(\"'Floor Syst'!G\"&$BI15)","v":{"$error":"#N/A"}},{"$f":"INDIRECT(\"'Floor Syst'!H\"&$BI15)","v":{"$error":"#N/A"}},41,{"$f":"IF(BQ15=\"\",\"\",MAX(BP$9:BP14)+1)","v":""},{"$f":"IF(Room!C55=\"\",\"\",Room!C55)","v":""},{"$f":"IF(Room!D55=\"\",\"\",Room!D55)","v":""},null,null,null,null,6,"",null,null,"","","","",null,"","","","","",""]
[null,6,{"$f":"IF(Room!I22=\"FH\",Room!C22,\"\")","v":""},{"$f":"IF(Room!I22=\"FH\",'Heat load'!G14,\"\")","v":""},{"$f":"IF(Room!I22=\"FH\",Room!E22,\"\")","v":""},null,"",null,null,null,null,null,null,null,null,null,null,null,null,null,null,null,null,null,null,null,null,"","","","","","","","",{"$f":"IF(Room!I22=\"FH\",Room!D22,\"\")","v":""},"","","","","",{"$f":"IF(AQ16=\"\",\"\",MAX(AP$9:AP15)+1)","v":""},"",6,"",null,{"$f":"IF(AV16=\"\",\"\",MAX(AU$9:AU15)+1)","v":""},{"$f":"INDIRECT(\"AG\"&AZ16)","v":""},{"$f":"IF(AV16=\"\",\"\",INDIRECT(\"AO\"&AZ16))","v":""},{"$f":"IF(AV16=\"\",\"\",INDIRECT(\"CI\"&AZ16))","v":""},{"$f":"IF(AV16=\"\",\"\",INDIRECT(\"Aj\"&AZ16))","v":""},12,6,"","","","",6,{"$f":"IF('Floor Syst'!C39=\"\",\"\",'Floor Syst'!C39)","v":""},null,{"$f":"BI15+1","v":{"$error":"#N/A"}},{"$f":"INDIRECT(\"'Floor Syst'!D\"&$BI16)","v":{"$error":"#N/A"}},{"$f":"INDIRECT(\"'Floor Syst'!E\"&$BI16)","v":{"$error":"#N/A"}},{"$f":"INDIRECT(\"'Floor Syst'!F\"&$BI16)","v":{"$error":"#N/A"}},{"$f":"INDIRECT(\"'Floor Syst'!G\"&$BI16)","v":{"$error":"#N/A"}},{"$f":"INDIRECT(\"'Floor Syst'!H\"&$BI16)","v":{"$error":"#N/A"}},40,{"$f":"IF(BQ16=\"\",\"\",MAX(BP$9:BP15)+1)","v":""},{"$f":"IF(Room!C56=\"\",\"\",Room!C56)","v":""},{"$f":"IF(Room!D56=\"\",\"\",Room!D56)","v":""},null,null,null,null,7,"",null,null,"","","","",null,"","","","","",""]
[null,7,{"$f":"IF(Room!I23=\"FH\",Room!C23,\"\")","v":""},{"$f":"IF(Room!I23=\"FH\",'Heat load'!G15,\"\")","v":""},{"$f":"IF(Room!I23=\"FH\",Room!E23,\"\")","v":""},null,"",null,null,null,null,null,null,null,null,null,null,null,null,null,null,null,null,null,null,null,null,"","","","","","","","",{"$f":"IF(Room!I23=\"FH\",Room!D23,\"\")","v":""},"","","","","",{"$f":"IF(AQ17=\"\",\"\",MAX(AP$9:AP16)+1)","v":""},"",7,"",null,{"$f":"IF(AV17=\"\",\"\",MAX(AU$9:AU16)+1)","v":""},{"$f":"INDIRECT(\"AE\"&AZ17)","v":""},{"$f":"IF(AV17=\"\",\"\",INDIRECT(\"AM\"&AZ17))","v":""},{"$f":"IF(AV17=\"\",\"\",INDIRECT(\"CG\"&AZ17))","v":""},{"$f":"IF(AV17=\"\",\"\",INDIRECT(\"Aj\"&AZ17))","v":""},13,7,"","","","",7,{"$f":"IF('Floor Syst'!C45=\"\",\"\",'Floor Syst'!C45)","v":""},null,{"$f":"BI16+1","v":{"$error":"#N/A"}},{"$f":"INDIRECT(\"'Floor Syst'!D\"&$BI17)","v":{"$error":"#N/A"}},{"$f":"INDIRECT(\"'Floor Syst'!E\"&$BI17)","v":{"$error":"#N/A"}},{"$f":"INDIRECT(\"'Floor Syst'!F\"&$BI17)","v":{"$error":"#N/A"}},{"$f":"INDIRECT(\"'Floor Syst'!G\"&$BI17)","v":{"$error":"#N/A"}},{"$f":"INDIRECT(\"'Floor Syst'!H\"&$BI17)","v":{"$error":"#N/A"}},39,{"$f":"IF(BQ17=\"\",\"\",MAX(BP$9:BP16)+1)","v":""},{"$f":"IF(Room!C61=\"\",\"\",Room!C61)","v":""},{"$f":"IF(Room!D61=\"\",\"\",Room!D61)","v":""},null,null,null,null,8,"",null,null,"","","","",null,"","","","","",""]
[null,8,{"$f":"IF(Room!I24=\"FH\",Room!C24,\"\")","v":""},{"$f":"IF(Room!I24=\"FH\",'Heat load'!G16,\"\")","v":""},{"$f":"IF(Room!I24=\"FH\",Room!E24,\"\")","v":""},null,"",null,null,null,null,null,null,null,null,null,null,null,null,null,null,null,null,null,null,null,null,"","","","","","","","",{"$f":"IF(Room!I24=\"FH\",Room!D24,\"\")","v":""},"","","","","",{"$f":"IF(AQ18=\"\",\"\",MAX(AP$9:AP17)+1)","v":""},"",8,"",null,{"$f":"IF(AV18=\"\",\"\",MAX(AU$9:AU17)+1)","v":""},{"$f":"INDIRECT(\"AF\"&AZ18)","v":""},{"$f":"IF(AV18=\"\",\"\",INDIRECT(\"AN\"&AZ18))","v":""},{"$f":"IF(AV18=\"\",\"\",INDIRECT(\"CH\"&AZ18))","v":""},{"$f":"IF(AV18=\"\",\"\",INDIRECT(\"Aj\"&AZ18))","v":""},13,8,"","","","",8,{"$f":"IF('Floor Syst'!C51=\"\",\"\",'Floor Syst'!C51)","v":""},null,null,null,null,null,null,null,38,{"$f":"IF(BQ18=\"\",\"\",MAX(BP$9:BP17)+1)","v":""},{"$f":"IF(Room!C62=\"\",\"\",Room!C62)","v":""},{"$f":"IF(Room!D62=\"\",\"\",Room!D62)","v":""},null,null,null,null,9,{"$f":"IF(BW18>BP$44,\"\",VLOOKUP(BW18,BP18:BQ48,2,FALSE))","v":""},null,null,"","","","",null,"","","","","",""]
[null,9,{"$f":"IF(Room!I25=\"FH\",Room!C25,\"\")","v":""},{"$f":"IF(Room!I25=\"FH\",'Heat load'!G17,\"\")","v":""},{"$f":"IF(Room!I25=\"FH\",Room!E25,\"\")","v":""},null,"",null,null,null,null,null,null,null,null,null,null,null,null,null,null,null,null,null,null,null,null,"","","","","","","","",{"$f":"IF(Room!I25=\"FH\",Room!D25,\"\")","v":""},"","","","","",{"$f":"IF(AQ19=\"\",\"\",MAX(AP$9:AP18)+1)","v":""},"",9,"",null,{"$f":"IF(AV19=\"\",\"\",MAX(AU$9:AU18)+1)","v":""},{"$f":"INDIRECT(\"AG\"&AZ19)","v":""},{"$f":"IF(AV19=\"\",\"\",INDIRECT(\"AO\"&AZ19))","v":""},{"$f":"IF(AV19=\"\",\"\",INDIRECT(\"CI\"&AZ19))","v":""},{"$f":"IF(AV19=\"\",\"\",INDIRECT(\"Aj\"&AZ19))","v":""},13,9,"","","","",9,{"$f":"IF('Floor Syst'!C57=\"\",\"\",'Floor Syst'!C57)","v":""},null,null,null,null,null,null,null,37,{"$f":"IF(BQ19=\"\",\"\",MAX(BP$9:BP18)+1)","v":""},{"$f":"IF(Room!C63=\"\",\"\",Room!C63)","v":""},{"$f":"IF(Room!D63=\"\",\"\",Room!D63)","v":""},null,null,null,null,10,{"$f":"IF(BW19>BP$44,\"\",VLOOKUP(BW19,BP19:BQ48,2,FALSE))","v":""},null,null,"","","","",null,"","","","","",""]
[null,10,{"$f":"IF(Room!I26=\"FH\",Room!C26,\"\")","v":""},{"$f":"IF(Room!I26=\"FH\",'Heat load'!G18,\"\")","v":""},{"$f":"IF(Room!I26=\"FH\",Room!E26,\"\")","v":""},null,"",null,null,null,null,null,null,null,null,null,null,null,null,null,null,null,null,null,null,null,null,"","","","","","","","",{"$f":"IF(Room!I26=\"FH\",Room!D26,\"\")","v":""},"","","","","",{"$f":"IF(AQ20=\"\",\"\",MAX(AP$9:AP19)+1)","v":""},"",10,"",null,{"$f":"IF(AV20=\"\",\"\",MAX(AU$9:AU19)+1)","v":""},{"$f":"INDIRECT(\"AE\"&AZ20)","v":""},{"$f":"IF(AV20=\"\",\"\",INDIRECT(\"AM\"&AZ20))","v":""},{"$f":"IF(AV20=\"\",\"\",INDIRECT(\"CG\"&AZ20))","v":""},{"$f":"IF(AV20=\"\",\"\",INDIRECT(\"Aj\"&AZ20))","v":""},14,10,"","","","",10,{"$f":"IF('Floor Syst'!C63=\"\",\"\",'Floor Syst'!C63)","v":""},null,null,null,null,null,null,null,36,{"$f":"IF(BQ20=\"\",\"\",MAX(BP$9:BP19)+1)","v":""},{"$f":"IF(Room!C64=\"\",\"\",Room!C64)","v":""},{"$f":"IF(Room!D64=\"\",\"\",Room!D64)","v":""},null,null,null,null,11,{"$f":"IF(BW20>BP$44,\"\",VLOOKUP(BW20,BP20:BQ48,2,FALSE))","v":""},null,null,"","","","",null,"","","","","",""]
[null,11,{"$f":"IF(Room!I27=\"FH\",Room!C27,\"\")","v":""},{"$f":"IF(Room!I27=\"FH\",'Heat load'!G19,\"\")","v":""},{"$f":"IF(Room!I27=\"FH\",Room!E27,\"\")","v":""},null,"",null,null,null,null,null,null,null,null,null,null,null,null,null,null,null,null,null,null,null,null,"","","","","","","","",{"$f":"IF(Room!I27=\"FH\",Room!D27,\"\")","v":""},"","","","","",{"$f":"IF(AQ21=\"\",\"\",MAX(AP$9:AP20)+1)","v":""},"",11,"",null,{"$f":"IF(AV21=\"\",\"\",MAX(AU$9:AU20)+1)","v":""},{"$f":"INDIRECT(\"AF\"&AZ21)","v":""},{"$f":"IF(AV21=\"\",\"\",INDIRECT(\"AN\"&AZ21))","v":""},{"$f":"IF(AV21=\"\",\"\",INDIRECT(\"CH\"&AZ21))","v":""},{"$f":"IF(AV21=\"\",\"\",INDIRECT(\"Aj\"&AZ21))","v":""},14,11,"","","","",null,null,null,null,null,null,null,null,null,35,{"$f":"IF(BQ21=\"\",\"\",MAX(BP$9:BP20)+1)","v":""},{"$f":"IF(Room!C65=\"\",\"\",Room!C65)","v":""},{"$f":"IF(Room!D65=\"\",\"\",Room!D65)","v":""},null,null,null,null,12,{"$f":"IF(BW21>BP$44,\"\",VLOOKUP(BW21,BP21:BQ48,2,FALSE))","v":""},null,null,"","","","",null,"","","","","",""]
[null,12,{"$f":"IF(Room!I28=\"FH\",Room!C28,\"\")","v":""},{"$f":"IF(Room!I28=\"FH\",'Heat load'!G20,\"\")","v":""},{"$f":"IF(Room!I28=\"FH\",Room!E28,\"\")","v":""},null,"",null,null,null,null,null,null,null,null,null,null,null,null,null,null,null,null,null,null,null,null,"","","","","","","","",{"$f":"IF(Room!I28=\"FH\",Room!D28,\"\")","v":""},"","","","","",{"$f":"IF(AQ22=\"\",\"\",MAX(AP$9:AP21)+1)","v":""},"",12,"",null,{"$f":"IF(AV22=\"\",\"\",MAX(AU$9:AU21)+1)","v":""},{"$f":"INDIRECT(\"AG\"&AZ22)","v":""},{"$f":"IF(AV22=\"\",\"\",INDIRECT(\"AO\"&AZ22))","v":""},{"$f":"IF(AV22=\"\",\"\",INDIRECT(\"CI\"&AZ22))","v":""},{"$f":"IF(AV22=\"\",\"\",INDIRECT(\"Aj\"&AZ22))","v":""},14,12,"","","","",null,"Résistances possibles",null,null,null,null,null,null,null,34,{"$f":"IF(BQ22=\"\",\"\",MAX(BP$9:BP21)+1)","v":""},{"$f":"IF(Room!C17=\"\",\"\",Room!C17)","v":""},{"$f":"IF(Room!D17=\"\",\"\",Room!D17)","v":""},null,null,null,null,13,{"$f":"IF(BW22>BP$44,\"\",VLOOKUP(BW22,BP22:BQ48,2,FALSE))","v":""},null,null,"","","","",null,"","","","","",""]
[null,13,{"$f":"IF(Room!I29=\"FH\",Room!C29,\"\")","v":""},{"$f":"IF(Room!I29=\"FH\",'Heat load'!G21,\"\")","v":""},{"$f":"IF(Room!I29=\"FH\",Room!E29,\"\")","v":""},null,"",null,null,null,null,null,null,null,null,null,null,null,null,null,null,null,null,null,null,null,null,"","","","","","","","",{"$f":"IF(Room!I29=\"FH\",Room!D29,\"\")","v":""},"","","","","",{"$f":"IF(AQ23=\"\",\"\",MAX(AP$9:AP22)+1)","v":""},"",13,"",null,{"$f":"IF(AV23=\"\",\"\",MAX(AU$9:AU22)+1)","v":""},{"$f":"INDIRECT(\"AE\"&AZ23)","v":""},{"$f":"IF(AV23=\"\",\"\",INDIRECT(\"AM\"&AZ23))","v":""},{"$f":"IF(AV23=\"\",\"\",INDIRECT(\"CG\"&AZ23))","v":""},{"$f":"IF(AV23=\"\",\"\",INDIRECT(\"Aj\"&AZ23))","v":""},15,13,"","","","",null,0,null,null,null,null,null,null,null,33,{"$f":"IF(BQ23=\"\",\"\",MAX(BP$9:BP22)+1)","v":""},{"$f":"IF(Room!C18=\"\",\"\",Room!C18)","v":""},{"$f":"IF(Room!D18=\"\",\"\",Room!D18)","v":""},null,null,null,null,14,{"$f":"IF(BW23>BP$44,\"\",VLOOKUP(BW23,BP23:BQ48,2,FALSE))","v":""},null,null,"","","","",null,"","","","","",""]
[null,14,{"$f":"IF(Room!I30=\"FH\",Room!C30,\"\")","v":""},{"$f":"IF(Room!I30=\"FH\",'Heat load'!G22,\"\")","v":""},{"$f":"IF(Room!I30=\"FH\",Room!E30,\"\")","v":""},null,"",null,null,null,null,null,null,null,null,null,null,null,null,null,null,null,null,null,null,null,null,"","","","","","","","",{"$f":"IF(Room!I30=\"FH\",Room!D30,\"\")","v":""},"","","","","",{"$f":"IF(AQ24=\"\",\"\",MAX(AP$9:AP23)+1)","v":""},"",14,"",null,{"$f":"IF(AV24=\"\",\"\",MAX(AU$9:AU23)+1)","v":""},{"$f":"INDIRECT(\"AF\"&AZ24)","v":""},{"$f":"IF(AV24=\"\",\"\",INDIRECT(\"AN\"&AZ24))","v":""},{"$f":"IF(AV24=\"\",\"\",INDIRECT(\"CH\"&AZ24))","v":""},{"$f":"IF(AV24=\"\",\"\",INDIRECT(\"Aj\"&AZ24))","v":""},15,14,"","","","",null,0.05,null,null,null,null,null,null,null,32,{"$f":"IF(BQ24=\"\",\"\",MAX(BP$9:BP23)+1)","v":""},{"$f":"IF(Room!C19=\"\",\"\",Room!C19)","v":""},{"$f":"IF(Room!D19=\"\",\"\",Room!D19)","v":""},null,null,null,null,15,{"$f":"IF(BW24>BP$44,\"\",VLOOKUP(BW24,BP24:BQ48,2,FALSE))","v":""},null,null,"","","","",null,"","","","","",""]
[null,15,{"$f":"IF(Room!I31=\"FH\",Room!C31,\"\")","v":""},{"$f":"IF(Room!I31=\"FH\",'Heat load'!G23,\"\")","v":""},{"$f":"IF(Room!I31=\"FH\",Room!E31,\"\")","v":""},null,"",null,null,null,null,null,null,null,null,null,null,null,null,null,null,null,null,null,null,null,null,"","","","","","","","",{"$f":"IF(Room!I31=\"FH\",Room!D31,\"\")","v":""},"","","","","",{"$f":"IF(AQ25=\"\",\"\",MAX(AP$9:AP24)+1)","v":""},"",15,"",null,{"$f":"IF(AV25=\"\",\"\",MAX(AU$9:AU24)+1)","v":""},{"$f":"INDIRECT(\"AG\"&AZ25)","v":""},{"$f":"IF(AV25=\"\",\"\",INDIRECT(\"AO\"&AZ25))","v":""},{"$f":"IF(AV25=\"\",\"\",INDIRECT(\"CI\"&AZ25))","v":""},{"$f":"IF(AV25=\"\",\"\",INDIRECT(\"Aj\"&AZ25))","v":""},15,15,"","","","",null,0.1,null,null,null,null,null,null,null,31,{"$f":"IF(BQ25=\"\",\"\",MAX(BP$9:BP24)+1)","v":""},{"$f":"IF(Room!C20=\"\",\"\",Room!C20)","v":""},{"$f":"IF(Room!D20=\"\",\"\",Room!D20)","v":""},null,null,null,null,16,{"$f":"IF(BW25>BP$44,\"\",VLOOKUP(BW25,BP25:BQ48,2,FALSE))","v":""},null,null,"","","","",null,"","","","","",""]
[null,16,{"$f":"IF(Room!I32=\"FH\",Room!C32,\"\")","v":""},{"$f":"IF(Room!I32=\"FH\",'Heat load'!G24,\"\")","v":""},{"$f":"IF(Room!I32=\"FH\",Room!E32,\"\")","v":""},null,"",null,null,null,null,null,null,null,null,null,null,null,null,null,null,null,null,null,null,null,null,"","","","","","","","",{"$f":"IF(Room!I32=\"FH\",Room!D32,\"\")","v":""},"","","","","",{"$f":"IF(AQ26=\"\",\"\",MAX(AP$9:AP25)+1)","v":""},"",16,"",null,{"$f":"IF(AV26=\"\",\"\",MAX(AU$9:AU25)+1)","v":""},{"$f":"INDIRECT(\"AE\"&AZ26)","v":""},{"$f":"IF(AV26=\"\",\"\",INDIRECT(\"AM\"&AZ26))","v":""},{"$f":"IF(AV26=\"\",\"\",INDIRECT(\"CG\"&AZ26))","v":""},{"$f":"IF(AV26=\"\",\"\",INDIRECT(\"Aj\"&AZ26))","v":""},16,16,"","","","",null,0.15,null,null,null,null,null,null,null,30,{"$f":"IF(BQ26=\"\",\"\",MAX(BP$9:BP25)+1)","v":""},{"$f":"IF(Room!C21=\"\",\"\",Room!C21)","v":""},{"$f":"IF(Room!D21=\"\",\"\",Room!D21)","v":""},null,null,null,null,17,{"$f":"IF(BW26>BP$44,\"\",VLOOKUP(BW26,BP26:BQ48,2,FALSE))","v":""},null,null,"","","","",null,"","","","","",""]
[null,17,{"$f":"IF(Room!I33=\"FH\",Room!C33,\"\")","v":""},{"$f":"IF(Room!I33=\"FH\",'Heat load'!G25,\"\")","v":""},{"$f":"IF(Room!I33=\"FH\",Room!E33,\"\")","v":""},null,"",null,null,null,null,null,null,null,null,null,null,null,null,null,null,null,null,null,null,null,null,"","","","","","","","",{"$f":"IF(Room!I33=\"FH\",Room!D33,\"\")","v":""},"","","","","",{"$f":"IF(AQ27=\"\",\"\",MAX(AP$9:AP26)+1)","v":""},"",17,"",null,{"$f":"IF(AV27=\"\",\"\",MAX(AU$9:AU26)+1)","v":""},{"$f":"INDIRECT(\"AF\"&AZ27)","v":""},{"$f":"IF(AV27=\"\",\"\",INDIRECT(\"AN\"&AZ27))","v":""},{"$f":"IF(AV27=\"\",\"\",INDIRECT(\"CH\"&AZ27))","v":""},{"$f":"IF(AV27=\"\",\"\",INDIRECT(\"Aj\"&AZ27))","v":""},16,17,"","","","",null,null,null,null,null,null,null,null,null,null,{"$f":"IF(BQ27=\"\",\"\",MAX(BP$9:BP26)+1)","v":""},{"$f":"IF(Room!C22=\"\",\"\",Room!C22)","v":""},{"$f":"IF(Room!D22=\"\",\"\",Room!D22)","v":""},null,null,null,null,18,"",null,null,"","","","",null,"","","","","",""]
[null,18,{"$f":"IF(Room!I34=\"FH\",Room!C34,\"\")","v":""},{"$f":"IF(Room!I34=\"FH\",'Heat load'!G26,\"\")","v":""},{"$f":"IF(Room!I34=\"FH\",Room!E34,\"\")","v":""},null,"",null,null,null,null,null,null,null,null,null,null,null,null,null,null,null,null,null,null,null,null,"","","","","","","","",{"$f":"IF(Room!I34=\"FH\",Room!D34,\"\")","v":""},"","","","","",{"$f":"IF(AQ28=\"\",\"\",MAX(AP$9:AP27)+1)","v":""},"",18,"",null,{"$f":"IF(AV28=\"\",\"\",MAX(AU$9:AU27)+1)","v":""},{"$f":"INDIRECT(\"AG\"&AZ28)","v":""},{"$f":"IF(AV28=\"\",\"\",INDIRECT(\"AO\"&AZ28))","v":""},{"$f":"IF(AV28=\"\",\"\",INDIRECT(\"CI\"&AZ28))","v":""},{"$f":"IF(AV28=\"\",\"\",INDIRECT(\"Aj\"&AZ28))","v":""},16,18,"","","","",null,null,null,null,null,null,null,null,null,null,{"$f":"IF(BQ28=\"\",\"\",MAX(BP$9:BP27)+1)","v":""},{"$f":"IF(Room!C23=\"\",\"\",Room!C23)","v":""},{"$f":"IF(Room!D23=\"\",\"\",Room!D23)","v":""},null,null,null,null,19,"",null,null,"","","","",null,"","","","","",""]
[null,19,{"$f":"IF(Room!I35=\"FH\",Room!C35,\"\")","v":""},{"$f":"IF(Room!I35=\"FH\",'Heat load'!G27,\"\")","v":""},{"$f":"IF(Room!I35=\"FH\",Room!E35,\"\")","v":""},null,"",null,null,null,null,null,null,null,null,null,null,null,null,null,null,null,null,null,null,null,null,"","","","","","","","",{"$f":"IF(Room!I35=\"FH\",Room!D35,\"\")","v":""},"","","","","",{"$f":"IF(AQ29=\"\",\"\",MAX(AP$9:AP28)+1)","v":""},"",19,"",null,{"$f":"IF(AV29=\"\",\"\",MAX(AU$9:AU28)+1)","v":""},{"$f":"INDIRECT(\"AE\"&AZ29)","v":""},{"$f":"IF(AV29=\"\",\"\",INDIRECT(\"AM\"&AZ29))","v":""},{"$f":"IF(AV29=\"\",\"\",INDIRECT(\"CG\"&AZ29))","v":""},{"$f":"IF(AV29=\"\",\"\",INDIRECT(\"Aj\"&AZ29))","v":""},17,19,"","","","",null,null,null,null,null,null,null,null,null,null,{"$f":"IF(BQ29=\"\",\"\",MAX(BP$9:BP28)+1)","v":""},{"$f":"IF(Room!C24=\"\",\"\",Room!C24)","v":""},{"$f":"IF(Room!D24=\"\",\"\",Room!D24)","v":""},null,null,null,null,20,"",null,null,"","","","",null,"","","","","",""]
[null,20,{"$f":"IF(Room!I36=\"FH\",Room!C36,\"\")","v":""},{"$f":"IF(Room!I36=\"FH\",'Heat load'!G28,\"\")","v":""},{"$f":"IF(Room!I36=\"FH\",Room!E36,\"\")","v":""},null,"",null,null,null,null,null,null,null,null,null,null,null,null,null,null,null,null,null,null,null,null,"","","","","","","","",{"$f":"IF(Room!I36=\"FH\",Room!D36,\"\")","v":""},"","","","","",{"$f":"IF(AQ30=\"\",\"\",MAX(AP$9:AP29)+1)","v":""},"",20,"",null,{"$f":"IF(AV30=\"\",\"\",MAX(AU$9:AU29)+1)","v":""},{"$f":"INDIRECT(\"AF\"&AZ30)","v":""},{"$f":"IF(AV30=\"\",\"\",INDIRECT(\"AN\"&AZ30))","v":""},{"$f":"IF(AV30=\"\",\"\",INDIRECT(\"CH\"&AZ30))","v":""},{"$f":"IF(AV30=\"\",\"\",INDIRECT(\"Aj\"&AZ30))","v":""},17,20,"","","","",null,null,null,null,null,null,null,null,null,null,{"$f":"IF(BQ30=\"\",\"\",MAX(BP$9:BP29)+1)","v":""},{"$f":"IF(Room!C25=\"\",\"\",Room!C25)","v":""},{"$f":"IF(Room!D25=\"\",\"\",Room!D25)","v":""},null,null,null,null,21,"",null,null,"","","","",null,"","","","","",""]
[null,null,null,{"$f":"Langage!A14","v":"Total"},{"$f":"SUM(E11:E30)","v":0},{"$f":"CA31","v":0},null,null,{"$f":"CC31","v":0},{"$f":"CD31","v":0},null,null,null,null,null,null,null,null,null,null,null,null,null,null,null,null,null,null,null,null,null,null,null,null,null,null,null,null,null,null,null,null,null,null,null,null,{"$f":"IF(AV31=\"\",\"\",MAX(AU$9:AU30)+1)","v":""},{"$f":"INDIRECT(\"AG\"&AZ31)","v":""},{"$f":"IF(AV31=\"\",\"\",INDIRECT(\"AO\"&AZ31))","v":""},{"$f":"IF(AV31=\"\",\"\",INDIRECT(\"CI\"&AZ31))","v":""},{"$f":"IF(AV31=\"\",\"\",INDIRECT(\"Aj\"&AZ31))","v":""},17,21,"","","","",null,null,null,null,null,null,null,null,null,null,{"$f":"IF(BQ31=\"\",\"\",MAX(BP$9:BP30)+1)","v":""},{"$f":"IF(Room!C26=\"\",\"\",Room!C26)","v":""},{"$f":"IF(Room!D26=\"\",\"\",Room!D26)","v":""},null,null,null,null,22,"",null,null,{"$f":"SUM(CA11:CA30)","v":0},null,{"$f":"SUM(CC11:CC30)","v":0},{"$f":"SUM(CD11:CD30)","v":0}]
[null,null,null,null,null,null,null,null,null,null,null,null,null,null,null,null,null,null,null,null,null,null,null,null,null,null,null,null,null,null,null,null,null,null,null,null,null,null,null,null,null,null,null,null,null,null,{"$f":"IF(AV32=\"\",\"\",MAX(AU$9:AU31)+1)","v":""},{"$f":"INDIRECT(\"AE\"&AZ32)","v":""},{"$f":"IF(AV32=\"\",\"\",INDIRECT(\"AM\"&AZ32))","v":""},{"$f":"IF(AV32=\"\",\"\",INDIRECT(\"CG\"&AZ32))","v":""},{"$f":"IF(AV32=\"\",\"\",INDIRECT(\"Aj\"&AZ32))","v":""},18,22,"","","","",null,null,null,null,null,null,null,null,null,null,{"$f":"IF(BQ32=\"\",\"\",MAX(BP$9:BP31)+1)","v":""},{"$f":"IF(Room!C27=\"\",\"\",Room!C27)","v":""},{"$f":"IF(Room!D27=\"\",\"\",Room!D27)","v":""},null,null,null,null,23,""]
[null,{"$f":"Langage!A116","v":"Systèmes de chauffage par le sol"},null,null,null,null,null,null,null,null,null,null,null,null,null,null,null,null,null,null,null,null,null,null,null,null,null,null,null,null,null,null,null,null,null,null,null,null,null,null,"Max",{"$f":"MAX(AP11:AP30)","v":0},null,null,null,null,{"$f":"IF(AV33=\"\",\"\",MAX(AU$9:AU32)+1)","v":""},{"$f":"INDIRECT(\"AF\"&AZ33)","v":""},{"$f":"IF(AV33=\"\",\"\",INDIRECT(\"AN\"&AZ33))","v":""},{"$f":"IF(AV33=\"\",\"\",INDIRECT(\"CH\"&AZ33))","v":""},{"$f":"IF(AV33=\"\",\"\",INDIRECT(\"Aj\"&AZ33))","v":""},18,23,"","","","",null,null,null,null,null,null,null,null,null,null,{"$f":"IF(BQ33=\"\",\"\",MAX(BP$9:BP32)+1)","v":""},{"$f":"IF(Room!C28=\"\",\"\",Room!C28)","v":""},{"$f":"IF(Room!D28=\"\",\"\",Room!D28)","v":""},null,null,null,null,24,""]
[null,null,null,null,null,null,null,null,null,null,null,null,null,null,null,null,null,null,null,null,null,null,null,null,null,null,null,null,null,null,null,null,null,null,null,null,null,null,null,null,null,null,null,null,null,null,{"$f":"IF(AV34=\"\",\"\",MAX(AU$9:AU33)+1)","v":""},{"$f":"INDIRECT(\"AG\"&AZ34)","v":""},{"$f":"IF(AV34=\"\",\"\",INDIRECT(\"AO\"&AZ34))","v":""},{"$f":"IF(AV34=\"\",\"\",INDIRECT(\"CI\"&AZ34))","v":""},{"$f":"IF(AV34=\"\",\"\",INDIRECT(\"Aj\"&AZ34))","v":""},18,24,"","","","",null,null,null,null,null,null,null,null,null,null,{"$f":"IF(BQ34=\"\",\"\",MAX(BP$9:BP33)+1)","v":""},{"$f":"IF(Room!C29=\"\",\"\",Room!C29)","v":""},{"$f":"IF(Room!D29=\"\",\"\",Room!D29)","v":""},null,null,null,null,25,""]
[null,null,{"$f":"Langage!A117","v":"Système"},null,null,null,null,{"$f":"Langage!A131","v":"Info revêtements de sol NL"},null,null,null,null,null,null,null,null,null,null,null,null,null,null,null,null,null,null,null,null,null,null,null,null,null,null,null,null,null,null,null,null,null,null,null,null,null,null,{"$f":"IF(AV35=\"\",\"\",MAX(AU$9:AU34)+1)","v":""},{"$f":"INDIRECT(\"AE\"&AZ35)","v":""},{"$f":"IF(AV35=\"\",\"\",INDIRECT(\"AM\"&AZ35))","v":""},{"$f":"IF(AV35=\"\",\"\",INDIRECT(\"CG\"&AZ35))","v":""},{"$f":"IF(AV35=\"\",\"\",INDIRECT(\"Aj\"&AZ35))","v":""},19,25,"","","","",null,null,null,null,null,null,null,null,null,null,{"$f":"IF(BQ35=\"\",\"\",MAX(BP$9:BP34)+1)","v":""},{"$f":"IF(Room!C30=\"\",\"\",Room!C30)","v":""},{"$f":"IF(Room!D30=\"\",\"\",Room!D30)","v":""},null,null,null,null,26,""]
[null,null,null,null,null,null,null,{"$f":"Langage!A130","v":"Info revêtements de sol FR"},null,null,null,null,null,null,null,null,null,null,null,null,null,null,null,null,null,null,null,null,null,null,null,null,null,null,null,null,null,null,null,null,null,null,null,null,null,null,{"$f":"IF(AV36=\"\",\"\",MAX(AU$9:AU35)+1)","v":""},{"$f":"INDIRECT(\"AF\"&AZ36)","v":""},{"$f":"IF(AV36=\"\",\"\",INDIRECT(\"AN\"&AZ36))","v":""},{"$f":"IF(AV36=\"\",\"\",INDIRECT(\"CH\"&AZ36))","v":""},{"$f":"IF(AV36=\"\",\"\",INDIRECT(\"Aj\"&AZ36))","v":""},{"$f":"AZ33+1","v":19},26,"","","","",null,null,null,null,null,null,null,null,null,null,{"$f":"IF(BQ36=\"\",\"\",MAX(BP$9:BP35)+1)","v":""},{"$f":"IF(Room!C31=\"\",\"\",Room!C31)","v":""},{"$f":"IF(Room!D31=\"\",\"\",Room!D31)","v":""},null,null,null,null,27,""]
[null,null,null,null,null,null,null,null,null,null,null,null,null,null,null,null,null,null,null,null,null,null,null,null,null,null,null,null,null,null,null,null,null,null,null,null,null,null,null,null,null,null,null,null,null,null,{"$f":"IF(AV37=\"\",\"\",MAX(AU$9:AU36)+1)","v":""},{"$f":"INDIRECT(\"AG\"&AZ37)","v":""},{"$f":"IF(AV37=\"\",\"\",INDIRECT(\"AO\"&AZ37))","v":""},{"$f":"IF(AV37=\"\",\"\",INDIRECT(\"CI\"&AZ37))","v":""},{"$f":"IF(AV37=\"\",\"\",INDIRECT(\"Aj\"&AZ37))","v":""},{"$f":"AZ34+1","v":19},27,"","","","",null,null,null,null,null,null,null,null,null,null,{"$f":"IF(BQ37=\"\",\"\",MAX(BP$9:BP36)+1)","v":""},{"$f":"IF(Room!C32=\"\",\"\",Room!C32)","v":""},{"$f":"IF(Room!D32=\"\",\"\",Room!D32)","v":""},null,null,null,null,28,""]
[null,{"$f":"Langage!A114","v":"Boucle de référence"},null,null,null,null,null,null,null,null,null,null,null,null,null,null,null,null,null,null,null,null,null,null,null,null,null,null,null,null,null,null,null,null,null,null,null,null,null,null,null,null,null,null,null,null,{"$f":"IF(AV38=\"\",\"\",MAX(AU$9:AU37)+1)","v":""},{"$f":"INDIRECT(\"AE\"&AZ38)","v":""},{"$f":"IF(AV38=\"\",\"\",INDIRECT(\"AM\"&AZ38))","v":""},{"$f":"IF(AV38=\"\",\"\",INDIRECT(\"CG\"&AZ38))","v":""},{"$f":"IF(AV38=\"\",\"\",INDIRECT(\"Aj\"&AZ38))","v":""},{"$f":"AZ35+1","v":20},28,"","","","",null,null,null,null,null,null,null,null,null,null,{"$f":"IF(BQ38=\"\",\"\",MAX(BP$9:BP37)+1)","v":""},{"$f":"IF(Room!C33=\"\",\"\",Room!C33)","v":""},{"$f":"IF(Room!D33=\"\",\"\",Room!D33)","v":""},null,null,null,null,29,""]
[null,null,null,null,null,null,null,null,null,null,null,null,null,null,null,null,null,null,null,null,null,null,null,null,null,null,null,null,null,null,null,null,null,null,null,null,null,null,null,null,null,null,null,null,null,null,{"$f":"IF(AV39=\"\",\"\",MAX(AU$9:AU38)+1)","v":""},{"$f":"INDIRECT(\"AF\"&AZ39)","v":""},{"$f":"IF(AV39=\"\",\"\",INDIRECT(\"AN\"&AZ39))","v":""},{"$f":"IF(AV39=\"\",\"\",INDIRECT(\"CH\"&AZ39))","v":""},{"$f":"IF(AV39=\"\",\"\",INDIRECT(\"Aj\"&AZ39))","v":""},{"$f":"AZ36+1","v":20},29,"","","","",null,null,null,null,null,null,null,null,null,null,{"$f":"IF(BQ39=\"\",\"\",MAX(BP$9:BP38)+1)","v":""},{"$f":"IF(Room!C34=\"\",\"\",Room!C34)","v":""},{"$f":"IF(Room!D34=\"\",\"\",Room!D34)","v":""},null,null,null,null,30,""]
[null,null,{"$f":"Langage!A113","v":"Nom de la boucle"},"AF","QN,f,high","qdes","qi","Rl,B","TA","DqH,des","σ","qV,des","qR,des",null,null,null,null,null,null,null,null,null,null,null,null,null,null,null,null,null,null,null,null,null,null,null,null,null,null,null,null,null,null,null,null,null,{"$f":"IF(AV40=\"\",\"\",MAX(AU$9:AU39)+1)","v":""},{"$f":"INDIRECT(\"AG\"&AZ40)","v":""},{"$f":"IF(AV40=\"\",\"\",INDIRECT(\"AO\"&AZ40))","v":""},{"$f":"IF(AV40=\"\",\"\",INDIRECT(\"CI\"&AZ40))","v":""},{"$f":"IF(AV40=\"\",\"\",INDIRECT(\"Aj\"&AZ40))","v":""},{"$f":"AZ37+1","v":20},30,"","","","",null,null,null,null,null,null,null,null,null,null,{"$f":"IF(BQ40=\"\",\"\",MAX(BP$9:BP39)+1)","v":""},{"$f":"IF(Room!C35=\"\",\"\",Room!C35)","v":""},{"$f":"IF(Room!D35=\"\",\"\",Room!D35)","v":""},null,null,null,null,31,""]
[null,null,null,"m²","W","W/m²","°C","(m²K)/W","cm","°C","°C","°C","°C",null,{"$f":"Langage!A139","v":"Info boucle de référence NL"},null,null,null,null,null,null,null,null,null,null,null,null,null,null,null,null,null,null,null,null,null,null,null,null,null,null,null,null,null,null,null,{"$f":"IF(AV41=\"\",\"\",MAX(AU$9:AU40)+1)","v":""},{"$f":"INDIRECT(\"AE\"&AZ41)","v":""},{"$f":"IF(AV41=\"\",\"\",INDIRECT(\"AM\"&AZ41))","v":""},{"$f":"IF(AV41=\"\",\"\",INDIRECT(\"CG\"&AZ41))","v":""},{"$f":"IF(AV41=\"\",\"\",INDIRECT(\"Aj\"&AZ41))","v":""},21,null,null,null,null,null,null,null,null,null,null,null,null,null,null,null,{"$f":"IF(BQ41=\"\",\"\",MAX(BP$9:BP40)+1)","v":""},{"$f":"IF(Room!C36=\"\",\"\",Room!C36)","v":""},{"$f":"IF(Room!D36=\"\",\"\",Room!D36)","v":""},null,null,null,null,32,""]
[null,null,null,{"$f":"IF(C42=\"\",\"\",VLOOKUP(C42,BB11:BD40,2,FALSE))","v":""},{"$f":"IF(C42=\"\",\"\",VLOOKUP(C42,BB11:BD40,3,FALSE))","v":""},{"$f":"IF(C42=\"\",\"\",E42/D42)","v":""},{"$f":"IF(C42=\"\",\"\",VLOOKUP(C42,BB11:BE40,4,FALSE))","v":""},null,null,{"$f":"IF(OR(C42=\"\",AF42=\"\"),\"\",F42/AF42)","v":{"$error":"#N/A"}},null,{"$f":"IF(C42=\"\",\"\",(G42-EXP(K42/J42)*(K42+G42))/(1-EXP(K42/J42)))","v":""},{"$f":"IF(C42=\"\",\"\",L42-K42)","v":""},null,{"$f":"Langage!A138","v":"Info boucle de référence FR"},null,null,null,null,null,null,null,null,null,null,null,null,null,null,null,null,{"$f":"VLOOKUP(I42,BJ$11:BN$17,MATCH(H42,BJ$11:BN$11,0),0)","v":{"$error":"#N/A"}},null,null,null,null,null,null,null,null,null,null,null,null,null,null,{"$f":"IF(AV42=\"\",\"\",MAX(AU$9:AU41)+1)","v":""},{"$f":"INDIRECT(\"AF\"&AZ42)","v":""},{"$f":"IF(AV42=\"\",\"\",INDIRECT(\"AN\"&AZ42))","v":""},{"$f":"IF(AV42=\"\",\"\",INDIRECT(\"CH\"&AZ42))","v":""},{"$f":"IF(AV42=\"\",\"\",INDIRECT(\"Aj\"&AZ42))","v":""},21]
[null,null,null,null,null,null,null,null,null,null,null,null,null,null,null,null,null,null,null,null,null,null,null,null,null,null,null,null,null,null,null,null,null,null,null,null,null,null,null,null,null,null,null,null,null,null,{"$f":"IF(AV43=\"\",\"\",MAX(AU$9:AU42)+1)","v":""},{"$f":"INDIRECT(\"AG\"&AZ43)","v":""},{"$f":"IF(AV43=\"\",\"\",INDIRECT(\"AO\"&AZ43))","v":""},{"$f":"IF(AV43=\"\",\"\",INDIRECT(\"CI\"&AZ43))","v":""},{"$f":"IF(AV43=\"\",\"\",INDIRECT(\"Aj\"&AZ43))","v":""},21]
[null,{"$f":"Langage!A112","v":"Boucles"},null,null,null,null,null,null,null,null,null,null,null,null,null,null,null,null,null,null,null,null,null,null,null,null,null,null,null,null,null,null,null,null,null,null,null,null,null,null,null,null,null,null,null,null,{"$f":"IF(AV44=\"\",\"\",MAX(AU$9:AU43)+1)","v":""},{"$f":"INDIRECT(\"AE\"&AZ44)","v":""},{"$f":"IF(AV44=\"\",\"\",INDIRECT(\"AM\"&AZ44))","v":""},{"$f":"IF(AV44=\"\",\"\",INDIRECT(\"CG\"&AZ44))","v":""},{"$f":"IF(AV44=\"\",\"\",INDIRECT(\"Aj\"&AZ44))","v":""},22,null,null,null,null,null,null,null,null,null,null,null,null,null,null,null,{"$f":"MAX(BP10:BP41)","v":0}]
[null,null,null,null,null,null,null,null,null,null,null,null,null,null,null,null,null,null,null,null,null,null,null,null,null,null,null,null,null,null,null,null,null,null,null,null,null,null,null,null,null,null,null,null,null,null,{"$f":"IF(AV45=\"\",\"\",MAX(AU$9:AU44)+1)","v":""},{"$f":"INDIRECT(\"AF\"&AZ45)","v":""},{"$f":"IF(AV45=\"\",\"\",INDIRECT(\"AN\"&AZ45))","v":""},{"$f":"IF(AV45=\"\",\"\",INDIRECT(\"CH\"&AZ45))","v":""},{"$f":"IF(AV45=\"\",\"\",INDIRECT(\"Aj\"&AZ45))","v":""},22]
[null,null,{"$f":"Langage!A113","v":"Nom de la boucle"},"AF","Fdes","qdes","qi","Rl,B","TA","DqH,des","σ","qV,des","qR,des","L0","LR",{"$f":"Langage!A119","v":"Espace en dessous"},"qu","R0","Ru","qu","mH","mH","Fu",null,null,null,null,"Espace non chauffé dessous",null,null,null,null,"qR,des","qdes","σ","qR,des",null,null,null,null,null,null,null,null,null,null,{"$f":"IF(AV46=\"\",\"\",MAX(AU$9:AU45)+1)","v":""},{"$f":"INDIRECT(\"AG\"&AZ46)","v":""},{"$f":"IF(AV46=\"\",\"\",INDIRECT(\"AO\"&AZ46))","v":""},{"$f":"IF(AV46=\"\",\"\",INDIRECT(\"CI\"&AZ46))","v":""},{"$f":"IF(AV46=\"\",\"\",INDIRECT(\"Aj\"&AZ46))","v":""},{"$f":"AZ43+1","v":22}]
[null,null,null,"m²","W","W/m²","°C","(m²K)/W","cm","°C","°C","°C","°C","m","m",null,"°C","m²⋅K/W","m²⋅K/W","W/m²","kg/s","l/h","W",null,null,null,null,null,null,null,null,null,null,null,null,null,null,null,null,null,null,null,null,null,null,null,{"$f":"IF(AV47=\"\",\"\",MAX(AU$9:AU46)+1)","v":""},{"$f":"INDIRECT(\"AE\"&AZ47)","v":""},{"$f":"IF(AV47=\"\",\"\",INDIRECT(\"AM\"&AZ47))","v":""},{"$f":"IF(AV47=\"\",\"\",INDIRECT(\"CG\"&AZ47))","v":""},{"$f":"IF(AV47=\"\",\"\",INDIRECT(\"Aj\"&AZ47))","v":""},23]
[null,1,{"$f":"IF(BB11=\"\",\"\",BB11)","v":""},{"$f":"IF(BC11=\"\",\"\",BC11)","v":""},{"$f":"IF(BD11=\"\",\"\",BD11)","v":""},{"$f":"IF(C48=\"\",\"\",E48/D48)","v":""},{"$f":"IF(BE11=\"\",\"\",BE11)","v":""},null,null,{"$f":"IF(AF48=\"\",\"\",F48/AF48)","v":""},{"$f":"IF(M48=\"\",\"\",L48-M48)","v":""},null,{"$f":"IF(AG48=\"\",\"\",IF(AG48>G48,AG48,G48))","v":""},null,{"$f":"IF(N48=\"\",\"\",D48/(I48/100)+N48)","v":""},null,{"$f":"IF(P48=\"\",\"\",VLOOKUP(P48,BQ$10:BR$41,2,FALSE))","v":""},null,null,{"$f":"IF(OR(S48=\"\",NOT(AK48)),\"\",1/S48*(R48*F48+G48-Q48))","v":""},{"$f":"IF(T48=\"\",\"\",D48/K48/4190*(F48+T48))","v":""},{"$f":"IF(U48=\"\",\"\",U48*3600)","v":""},{"$f":"IF(T48=\"\",\"\",T48*D48)","v":""},null,null,null,null,{"$f":"IF(C48=\"\",\"\",ISERROR(MATCH(P48,BQ$22:BQ$41,0)))","v":""},{"$f":"IF(C48=\"\",\"\",IF(AB48=TRUE,W48,0))","v":""},null,null,{"$f":"IF(C48=\"\",\"\",VLOOKUP(I48,BJ$11:BN$17,MATCH(H48,BJ$11:BN$11,0),0))","v":""},{"$f":"IF(OR(C48=\"\",I48=\"\",J48=\"\"),\"\",(2*J48^(1/3)-(L48-G48)^(1/3))^3+G48)","v":""},{"$f":"IF(F48=\"\",\"\",F48>0)","v":""},{"$f":"IF(K48=\"\",\"\",K48>0)","v":""},{"$f":"IF(M48=\"\",\"\",M48>=G48)","v":""},{"$f":"AND(C48<>\"\",AH48,AI48,AJ48)","v":false},null,null,null,null,null,null,null,null,null,{"$f":"IF(AV48=\"\",\"\",MAX(AU$9:AU47)+1)","v":""},{"$f":"INDIRECT(\"AF\"&AZ48)","v":""},{"$f":"IF(AV48=\"\",\"\",INDIRECT(\"AN\"&AZ48))","v":""},{"$f":"IF(AV48=\"\",\"\",INDIRECT(\"CH\"&AZ48))","v":""},{"$f":"IF(AV48=\"\",\"\",INDIRECT(\"Aj\"&AZ48))","v":""},23]
[null,2,"","","",{"$f":"IF(C49=\"\",\"\",E49/D49)","v":""},"",null,null,"",{"$f":"IF(M49=\"\",\"\",L49-M49)","v":""},{"$f":"IF(C49=\"\",\"\",L$48)","v":""},{"$f":"IF(AG49=\"\",\"\",IF(AG49>G49,AG49,G49))","v":""},null,{"$f":"IF(N49=\"\",\"\",D49/(I49/100)+N49)","v":""},null,{"$f":"IF(P49=\"\",\"\",VLOOKUP(P49,BQ$10:BR$41,2,FALSE))","v":""},null,null,{"$f":"IF(OR(S49=\"\",NOT(AK49)),\"\",1/S49*(R49*F49+G49-Q49))","v":""},{"$f":"IF(T49=\"\",\"\",D49/K49/4190*(F49+T49))","v":""},{"$f":"IF(U49=\"\",\"\",U49*3600)","v":""},{"$f":"IF(T49=\"\",\"\",T49*D49)","v":""},null,null,null,null,"",{"$f":"IF(C49=\"\",\"\",IF(AB49=TRUE,W49,0))","v":""},null,null,{"$f":"IF(C49=\"\",\"\",VLOOKUP(I49,BJ$11:BN$17,MATCH(H49,BJ$11:BN$11,0),0))","v":""},{"$f":"IF(OR(C49=\"\",I49=\"\",J49=\"\"),\"\",(2*J49^(1/3)-(L49-G49)^(1/3))^3+G49)","v":""},{"$f":"IF(F49=\"\",\"\",F49>0)","v":""},{"$f":"IF(K49=\"\",\"\",K49>0)","v":""},{"$f":"IF(M49=\"\",\"\",M49>=G49)","v":""},{"$f":"AND(C49<>\"\",AH49,AI49,AJ49)","v":false},null,null,null,null,null,null,null,null,null,{"$f":"IF(AV49=\"\",\"\",MAX(AU$9:AU48)+1)","v":""},{"$f":"INDIRECT(\"AG\"&AZ49)","v":""},{"$f":"IF(AV49=\"\",\"\",INDIRECT(\"AO\"&AZ49))","v":""},{"$f":"IF(AV49=\"\",\"\",INDIRECT(\"CI\"&AZ49))","v":""},{"$f":"IF(AV49=\"\",\"\",INDIRECT(\"Aj\"&AZ49))","v":""},23]
[null,3,"","","","","",null,null,"","","","",null,"",null,"",null,null,"","","","",null,null,null,null,"","",null,null,"","","","","",false,null,null,null,null,null,null,null,null,null,{"$f":"IF(AV50=\"\",\"\",MAX(AU$9:AU49)+1)","v":""},{"$f":"INDIRECT(\"AE\"&AZ50)","v":""},{"$f":"IF(AV50=\"\",\"\",INDIRECT(\"AM\"&AZ50))","v":""},{"$f":"IF(AV50=\"\",\"\",INDIRECT(\"CG\"&AZ50))","v":""},{"$f":"IF(AV50=\"\",\"\",INDIRECT(\"Aj\"&AZ50))","v":""},24]
[null,4,"","","","","",null,null,"","","","",null,"",null,"",null,null,"","","","",null,null,null,null,"","",null,null,"","","","","",false,null,null,null,null,null,null,null,null,null,{"$f":"IF(AV51=\"\",\"\",MAX(AU$9:AU50)+1)","v":""},{"$f":"INDIRECT(\"AF\"&AZ51)","v":""},{"$f":"IF(AV51=\"\",\"\",INDIRECT(\"AN\"&AZ51))","v":""},{"$f":"IF(AV51=\"\",\"\",INDIRECT(\"CH\"&AZ51))","v":""},{"$f":"IF(AV51=\"\",\"\",INDIRECT(\"Aj\"&AZ51))","v":""},24]
[null,5,"","","","","",null,null,"","","","",null,"",null,"",null,null,"","","","",null,null,null,null,"","",null,null,"","","","","",false,null,null,null,null,null,null,null,null,null,{"$f":"IF(AV52=\"\",\"\",MAX(AU$9:AU51)+1)","v":""},{"$f":"INDIRECT(\"AG\"&AZ52)","v":""},{"$f":"IF(AV52=\"\",\"\",INDIRECT(\"AO\"&AZ52))","v":""},{"$f":"IF(AV52=\"\",\"\",INDIRECT(\"CI\"&AZ52))","v":""},{"$f":"IF(AV52=\"\",\"\",INDIRECT(\"Aj\"&AZ52))","v":""},24]
[null,6,"","","","","",null,null,"","","","",null,"",null,"",null,null,"","","","",null,null,null,null,"","",null,null,"","","","","",false,null,null,null,null,null,null,null,null,null,{"$f":"IF(AV53=\"\",\"\",MAX(AU$9:AU52)+1)","v":""},{"$f":"INDIRECT(\"AE\"&AZ53)","v":""},{"$f":"IF(AV53=\"\",\"\",INDIRECT(\"AM\"&AZ53))","v":""},{"$f":"IF(AV53=\"\",\"\",INDIRECT(\"CG\"&AZ53))","v":""},{"$f":"IF(AV53=\"\",\"\",INDIRECT(\"Aj\"&AZ53))","v":""},25]
[null,7,"","","","","",null,null,"","","","",null,"",null,"",null,null,"","","","",null,null,null,null,"","",null,null,"","","","","",false,null,null,null,null,null,null,null,null,null,{"$f":"IF(AV54=\"\",\"\",MAX(AU$9:AU53)+1)","v":""},{"$f":"INDIRECT(\"AF\"&AZ54)","v":""},{"$f":"IF(AV54=\"\",\"\",INDIRECT(\"AN\"&AZ54))","v":""},{"$f":"IF(AV54=\"\",\"\",INDIRECT(\"CH\"&AZ54))","v":""},{"$f":"IF(AV54=\"\",\"\",INDIRECT(\"Aj\"&AZ54))","v":""},25]
[null,8,"","","","","",null,null,"","","","",null,"",null,"",null,null,"",{"$f":"IF(T55=\"\",\"\",D55/K55/4190*(F55+T55))","v":""},"","",null,null,null,null,"","",null,null,"","","","","",false,null,null,null,null,null,null,null,null,null,{"$f":"IF(AV55=\"\",\"\",MAX(AU$9:AU54)+1)","v":""},{"$f":"INDIRECT(\"AG\"&AZ55)","v":""},{"$f":"IF(AV55=\"\",\"\",INDIRECT(\"AO\"&AZ55))","v":""},{"$f":"IF(AV55=\"\",\"\",INDIRECT(\"CI\"&AZ55))","v":""},{"$f":"IF(AV55=\"\",\"\",INDIRECT(\"Aj\"&AZ55))","v":""},25]
[null,9,"","","","","",null,null,"","","","",null,"",null,"",null,null,"","","","",null,null,null,null,"","",null,null,"","","","","",false,null,null,null,null,null,null,null,null,null,{"$f":"IF(AV56=\"\",\"\",MAX(AU$9:AU55)+1)","v":""},{"$f":"INDIRECT(\"AE\"&AZ56)","v":""},{"$f":"IF(AV56=\"\",\"\",INDIRECT(\"AM\"&AZ56))","v":""},{"$f":"IF(AV56=\"\",\"\",INDIRECT(\"CG\"&AZ56))","v":""},{"$f":"IF(AV56=\"\",\"\",INDIRECT(\"Aj\"&AZ56))","v":""},26]
[null,10,"","","","","",null,null,"","","","",null,"",null,"",null,null,"","","","",null,null,null,null,"","",null,null,"","","","","",false,null,null,null,null,null,null,null,null,null,{"$f":"IF(AV57=\"\",\"\",MAX(AU$9:AU56)+1)","v":""},{"$f":"INDIRECT(\"AF\"&AZ57)","v":""},{"$f":"IF(AV57=\"\",\"\",INDIRECT(\"AN\"&AZ57))","v":""},{"$f":"IF(AV57=\"\",\"\",INDIRECT(\"CH\"&AZ57))","v":""},{"$f":"IF(AV57=\"\",\"\",INDIRECT(\"Aj\"&AZ57))","v":""},26]
[null,11,"","","","","",null,null,{"$f":"IF(AF58=\"\",\"\",F58/AF58)","v":""},"","","",null,"",null,"",null,null,"","","","",null,null,null,null,"","",null,null,"","","","","",false,null,null,null,null,null,null,null,null,null,{"$f":"IF(AV58=\"\",\"\",MAX(AU$9:AU57)+1)","v":""},{"$f":"INDIRECT(\"AG\"&AZ58)","v":""},{"$f":"IF(AV58=\"\",\"\",INDIRECT(\"AO\"&AZ58))","v":""},{"$f":"IF(AV58=\"\",\"\",INDIRECT(\"CI\"&AZ58))","v":""},{"$f":"IF(AV58=\"\",\"\",INDIRECT(\"Aj\"&AZ58))","v":""},26]
[null,12,"","","","","",null,null,"","","","",null,"",null,"",null,null,"","","","",null,null,null,null,"","",null,null,"","","","","",false,null,null,null,null,null,null,null,null,null,{"$f":"IF(AV59=\"\",\"\",MAX(AU$9:AU58)+1)","v":""},{"$f":"INDIRECT(\"AE\"&AZ59)","v":""},{"$f":"IF(AV59=\"\",\"\",INDIRECT(\"AM\"&AZ59))","v":""},{"$f":"IF(AV59=\"\",\"\",INDIRECT(\"CG\"&AZ59))","v":""},{"$f":"IF(AV59=\"\",\"\",INDIRECT(\"Aj\"&AZ59))","v":""},27]
[null,13,"","","","","",null,null,"","","","",null,"",null,"",null,null,"","","","",null,null,null,null,"","",null,null,"","","","","",false,null,null,null,null,null,null,null,null,null,{"$f":"IF(AV60=\"\",\"\",MAX(AU$9:AU59)+1)","v":""},{"$f":"INDIRECT(\"AF\"&AZ60)","v":""},{"$f":"IF(AV60=\"\",\"\",INDIRECT(\"AN\"&AZ60))","v":""},{"$f":"IF(AV60=\"\",\"\",INDIRECT(\"CH\"&AZ60))","v":""},{"$f":"IF(AV60=\"\",\"\",INDIRECT(\"Aj\"&AZ60))","v":""},27]
[null,14,"","","","","",null,null,"","","","",null,"",null,"",null,null,"","","","",null,null,null,null,"","",null,null,"","","","","",false,null,null,null,null,null,null,null,null,null,{"$f":"IF(AV61=\"\",\"\",MAX(AU$9:AU60)+1)","v":""},{"$f":"INDIRECT(\"AG\"&AZ61)","v":""},{"$f":"IF(AV61=\"\",\"\",INDIRECT(\"AO\"&AZ61))","v":""},{"$f":"IF(AV61=\"\",\"\",INDIRECT(\"CI\"&AZ61))","v":""},{"$f":"IF(AV61=\"\",\"\",INDIRECT(\"Aj\"&AZ61))","v":""},27]
[null,15,"","","","","",null,null,"","","","",null,"",null,"",null,null,"","","","",null,null,null,null,"","",null,null,"","","","","",false,null,null,null,null,null,null,null,null,null,{"$f":"IF(AV62=\"\",\"\",MAX(AU$9:AU61)+1)","v":""},{"$f":"INDIRECT(\"AE\"&AZ62)","v":""},{"$f":"IF(AV62=\"\",\"\",INDIRECT(\"AM\"&AZ62))","v":""},{"$f":"IF(AV62=\"\",\"\",INDIRECT(\"CG\"&AZ62))","v":""},{"$f":"IF(AV62=\"\",\"\",INDIRECT(\"Aj\"&AZ62))","v":""},28]
[null,16,"","","","","",null,null,"","","","",null,"",null,"",null,null,"","","","",null,null,null,null,"","",null,null,"","","","","",false,null,null,null,null,null,null,null,null,null,{"$f":"IF(AV63=\"\",\"\",MAX(AU$9:AU62)+1)","v":""},{"$f":"INDIRECT(\"AF\"&AZ63)","v":""},{"$f":"IF(AV63=\"\",\"\",INDIRECT(\"AN\"&AZ63))","v":""},{"$f":"IF(AV63=\"\",\"\",INDIRECT(\"CH\"&AZ63))","v":""},{"$f":"IF(AV63=\"\",\"\",INDIRECT(\"Aj\"&AZ63))","v":""},28]
[null,17,"","","","","",null,null,"","","","",null,"",null,"",null,null,"","","","",null,null,null,null,"","",null,null,"","","","","",false,null,null,null,null,null,null,null,null,null,{"$f":"IF(AV64=\"\",\"\",MAX(AU$9:AU63)+1)","v":""},{"$f":"INDIRECT(\"AG\"&AZ64)","v":""},{"$f":"IF(AV64=\"\",\"\",INDIRECT(\"AO\"&AZ64))","v":""},{"$f":"IF(AV64=\"\",\"\",INDIRECT(\"CI\"&AZ64))","v":""},{"$f":"IF(AV64=\"\",\"\",INDIRECT(\"Aj\"&AZ64))","v":""},28]
[null,18,"","","","","",null,null,"","","","",null,"",null,"",null,null,"","","","",null,null,null,null,"","",null,null,"","","","","",false,null,null,null,null,null,null,null,null,null,{"$f":"IF(AV65=\"\",\"\",MAX(AU$9:AU64)+1)","v":""},{"$f":"INDIRECT(\"AE\"&AZ65)","v":""},{"$f":"IF(AV65=\"\",\"\",INDIRECT(\"AM\"&AZ65))","v":""},{"$f":"IF(AV65=\"\",\"\",INDIRECT(\"CG\"&AZ65))","v":""},{"$f":"IF(AV65=\"\",\"\",INDIRECT(\"Aj\"&AZ65))","v":""},29]
[null,19,"","","","","",null,null,"","","","",null,"",null,"",null,null,"","","","",null,null,null,null,"","",null,null,"","","","","",false,null,null,null,null,null,null,null,null,null,{"$f":"IF(AV66=\"\",\"\",MAX(AU$9:AU65)+1)","v":""},{"$f":"INDIRECT(\"AF\"&AZ66)","v":""},{"$f":"IF(AV66=\"\",\"\",INDIRECT(\"AN\"&AZ66))","v":""},{"$f":"IF(AV66=\"\",\"\",INDIRECT(\"CH\"&AZ66))","v":""},{"$f":"IF(AV66=\"\",\"\",INDIRECT(\"Aj\"&AZ66))","v":""},29]
[null,20,"","","","","",null,null,"","","","",null,"",null,"",null,null,"","","","",null,null,null,null,"","",null,null,"","","","","",false,null,null,null,null,null,null,null,null,null,{"$f":"IF(AV67=\"\",\"\",MAX(AU$9:AU66)+1)","v":""},{"$f":"INDIRECT(\"AG\"&AZ67)","v":""},{"$f":"IF(AV67=\"\",\"\",INDIRECT(\"AO\"&AZ67))","v":""},{"$f":"IF(AV67=\"\",\"\",INDIRECT(\"CI\"&AZ67))","v":""},{"$f":"IF(AV67=\"\",\"\",INDIRECT(\"Aj\"&AZ67))","v":""},29]
[null,21,"","","","","",null,null,"","","","",null,"",null,"",null,null,"","","","",null,null,null,null,"","",null,null,"","","","","",false,null,null,null,null,null,null,null,null,null,{"$f":"IF(AV68=\"\",\"\",MAX(AU$9:AU67)+1)","v":""},{"$f":"INDIRECT(\"AE\"&AZ68)","v":""},{"$f":"IF(AV68=\"\",\"\",INDIRECT(\"AM\"&AZ68))","v":""},{"$f":"IF(AV68=\"\",\"\",INDIRECT(\"CG\"&AZ68))","v":""},{"$f":"IF(AV68=\"\",\"\",INDIRECT(\"Aj\"&AZ68))","v":""},30]
[null,22,"","","","","",null,null,"","","","",null,"",null,"",null,null,"","","","",null,null,null,null,"","",null,null,"","","","","",false,null,null,null,null,null,null,null,null,null,{"$f":"IF(AV69=\"\",\"\",MAX(AU$9:AU68)+1)","v":""},{"$f":"INDIRECT(\"AF\"&AZ69)","v":""},{"$f":"IF(AV69=\"\",\"\",INDIRECT(\"AN\"&AZ69))","v":""},{"$f":"IF(AV69=\"\",\"\",INDIRECT(\"CH\"&AZ69))","v":""},{"$f":"IF(AV69=\"\",\"\",INDIRECT(\"Aj\"&AZ69))","v":""},30]
[null,23,"","","","","",null,null,"","","","",null,"",null,"",null,null,"","","","",null,null,null,null,"","",null,null,"","","","","",false,null,null,null,null,null,null,null,null,null,{"$f":"IF(AV70=\"\",\"\",MAX(AU$9:AU69)+1)","v":""},{"$f":"INDIRECT(\"AG\"&AZ70)","v":""},{"$f":"IF(AV70=\"\",\"\",INDIRECT(\"AO\"&AZ70))","v":""},{"$f":"IF(AV70=\"\",\"\",INDIRECT(\"CI\"&AZ70))","v":""},{"$f":"IF(AV70=\"\",\"\",INDIRECT(\"Aj\"&AZ70))","v":""},30]
[null,24,"","","","","",null,null,"","","","",null,"",null,"",null,null,"","","","",null,null,null,null,"","",null,null,"","","","","",false]
[null,25,"","","","","",null,null,"","","","",null,"",null,"",null,null,"","","","",null,null,null,null,"","",null,null,"","","","","",false,null,null,null,null,null,null,null,null,"Max",{"$f":"MAX(AU11:AU70)","v":0}]
[null,26,"","","","","",null,null,"","","","",null,"",null,"",null,null,"","","","",null,null,null,null,"","",null,null,"","","","","",false]
[null,27,"","","","","",null,null,"","","","",null,"",null,"",null,null,"","","","",null,null,null,null,"","",null,null,"","","","","",false]
[null,28,"","","","","",null,null,"","","","",null,"",null,"",null,null,"","","","",null,null,null,null,"","",null,null,"","","","","",false]
[null,29,"","","","","",null,null,"","","","",null,"",null,"",null,null,"","","","",null,null,null,null,"","",null,null,"","","","","",false]
[null,30,"","","","","",null,null,"","",{"$f":"IF(C77=\"\",\"\",L$48)","v":""},"",null,"",null,"",null,null,"","","","",null,null,null,null,"","",null,null,"","","","","",false]
[null,null,{"$f":"Langage!A14","v":"Total"},null,{"$f":"SUM(E48:E77)","v":0},null,null,null,null,null,null,null,null,null,{"$f":"SUM(O48:O77)","v":0},null,null,null,null,null,{"$f":"SUM(U48:U77)","v":0},{"$f":"SUM(V48:V77)","v":0},{"$f":"SUM(W48:W77)","v":0},null,null,null,null,"Total",{"$f":"SUM(AC48:AC77)","v":0}]

{"sheet":"Tab F1","index":34,"n_rows":59,"n_cols":6,"rows_kept":59,"cut":false,"hidden":true,"merged":[]}
["EN 12831-1 - Tableau F1"]
[]
[null,"Temps de\npréchauffage","Période de\nnon-utilisation","Taux de\nrenouvellement","Inertie","Puissance\nspécifique"]
[null,0.5,8,0.1,"L",63]
[null,1,8,0.1,"L",34]
[null,2,8,0.1,"L",14]
[null,3,8,0.1,"L",5]
[null,4,8,0.1,"L",0]
[null,6,8,0.1,"L",0]
[null,12,8,0.1,"L",0]
[null,0.5,8,0.1,"H",16]
[null,1,8,0.1,"H",10]
[null,2,8,0.1,"H",3]
[null,3,8,0.1,"H",0]
[null,4,8,0.1,"H",0]
[null,6,8,0.1,"H",0]
[null,12,8,0.1,"H",0]
[null,0.5,14,0.1,"L",88]
[null,1,14,0.1,"L",50]
[null,2,14,0.1,"L",28]
[null,3,14,0.1,"L",17]
[null,4,14,0.1,"L",11]
[null,6,14,0.1,"L",3]
[null,12,14,0.1,"L",0]
[null,0.5,14,0.1,"H",38]
[null,1,14,0.1,"H",29]
[null,2,14,0.1,"H",18]
[null,3,14,0.1,"H",12]
[null,4,14,0.1,"H",7]
[null,6,14,0.1,"H",1]
[null,12,14,0.1,"H",0]
[null,0.5,62,0.1,"L",92]
[null,1,62,0.1,"L",55]
[null,2,62,0.1,"L",32]
[null,3,62,0.1,"L",23]
[null,4,62,0.1,"L",17]
[null,6,62,0.1,"L",10]
[null,12,62,0.1,"L",2]
[null,0.5,62,0.1,"H",100]
[null,1,62,0.1,"H",100]
[null,2,62,0.1,"H",86]
[null,3,62,0.1,"H",73]
[null,4,62,0.1,"H",64]
[null,6,62,0.1,"H",52]
[null,12,62,0.1,"H",31]
[null,0.5,168,null,"L",92]
[null,1,168,null,"L",55]
[null,2,168,null,"L",32]
[null,3,168,null,"L",23]
[null,4,168,null,"L",17]
[null,6,168,null,"L",10]
[null,12,168,null,"L",2]
[null,0.5,168,null,"H",100]
[null,1,168,null,"H",100]
[null,2,168,null,"H",100]
[null,3,168,null,"H",100]
[null,4,168,null,"H",95]
[null,6,168,null,"H",81]
[null,12,168,null,"H",57]

{"sheet":"Langage","index":35,"n_rows":144,"n_cols":5,"rows_kept":144,"cut":false,"hidden":true,"merged":[]}
["Choix de la langue"]
[]
[{"$f":"Data!D2","v":"Français"},"Deutsch","English","Français","Nederlands"]
[{"$f":"HLOOKUP($A$3,B$3:E$144,ROW()-2)","v":"fr_be"},"de","en","fr_be","nl_be"]
[{"$f":"HLOOKUP($A$3,B$3:E$144,ROW()-2)","v":"Données relatives aux espaces"},"Angaben zu den Örtlichkeiten","Data on rooms","Données relatives aux espaces","Gegevens betreffende de ruimten"]
[{"$f":"HLOOKUP($A$3,B$3:E$144,ROW()-2)","v":"Données climatiques"},"Meteorologische Angaben","Climatic data","Données climatiques","Klimaatgegevens"]
["Température extérieure de base","Norm-Außentemperatur","Design external temperature","Température extérieure de base","Basisbuitentemperatuur"]
["Température moyenne annuelle","Durchschnittliche Jahrestemperatur","Annual mean temperature","Température moyenne annuelle","Jaargemiddeldetemperatuur"]
["Espaces chauffés","Beheizten Räumen","Heated rooms","Espaces chauffés","Verwarmde ruimten"]
["Nom de l'espace","Raumbezeichnung","Name of the room","Nom de l'espace","Naam van de ruimte"]
["Température   int. de base","Normtemperatur","Design temperature","Température   int. de base","Basisbinnen- temperatuur"]
["Aire nette de plancher","Netto- raumfläche","Net room area","Aire nette de plancher","Netto vloer- oppervlakte"]
["Volume    intérieur","Innenraum- volumen","Internal volume","Volume    intérieur","Binnen volume"]
["Total","Gesamt","Total","Total","Totaal"]
["Données sur le sol","Angaben zum Bodenaufbau","Data on the ground","Données sur le sol","Gegevens van de grond"]
["Espaces non chauffés / Bâtiments voisins","Unbeheizte Räume / Benachbarte Gebäude","Unheated spaces / Neighboring buildings","Espaces non chauffés / Bâtiments voisins","Onverwarmde ruimten /Naburige gebouwen"]
["Entités de bâtiment adjacentes","Angrenzende Baukörper","Adjoining building entities","Entités de bâtiment adjacentes","Aansluitende gebouwentiteiten"]
["Entité de bâtiment","Baukörper","Building entity","Entité de bâtiment","Gebouwentiteit"]
["Données relatives aux parois","Angaben zu den Bauteilen","Data on building elements","Données relatives aux parois","Gegevens betreffende de gebouwelementen"]
["Parois","Bauteile","Building element","Parois","Gebouwelementen"]
["Ponts thermiques","Wärmebrücken","Thermal bridges","Ponts thermiques","Koudebruggen"]
["Description","Beschreibung","Description","Description","Beschrijving"]
["Coefficient de transmission thermique","Wärmedurchgangs- koeffizient","Thermal transmittance","Coefficient de transmission thermique","Warmtedoorgangs- coëfficiënt"]
["Espace","Raum","Room","Espace","Ruimte"]
["Volume intérieur","Innenraumvolumen","Internal volume","Volume intérieur","Binnenvolume"]
["Température extérieure","Außentemperatur","External temperature","Température extérieure","Buitentemperatuur"]
["Ventilation de base minimale","Hygienischer Mindest-Luftvolumenstrom","Minimum basis ventilation","Ventilation de base minimale","Minimale basisventilatie"]
["Taux minimal de renouvellement","Mindestluftwechsel","Minimum air exchange rate","Taux minimal de renouvellement","Minimaal ventilatievoud"]
["Débit d'air minimal","Mindestluftvolumenstrom","Minimum air flow rate","Débit d'air minimal","Minimaal ventilatiedebiet"]
["Infiltration d'air","Luftinfiltration","Air infiltration","Infiltration d'air","Luchtinfiltratie"]
["Débit de fuite à 50 Pa","Leckrate bei 50 Pa","Leakage rate at 50 Pa","Débit de fuite à 50 Pa","Lekdebiet bij 50 Pa"]
["Coefficient de débit volumique","Volumenstromkoeffizient","Volume flow coefficient","Coefficient de débit volumique","Volumestroomcoëfficiënt"]
["Débit d'infiltration","Luftvolumenstrom durch Infiltration","Infiltration air flow rate","Débit d'infiltration","Infiltratiedebiet"]
["Système de ventilation","Lüftungssysteme","Ventilation system","Système de ventilation","Ventilatiesysteem"]
["Air extrait","Abluft","Extract air","Air extrait","Afvoerlucht"]
["Air fourni (mécanique)","Zuluft (mechanisch)","Supply air (mechanical)","Air fourni (mécanique)","Toevoerlucht (mechanisch)"]
["Température air fourni (méc.)","Zulufttemperatuur (mech.)","Temperature supply air (mech.)","Température air fourni (méc.)","Temperatuur toevoerlucht (mech.)"]
["Air transféré","Überströmluft","Transferred air","Air transféré","Doorstroomlucht"]
["Température air transféré","Überströmlufttemperatuur","Temperature transferred air","Température air transféré","Temperatuur doorstroomlucht"]
["Débit d'air par infiltration supp.","(Raum) Abluftüberschuss","Surplus of air flow (room)","Débit d'air par infiltration supp.","Bijkomend infiltratiedebiet (ruimte)"]
["Débit d'air total","Gesamtluftstrom","Total airflow","Débit d'air total","Totaal luchtdebiet"]
["Perte thermique","Wärmeverluste","Heat loss","Perte thermique","Warmteverliezen"]
["Code postal","Postleitzahl","Zip code","Code postal","Postcode"]
["Commune","Gemeinde","City","Commune","Gemeente"]
["Surpuissance de relance","Aufheizleistung","Heating-up capacity","Surpuissance de relance","Opwarmvermogen"]
["Facteur de relance","Aufheizfaktor","Reheat factor","Facteur de relance","Opwarmfactor"]
["Temps de préchauffage","Aufheizzeit","Heating-up time","Temps de préchauffage","Opwarmtijd"]
["Chute de température","Temperaturabfall","Temperature drop","Chute de température","Temperatuurdaling"]
["Capacité thermique","Wärmekapazität","Thermal capacity","Capacité thermique","Warmtecapaciteit"]
["Capacité basse","Gering kapazität","Low capacity","Capacité basse","Lage capaciteit"]
["Capacité moyenne/élevée","Mittel/hoch kapazität","Medium/high capacity","Capacité moyenne/élevée","Gemiddelde/hoge capaciteit"]
["Charge thermique nominale","Norm-Heizlast","Design heat load","Charge thermique nominale","Ontwerpwarmtebelasting"]
["Charge thermique nominale","Norm-Heizlast","Design heat load","Charge thermique nominale","Ontwerpwarmte- belasting"]
["Perte thermique par transmission","Transmission Wärmeverluste","Transmission heat loss","Perte thermique par transmission","Warmteverliezen door transmissie"]
["Perte thermique par renouvellement d'air","Lüftungswärmeverlust","Ventilation heat loss","Perte thermique par renouvellement d'air","Warmteverliezen door ventilatie"]
["Puissance supplémentaire de préchauffage","Zusätzliche Aufheizleistung","Additional heating-up power","Puissance supplémentaire de préchauffage","Bijkomend opwarm- vermogen"]
["Dossier","Dossier","File","Dossier","Dossier"]
["Nom","Name","Name","Nom","Naam"]
["Adresse","Adresse","Address","Adresse","Adres"]
["Commune","Gemeinde","City","Commune","Gemeente"]
["Commentaire","Kommentar","Comment","Commentaire","Commentaar"]
["Date","Datum","Date","Date","Datum"]
["Références","Referenzen","Reference","Références","Referentie"]
["Données administratives","Verwaltungsangaben","Administrative data","Données administratives","Administratieve gegevens"]
["Bâtiment","Gebäude","Building","Bâtiment","Gebouw"]
["Installateur","Installateur","Installer","Installateur","Installateur"]
["Calcul de la charge thermique nominale","Berechnung der Norm-Heizlast","Calculation of the design heat load","Calcul de la charge thermique nominale","Berekening van de ontwerpwarmtebelasting van gebouwen"]
["NBN EN 12831-1 ANB:2020 - Annexe NB","NBN EN 12831-1 ANB:2020 - Anhang NB","NBN EN 12831-1 ANB:2020 - Annex NB","NBN EN 12831-1 ANB:2020 - Annexe NB","NBN EN 12831-1 ANB:2020 - Bijlage NB"]
["Nouveau calcul","Neue Berechnung","New calculation","Nouveau calcul","Nieuwe berekening"]
[{"$f":"HLOOKUP($A$3,B$3:E$144,ROW()-2)","v":"Sol"},"Erdreich","Ground","Sol","Grond"]
["Non résidentiel","Nicht-Wohnhäuser","Non-residential","Non résidentiel","Niet residentieel"]
["Résidentiel","Wohnhäuser","Residential","Résidentiel","Residentieel"]
["Temp. min. moy. mois le plus froid","Durch. min. temp. kältesten Monats","Min. mean temp. coldest month","Temp. min. moy. mois le plus froid","Gemid. min. temp. koudste maand"]
["Air fourni (naturel)","Zuluft (natürliche)","Supply air (natural)","Air fourni (naturel)","Toevoerlucht (natuurlijk)"]
["Température air intérieur","Innenlufttemperatur","Internal air temperature","Température air intérieur","Binnenluchttemperatuur"]
["Extérieur","Außen","External","Extérieur","Buiten"]
["Rechercher une commune","Suche nach einer Gemeinde","Search for a commune","Rechercher une commune","Gemeente zoeken"]
["Période d'abaissement","Absenkungsperiode","Setback period","Période d'abaissement","Periode van verlaging"]
["N.B.: Portes et fenêtres fermées pendant l'abaissement","N.B.: Geschlossenen Fenstern und Türen während des Absenkung","N.B.: Doors and windows closed during setback","N.B.: Portes et fenêtres fermées pendant l'abaissement","N.B.: Deuren en vensters gesloten tijdens de verlaging"]
["Système d'émission de chaleur","Wärmeabgabesystems","Heat emission system","Système d'émission de chaleur","Warmte-emissiesysteem"]
["Radiateurs","Radiatoren","Radiators","Radiateurs","Radiatoren"]
["Chauffage par le sol","Fußbodenheizung","Floor heating","Chauffage par le sol","Vloerverwarming"]
["Chauffage par les murs","Wandheizung","Wall heating","Chauffage par les murs","Wandverwarming"]
["Air sans déstratification","Luft ohne Entschichtung","Air without destratification","Air sans déstratification","Lucht zond. destratificatie"]
["Air avec déstratification","Luft mit Entschichtung","Air with destratification","Air avec déstratification","Lucht met destratificatie"]
["Panneaux radiants au plafond","Deckenstrahlplatten","Ceiling radiant panels","Panneaux radiants au plafond","Plafondstralingspanelen"]
["Radiants à infrarouge","Hellstrahler","Luminous radiants","Radiants à infrarouge","Infraroodstralingspanelen"]
["Tubes radiants","Dunkelstrahler","Radiant tubes","Tubes radiants","Stralingsbuizen"]
["Pas de chauffage","Keine Heizung","No heating","Pas de chauffage","Geen verwarming"]
["Surface chauffante","Heizfläche","Heating surface","Surface chauffante","Verwarmingsoppervlakte"]
["Type d'espace","Art des Raumes","Type of space","Type d'espace","Type van ruimte"]
["Etanchéité à l'air","Luftdichtheit","Airtightness","Etanchéité à l'air","Luchtdichtheid"]
["Débit de fuite","Leckrate","Leakage rate","Débit de fuite","Lekdebiet"]
["Type de valeur","Art des Wertes","Type of value","Type de valeur","Type waarde"]
["Rendement de l'échangeur de chaleur","Wärmetauschereffizienz","Heat exchanger efficiency","Rendement de l'échangeur de chaleur","Rendement van warmtewisselaar"]
["Température air repris","Ablufttemperatur","Extract air temperature","Température air repris","Temperatuur afvoerlucht"]
["Total sans surpuissance de relance","Gesamt ohne Aufheizleistung","Total without heating-up capacity","Total sans surpuissance de relance","Totaal zonder opwarmvermogen"]
["Total avec surpuissance de relance","Gesamt mit Aufheizleistung","Total with heating-up capacity","Total avec surpuissance de relance","Totaal met opwarmvermogen"]
["Valeur par défaut","Standardwert","Default value","Valeur par défaut","Waarde bij onstentenis"]
["Débit mesuré","Gemessener Durchfluss","Measured flow rate","Débit mesuré","Gemeten debiet"]
["n50 mesuré","Gemessener n50","Measured n50","n50 mesuré","Gemeten n50"]
["v50 mesuré","Gemessener v50","Measured v50","v50 mesuré","Gemeten v50"]
["n50 estimé","Geschätzter n50","Estimated n50","n50 estimé","Geschatte n50"]
["v50 estimé","Geschätzter v50","Estimated v50","v50 estimé","Geschatte v50"]
["Volume","Volumen","Volume","Volume","Volume"]
["Aire","Fläche","Area","Aire","Oppervlakte"]
["Hauteur moyenne","Mittlere Höhe","Mean height","Hauteur moyenne","Gemiddelde hoogte"]
["Aire de plancher chauffant","Bereich Fußbodenheizung","Floor heating area","Aire de plancher chauffant","Oppervlakte van de verwarmde vloer"]
["Emission surfacique","Spezifische Wärmeleistung","Heat flux","Emission surfacique","Specifieke warmteafgifte"]
["Nombre de boucles","Anzahl der Schleifen","Number of circuits","Nombre de boucles","Aantal lussen"]
["Groupement","Gruppierung","Grouping","Groupement","Groepering"]
["Boucles","Schleifen","Circuits","Boucles","Lussen"]
["Nom de la boucle","Name der Schleife","Name of the circuit","Nom de la boucle","Naam van de lus"]
["Boucle de référence","Referenzschleife","Reference circuit","Boucle de référence","Referentie lus"]
["Choix","Auswahl","Choice","Choix","Keuze"]
["Systèmes de chauffage par le sol","Fußbodenheizungssystem","Floor heating system","Systèmes de chauffage par le sol","Vloerverwarmingssystemen"]
["Système","System","System","Système","Systeem"]
["Pas du tube","Rohrabstand","Pipe spacing","Pas du tube","Pasafstand"]
["Espace en dessous","Raum darunter","Space below","Espace en dessous","Ruimte eronder"]
["Déperditions au travers du plancher chauffant (hors de l'entité de bâtiment considéré)","Verluste durch den beheizten Fussboden (außerhalb der betroffenen Gebäudeeinheit)","Heat loss through floor heating (out of the considered building entity)","Déperditions au travers du plancher chauffant (hors de l'entité de bâtiment considéré)","Verliezen doorheen de verwarmde vloer (buiten de betrokken gebouwentiteit)"]
["Déperditions au travers des murs chauffants (hors de l'entité de bâtiment considéré)","Verluste durch beheizte Wände (außerhalb der betroffenen Gebäudeeinheit)","Heat loss through wall heating (out of the considered building entity)","Déperditions au travers des murs chauffants (hors de l'entité de bâtiment considéré)","Verliezen doorheen de verwarmde wanden (buiten de betrokken gebouwentiteit)"]
["Information sous la responsabilité de l'utilisateur","Informationen liegen in der Verantwortung des Nutzers","Information under the responsibility of the user","Information sous la responsabilité de l'utilisateur","Informatie onder de verantwoordelijkheid van de gebruiker"]
["Régime de température","Auslegungstemperatur","Temperature regime","Régime de température","Temperatuurregime"]
["Température de départ","Vorlauftemperatur","Supply temperature","Température de départ","Vertrektemperatuur"]
["Température de retour","Rücklauftemperatur","Return temperature","Température de retour","Retourtemperatuur"]
["Exposant","Exponent","Exponent","Exposant","Exponent"]
["Facteur de correction","Korrekturfaktor","Correction factor","Facteur de correction","Correctiefactor"]
["Emission de chaleur","Wärmeabgabe","Heat emission","Emission de chaleur","Warmteafgifte"]
["Débit d'eau","Wasserstrom","Water flow rate","Débit d'eau","Waterdebiet"]
["Info revêtements de sol FR","Info Bodenbelag FR","Info floor coverings FR","Info revêtements de sol FR","Info vloerbedekking FR"]
["Info revêtements de sol NL","Info Bodenbelag NL","Info floor coverings NL","Info revêtements de sol NL","Info vloerbedekking NL"]
["Calcul de KH (Coefficient de transmission thermique équivalent)","Berechnung von KH (Aquivalenter Warmedurchlasskoeffizient)","Calculation of KH (Equivalent heat transmission coefficient)","Calcul de KH (Coefficient de transmission thermique équivalent)","Berekening van KH (Equivalente warmtedoorgangscoëfficiënt)"]
["Prendre un point sur la courbe caractéristique","Nehmen Sie einen Punkt auf der Kennlinie","Take a point on the characteristic curve","Prendre un point sur la courbe caractéristique","Een punt op de karakteristieke curve nemen"]
[{"$f":"HLOOKUP($A$3,B$3:E$144,ROW()-2)","v":"Température (axe horizontal)"},"Temperatur (horizontale Achse)","Temperature (horizontal axis)","Température (axe horizontal)","Temperatuur (horizontale as)"]
["Emission de chaleur (axe vertical)","Wärmeabgabe (vertikale Achse)","Heat emission (vertical axis)","Emission de chaleur (axe vertical)","Warmteafgifte (verticale as)"]
["Gradient de la courbe caractéristique","Kennliniensteigung","Gradient of the characteristic curve","Gradient de la courbe caractéristique","Gradiënt van de karakteristieke curve"]
["Exemple","Beispiel","Example","Exemple","Voorbeeld"]
["Info boucle de référence FR","Info referenzschleife FR","Info reference circuit FR","Info boucle de référence FR","Info referentie lus FR"]
["Info boucle de référence NL","Info referenzschleife NL","Info reference circuit NL","Info boucle de référence NL","Info referentie lus NL"]
["Info - Rapport CSTC n°14","Info - Rapport CSTC n°14","Info - WTCB Rapport nr 14","Info - Rapport CSTC n°14","Info - WTCB Rapport nr 14"]
["Info - Rapport CSTC n°18","Info - Rapport CSTC n°18","Info - WTCB Rapport nr 18","Info - Rapport CSTC n°18","Info - WTCB Rapport nr 18"]
["Choix des aires","Auswahl Fläche","Choice of areas","Choix des aires","Keuze oppervl."]
["Boucle 1","Schleife 1","Circuit 1","Boucle 1","Lus 1"]
["Boucle 2","Schleife 2","Circuit 2","Boucle 2","Lus 2"]

{"sheet":"GA_cookies","index":36,"n_rows":3,"n_cols":1,"rows_kept":3,"cut":false,"hidden":true,"merged":[]}
["Google Analytics ID"]
["Sum of openings"]
["Cookies accepted"]

{"sheet":"Versions","index":37,"n_rows":36,"n_cols":4,"rows_kept":36,"cut":false,"hidden":true,"merged":[]}
[]
["v1",null,null,"Norme EN 12831"]
["v2.1","2020-01-13",null,"Adapatation à la norme EN 12831-1"]
["v3.1","2021-08-17",null,"Ajout du calcul des radiateurs et du chauffage par le sol"]
["v3.2","2021-11-17",null,"Modification de l'origine du choix pour la résistance thermique du revêtement de sol (Floor heating)"]
["v3.3","2022-01-15",null,"Ajout d'une connexion à Google Analytics"]
["v3.4","2022-03-23",null,"Correction d'une liste de Data Validation dans Floor Heating"]
["v3.5","2022-10-10",null,"Mise aux couleurs de Buildwise"]
[]
[]
[]
["Avertissements"]
[]
["Il y a des feuilles cachées qui comportent des tableaux"]
["Il y a des colonnes cachées qui contiennent des informations et valeurs intermédiaires"]
[null,"On ne peut donc pas simplement ajouter ou supprimer des lignes"]
["Il y a des fonctions de recherche dans les tableaux"]
[null,"Ces fonctions sont mises à jour automatiquement en cas d'ajout de ligne ou de colonne mais il faut rester très vigilant"]
["Il y a des fonction \"Indirect\" pour les données de base des onglets T01 à T20"]
[null,"Ces fonctions ne sont pas mises à jour automatiquement en cas d'ajout de ligne ou de colonne"]
[null,"Pour chaque onglet T01 à T020, il y a une valeur à modifier manuellement (S8)"]
[]
[]
[]
["Mode d'emploi"]
[]
["NBN EN 12831-1 et annexe nationale belge"]
["Radiateurs: CSTC-Rapport 14"]
["Chauffage par le sol: CSTC-Rapport 18"]
["Remplir les cellules oranges. Les autres cellules ne peuvent pas être modifiées."]
[]
[]
[]
["Améliorations potentielles"]
[]
["Chauffage par radiateurs - Possibilité d'indiquer le nombre de radiateurs par local et de les calculer séparément."]